{"text_format":"1","workbook":"xlsx","n_sheets":3,"sheets":["Sommaire","Tables","Renseignements sur le locataire"],"not_rendered":{"charts":0,"images":2,"macros":0,"external_links":1,"defined_names":13,"comments":0,"pivot_tables":0},"unopened":[],"bounds":{"document_bytes":16777216,"sheet_cells":100000,"rows_first":2000,"rows_last":500,"rows_between":2000,"halvings":0,"cell_chars":16384,"cell_head_chars":4096},"cells_cut":0,"cells_raw":0,"read":"whole","date_system":"1900"}

{"sheet":"Sommaire","index":0,"n_rows":54,"n_cols":19,"rows_kept":54,"cut":false,"hidden":false,"merged":[[29,1,29,8],[3,8,4,9],[25,1,25,8],[26,1,26,8],[27,1,27,8],[28,1,28,8],[41,1,41,8],[30,1,30,8],[31,1,31,8],[32,1,32,8],[33,1,33,8],[34,1,34,8],[35,1,35,8],[36,1,36,8],[37,1,37,8],[38,1,38,8],[39,1,39,8],[40,1,40,8],[53,1,53,8],[42,1,42,8],[43,1,43,8],[44,1,44,8],[45,1,45,8],[46,1,46,8],[47,1,47,8],[48,1,48,8],[49,1,49,8],[50,1,50,8],[51,1,51,8],[52,1,52,8]]}
[]
[null,null,null,"L5 - Renseignements sur les logements locatifs (RLL)"]
[]
[null,null,null,null,null,null,"Numéro de cas"]
[null,null,null,null,null,null,"(Réservé au bureau)"]
[]
[]
[]
[]
[]
[]
[]
[]
[]
[]
[]
[]
[]
[]
[]
[]
[]
[]
[null,"Adresse(s)",null,null,null,null,null,null,null,"Logements totaux"]
[null,null,null,null,null,null,null,null,null,null,null,null,null,null,null,null," "]
[1,{"$f":"(IF(ISBLANK(Tables!E2),\"\",Tables!E2))","v":""},null,null,null,null,null,null,null,{"$f":"IF(SUM(--(LEN(_xlfn.UNIQUE(_xlfn._xlws.FILTER('Renseignements sur le locataire'!$B$8:$B$10000,'Renseignements sur le locataire'!$E$8:$E$10000=B26,\"\")))>0))=0,\"\",SUM(--(LEN(_xlfn.UNIQUE(_xlfn._xlws.FILTER('Renseignements sur le locataire'!$B$8:$B$10000,'Renseignements sur le locataire'!$E$8:$E$10000=$B26,\"\")))>0)))","v":""},null,"Nombre d'adresses individuelles",null,null,null,null,null,null,{"$f":"SUM(--(LEN(_xlfn.UNIQUE('Renseignements sur le locataire'!$A$8:$A$10000))>0))","v":0}]
[2,{"$f":"(IF(ISBLANK(Tables!E3),\"\",Tables!E3))","v":""},null,null,null,null,null,null,null,{"$f":"IF(SUM(--(LEN(_xlfn.UNIQUE(_xlfn._xlws.FILTER('Renseignements sur le locataire'!$B$8:$B$10000,'Renseignements sur le locataire'!$E$8:$E$10000=B27,\"\")))>0))=0,\"\",SUM(--(LEN(_xlfn.UNIQUE(_xlfn._xlws.FILTER('Renseignements sur le locataire'!$B$8:$B$10000,'Renseignements sur le locataire'!$E$8:$E$10000=$B27,\"\")))>0)))","v":""},null,"Nombre de logements dans l'ensemble d'habitation",null,null,null,null,null,null,{"$f":"SUM(--(LEN(_xlfn.UNIQUE('Renseignements sur le locataire'!$B$8:$B$10000))>0))","v":0}]
[3,{"$f":"(IF(ISBLANK(Tables!E4),\"\",Tables!E4))","v":""},null,null,null,null,null,null,null,{"$f":"IF(SUM(--(LEN(_xlfn.UNIQUE(_xlfn._xlws.FILTER('Renseignements sur le locataire'!$B$8:$B$10000,'Renseignements sur le locataire'!$E$8:$E$10000=B28,\"\")))>0))=0,\"\",SUM(--(LEN(_xlfn.UNIQUE(_xlfn._xlws.FILTER('Renseignements sur le locataire'!$B$8:$B$10000,'Renseignements sur le locataire'!$E$8:$E$10000=$B28,\"\")))>0)))","v":""},null,"Nombre de logements visés par la requête",null,null,null,null,null,null,{"$f":"SUM(--(LEN(_xlfn.UNIQUE('Renseignements sur le locataire'!$C$8:$C$10000))>0))","v":0}]
[4,{"$f":"(IF(ISBLANK(Tables!E5),\"\",Tables!E5))","v":""},null,null,null,null,null,null,null,{"$f":"IF(SUM(--(LEN(_xlfn.UNIQUE(_xlfn._xlws.FILTER('Renseignements sur le locataire'!$B$8:$B$10000,'Renseignements sur le locataire'!$E$8:$E$10000=B29,\"\")))>0))=0,\"\",SUM(--(LEN(_xlfn.UNIQUE(_xlfn._xlws.FILTER('Renseignements sur le locataire'!$B$8:$B$10000,'Renseignements sur le locataire'!$E$8:$E$10000=$B29,\"\")))>0)))","v":""},null,"Nombre de locataires individuels qui sont parties à la requête",null,null,null,null,null,null,{"$f":"SUM('Renseignements sur le locataire'!$F$8:$F$10000)","v":0}]
[5,{"$f":"(IF(ISBLANK(Tables!E6),\"\",Tables!E6))","v":""},null,null,null,null,null,null,null,{"$f":"IF(SUM(--(LEN(_xlfn.UNIQUE(_xlfn._xlws.FILTER('Renseignements sur le locataire'!$B$8:$B$10000,'Renseignements sur le locataire'!$E$8:$E$10000=B30,\"\")))>0))=0,\"\",SUM(--(LEN(_xlfn.UNIQUE(_xlfn._xlws.FILTER('Renseignements sur le locataire'!$B$8:$B$10000,'Renseignements sur le locataire'!$E$8:$E$10000=$B30,\"\")))>0)))","v":""}]
[6,{"$f":"(IF(ISBLANK(Tables!E7),\"\",Tables!E7))","v":""},null,null,null,null,null,null,null,{"$f":"IF(SUM(--(LEN(_xlfn.UNIQUE(_xlfn._xlws.FILTER('Renseignements sur le locataire'!$B$8:$B$10000,'Renseignements sur le locataire'!$E$8:$E$10000=B31,\"\")))>0))=0,\"\",SUM(--(LEN(_xlfn.UNIQUE(_xlfn._xlws.FILTER('Renseignements sur le locataire'!$B$8:$B$10000,'Renseignements sur le locataire'!$E$8:$E$10000=$B31,\"\")))>0)))","v":""}]
[7,{"$f":"(IF(ISBLANK(Tables!E8),\"\",Tables!E8))","v":""},null,null,null,null,null,null,null,{"$f":"IF(SUM(--(LEN(_xlfn.UNIQUE(_xlfn._xlws.FILTER('Renseignements sur le locataire'!$B$8:$B$10000,'Renseignements sur le locataire'!$E$8:$E$10000=B32,\"\")))>0))=0,\"\",SUM(--(LEN(_xlfn.UNIQUE(_xlfn._xlws.FILTER('Renseignements sur le locataire'!$B$8:$B$10000,'Renseignements sur le locataire'!$E$8:$E$10000=$B32,\"\")))>0)))","v":""}]
[8,{"$f":"(IF(ISBLANK(Tables!E9),\"\",Tables!E9))","v":""},null,null,null,null,null,null,null,{"$f":"IF(SUM(--(LEN(_xlfn.UNIQUE(_xlfn._xlws.FILTER('Renseignements sur le locataire'!$B$8:$B$10000,'Renseignements sur le locataire'!$E$8:$E$10000=B33,\"\")))>0))=0,\"\",SUM(--(LEN(_xlfn.UNIQUE(_xlfn._xlws.FILTER('Renseignements sur le locataire'!$B$8:$B$10000,'Renseignements sur le locataire'!$E$8:$E$10000=$B33,\"\")))>0)))","v":""}]
[9,{"$f":"(IF(ISBLANK(Tables!E10),\"\",Tables!E10))","v":""},null,null,null,null,null,null,null,{"$f":"IF(SUM(--(LEN(_xlfn.UNIQUE(_xlfn._xlws.FILTER('Renseignements sur le locataire'!$B$8:$B$10000,'Renseignements sur le locataire'!$E$8:$E$10000=B34,\"\")))>0))=0,\"\",SUM(--(LEN(_xlfn.UNIQUE(_xlfn._xlws.FILTER('Renseignements sur le locataire'!$B$8:$B$10000,'Renseignements sur le locataire'!$E$8:$E$10000=$B34,\"\")))>0)))","v":""}]
[10,{"$f":"(IF(ISBLANK(Tables!E11),\"\",Tables!E11))","v":""},null,null,null,null,null,null,null,{"$f":"IF(SUM(--(LEN(_xlfn.UNIQUE(_xlfn._xlws.FILTER('Renseignements sur le locataire'!$B$8:$B$10000,'Renseignements sur le locataire'!$E$8:$E$10000=B35,\"\")))>0))=0,\"\",SUM(--(LEN(_xlfn.UNIQUE(_xlfn._xlws.FILTER('Renseignements sur le locataire'!$B$8:$B$10000,'Renseignements sur le locataire'!$E$8:$E$10000=$B35,\"\")))>0)))","v":""}]
[11,{"$f":"(IF(ISBLANK(Tables!E12),\"\",Tables!E12))","v":""},null,null,null,null,null,null,null,{"$f":"IF(SUM(--(LEN(_xlfn.UNIQUE(_xlfn._xlws.FILTER('Renseignements sur le locataire'!$B$8:$B$10000,'Renseignements sur le locataire'!$E$8:$E$10000=B36,\"\")))>0))=0,\"\",SUM(--(LEN(_xlfn.UNIQUE(_xlfn._xlws.FILTER('Renseignements sur le locataire'!$B$8:$B$10000,'Renseignements sur le locataire'!$E$8:$E$10000=$B36,\"\")))>0)))","v":""}]
[12,{"$f":"(IF(ISBLANK(Tables!E13),\"\",Tables!E13))","v":""},null,null,null,null,null,null,null,{"$f":"IF(SUM(--(LEN(_xlfn.UNIQUE(_xlfn._xlws.FILTER('Renseignements sur le locataire'!$B$8:$B$10000,'Renseignements sur le locataire'!$E$8:$E$10000=B37,\"\")))>0))=0,\"\",SUM(--(LEN(_xlfn.UNIQUE(_xlfn._xlws.FILTER('Renseignements sur le locataire'!$B$8:$B$10000,'Renseignements sur le locataire'!$E$8:$E$10000=$B37,\"\")))>0)))","v":""}]
[13,{"$f":"(IF(ISBLANK(Tables!E14),\"\",Tables!E14))","v":""},null,null,null,null,null,null,null,{"$f":"IF(SUM(--(LEN(_xlfn.UNIQUE(_xlfn._xlws.FILTER('Renseignements sur le locataire'!$B$8:$B$10000,'Renseignements sur le locataire'!$E$8:$E$10000=B38,\"\")))>0))=0,\"\",SUM(--(LEN(_xlfn.UNIQUE(_xlfn._xlws.FILTER('Renseignements sur le locataire'!$B$8:$B$10000,'Renseignements sur le locataire'!$E$8:$E$10000=$B38,\"\")))>0)))","v":""}]
[14,{"$f":"(IF(ISBLANK(Tables!E15),\"\",Tables!E15))","v":""},null,null,null,null,null,null,null,{"$f":"IF(SUM(--(LEN(_xlfn.UNIQUE(_xlfn._xlws.FILTER('Renseignements sur le locataire'!$B$8:$B$10000,'Renseignements sur le locataire'!$E$8:$E$10000=B39,\"\")))>0))=0,\"\",SUM(--(LEN(_xlfn.UNIQUE(_xlfn._xlws.FILTER('Renseignements sur le locataire'!$B$8:$B$10000,'Renseignements sur le locataire'!$E$8:$E$10000=$B39,\"\")))>0)))","v":""}]
[15,{"$f":"(IF(ISBLANK(Tables!E16),\"\",Tables!E16))","v":""},null,null,null,null,null,null,null,{"$f":"IF(SUM(--(LEN(_xlfn.UNIQUE(_xlfn._xlws.FILTER('Renseignements sur le locataire'!$B$8:$B$10000,'Renseignements sur le locataire'!$E$8:$E$10000=B40,\"\")))>0))=0,\"\",SUM(--(LEN(_xlfn.UNIQUE(_xlfn._xlws.FILTER('Renseignements sur le locataire'!$B$8:$B$10000,'Renseignements sur le locataire'!$E$8:$E$10000=$B40,\"\")))>0)))","v":""}]
[16,{"$f":"(IF(ISBLANK(Tables!E17),\"\",Tables!E17))","v":""},null,null,null,null,null,null,null,{"$f":"IF(SUM(--(LEN(_xlfn.UNIQUE(_xlfn._xlws.FILTER('Renseignements sur le locataire'!$B$8:$B$10000,'Renseignements sur le locataire'!$E$8:$E$10000=B41,\"\")))>0))=0,\"\",SUM(--(LEN(_xlfn.UNIQUE(_xlfn._xlws.FILTER('Renseignements sur le locataire'!$B$8:$B$10000,'Renseignements sur le locataire'!$E$8:$E$10000=$B41,\"\")))>0)))","v":""}]
[17,{"$f":"(IF(ISBLANK(Tables!E18),\"\",Tables!E18))","v":""},null,null,null,null,null,null,null,{"$f":"IF(SUM(--(LEN(_xlfn.UNIQUE(_xlfn._xlws.FILTER('Renseignements sur le locataire'!$B$8:$B$10000,'Renseignements sur le locataire'!$E$8:$E$10000=B42,\"\")))>0))=0,\"\",SUM(--(LEN(_xlfn.UNIQUE(_xlfn._xlws.FILTER('Renseignements sur le locataire'!$B$8:$B$10000,'Renseignements sur le locataire'!$E$8:$E$10000=$B42,\"\")))>0)))","v":""}]
[18,{"$f":"(IF(ISBLANK(Tables!E19),\"\",Tables!E19))","v":""},null,null,null,null,null,null,null,{"$f":"IF(SUM(--(LEN(_xlfn.UNIQUE(_xlfn._xlws.FILTER('Renseignements sur le locataire'!$B$8:$B$10000,'Renseignements sur le locataire'!$E$8:$E$10000=B43,\"\")))>0))=0,\"\",SUM(--(LEN(_xlfn.UNIQUE(_xlfn._xlws.FILTER('Renseignements sur le locataire'!$B$8:$B$10000,'Renseignements sur le locataire'!$E$8:$E$10000=$B43,\"\")))>0)))","v":""}]
[19,{"$f":"(IF(ISBLANK(Tables!E20),\"\",Tables!E20))","v":""},null,null,null,null,null,null,null,{"$f":"IF(SUM(--(LEN(_xlfn.UNIQUE(_xlfn._xlws.FILTER('Renseignements sur le locataire'!$B$8:$B$10000,'Renseignements sur le locataire'!$E$8:$E$10000=B44,\"\")))>0))=0,\"\",SUM(--(LEN(_xlfn.UNIQUE(_xlfn._xlws.FILTER('Renseignements sur le locataire'!$B$8:$B$10000,'Renseignements sur le locataire'!$E$8:$E$10000=$B44,\"\")))>0)))","v":""}]
[20,{"$f":"(IF(ISBLANK(Tables!E21),\"\",Tables!E21))","v":""},null,null,null,null,null,null,null,{"$f":"IF(SUM(--(LEN(_xlfn.UNIQUE(_xlfn._xlws.FILTER('Renseignements sur le locataire'!$B$8:$B$10000,'Renseignements sur le locataire'!$E$8:$E$10000=B45,\"\")))>0))=0,\"\",SUM(--(LEN(_xlfn.UNIQUE(_xlfn._xlws.FILTER('Renseignements sur le locataire'!$B$8:$B$10000,'Renseignements sur le locataire'!$E$8:$E$10000=$B45,\"\")))>0)))","v":""}]
[21,{"$f":"(IF(ISBLANK(Tables!E22),\"\",Tables!E22))","v":""},null,null,null,null,null,null,null,{"$f":"IF(SUM(--(LEN(_xlfn.UNIQUE(_xlfn._xlws.FILTER('Renseignements sur le locataire'!$B$8:$B$10000,'Renseignements sur le locataire'!$E$8:$E$10000=B46,\"\")))>0))=0,\"\",SUM(--(LEN(_xlfn.UNIQUE(_xlfn._xlws.FILTER('Renseignements sur le locataire'!$B$8:$B$10000,'Renseignements sur le locataire'!$E$8:$E$10000=$B46,\"\")))>0)))","v":""}]
[22,{"$f":"(IF(ISBLANK(Tables!E23),\"\",Tables!E23))","v":""},null,null,null,null,null,null,null,{"$f":"IF(SUM(--(LEN(_xlfn.UNIQUE(_xlfn._xlws.FILTER('Renseignements sur le locataire'!$B$8:$B$10000,'Renseignements sur le locataire'!$E$8:$E$10000=B47,\"\")))>0))=0,\"\",SUM(--(LEN(_xlfn.UNIQUE(_xlfn._xlws.FILTER('Renseignements sur le locataire'!$B$8:$B$10000,'Renseignements sur le locataire'!$E$8:$E$10000=$B47,\"\")))>0)))","v":""}]
[23,{"$f":"(IF(ISBLANK(Tables!E24),\"\",Tables!E24))","v":""},null,null,null,null,null,null,null,{"$f":"IF(SUM(--(LEN(_xlfn.UNIQUE(_xlfn._xlws.FILTER('Renseignements sur le locataire'!$B$8:$B$10000,'Renseignements sur le locataire'!$E$8:$E$10000=B48,\"\")))>0))=0,\"\",SUM(--(LEN(_xlfn.UNIQUE(_xlfn._xlws.FILTER('Renseignements sur le locataire'!$B$8:$B$10000,'Renseignements sur le locataire'!$E$8:$E$10000=$B48,\"\")))>0)))","v":""}]
[24,{"$f":"(IF(ISBLANK(Tables!E25),\"\",Tables!E25))","v":""},null,null,null,null,null,null,null,{"$f":"IF(SUM(--(LEN(_xlfn.UNIQUE(_xlfn._xlws.FILTER('Renseignements sur le locataire'!$B$8:$B$10000,'Renseignements sur le locataire'!$E$8:$E$10000=B49,\"\")))>0))=0,\"\",SUM(--(LEN(_xlfn.UNIQUE(_xlfn._xlws.FILTER('Renseignements sur le locataire'!$B$8:$B$10000,'Renseignements sur le locataire'!$E$8:$E$10000=$B49,\"\")))>0)))","v":""}]
[25,{"$f":"(IF(ISBLANK(Tables!E26),\"\",Tables!E26))","v":""},null,null,null,null,null,null,null,{"$f":"IF(SUM(--(LEN(_xlfn.UNIQUE(_xlfn._xlws.FILTER('Renseignements sur le locataire'!$B$8:$B$10000,'Renseignements sur le locataire'!$E$8:$E$10000=B50,\"\")))>0))=0,\"\",SUM(--(LEN(_xlfn.UNIQUE(_xlfn._xlws.FILTER('Renseignements sur le locataire'!$B$8:$B$10000,'Renseignements sur le locataire'!$E$8:$E$10000=$B50,\"\")))>0)))","v":""}]
[26,{"$f":"(IF(ISBLANK(Tables!E27),\"\",Tables!E27))","v":""},null,null,null,null,null,null,null,{"$f":"IF(SUM(--(LEN(_xlfn.UNIQUE(_xlfn._xlws.FILTER('Renseignements sur le locataire'!$B$8:$B$10000,'Renseignements sur le locataire'!$E$8:$E$10000=B51,\"\")))>0))=0,\"\",SUM(--(LEN(_xlfn.UNIQUE(_xlfn._xlws.FILTER('Renseignements sur le locataire'!$B$8:$B$10000,'Renseignements sur le locataire'!$E$8:$E$10000=$B51,\"\")))>0)))","v":""}]
[27,{"$f":"(IF(ISBLANK(Tables!E28),\"\",Tables!E28))","v":""},null,null,null,null,null,null,null,{"$f":"IF(SUM(--(LEN(_xlfn.UNIQUE(_xlfn._xlws.FILTER('Renseignements sur le locataire'!$B$8:$B$10000,'Renseignements sur le locataire'!$E$8:$E$10000=B52,\"\")))>0))=0,\"\",SUM(--(LEN(_xlfn.UNIQUE(_xlfn._xlws.FILTER('Renseignements sur le locataire'!$B$8:$B$10000,'Renseignements sur le locataire'!$E$8:$E$10000=$B52,\"\")))>0)))","v":""}]
[28,{"$f":"(IF(ISBLANK(Tables!E29),\"\",Tables!E29))","v":""},null,null,null,null,null,null,null,{"$f":"IF(SUM(--(LEN(_xlfn.UNIQUE(_xlfn._xlws.FILTER('Renseignements sur le locataire'!$B$8:$B$10000,'Renseignements sur le locataire'!$E$8:$E$10000=B53,\"\")))>0))=0,\"\",SUM(--(LEN(_xlfn.UNIQUE(_xlfn._xlws.FILTER('Renseignements sur le locataire'!$B$8:$B$10000,'Renseignements sur le locataire'!$E$8:$E$10000=$B53,\"\")))>0)))","v":""}]
[29,{"$f":"(IF(ISBLANK(Tables!E30),\"\",Tables!E30))","v":""},null,null,null,null,null,null,null,{"$f":"IF(SUM(--(LEN(_xlfn.UNIQUE(_xlfn._xlws.FILTER('Renseignements sur le locataire'!$B$8:$B$10000,'Renseignements sur le locataire'!$E$8:$E$10000=B54,\"\")))>0))=0,\"\",SUM(--(LEN(_xlfn.UNIQUE(_xlfn._xlws.FILTER('Renseignements sur le locataire'!$B$8:$B$10000,'Renseignements sur le locataire'!$E$8:$E$10000=$B54,\"\")))>0)))","v":""}]

{"sheet":"Tables","index":1,"n_rows":5000,"n_cols":5,"rows_kept":5000,"cut":false,"hidden":true,"merged":[]}
["Rent Frequency Picklist","Unit Covered by Application","Provinces","Street Address","Unique Array Street Address"]
["chaque deux semaines","Oui","Alberta",{"$f":"IF(ISBLANK('Renseignements sur le locataire'!$E8),\"\",'Renseignements sur le locataire'!$E8)","v":""},{"$f":"_xlfn.UNIQUE(_xlfn._xlws.FILTER($D$2:$D$5000,$D$2:$D$5000<>\" \"))","v":""}]
["chaque semaine","Non","Colombie-Britannique",{"$f":"IF(ISBLANK('Renseignements sur le locataire'!E9),\"\",'Renseignements sur le locataire'!E9)","v":""}]
["chaque mois",null,"Île-du-Prince-Édouard",{"$f":"IF(ISBLANK('Renseignements sur le locataire'!E10),\"\",'Renseignements sur le locataire'!E10)","v":""}]
[null,null,"Manitoba",{"$f":"IF(ISBLANK('Renseignements sur le locataire'!E11),\"\",'Renseignements sur le locataire'!E11)","v":""}]
[null,null,"Nouveau-Brunswick",{"$f":"IF(ISBLANK('Renseignements sur le locataire'!E12),\"\",'Renseignements sur le locataire'!E12)","v":""}]
[null,null,"Nouvelle-Écosse",{"$f":"IF(ISBLANK('Renseignements sur le locataire'!E13),\"\",'Renseignements sur le locataire'!E13)","v":""}]
[null,null,"Ontario",{"$f":"IF(ISBLANK('Renseignements sur le locataire'!E14),\"\",'Renseignements sur le locataire'!E14)","v":""}]
[null,null,"Québec",{"$f":"IF(ISBLANK('Renseignements sur le locataire'!E15),\"\",'Renseignements sur le locataire'!E15)","v":""}]
[null,null,"Saskatchewan",{"$f":"IF(ISBLANK('Renseignements sur le locataire'!E16),\"\",'Renseignements sur le locataire'!E16)","v":""}]
[null,null,"Terre-Neuve-et-Labrador",{"$f":"IF(ISBLANK('Renseignements sur le locataire'!E17),\"\",'Renseignements sur le locataire'!E17)","v":""}]
[null,null,"Territoires du Nord-Ouest",{"$f":"IF(ISBLANK('Renseignements sur le locataire'!E18),\"\",'Renseignements sur le locataire'!E18)","v":""}]
[null,null,"Nunavut",{"$f":"IF(ISBLANK('Renseignements sur le locataire'!E19),\"\",'Renseignements sur le locataire'!E19)","v":""}]
[null,null,"Yukon",{"$f":"IF(ISBLANK('Renseignements sur le locataire'!E20),\"\",'Renseignements sur le locataire'!E20)","v":""}]
[null,null,null,{"$f":"IF(ISBLANK('Renseignements sur le locataire'!E21),\"\",'Renseignements sur le locataire'!E21)","v":""}]
[null,null,null,{"$f":"IF(ISBLANK('Renseignements sur le locataire'!E22),\"\",'Renseignements sur le locataire'!E22)","v":""}]
[null,null,null,{"$f":"IF(ISBLANK('Renseignements sur le locataire'!E23),\"\",'Renseignements sur le locataire'!E23)","v":""}]
[null,null,null,{"$f":"IF(ISBLANK('Renseignements sur le locataire'!E24),\"\",'Renseignements sur le locataire'!E24)","v":""}]
[null,null,null,{"$f":"IF(ISBLANK('Renseignements sur le locataire'!E25),\"\",'Renseignements sur le locataire'!E25)","v":""}]
[null,null,null,{"$f":"IF(ISBLANK('Renseignements sur le locataire'!E26),\"\",'Renseignements sur le locataire'!E26)","v":""}]
[null,null,null,{"$f":"IF(ISBLANK('Renseignements sur le locataire'!E27),\"\",'Renseignements sur le locataire'!E27)","v":""}]
[null,null,null,{"$f":"IF(ISBLANK('Renseignements sur le locataire'!E28),\"\",'Renseignements sur le locataire'!E28)","v":""}]
[null,null,null,{"$f":"IF(ISBLANK('Renseignements sur le locataire'!E29),\"\",'Renseignements sur le locataire'!E29)","v":""}]
[null,null,null,{"$f":"IF(ISBLANK('Renseignements sur le locataire'!E30),\"\",'Renseignements sur le locataire'!E30)","v":""}]
[null,null,null,{"$f":"IF(ISBLANK('Renseignements sur le locataire'!E31),\"\",'Renseignements sur le locataire'!E31)","v":""}]
[null,null,null,{"$f":"IF(ISBLANK('Renseignements sur le locataire'!E32),\"\",'Renseignements sur le locataire'!E32)","v":""}]
[null,null,null,{"$f":"IF(ISBLANK('Renseignements sur le locataire'!E33),\"\",'Renseignements sur le locataire'!E33)","v":""}]
[null,null,null,{"$f":"IF(ISBLANK('Renseignements sur le locataire'!E34),\"\",'Renseignements sur le locataire'!E34)","v":""}]
[null,null,null,{"$f":"IF(ISBLANK('Renseignements sur le locataire'!E35),\"\",'Renseignements sur le locataire'!E35)","v":""}]
[null,null,null,{"$f":"IF(ISBLANK('Renseignements sur le locataire'!E36),\"\",'Renseignements sur le locataire'!E36)","v":""}]
[null,null,null,{"$f":"IF(ISBLANK('Renseignements sur le locataire'!E37),\"\",'Renseignements sur le locataire'!E37)","v":""}]
[null,null,null,{"$f":"IF(ISBLANK('Renseignements sur le locataire'!E38),\"\",'Renseignements sur le locataire'!E38)","v":""}]
[null,null,null,{"$f":"IF(ISBLANK('Renseignements sur le locataire'!E39),\"\",'Renseignements sur le locataire'!E39)","v":""}]
[null,null,null,{"$f":"IF(ISBLANK('Renseignements sur le locataire'!E40),\"\",'Renseignements sur le locataire'!E40)","v":""}]
[null,null,null,{"$f":"IF(ISBLANK('Renseignements sur le locataire'!E41),\"\",'Renseignements sur le locataire'!E41)","v":""}]
[null,null,null,{"$f":"IF(ISBLANK('Renseignements sur le locataire'!E42),\"\",'Renseignements sur le locataire'!E42)","v":""}]
[null,null,null,{"$f":"IF(ISBLANK('Renseignements sur le locataire'!E43),\"\",'Renseignements sur le locataire'!E43)","v":""}]
[null,null,null,{"$f":"IF(ISBLANK('Renseignements sur le locataire'!E44),\"\",'Renseignements sur le locataire'!E44)","v":""}]
[null,null,null,{"$f":"IF(ISBLANK('Renseignements sur le locataire'!E45),\"\",'Renseignements sur le locataire'!E45)","v":""}]
[null,null,null,{"$f":"IF(ISBLANK('Renseignements sur le locataire'!E46),\"\",'Renseignements sur le locataire'!E46)","v":""}]
[null,null,null,{"$f":"IF(ISBLANK('Renseignements sur le locataire'!E47),\"\",'Renseignements sur le locataire'!E47)","v":""}]
[null,null,null,{"$f":"IF(ISBLANK('Renseignements sur le locataire'!E48),\"\",'Renseignements sur le locataire'!E48)","v":""}]
[null,null,null,{"$f":"IF(ISBLANK('Renseignements sur le locataire'!E49),\"\",'Renseignements sur le locataire'!E49)","v":""}]
[null,null,null,{"$f":"IF(ISBLANK('Renseignements sur le locataire'!E50),\"\",'Renseignements sur le locataire'!E50)","v":""}]
[null,null,null,{"$f":"IF(ISBLANK('Renseignements sur le locataire'!E51),\"\",'Renseignements sur le locataire'!E51)","v":""}]
[null,null,null,{"$f":"IF(ISBLANK('Renseignements sur le locataire'!E52),\"\",'Renseignements sur le locataire'!E52)","v":""}]
[null,null,null,{"$f":"IF(ISBLANK('Renseignements sur le locataire'!E53),\"\",'Renseignements sur le locataire'!E53)","v":""}]
[null,null,null,{"$f":"IF(ISBLANK('Renseignements sur le locataire'!E54),\"\",'Renseignements sur le locataire'!E54)","v":""}]
[null,null,null,{"$f":"IF(ISBLANK('Renseignements sur le locataire'!E55),\"\",'Renseignements sur le locataire'!E55)","v":""}]
[null,null,null,{"$f":"IF(ISBLANK('Renseignements sur le locataire'!E56),\"\",'Renseignements sur le locataire'!E56)","v":""}]
[null,null,null,{"$f":"IF(ISBLANK('Renseignements sur le locataire'!E57),\"\",'Renseignements sur le locataire'!E57)","v":""}]
[null,null,null,{"$f":"IF(ISBLANK('Renseignements sur le locataire'!E58),\"\",'Renseignements sur le locataire'!E58)","v":""}]
[null,null,null,{"$f":"IF(ISBLANK('Renseignements sur le locataire'!E59),\"\",'Renseignements sur le locataire'!E59)","v":""}]
[null,null,null,{"$f":"IF(ISBLANK('Renseignements sur le locataire'!E60),\"\",'Renseignements sur le locataire'!E60)","v":""}]
[null,null,null,{"$f":"IF(ISBLANK('Renseignements sur le locataire'!E61),\"\",'Renseignements sur le locataire'!E61)","v":""}]
[null,null,null,{"$f":"IF(ISBLANK('Renseignements sur le locataire'!E62),\"\",'Renseignements sur le locataire'!E62)","v":""}]
[null,null,null,{"$f":"IF(ISBLANK('Renseignements sur le locataire'!E63),\"\",'Renseignements sur le locataire'!E63)","v":""}]
[null,null,null,{"$f":"IF(ISBLANK('Renseignements sur le locataire'!E64),\"\",'Renseignements sur le locataire'!E64)","v":""}]
[null,null,null,{"$f":"IF(ISBLANK('Renseignements sur le locataire'!E65),\"\",'Renseignements sur le locataire'!E65)","v":""}]
[null,null,null,{"$f":"IF(ISBLANK('Renseignements sur le locataire'!E66),\"\",'Renseignements sur le locataire'!E66)","v":""}]
[null,null,null,{"$f":"IF(ISBLANK('Renseignements sur le locataire'!E67),\"\",'Renseignements sur le locataire'!E67)","v":""}]
[null,null,null,{"$f":"IF(ISBLANK('Renseignements sur le locataire'!E68),\"\",'Renseignements sur le locataire'!E68)","v":""}]
[null,null,null,{"$f":"IF(ISBLANK('Renseignements sur le locataire'!E69),\"\",'Renseignements sur le locataire'!E69)","v":""}]
[null,null,null,{"$f":"IF(ISBLANK('Renseignements sur le locataire'!E70),\"\",'Renseignements sur le locataire'!E70)","v":""}]
[null,null,null,{"$f":"IF(ISBLANK('Renseignements sur le locataire'!E71),\"\",'Renseignements sur le locataire'!E71)","v":""}]
[null,null,null,{"$f":"IF(ISBLANK('Renseignements sur le locataire'!E72),\"\",'Renseignements sur le locataire'!E72)","v":""}]
[null,null,null,{"$f":"IF(ISBLANK('Renseignements sur le locataire'!E73),\"\",'Renseignements sur le locataire'!E73)","v":""}]
[null,null,null,{"$f":"IF(ISBLANK('Renseignements sur le locataire'!E74),\"\",'Renseignements sur le locataire'!E74)","v":""}]
[null,null,null,{"$f":"IF(ISBLANK('Renseignements sur le locataire'!E75),\"\",'Renseignements sur le locataire'!E75)","v":""}]
[null,null,null,{"$f":"IF(ISBLANK('Renseignements sur le locataire'!E76),\"\",'Renseignements sur le locataire'!E76)","v":""}]
[null,null,null,{"$f":"IF(ISBLANK('Renseignements sur le locataire'!E77),\"\",'Renseignements sur le locataire'!E77)","v":""}]
[null,null,null,{"$f":"IF(ISBLANK('Renseignements sur le locataire'!E78),\"\",'Renseignements sur le locataire'!E78)","v":""}]
[null,null,null,{"$f":"IF(ISBLANK('Renseignements sur le locataire'!E79),\"\",'Renseignements sur le locataire'!E79)","v":""}]
[null,null,null,{"$f":"IF(ISBLANK('Renseignements sur le locataire'!E80),\"\",'Renseignements sur le locataire'!E80)","v":""}]
[null,null,null,{"$f":"IF(ISBLANK('Renseignements sur le locataire'!E81),\"\",'Renseignements sur le locataire'!E81)","v":""}]
[null,null,null,{"$f":"IF(ISBLANK('Renseignements sur le locataire'!E82),\"\",'Renseignements sur le locataire'!E82)","v":""}]
[null,null,null,{"$f":"IF(ISBLANK('Renseignements sur le locataire'!E83),\"\",'Renseignements sur le locataire'!E83)","v":""}]
[null,null,null,{"$f":"IF(ISBLANK('Renseignements sur le locataire'!E84),\"\",'Renseignements sur le locataire'!E84)","v":""}]
[null,null,null,{"$f":"IF(ISBLANK('Renseignements sur le locataire'!E85),\"\",'Renseignements sur le locataire'!E85)","v":""}]
[null,null,null,{"$f":"IF(ISBLANK('Renseignements sur le locataire'!E86),\"\",'Renseignements sur le locataire'!E86)","v":""}]
[null,null,null,{"$f":"IF(ISBLANK('Renseignements sur le locataire'!E87),\"\",'Renseignements sur le locataire'!E87)","v":""}]
[null,null,null,{"$f":"IF(ISBLANK('Renseignements sur le locataire'!E88),\"\",'Renseignements sur le locataire'!E88)","v":""}]
[null,null,null,{"$f":"IF(ISBLANK('Renseignements sur le locataire'!E89),\"\",'Renseignements sur le locataire'!E89)","v":""}]
[null,null,null,{"$f":"IF(ISBLANK('Renseignements sur le locataire'!E90),\"\",'Renseignements sur le locataire'!E90)","v":""}]
[null,null,null,{"$f":"IF(ISBLANK('Renseignements sur le locataire'!E91),\"\",'Renseignements sur le locataire'!E91)","v":""}]
[null,null,null,{"$f":"IF(ISBLANK('Renseignements sur le locataire'!E92),\"\",'Renseignements sur le locataire'!E92)","v":""}]
[null,null,null,{"$f":"IF(ISBLANK('Renseignements sur le locataire'!E93),\"\",'Renseignements sur le locataire'!E93)","v":""}]
[null,null,null,{"$f":"IF(ISBLANK('Renseignements sur le locataire'!E94),\"\",'Renseignements sur le locataire'!E94)","v":""}]
[null,null,null,{"$f":"IF(ISBLANK('Renseignements sur le locataire'!E95),\"\",'Renseignements sur le locataire'!E95)","v":""}]
[null,null,null,{"$f":"IF(ISBLANK('Renseignements sur le locataire'!E96),\"\",'Renseignements sur le locataire'!E96)","v":""}]
[null,null,null,{"$f":"IF(ISBLANK('Renseignements sur le locataire'!E97),\"\",'Renseignements sur le locataire'!E97)","v":""}]
[null,null,null,{"$f":"IF(ISBLANK('Renseignements sur le locataire'!E98),\"\",'Renseignements sur le locataire'!E98)","v":""}]
[null,null,null,{"$f":"IF(ISBLANK('Renseignements sur le locataire'!E99),\"\",'Renseignements sur le locataire'!E99)","v":""}]
[null,null,null,{"$f":"IF(ISBLANK('Renseignements sur le locataire'!E100),\"\",'Renseignements sur le locataire'!E100)","v":""}]
[null,null,null,{"$f":"IF(ISBLANK('Renseignements sur le locataire'!E101),\"\",'Renseignements sur le locataire'!E101)","v":""}]
[null,null,null,{"$f":"IF(ISBLANK('Renseignements sur le locataire'!E102),\"\",'Renseignements sur le locataire'!E102)","v":""}]
[null,null,null,{"$f":"IF(ISBLANK('Renseignements sur le locataire'!E103),\"\",'Renseignements sur le locataire'!E103)","v":""}]
[null,null,null,{"$f":"IF(ISBLANK('Renseignements sur le locataire'!E104),\"\",'Renseignements sur le locataire'!E104)","v":""}]
[null,null,null,{"$f":"IF(ISBLANK('Renseignements sur le locataire'!E105),\"\",'Renseignements sur le locataire'!E105)","v":""}]
[null,null,null,{"$f":"IF(ISBLANK('Renseignements sur le locataire'!E106),\"\",'Renseignements sur le locataire'!E106)","v":""}]
[null,null,null,{"$f":"IF(ISBLANK('Renseignements sur le locataire'!E107),\"\",'Renseignements sur le locataire'!E107)","v":""}]
[null,null,null,{"$f":"IF(ISBLANK('Renseignements sur le locataire'!E108),\"\",'Renseignements sur le locataire'!E108)","v":""}]
[null,null,null,{"$f":"IF(ISBLANK('Renseignements sur le locataire'!E109),\"\",'Renseignements sur le locataire'!E109)","v":""}]
[null,null,null,{"$f":"IF(ISBLANK('Renseignements sur le locataire'!E110),\"\",'Renseignements sur le locataire'!E110)","v":""}]
[null,null,null,{"$f":"IF(ISBLANK('Renseignements sur le locataire'!E111),\"\",'Renseignements sur le locataire'!E111)","v":""}]
[null,null,null,{"$f":"IF(ISBLANK('Renseignements sur le locataire'!E112),\"\",'Renseignements sur le locataire'!E112)","v":""}]
[null,null,null,{"$f":"IF(ISBLANK('Renseignements sur le locataire'!E113),\"\",'Renseignements sur le locataire'!E113)","v":""}]
[null,null,null,{"$f":"IF(ISBLANK('Renseignements sur le locataire'!E114),\"\",'Renseignements sur le locataire'!E114)","v":""}]
[null,null,null,{"$f":"IF(ISBLANK('Renseignements sur le locataire'!E115),\"\",'Renseignements sur le locataire'!E115)","v":""}]
[null,null,null,{"$f":"IF(ISBLANK('Renseignements sur le locataire'!E116),\"\",'Renseignements sur le locataire'!E116)","v":""}]
[null,null,null,{"$f":"IF(ISBLANK('Renseignements sur le locataire'!E117),\"\",'Renseignements sur le locataire'!E117)","v":""}]
[null,null,null,{"$f":"IF(ISBLANK('Renseignements sur le locataire'!E118),\"\",'Renseignements sur le locataire'!E118)","v":""}]
[null,null,null,{"$f":"IF(ISBLANK('Renseignements sur le locataire'!E119),\"\",'Renseignements sur le locataire'!E119)","v":""}]
[null,null,null,{"$f":"IF(ISBLANK('Renseignements sur le locataire'!E120),\"\",'Renseignements sur le locataire'!E120)","v":""}]
[null,null,null,{"$f":"IF(ISBLANK('Renseignements sur le locataire'!E121),\"\",'Renseignements sur le locataire'!E121)","v":""}]
[null,null,null,{"$f":"IF(ISBLANK('Renseignements sur le locataire'!E122),\"\",'Renseignements sur le locataire'!E122)","v":""}]
[null,null,null,{"$f":"IF(ISBLANK('Renseignements sur le locataire'!E123),\"\",'Renseignements sur le locataire'!E123)","v":""}]
[null,null,null,{"$f":"IF(ISBLANK('Renseignements sur le locataire'!E124),\"\",'Renseignements sur le locataire'!E124)","v":""}]
[null,null,null,{"$f":"IF(ISBLANK('Renseignements sur le locataire'!E125),\"\",'Renseignements sur le locataire'!E125)","v":""}]
[null,null,null,{"$f":"IF(ISBLANK('Renseignements sur le locataire'!E126),\"\",'Renseignements sur le locataire'!E126)","v":""}]
[null,null,null,{"$f":"IF(ISBLANK('Renseignements sur le locataire'!E127),\"\",'Renseignements sur le locataire'!E127)","v":""}]
[null,null,null,{"$f":"IF(ISBLANK('Renseignements sur le locataire'!E128),\"\",'Renseignements sur le locataire'!E128)","v":""}]
[null,null,null,{"$f":"IF(ISBLANK('Renseignements sur le locataire'!E129),\"\",'Renseignements sur le locataire'!E129)","v":""}]
[null,null,null,{"$f":"IF(ISBLANK('Renseignements sur le locataire'!E130),\"\",'Renseignements sur le locataire'!E130)","v":""}]
[null,null,null,{"$f":"IF(ISBLANK('Renseignements sur le locataire'!E131),\"\",'Renseignements sur le locataire'!E131)","v":""}]
[null,null,null,{"$f":"IF(ISBLANK('Renseignements sur le locataire'!E132),\"\",'Renseignements sur le locataire'!E132)","v":""}]
[null,null,null,{"$f":"IF(ISBLANK('Renseignements sur le locataire'!E133),\"\",'Renseignements sur le locataire'!E133)","v":""}]
[null,null,null,{"$f":"IF(ISBLANK('Renseignements sur le locataire'!E134),\"\",'Renseignements sur le locataire'!E134)","v":""}]
[null,null,null,{"$f":"IF(ISBLANK('Renseignements sur le locataire'!E135),\"\",'Renseignements sur le locataire'!E135)","v":""}]
[null,null,null,{"$f":"IF(ISBLANK('Renseignements sur le locataire'!E136),\"\",'Renseignements sur le locataire'!E136)","v":""}]
[null,null,null,{"$f":"IF(ISBLANK('Renseignements sur le locataire'!E137),\"\",'Renseignements sur le locataire'!E137)","v":""}]
[null,null,null,{"$f":"IF(ISBLANK('Renseignements sur le locataire'!E138),\"\",'Renseignements sur le locataire'!E138)","v":""}]
[null,null,null,{"$f":"IF(ISBLANK('Renseignements sur le locataire'!E139),\"\",'Renseignements sur le locataire'!E139)","v":""}]
[null,null,null,{"$f":"IF(ISBLANK('Renseignements sur le locataire'!E140),\"\",'Renseignements sur le locataire'!E140)","v":""}]
[null,null,null,{"$f":"IF(ISBLANK('Renseignements sur le locataire'!E141),\"\",'Renseignements sur le locataire'!E141)","v":""}]
[null,null,null,{"$f":"IF(ISBLANK('Renseignements sur le locataire'!E142),\"\",'Renseignements sur le locataire'!E142)","v":""}]
[null,null,null,{"$f":"IF(ISBLANK('Renseignements sur le locataire'!E143),\"\",'Renseignements sur le locataire'!E143)","v":""}]
[null,null,null,{"$f":"IF(ISBLANK('Renseignements sur le locataire'!E144),\"\",'Renseignements sur le locataire'!E144)","v":""}]
[null,null,null,{"$f":"IF(ISBLANK('Renseignements sur le locataire'!E145),\"\",'Renseignements sur le locataire'!E145)","v":""}]
[null,null,null,{"$f":"IF(ISBLANK('Renseignements sur le locataire'!E146),\"\",'Renseignements sur le locataire'!E146)","v":""}]
[null,null,null,{"$f":"IF(ISBLANK('Renseignements sur le locataire'!E147),\"\",'Renseignements sur le locataire'!E147)","v":""}]
[null,null,null,{"$f":"IF(ISBLANK('Renseignements sur le locataire'!E148),\"\",'Renseignements sur le locataire'!E148)","v":""}]
[null,null,null,{"$f":"IF(ISBLANK('Renseignements sur le locataire'!E149),\"\",'Renseignements sur le locataire'!E149)","v":""}]
[null,null,null,{"$f":"IF(ISBLANK('Renseignements sur le locataire'!E150),\"\",'Renseignements sur le locataire'!E150)","v":""}]
[null,null,null,{"$f":"IF(ISBLANK('Renseignements sur le locataire'!E151),\"\",'Renseignements sur le locataire'!E151)","v":""}]
[null,null,null,{"$f":"IF(ISBLANK('Renseignements sur le locataire'!E152),\"\",'Renseignements sur le locataire'!E152)","v":""}]
[null,null,null,{"$f":"IF(ISBLANK('Renseignements sur le locataire'!E153),\"\",'Renseignements sur le locataire'!E153)","v":""}]
[null,null,null,{"$f":"IF(ISBLANK('Renseignements sur le locataire'!E154),\"\",'Renseignements sur le locataire'!E154)","v":""}]
[null,null,null,{"$f":"IF(ISBLANK('Renseignements sur le locataire'!E155),\"\",'Renseignements sur le locataire'!E155)","v":""}]
[null,null,null,{"$f":"IF(ISBLANK('Renseignements sur le locataire'!E156),\"\",'Renseignements sur le locataire'!E156)","v":""}]
[null,null,null,{"$f":"IF(ISBLANK('Renseignements sur le locataire'!E157),\"\",'Renseignements sur le locataire'!E157)","v":""}]
[null,null,null,{"$f":"IF(ISBLANK('Renseignements sur le locataire'!E158),\"\",'Renseignements sur le locataire'!E158)","v":""}]
[null,null,null,{"$f":"IF(ISBLANK('Renseignements sur le locataire'!E159),\"\",'Renseignements sur le locataire'!E159)","v":""}]
[null,null,null,{"$f":"IF(ISBLANK('Renseignements sur le locataire'!E160),\"\",'Renseignements sur le locataire'!E160)","v":""}]
[null,null,null,{"$f":"IF(ISBLANK('Renseignements sur le locataire'!E161),\"\",'Renseignements sur le locataire'!E161)","v":""}]
[null,null,null,{"$f":"IF(ISBLANK('Renseignements sur le locataire'!E162),\"\",'Renseignements sur le locataire'!E162)","v":""}]
[null,null,null,{"$f":"IF(ISBLANK('Renseignements sur le locataire'!E163),\"\",'Renseignements sur le locataire'!E163)","v":""}]
[null,null,null,{"$f":"IF(ISBLANK('Renseignements sur le locataire'!E164),\"\",'Renseignements sur le locataire'!E164)","v":""}]
[null,null,null,{"$f":"IF(ISBLANK('Renseignements sur le locataire'!E165),\"\",'Renseignements sur le locataire'!E165)","v":""}]
[null,null,null,{"$f":"IF(ISBLANK('Renseignements sur le locataire'!E166),\"\",'Renseignements sur le locataire'!E166)","v":""}]
[null,null,null,{"$f":"IF(ISBLANK('Renseignements sur le locataire'!E167),\"\",'Renseignements sur le locataire'!E167)","v":""}]
[null,null,null,{"$f":"IF(ISBLANK('Renseignements sur le locataire'!E168),\"\",'Renseignements sur le locataire'!E168)","v":""}]
[null,null,null,{"$f":"IF(ISBLANK('Renseignements sur le locataire'!E169),\"\",'Renseignements sur le locataire'!E169)","v":""}]
[null,null,null,{"$f":"IF(ISBLANK('Renseignements sur le locataire'!E170),\"\",'Renseignements sur le locataire'!E170)","v":""}]
[null,null,null,{"$f":"IF(ISBLANK('Renseignements sur le locataire'!E171),\"\",'Renseignements sur le locataire'!E171)","v":""}]
[null,null,null,{"$f":"IF(ISBLANK('Renseignements sur le locataire'!E172),\"\",'Renseignements sur le locataire'!E172)","v":""}]
[null,null,null,{"$f":"IF(ISBLANK('Renseignements sur le locataire'!E173),\"\",'Renseignements sur le locataire'!E173)","v":""}]
[null,null,null,{"$f":"IF(ISBLANK('Renseignements sur le locataire'!E174),\"\",'Renseignements sur le locataire'!E174)","v":""}]
[null,null,null,{"$f":"IF(ISBLANK('Renseignements sur le locataire'!E175),\"\",'Renseignements sur le locataire'!E175)","v":""}]
[null,null,null,{"$f":"IF(ISBLANK('Renseignements sur le locataire'!E176),\"\",'Renseignements sur le locataire'!E176)","v":""}]
[null,null,null,{"$f":"IF(ISBLANK('Renseignements sur le locataire'!E177),\"\",'Renseignements sur le locataire'!E177)","v":""}]
[null,null,null,{"$f":"IF(ISBLANK('Renseignements sur le locataire'!E178),\"\",'Renseignements sur le locataire'!E178)","v":""}]
[null,null,null,{"$f":"IF(ISBLANK('Renseignements sur le locataire'!E179),\"\",'Renseignements sur le locataire'!E179)","v":""}]
[null,null,null,{"$f":"IF(ISBLANK('Renseignements sur le locataire'!E180),\"\",'Renseignements sur le locataire'!E180)","v":""}]
[null,null,null,{"$f":"IF(ISBLANK('Renseignements sur le locataire'!E181),\"\",'Renseignements sur le locataire'!E181)","v":""}]
[null,null,null,{"$f":"IF(ISBLANK('Renseignements sur le locataire'!E182),\"\",'Renseignements sur le locataire'!E182)","v":""}]
[null,null,null,{"$f":"IF(ISBLANK('Renseignements sur le locataire'!E183),\"\",'Renseignements sur le locataire'!E183)","v":""}]
[null,null,null,{"$f":"IF(ISBLANK('Renseignements sur le locataire'!E184),\"\",'Renseignements sur le locataire'!E184)","v":""}]
[null,null,null,{"$f":"IF(ISBLANK('Renseignements sur le locataire'!E185),\"\",'Renseignements sur le locataire'!E185)","v":""}]
[null,null,null,{"$f":"IF(ISBLANK('Renseignements sur le locataire'!E186),\"\",'Renseignements sur le locataire'!E186)","v":""}]
[null,null,null,{"$f":"IF(ISBLANK('Renseignements sur le locataire'!E187),\"\",'Renseignements sur le locataire'!E187)","v":""}]
[null,null,null,{"$f":"IF(ISBLANK('Renseignements sur le locataire'!E188),\"\",'Renseignements sur le locataire'!E188)","v":""}]
[null,null,null,{"$f":"IF(ISBLANK('Renseignements sur le locataire'!E189),\"\",'Renseignements sur le locataire'!E189)","v":""}]
[null,null,null,{"$f":"IF(ISBLANK('Renseignements sur le locataire'!E190),\"\",'Renseignements sur le locataire'!E190)","v":""}]
[null,null,null,{"$f":"IF(ISBLANK('Renseignements sur le locataire'!E191),\"\",'Renseignements sur le locataire'!E191)","v":""}]
[null,null,null,{"$f":"IF(ISBLANK('Renseignements sur le locataire'!E192),\"\",'Renseignements sur le locataire'!E192)","v":""}]
[null,null,null,{"$f":"IF(ISBLANK('Renseignements sur le locataire'!E193),\"\",'Renseignements sur le locataire'!E193)","v":""}]
[null,null,null,{"$f":"IF(ISBLANK('Renseignements sur le locataire'!E194),\"\",'Renseignements sur le locataire'!E194)","v":""}]
[null,null,null,{"$f":"IF(ISBLANK('Renseignements sur le locataire'!E195),\"\",'Renseignements sur le locataire'!E195)","v":""}]
[null,null,null,{"$f":"IF(ISBLANK('Renseignements sur le locataire'!E196),\"\",'Renseignements sur le locataire'!E196)","v":""}]
[null,null,null,{"$f":"IF(ISBLANK('Renseignements sur le locataire'!E197),\"\",'Renseignements sur le locataire'!E197)","v":""}]
[null,null,null,{"$f":"IF(ISBLANK('Renseignements sur le locataire'!E198),\"\",'Renseignements sur le locataire'!E198)","v":""}]
[null,null,null,{"$f":"IF(ISBLANK('Renseignements sur le locataire'!E199),\"\",'Renseignements sur le locataire'!E199)","v":""}]
[null,null,null,{"$f":"IF(ISBLANK('Renseignements sur le locataire'!E200),\"\",'Renseignements sur le locataire'!E200)","v":""}]
[null,null,null,{"$f":"IF(ISBLANK('Renseignements sur le locataire'!E201),\"\",'Renseignements sur le locataire'!E201)","v":""}]
[null,null,null,{"$f":"IF(ISBLANK('Renseignements sur le locataire'!E202),\"\",'Renseignements sur le locataire'!E202)","v":""}]
[null,null,null,{"$f":"IF(ISBLANK('Renseignements sur le locataire'!E203),\"\",'Renseignements sur le locataire'!E203)","v":""}]
[null,null,null,{"$f":"IF(ISBLANK('Renseignements sur le locataire'!E204),\"\",'Renseignements sur le locataire'!E204)","v":""}]
[null,null,null,{"$f":"IF(ISBLANK('Renseignements sur le locataire'!E205),\"\",'Renseignements sur le locataire'!E205)","v":""}]
[null,null,null,{"$f":"IF(ISBLANK('Renseignements sur le locataire'!E206),\"\",'Renseignements sur le locataire'!E206)","v":""}]
[null,null,null,{"$f":"IF(ISBLANK('Renseignements sur le locataire'!E207),\"\",'Renseignements sur le locataire'!E207)","v":""}]
[null,null,null,{"$f":"IF(ISBLANK('Renseignements sur le locataire'!E208),\"\",'Renseignements sur le locataire'!E208)","v":""}]
[null,null,null,{"$f":"IF(ISBLANK('Renseignements sur le locataire'!E209),\"\",'Renseignements sur le locataire'!E209)","v":""}]
[null,null,null,{"$f":"IF(ISBLANK('Renseignements sur le locataire'!E210),\"\",'Renseignements sur le locataire'!E210)","v":""}]
[null,null,null,{"$f":"IF(ISBLANK('Renseignements sur le locataire'!E211),\"\",'Renseignements sur le locataire'!E211)","v":""}]
[null,null,null,{"$f":"IF(ISBLANK('Renseignements sur le locataire'!E212),\"\",'Renseignements sur le locataire'!E212)","v":""}]
[null,null,null,{"$f":"IF(ISBLANK('Renseignements sur le locataire'!E213),\"\",'Renseignements sur le locataire'!E213)","v":""}]
[null,null,null,{"$f":"IF(ISBLANK('Renseignements sur le locataire'!E214),\"\",'Renseignements sur le locataire'!E214)","v":""}]
[null,null,null,{"$f":"IF(ISBLANK('Renseignements sur le locataire'!E215),\"\",'Renseignements sur le locataire'!E215)","v":""}]
[null,null,null,{"$f":"IF(ISBLANK('Renseignements sur le locataire'!E216),\"\",'Renseignements sur le locataire'!E216)","v":""}]
[null,null,null,{"$f":"IF(ISBLANK('Renseignements sur le locataire'!E217),\"\",'Renseignements sur le locataire'!E217)","v":""}]
[null,null,null,{"$f":"IF(ISBLANK('Renseignements sur le locataire'!E218),\"\",'Renseignements sur le locataire'!E218)","v":""}]
[null,null,null,{"$f":"IF(ISBLANK('Renseignements sur le locataire'!E219),\"\",'Renseignements sur le locataire'!E219)","v":""}]
[null,null,null,{"$f":"IF(ISBLANK('Renseignements sur le locataire'!E220),\"\",'Renseignements sur le locataire'!E220)","v":""}]
[null,null,null,{"$f":"IF(ISBLANK('Renseignements sur le locataire'!E221),\"\",'Renseignements sur le locataire'!E221)","v":""}]
[null,null,null,{"$f":"IF(ISBLANK('Renseignements sur le locataire'!E222),\"\",'Renseignements sur le locataire'!E222)","v":""}]
[null,null,null,{"$f":"IF(ISBLANK('Renseignements sur le locataire'!E223),\"\",'Renseignements sur le locataire'!E223)","v":""}]
[null,null,null,{"$f":"IF(ISBLANK('Renseignements sur le locataire'!E224),\"\",'Renseignements sur le locataire'!E224)","v":""}]
[null,null,null,{"$f":"IF(ISBLANK('Renseignements sur le locataire'!E225),\"\",'Renseignements sur le locataire'!E225)","v":""}]
[null,null,null,{"$f":"IF(ISBLANK('Renseignements sur le locataire'!E226),\"\",'Renseignements sur le locataire'!E226)","v":""}]
[null,null,null,{"$f":"IF(ISBLANK('Renseignements sur le locataire'!E227),\"\",'Renseignements sur le locataire'!E227)","v":""}]
[null,null,null,{"$f":"IF(ISBLANK('Renseignements sur le locataire'!E228),\"\",'Renseignements sur le locataire'!E228)","v":""}]
[null,null,null,{"$f":"IF(ISBLANK('Renseignements sur le locataire'!E229),\"\",'Renseignements sur le locataire'!E229)","v":""}]
[null,null,null,{"$f":"IF(ISBLANK('Renseignements sur le locataire'!E230),\"\",'Renseignements sur le locataire'!E230)","v":""}]
[null,null,null,{"$f":"IF(ISBLANK('Renseignements sur le locataire'!E231),\"\",'Renseignements sur le locataire'!E231)","v":""}]
[null,null,null,{"$f":"IF(ISBLANK('Renseignements sur le locataire'!E232),\"\",'Renseignements sur le locataire'!E232)","v":""}]
[null,null,null,{"$f":"IF(ISBLANK('Renseignements sur le locataire'!E233),\"\",'Renseignements sur le locataire'!E233)","v":""}]
[null,null,null,{"$f":"IF(ISBLANK('Renseignements sur le locataire'!E234),\"\",'Renseignements sur le locataire'!E234)","v":""}]
[null,null,null,{"$f":"IF(ISBLANK('Renseignements sur le locataire'!E235),\"\",'Renseignements sur le locataire'!E235)","v":""}]
[null,null,null,{"$f":"IF(ISBLANK('Renseignements sur le locataire'!E236),\"\",'Renseignements sur le locataire'!E236)","v":""}]
[null,null,null,{"$f":"IF(ISBLANK('Renseignements sur le locataire'!E237),\"\",'Renseignements sur le locataire'!E237)","v":""}]
[null,null,null,{"$f":"IF(ISBLANK('Renseignements sur le locataire'!E238),\"\",'Renseignements sur le locataire'!E238)","v":""}]
[null,null,null,{"$f":"IF(ISBLANK('Renseignements sur le locataire'!E239),\"\",'Renseignements sur le locataire'!E239)","v":""}]
[null,null,null,{"$f":"IF(ISBLANK('Renseignements sur le locataire'!E240),\"\",'Renseignements sur le locataire'!E240)","v":""}]
[null,null,null,{"$f":"IF(ISBLANK('Renseignements sur le locataire'!E241),\"\",'Renseignements sur le locataire'!E241)","v":""}]
[null,null,null,{"$f":"IF(ISBLANK('Renseignements sur le locataire'!E242),\"\",'Renseignements sur le locataire'!E242)","v":""}]
[null,null,null,{"$f":"IF(ISBLANK('Renseignements sur le locataire'!E243),\"\",'Renseignements sur le locataire'!E243)","v":""}]
[null,null,null,{"$f":"IF(ISBLANK('Renseignements sur le locataire'!E244),\"\",'Renseignements sur le locataire'!E244)","v":""}]
[null,null,null,{"$f":"IF(ISBLANK('Renseignements sur le locataire'!E245),\"\",'Renseignements sur le locataire'!E245)","v":""}]
[null,null,null,{"$f":"IF(ISBLANK('Renseignements sur le locataire'!E246),\"\",'Renseignements sur le locataire'!E246)","v":""}]
[null,null,null,{"$f":"IF(ISBLANK('Renseignements sur le locataire'!E247),\"\",'Renseignements sur le locataire'!E247)","v":""}]
[null,null,null,{"$f":"IF(ISBLANK('Renseignements sur le locataire'!E248),\"\",'Renseignements sur le locataire'!E248)","v":""}]
[null,null,null,{"$f":"IF(ISBLANK('Renseignements sur le locataire'!E249),\"\",'Renseignements sur le locataire'!E249)","v":""}]
[null,null,null,{"$f":"IF(ISBLANK('Renseignements sur le locataire'!E250),\"\",'Renseignements sur le locataire'!E250)","v":""}]
[null,null,null,{"$f":"IF(ISBLANK('Renseignements sur le locataire'!E251),\"\",'Renseignements sur le locataire'!E251)","v":""}]
[null,null,null,{"$f":"IF(ISBLANK('Renseignements sur le locataire'!E252),\"\",'Renseignements sur le locataire'!E252)","v":""}]
[null,null,null,{"$f":"IF(ISBLANK('Renseignements sur le locataire'!E253),\"\",'Renseignements sur le locataire'!E253)","v":""}]
[null,null,null,{"$f":"IF(ISBLANK('Renseignements sur le locataire'!E254),\"\",'Renseignements sur le locataire'!E254)","v":""}]
[null,null,null,{"$f":"IF(ISBLANK('Renseignements sur le locataire'!E255),\"\",'Renseignements sur le locataire'!E255)","v":""}]
[null,null,null,{"$f":"IF(ISBLANK('Renseignements sur le locataire'!E256),\"\",'Renseignements sur le locataire'!E256)","v":""}]
[null,null,null,{"$f":"IF(ISBLANK('Renseignements sur le locataire'!E257),\"\",'Renseignements sur le locataire'!E257)","v":""}]
[null,null,null,{"$f":"IF(ISBLANK('Renseignements sur le locataire'!E258),\"\",'Renseignements sur le locataire'!E258)","v":""}]
[null,null,null,{"$f":"IF(ISBLANK('Renseignements sur le locataire'!E259),\"\",'Renseignements sur le locataire'!E259)","v":""}]
[null,null,null,{"$f":"IF(ISBLANK('Renseignements sur le locataire'!E260),\"\",'Renseignements sur le locataire'!E260)","v":""}]
[null,null,null,{"$f":"IF(ISBLANK('Renseignements sur le locataire'!E261),\"\",'Renseignements sur le locataire'!E261)","v":""}]
[null,null,null,{"$f":"IF(ISBLANK('Renseignements sur le locataire'!E262),\"\",'Renseignements sur le locataire'!E262)","v":""}]
[null,null,null,{"$f":"IF(ISBLANK('Renseignements sur le locataire'!E263),\"\",'Renseignements sur le locataire'!E263)","v":""}]
[null,null,null,{"$f":"IF(ISBLANK('Renseignements sur le locataire'!E264),\"\",'Renseignements sur le locataire'!E264)","v":""}]
[null,null,null,{"$f":"IF(ISBLANK('Renseignements sur le locataire'!E265),\"\",'Renseignements sur le locataire'!E265)","v":""}]
[null,null,null,{"$f":"IF(ISBLANK('Renseignements sur le locataire'!E266),\"\",'Renseignements sur le locataire'!E266)","v":""}]
[null,null,null,{"$f":"IF(ISBLANK('Renseignements sur le locataire'!E267),\"\",'Renseignements sur le locataire'!E267)","v":""}]
[null,null,null,{"$f":"IF(ISBLANK('Renseignements sur le locataire'!E268),\"\",'Renseignements sur le locataire'!E268)","v":""}]
[null,null,null,{"$f":"IF(ISBLANK('Renseignements sur le locataire'!E269),\"\",'Renseignements sur le locataire'!E269)","v":""}]
[null,null,null,{"$f":"IF(ISBLANK('Renseignements sur le locataire'!E270),\"\",'Renseignements sur le locataire'!E270)","v":""}]
[null,null,null,{"$f":"IF(ISBLANK('Renseignements sur le locataire'!E271),\"\",'Renseignements sur le locataire'!E271)","v":""}]
[null,null,null,{"$f":"IF(ISBLANK('Renseignements sur le locataire'!E272),\"\",'Renseignements sur le locataire'!E272)","v":""}]
[null,null,null,{"$f":"IF(ISBLANK('Renseignements sur le locataire'!E273),\"\",'Renseignements sur le locataire'!E273)","v":""}]
[null,null,null,{"$f":"IF(ISBLANK('Renseignements sur le locataire'!E274),\"\",'Renseignements sur le locataire'!E274)","v":""}]
[null,null,null,{"$f":"IF(ISBLANK('Renseignements sur le locataire'!E275),\"\",'Renseignements sur le locataire'!E275)","v":""}]
[null,null,null,{"$f":"IF(ISBLANK('Renseignements sur le locataire'!E276),\"\",'Renseignements sur le locataire'!E276)","v":""}]
[null,null,null,{"$f":"IF(ISBLANK('Renseignements sur le locataire'!E277),\"\",'Renseignements sur le locataire'!E277)","v":""}]
[null,null,null,{"$f":"IF(ISBLANK('Renseignements sur le locataire'!E278),\"\",'Renseignements sur le locataire'!E278)","v":""}]
[null,null,null,{"$f":"IF(ISBLANK('Renseignements sur le locataire'!E279),\"\",'Renseignements sur le locataire'!E279)","v":""}]
[null,null,null,{"$f":"IF(ISBLANK('Renseignements sur le locataire'!E280),\"\",'Renseignements sur le locataire'!E280)","v":""}]
[null,null,null,{"$f":"IF(ISBLANK('Renseignements sur le locataire'!E281),\"\",'Renseignements sur le locataire'!E281)","v":""}]
[null,null,null,{"$f":"IF(ISBLANK('Renseignements sur le locataire'!E282),\"\",'Renseignements sur le locataire'!E282)","v":""}]
[null,null,null,{"$f":"IF(ISBLANK('Renseignements sur le locataire'!E283),\"\",'Renseignements sur le locataire'!E283)","v":""}]
[null,null,null,{"$f":"IF(ISBLANK('Renseignements sur le locataire'!E284),\"\",'Renseignements sur le locataire'!E284)","v":""}]
[null,null,null,{"$f":"IF(ISBLANK('Renseignements sur le locataire'!E285),\"\",'Renseignements sur le locataire'!E285)","v":""}]
[null,null,null,{"$f":"IF(ISBLANK('Renseignements sur le locataire'!E286),\"\",'Renseignements sur le locataire'!E286)","v":""}]
[null,null,null,{"$f":"IF(ISBLANK('Renseignements sur le locataire'!E287),\"\",'Renseignements sur le locataire'!E287)","v":""}]
[null,null,null,{"$f":"IF(ISBLANK('Renseignements sur le locataire'!E288),\"\",'Renseignements sur le locataire'!E288)","v":""}]
[null,null,null,{"$f":"IF(ISBLANK('Renseignements sur le locataire'!E289),\"\",'Renseignements sur le locataire'!E289)","v":""}]
[null,null,null,{"$f":"IF(ISBLANK('Renseignements sur le locataire'!E290),\"\",'Renseignements sur le locataire'!E290)","v":""}]
[null,null,null,{"$f":"IF(ISBLANK('Renseignements sur le locataire'!E291),\"\",'Renseignements sur le locataire'!E291)","v":""}]
[null,null,null,{"$f":"IF(ISBLANK('Renseignements sur le locataire'!E292),\"\",'Renseignements sur le locataire'!E292)","v":""}]
[null,null,null,{"$f":"IF(ISBLANK('Renseignements sur le locataire'!E293),\"\",'Renseignements sur le locataire'!E293)","v":""}]
[null,null,null,{"$f":"IF(ISBLANK('Renseignements sur le locataire'!E294),\"\",'Renseignements sur le locataire'!E294)","v":""}]
[null,null,null,{"$f":"IF(ISBLANK('Renseignements sur le locataire'!E295),\"\",'Renseignements sur le locataire'!E295)","v":""}]
[null,null,null,{"$f":"IF(ISBLANK('Renseignements sur le locataire'!E296),\"\",'Renseignements sur le locataire'!E296)","v":""}]
[null,null,null,{"$f":"IF(ISBLANK('Renseignements sur le locataire'!E297),\"\",'Renseignements sur le locataire'!E297)","v":""}]
[null,null,null,{"$f":"IF(ISBLANK('Renseignements sur le locataire'!E298),\"\",'Renseignements sur le locataire'!E298)","v":""}]
[null,null,null,{"$f":"IF(ISBLANK('Renseignements sur le locataire'!E299),\"\",'Renseignements sur le locataire'!E299)","v":""}]
[null,null,null,{"$f":"IF(ISBLANK('Renseignements sur le locataire'!E300),\"\",'Renseignements sur le locataire'!E300)","v":""}]
[null,null,null,{"$f":"IF(ISBLANK('Renseignements sur le locataire'!E301),\"\",'Renseignements sur le locataire'!E301)","v":""}]
[null,null,null,{"$f":"IF(ISBLANK('Renseignements sur le locataire'!E302),\"\",'Renseignements sur le locataire'!E302)","v":""}]
[null,null,null,{"$f":"IF(ISBLANK('Renseignements sur le locataire'!E303),\"\",'Renseignements sur le locataire'!E303)","v":""}]
[null,null,null,{"$f":"IF(ISBLANK('Renseignements sur le locataire'!E304),\"\",'Renseignements sur le locataire'!E304)","v":""}]
[null,null,null,{"$f":"IF(ISBLANK('Renseignements sur le locataire'!E305),\"\",'Renseignements sur le locataire'!E305)","v":""}]
[null,null,null,{"$f":"IF(ISBLANK('Renseignements sur le locataire'!E306),\"\",'Renseignements sur le locataire'!E306)","v":""}]
[null,null,null,{"$f":"IF(ISBLANK('Renseignements sur le locataire'!E307),\"\",'Renseignements sur le locataire'!E307)","v":""}]
[null,null,null,{"$f":"IF(ISBLANK('Renseignements sur le locataire'!E308),\"\",'Renseignements sur le locataire'!E308)","v":""}]
[null,null,null,{"$f":"IF(ISBLANK('Renseignements sur le locataire'!E309),\"\",'Renseignements sur le locataire'!E309)","v":""}]
[null,null,null,{"$f":"IF(ISBLANK('Renseignements sur le locataire'!E310),\"\",'Renseignements sur le locataire'!E310)","v":""}]
[null,null,null,{"$f":"IF(ISBLANK('Renseignements sur le locataire'!E311),\"\",'Renseignements sur le locataire'!E311)","v":""}]
[null,null,null,{"$f":"IF(ISBLANK('Renseignements sur le locataire'!E312),\"\",'Renseignements sur le locataire'!E312)","v":""}]
[null,null,null,{"$f":"IF(ISBLANK('Renseignements sur le locataire'!E313),\"\",'Renseignements sur le locataire'!E313)","v":""}]
[null,null,null,{"$f":"IF(ISBLANK('Renseignements sur le locataire'!E314),\"\",'Renseignements sur le locataire'!E314)","v":""}]
[null,null,null,{"$f":"IF(ISBLANK('Renseignements sur le locataire'!E315),\"\",'Renseignements sur le locataire'!E315)","v":""}]
[null,null,null,{"$f":"IF(ISBLANK('Renseignements sur le locataire'!E316),\"\",'Renseignements sur le locataire'!E316)","v":""}]
[null,null,null,{"$f":"IF(ISBLANK('Renseignements sur le locataire'!E317),\"\",'Renseignements sur le locataire'!E317)","v":""}]
[null,null,null,{"$f":"IF(ISBLANK('Renseignements sur le locataire'!E318),\"\",'Renseignements sur le locataire'!E318)","v":""}]
[null,null,null,{"$f":"IF(ISBLANK('Renseignements sur le locataire'!E319),\"\",'Renseignements sur le locataire'!E319)","v":""}]
[null,null,null,{"$f":"IF(ISBLANK('Renseignements sur le locataire'!E320),\"\",'Renseignements sur le locataire'!E320)","v":""}]
[null,null,null,{"$f":"IF(ISBLANK('Renseignements sur le locataire'!E321),\"\",'Renseignements sur le locataire'!E321)","v":""}]
[null,null,null,{"$f":"IF(ISBLANK('Renseignements sur le locataire'!E322),\"\",'Renseignements sur le locataire'!E322)","v":""}]
[null,null,null,{"$f":"IF(ISBLANK('Renseignements sur le locataire'!E323),\"\",'Renseignements sur le locataire'!E323)","v":""}]
[null,null,null,{"$f":"IF(ISBLANK('Renseignements sur le locataire'!E324),\"\",'Renseignements sur le locataire'!E324)","v":""}]
[null,null,null,{"$f":"IF(ISBLANK('Renseignements sur le locataire'!E325),\"\",'Renseignements sur le locataire'!E325)","v":""}]
[null,null,null,{"$f":"IF(ISBLANK('Renseignements sur le locataire'!E326),\"\",'Renseignements sur le locataire'!E326)","v":""}]
[null,null,null,{"$f":"IF(ISBLANK('Renseignements sur le locataire'!E327),\"\",'Renseignements sur le locataire'!E327)","v":""}]
[null,null,null,{"$f":"IF(ISBLANK('Renseignements sur le locataire'!E328),\"\",'Renseignements sur le locataire'!E328)","v":""}]
[null,null,null,{"$f":"IF(ISBLANK('Renseignements sur le locataire'!E329),\"\",'Renseignements sur le locataire'!E329)","v":""}]
[null,null,null,{"$f":"IF(ISBLANK('Renseignements sur le locataire'!E330),\"\",'Renseignements sur le locataire'!E330)","v":""}]
[null,null,null,{"$f":"IF(ISBLANK('Renseignements sur le locataire'!E331),\"\",'Renseignements sur le locataire'!E331)","v":""}]
[null,null,null,{"$f":"IF(ISBLANK('Renseignements sur le locataire'!E332),\"\",'Renseignements sur le locataire'!E332)","v":""}]
[null,null,null,{"$f":"IF(ISBLANK('Renseignements sur le locataire'!E333),\"\",'Renseignements sur le locataire'!E333)","v":""}]
[null,null,null,{"$f":"IF(ISBLANK('Renseignements sur le locataire'!E334),\"\",'Renseignements sur le locataire'!E334)","v":""}]
[null,null,null,{"$f":"IF(ISBLANK('Renseignements sur le locataire'!E335),\"\",'Renseignements sur le locataire'!E335)","v":""}]
[null,null,null,{"$f":"IF(ISBLANK('Renseignements sur le locataire'!E336),\"\",'Renseignements sur le locataire'!E336)","v":""}]
[null,null,null,{"$f":"IF(ISBLANK('Renseignements sur le locataire'!E337),\"\",'Renseignements sur le locataire'!E337)","v":""}]
[null,null,null,{"$f":"IF(ISBLANK('Renseignements sur le locataire'!E338),\"\",'Renseignements sur le locataire'!E338)","v":""}]
[null,null,null,{"$f":"IF(ISBLANK('Renseignements sur le locataire'!E339),\"\",'Renseignements sur le locataire'!E339)","v":""}]
[null,null,null,{"$f":"IF(ISBLANK('Renseignements sur le locataire'!E340),\"\",'Renseignements sur le locataire'!E340)","v":""}]
[null,null,null,{"$f":"IF(ISBLANK('Renseignements sur le locataire'!E341),\"\",'Renseignements sur le locataire'!E341)","v":""}]
[null,null,null,{"$f":"IF(ISBLANK('Renseignements sur le locataire'!E342),\"\",'Renseignements sur le locataire'!E342)","v":""}]
[null,null,null,{"$f":"IF(ISBLANK('Renseignements sur le locataire'!E343),\"\",'Renseignements sur le locataire'!E343)","v":""}]
[null,null,null,{"$f":"IF(ISBLANK('Renseignements sur le locataire'!E344),\"\",'Renseignements sur le locataire'!E344)","v":""}]
[null,null,null,{"$f":"IF(ISBLANK('Renseignements sur le locataire'!E345),\"\",'Renseignements sur le locataire'!E345)","v":""}]
[null,null,null,{"$f":"IF(ISBLANK('Renseignements sur le locataire'!E346),\"\",'Renseignements sur le locataire'!E346)","v":""}]
[null,null,null,{"$f":"IF(ISBLANK('Renseignements sur le locataire'!E347),\"\",'Renseignements sur le locataire'!E347)","v":""}]
[null,null,null,{"$f":"IF(ISBLANK('Renseignements sur le locataire'!E348),\"\",'Renseignements sur le locataire'!E348)","v":""}]
[null,null,null,{"$f":"IF(ISBLANK('Renseignements sur le locataire'!E349),\"\",'Renseignements sur le locataire'!E349)","v":""}]
[null,null,null,{"$f":"IF(ISBLANK('Renseignements sur le locataire'!E350),\"\",'Renseignements sur le locataire'!E350)","v":""}]
[null,null,null,{"$f":"IF(ISBLANK('Renseignements sur le locataire'!E351),\"\",'Renseignements sur le locataire'!E351)","v":""}]
[null,null,null,{"$f":"IF(ISBLANK('Renseignements sur le locataire'!E352),\"\",'Renseignements sur le locataire'!E352)","v":""}]
[null,null,null,{"$f":"IF(ISBLANK('Renseignements sur le locataire'!E353),\"\",'Renseignements sur le locataire'!E353)","v":""}]
[null,null,null,{"$f":"IF(ISBLANK('Renseignements sur le locataire'!E354),\"\",'Renseignements sur le locataire'!E354)","v":""}]
[null,null,null,{"$f":"IF(ISBLANK('Renseignements sur le locataire'!E355),\"\",'Renseignements sur le locataire'!E355)","v":""}]
[null,null,null,{"$f":"IF(ISBLANK('Renseignements sur le locataire'!E356),\"\",'Renseignements sur le locataire'!E356)","v":""}]
[null,null,null,{"$f":"IF(ISBLANK('Renseignements sur le locataire'!E357),\"\",'Renseignements sur le locataire'!E357)","v":""}]
[null,null,null,{"$f":"IF(ISBLANK('Renseignements sur le locataire'!E358),\"\",'Renseignements sur le locataire'!E358)","v":""}]
[null,null,null,{"$f":"IF(ISBLANK('Renseignements sur le locataire'!E359),\"\",'Renseignements sur le locataire'!E359)","v":""}]
[null,null,null,{"$f":"IF(ISBLANK('Renseignements sur le locataire'!E360),\"\",'Renseignements sur le locataire'!E360)","v":""}]
[null,null,null,{"$f":"IF(ISBLANK('Renseignements sur le locataire'!E361),\"\",'Renseignements sur le locataire'!E361)","v":""}]
[null,null,null,{"$f":"IF(ISBLANK('Renseignements sur le locataire'!E362),\"\",'Renseignements sur le locataire'!E362)","v":""}]
[null,null,null,{"$f":"IF(ISBLANK('Renseignements sur le locataire'!E363),\"\",'Renseignements sur le locataire'!E363)","v":""}]
[null,null,null,{"$f":"IF(ISBLANK('Renseignements sur le locataire'!E364),\"\",'Renseignements sur le locataire'!E364)","v":""}]
[null,null,null,{"$f":"IF(ISBLANK('Renseignements sur le locataire'!E365),\"\",'Renseignements sur le locataire'!E365)","v":""}]
[null,null,null,{"$f":"IF(ISBLANK('Renseignements sur le locataire'!E366),\"\",'Renseignements sur le locataire'!E366)","v":""}]
[null,null,null,{"$f":"IF(ISBLANK('Renseignements sur le locataire'!E367),\"\",'Renseignements sur le locataire'!E367)","v":""}]
[null,null,null,{"$f":"IF(ISBLANK('Renseignements sur le locataire'!E368),\"\",'Renseignements sur le locataire'!E368)","v":""}]
[null,null,null,{"$f":"IF(ISBLANK('Renseignements sur le locataire'!E369),\"\",'Renseignements sur le locataire'!E369)","v":""}]
[null,null,null,{"$f":"IF(ISBLANK('Renseignements sur le locataire'!E370),\"\",'Renseignements sur le locataire'!E370)","v":""}]
[null,null,null,{"$f":"IF(ISBLANK('Renseignements sur le locataire'!E371),\"\",'Renseignements sur le locataire'!E371)","v":""}]
[null,null,null,{"$f":"IF(ISBLANK('Renseignements sur le locataire'!E372),\"\",'Renseignements sur le locataire'!E372)","v":""}]
[null,null,null,{"$f":"IF(ISBLANK('Renseignements sur le locataire'!E373),\"\",'Renseignements sur le locataire'!E373)","v":""}]
[null,null,null,{"$f":"IF(ISBLANK('Renseignements sur le locataire'!E374),\"\",'Renseignements sur le locataire'!E374)","v":""}]
[null,null,null,{"$f":"IF(ISBLANK('Renseignements sur le locataire'!E375),\"\",'Renseignements sur le locataire'!E375)","v":""}]
[null,null,null,{"$f":"IF(ISBLANK('Renseignements sur le locataire'!E376),\"\",'Renseignements sur le locataire'!E376)","v":""}]
[null,null,null,{"$f":"IF(ISBLANK('Renseignements sur le locataire'!E377),\"\",'Renseignements sur le locataire'!E377)","v":""}]
[null,null,null,{"$f":"IF(ISBLANK('Renseignements sur le locataire'!E378),\"\",'Renseignements sur le locataire'!E378)","v":""}]
[null,null,null,{"$f":"IF(ISBLANK('Renseignements sur le locataire'!E379),\"\",'Renseignements sur le locataire'!E379)","v":""}]
[null,null,null,{"$f":"IF(ISBLANK('Renseignements sur le locataire'!E380),\"\",'Renseignements sur le locataire'!E380)","v":""}]
[null,null,null,{"$f":"IF(ISBLANK('Renseignements sur le locataire'!E381),\"\",'Renseignements sur le locataire'!E381)","v":""}]
[null,null,null,{"$f":"IF(ISBLANK('Renseignements sur le locataire'!E382),\"\",'Renseignements sur le locataire'!E382)","v":""}]
[null,null,null,{"$f":"IF(ISBLANK('Renseignements sur le locataire'!E383),\"\",'Renseignements sur le locataire'!E383)","v":""}]
[null,null,null,{"$f":"IF(ISBLANK('Renseignements sur le locataire'!E384),\"\",'Renseignements sur le locataire'!E384)","v":""}]
[null,null,null,{"$f":"IF(ISBLANK('Renseignements sur le locataire'!E385),\"\",'Renseignements sur le locataire'!E385)","v":""}]
[null,null,null,{"$f":"IF(ISBLANK('Renseignements sur le locataire'!E386),\"\",'Renseignements sur le locataire'!E386)","v":""}]
[null,null,null,{"$f":"IF(ISBLANK('Renseignements sur le locataire'!E387),\"\",'Renseignements sur le locataire'!E387)","v":""}]
[null,null,null,{"$f":"IF(ISBLANK('Renseignements sur le locataire'!E388),\"\",'Renseignements sur le locataire'!E388)","v":""}]
[null,null,null,{"$f":"IF(ISBLANK('Renseignements sur le locataire'!E389),\"\",'Renseignements sur le locataire'!E389)","v":""}]
[null,null,null,{"$f":"IF(ISBLANK('Renseignements sur le locataire'!E390),\"\",'Renseignements sur le locataire'!E390)","v":""}]
[null,null,null,{"$f":"IF(ISBLANK('Renseignements sur le locataire'!E391),\"\",'Renseignements sur le locataire'!E391)","v":""}]
[null,null,null,{"$f":"IF(ISBLANK('Renseignements sur le locataire'!E392),\"\",'Renseignements sur le locataire'!E392)","v":""}]
[null,null,null,{"$f":"IF(ISBLANK('Renseignements sur le locataire'!E393),\"\",'Renseignements sur le locataire'!E393)","v":""}]
[null,null,null,{"$f":"IF(ISBLANK('Renseignements sur le locataire'!E394),\"\",'Renseignements sur le locataire'!E394)","v":""}]
[null,null,null,{"$f":"IF(ISBLANK('Renseignements sur le locataire'!E395),\"\",'Renseignements sur le locataire'!E395)","v":""}]
[null,null,null,{"$f":"IF(ISBLANK('Renseignements sur le locataire'!E396),\"\",'Renseignements sur le locataire'!E396)","v":""}]
[null,null,null,{"$f":"IF(ISBLANK('Renseignements sur le locataire'!E397),\"\",'Renseignements sur le locataire'!E397)","v":""}]
[null,null,null,{"$f":"IF(ISBLANK('Renseignements sur le locataire'!E398),\"\",'Renseignements sur le locataire'!E398)","v":""}]
[null,null,null,{"$f":"IF(ISBLANK('Renseignements sur le locataire'!E399),\"\",'Renseignements sur le locataire'!E399)","v":""}]
[null,null,null,{"$f":"IF(ISBLANK('Renseignements sur le locataire'!E400),\"\",'Renseignements sur le locataire'!E400)","v":""}]
[null,null,null,{"$f":"IF(ISBLANK('Renseignements sur le locataire'!E401),\"\",'Renseignements sur le locataire'!E401)","v":""}]
[null,null,null,{"$f":"IF(ISBLANK('Renseignements sur le locataire'!E402),\"\",'Renseignements sur le locataire'!E402)","v":""}]
[null,null,null,{"$f":"IF(ISBLANK('Renseignements sur le locataire'!E403),\"\",'Renseignements sur le locataire'!E403)","v":""}]
[null,null,null,{"$f":"IF(ISBLANK('Renseignements sur le locataire'!E404),\"\",'Renseignements sur le locataire'!E404)","v":""}]
[null,null,null,{"$f":"IF(ISBLANK('Renseignements sur le locataire'!E405),\"\",'Renseignements sur le locataire'!E405)","v":""}]
[null,null,null,{"$f":"IF(ISBLANK('Renseignements sur le locataire'!E406),\"\",'Renseignements sur le locataire'!E406)","v":""}]
[null,null,null,{"$f":"IF(ISBLANK('Renseignements sur le locataire'!E407),\"\",'Renseignements sur le locataire'!E407)","v":""}]
[null,null,null,{"$f":"IF(ISBLANK('Renseignements sur le locataire'!E408),\"\",'Renseignements sur le locataire'!E408)","v":""}]
[null,null,null,{"$f":"IF(ISBLANK('Renseignements sur le locataire'!E409),\"\",'Renseignements sur le locataire'!E409)","v":""}]
[null,null,null,{"$f":"IF(ISBLANK('Renseignements sur le locataire'!E410),\"\",'Renseignements sur le locataire'!E410)","v":""}]
[null,null,null,{"$f":"IF(ISBLANK('Renseignements sur le locataire'!E411),\"\",'Renseignements sur le locataire'!E411)","v":""}]
[null,null,null,{"$f":"IF(ISBLANK('Renseignements sur le locataire'!E412),\"\",'Renseignements sur le locataire'!E412)","v":""}]
[null,null,null,{"$f":"IF(ISBLANK('Renseignements sur le locataire'!E413),\"\",'Renseignements sur le locataire'!E413)","v":""}]
[null,null,null,{"$f":"IF(ISBLANK('Renseignements sur le locataire'!E414),\"\",'Renseignements sur le locataire'!E414)","v":""}]
[null,null,null,{"$f":"IF(ISBLANK('Renseignements sur le locataire'!E415),\"\",'Renseignements sur le locataire'!E415)","v":""}]
[null,null,null,{"$f":"IF(ISBLANK('Renseignements sur le locataire'!E416),\"\",'Renseignements sur le locataire'!E416)","v":""}]
[null,null,null,{"$f":"IF(ISBLANK('Renseignements sur le locataire'!E417),\"\",'Renseignements sur le locataire'!E417)","v":""}]
[null,null,null,{"$f":"IF(ISBLANK('Renseignements sur le locataire'!E418),\"\",'Renseignements sur le locataire'!E418)","v":""}]
[null,null,null,{"$f":"IF(ISBLANK('Renseignements sur le locataire'!E419),\"\",'Renseignements sur le locataire'!E419)","v":""}]
[null,null,null,{"$f":"IF(ISBLANK('Renseignements sur le locataire'!E420),\"\",'Renseignements sur le locataire'!E420)","v":""}]
[null,null,null,{"$f":"IF(ISBLANK('Renseignements sur le locataire'!E421),\"\",'Renseignements sur le locataire'!E421)","v":""}]
[null,null,null,{"$f":"IF(ISBLANK('Renseignements sur le locataire'!E422),\"\",'Renseignements sur le locataire'!E422)","v":""}]
[null,null,null,{"$f":"IF(ISBLANK('Renseignements sur le locataire'!E423),\"\",'Renseignements sur le locataire'!E423)","v":""}]
[null,null,null,{"$f":"IF(ISBLANK('Renseignements sur le locataire'!E424),\"\",'Renseignements sur le locataire'!E424)","v":""}]
[null,null,null,{"$f":"IF(ISBLANK('Renseignements sur le locataire'!E425),\"\",'Renseignements sur le locataire'!E425)","v":""}]
[null,null,null,{"$f":"IF(ISBLANK('Renseignements sur le locataire'!E426),\"\",'Renseignements sur le locataire'!E426)","v":""}]
[null,null,null,{"$f":"IF(ISBLANK('Renseignements sur le locataire'!E427),\"\",'Renseignements sur le locataire'!E427)","v":""}]
[null,null,null,{"$f":"IF(ISBLANK('Renseignements sur le locataire'!E428),\"\",'Renseignements sur le locataire'!E428)","v":""}]
[null,null,null,{"$f":"IF(ISBLANK('Renseignements sur le locataire'!E429),\"\",'Renseignements sur le locataire'!E429)","v":""}]
[null,null,null,{"$f":"IF(ISBLANK('Renseignements sur le locataire'!E430),\"\",'Renseignements sur le locataire'!E430)","v":""}]
[null,null,null,{"$f":"IF(ISBLANK('Renseignements sur le locataire'!E431),\"\",'Renseignements sur le locataire'!E431)","v":""}]
[null,null,null,{"$f":"IF(ISBLANK('Renseignements sur le locataire'!E432),\"\",'Renseignements sur le locataire'!E432)","v":""}]
[null,null,null,{"$f":"IF(ISBLANK('Renseignements sur le locataire'!E433),\"\",'Renseignements sur le locataire'!E433)","v":""}]
[null,null,null,{"$f":"IF(ISBLANK('Renseignements sur le locataire'!E434),\"\",'Renseignements sur le locataire'!E434)","v":""}]
[null,null,null,{"$f":"IF(ISBLANK('Renseignements sur le locataire'!E435),\"\",'Renseignements sur le locataire'!E435)","v":""}]
[null,null,null,{"$f":"IF(ISBLANK('Renseignements sur le locataire'!E436),\"\",'Renseignements sur le locataire'!E436)","v":""}]
[null,null,null,{"$f":"IF(ISBLANK('Renseignements sur le locataire'!E437),\"\",'Renseignements sur le locataire'!E437)","v":""}]
[null,null,null,{"$f":"IF(ISBLANK('Renseignements sur le locataire'!E438),\"\",'Renseignements sur le locataire'!E438)","v":""}]
[null,null,null,{"$f":"IF(ISBLANK('Renseignements sur le locataire'!E439),\"\",'Renseignements sur le locataire'!E439)","v":""}]
[null,null,null,{"$f":"IF(ISBLANK('Renseignements sur le locataire'!E440),\"\",'Renseignements sur le locataire'!E440)","v":""}]
[null,null,null,{"$f":"IF(ISBLANK('Renseignements sur le locataire'!E441),\"\",'Renseignements sur le locataire'!E441)","v":""}]
[null,null,null,{"$f":"IF(ISBLANK('Renseignements sur le locataire'!E442),\"\",'Renseignements sur le locataire'!E442)","v":""}]
[null,null,null,{"$f":"IF(ISBLANK('Renseignements sur le locataire'!E443),\"\",'Renseignements sur le locataire'!E443)","v":""}]
[null,null,null,{"$f":"IF(ISBLANK('Renseignements sur le locataire'!E444),\"\",'Renseignements sur le locataire'!E444)","v":""}]
[null,null,null,{"$f":"IF(ISBLANK('Renseignements sur le locataire'!E445),\"\",'Renseignements sur le locataire'!E445)","v":""}]
[null,null,null,{"$f":"IF(ISBLANK('Renseignements sur le locataire'!E446),\"\",'Renseignements sur le locataire'!E446)","v":""}]
[null,null,null,{"$f":"IF(ISBLANK('Renseignements sur le locataire'!E447),\"\",'Renseignements sur le locataire'!E447)","v":""}]
[null,null,null,{"$f":"IF(ISBLANK('Renseignements sur le locataire'!E448),\"\",'Renseignements sur le locataire'!E448)","v":""}]
[null,null,null,{"$f":"IF(ISBLANK('Renseignements sur le locataire'!E449),\"\",'Renseignements sur le locataire'!E449)","v":""}]
[null,null,null,{"$f":"IF(ISBLANK('Renseignements sur le locataire'!E450),\"\",'Renseignements sur le locataire'!E450)","v":""}]
[null,null,null,{"$f":"IF(ISBLANK('Renseignements sur le locataire'!E451),\"\",'Renseignements sur le locataire'!E451)","v":""}]
[null,null,null,{"$f":"IF(ISBLANK('Renseignements sur le locataire'!E452),\"\",'Renseignements sur le locataire'!E452)","v":""}]
[null,null,null,{"$f":"IF(ISBLANK('Renseignements sur le locataire'!E453),\"\",'Renseignements sur le locataire'!E453)","v":""}]
[null,null,null,{"$f":"IF(ISBLANK('Renseignements sur le locataire'!E454),\"\",'Renseignements sur le locataire'!E454)","v":""}]
[null,null,null,{"$f":"IF(ISBLANK('Renseignements sur le locataire'!E455),\"\",'Renseignements sur le locataire'!E455)","v":""}]
[null,null,null,{"$f":"IF(ISBLANK('Renseignements sur le locataire'!E456),\"\",'Renseignements sur le locataire'!E456)","v":""}]
[null,null,null,{"$f":"IF(ISBLANK('Renseignements sur le locataire'!E457),\"\",'Renseignements sur le locataire'!E457)","v":""}]
[null,null,null,{"$f":"IF(ISBLANK('Renseignements sur le locataire'!E458),\"\",'Renseignements sur le locataire'!E458)","v":""}]
[null,null,null,{"$f":"IF(ISBLANK('Renseignements sur le locataire'!E459),\"\",'Renseignements sur le locataire'!E459)","v":""}]
[null,null,null,{"$f":"IF(ISBLANK('Renseignements sur le locataire'!E460),\"\",'Renseignements sur le locataire'!E460)","v":""}]
[null,null,null,{"$f":"IF(ISBLANK('Renseignements sur le locataire'!E461),\"\",'Renseignements sur le locataire'!E461)","v":""}]
[null,null,null,{"$f":"IF(ISBLANK('Renseignements sur le locataire'!E462),\"\",'Renseignements sur le locataire'!E462)","v":""}]
[null,null,null,{"$f":"IF(ISBLANK('Renseignements sur le locataire'!E463),\"\",'Renseignements sur le locataire'!E463)","v":""}]
[null,null,null,{"$f":"IF(ISBLANK('Renseignements sur le locataire'!E464),\"\",'Renseignements sur le locataire'!E464)","v":""}]
[null,null,null,{"$f":"IF(ISBLANK('Renseignements sur le locataire'!E465),\"\",'Renseignements sur le locataire'!E465)","v":""}]
[null,null,null,{"$f":"IF(ISBLANK('Renseignements sur le locataire'!E466),\"\",'Renseignements sur le locataire'!E466)","v":""}]
[null,null,null,{"$f":"IF(ISBLANK('Renseignements sur le locataire'!E467),\"\",'Renseignements sur le locataire'!E467)","v":""}]
[null,null,null,{"$f":"IF(ISBLANK('Renseignements sur le locataire'!E468),\"\",'Renseignements sur le locataire'!E468)","v":""}]
[null,null,null,{"$f":"IF(ISBLANK('Renseignements sur le locataire'!E469),\"\",'Renseignements sur le locataire'!E469)","v":""}]
[null,null,null,{"$f":"IF(ISBLANK('Renseignements sur le locataire'!E470),\"\",'Renseignements sur le locataire'!E470)","v":""}]
[null,null,null,{"$f":"IF(ISBLANK('Renseignements sur le locataire'!E471),\"\",'Renseignements sur le locataire'!E471)","v":""}]
[null,null,null,{"$f":"IF(ISBLANK('Renseignements sur le locataire'!E472),\"\",'Renseignements sur le locataire'!E472)","v":""}]
[null,null,null,{"$f":"IF(ISBLANK('Renseignements sur le locataire'!E473),\"\",'Renseignements sur le locataire'!E473)","v":""}]
[null,null,null,{"$f":"IF(ISBLANK('Renseignements sur le locataire'!E474),\"\",'Renseignements sur le locataire'!E474)","v":""}]
[null,null,null,{"$f":"IF(ISBLANK('Renseignements sur le locataire'!E475),\"\",'Renseignements sur le locataire'!E475)","v":""}]
[null,null,null,{"$f":"IF(ISBLANK('Renseignements sur le locataire'!E476),\"\",'Renseignements sur le locataire'!E476)","v":""}]
[null,null,null,{"$f":"IF(ISBLANK('Renseignements sur le locataire'!E477),\"\",'Renseignements sur le locataire'!E477)","v":""}]
[null,null,null,{"$f":"IF(ISBLANK('Renseignements sur le locataire'!E478),\"\",'Renseignements sur le locataire'!E478)","v":""}]
[null,null,null,{"$f":"IF(ISBLANK('Renseignements sur le locataire'!E479),\"\",'Renseignements sur le locataire'!E479)","v":""}]
[null,null,null,{"$f":"IF(ISBLANK('Renseignements sur le locataire'!E480),\"\",'Renseignements sur le locataire'!E480)","v":""}]
[null,null,null,{"$f":"IF(ISBLANK('Renseignements sur le locataire'!E481),\"\",'Renseignements sur le locataire'!E481)","v":""}]
[null,null,null,{"$f":"IF(ISBLANK('Renseignements sur le locataire'!E482),\"\",'Renseignements sur le locataire'!E482)","v":""}]
[null,null,null,{"$f":"IF(ISBLANK('Renseignements sur le locataire'!E483),\"\",'Renseignements sur le locataire'!E483)","v":""}]
[null,null,null,{"$f":"IF(ISBLANK('Renseignements sur le locataire'!E484),\"\",'Renseignements sur le locataire'!E484)","v":""}]
[null,null,null,{"$f":"IF(ISBLANK('Renseignements sur le locataire'!E485),\"\",'Renseignements sur le locataire'!E485)","v":""}]
[null,null,null,{"$f":"IF(ISBLANK('Renseignements sur le locataire'!E486),\"\",'Renseignements sur le locataire'!E486)","v":""}]
[null,null,null,{"$f":"IF(ISBLANK('Renseignements sur le locataire'!E487),\"\",'Renseignements sur le locataire'!E487)","v":""}]
[null,null,null,{"$f":"IF(ISBLANK('Renseignements sur le locataire'!E488),\"\",'Renseignements sur le locataire'!E488)","v":""}]
[null,null,null,{"$f":"IF(ISBLANK('Renseignements sur le locataire'!E489),\"\",'Renseignements sur le locataire'!E489)","v":""}]
[null,null,null,{"$f":"IF(ISBLANK('Renseignements sur le locataire'!E490),\"\",'Renseignements sur le locataire'!E490)","v":""}]
[null,null,null,{"$f":"IF(ISBLANK('Renseignements sur le locataire'!E491),\"\",'Renseignements sur le locataire'!E491)","v":""}]
[null,null,null,{"$f":"IF(ISBLANK('Renseignements sur le locataire'!E492),\"\",'Renseignements sur le locataire'!E492)","v":""}]
[null,null,null,{"$f":"IF(ISBLANK('Renseignements sur le locataire'!E493),\"\",'Renseignements sur le locataire'!E493)","v":""}]
[null,null,null,{"$f":"IF(ISBLANK('Renseignements sur le locataire'!E494),\"\",'Renseignements sur le locataire'!E494)","v":""}]
[null,null,null,{"$f":"IF(ISBLANK('Renseignements sur le locataire'!E495),\"\",'Renseignements sur le locataire'!E495)","v":""}]
[null,null,null,{"$f":"IF(ISBLANK('Renseignements sur le locataire'!E496),\"\",'Renseignements sur le locataire'!E496)","v":""}]
[null,null,null,{"$f":"IF(ISBLANK('Renseignements sur le locataire'!E497),\"\",'Renseignements sur le locataire'!E497)","v":""}]
[null,null,null,{"$f":"IF(ISBLANK('Renseignements sur le locataire'!E498),\"\",'Renseignements sur le locataire'!E498)","v":""}]
[null,null,null,{"$f":"IF(ISBLANK('Renseignements sur le locataire'!E499),\"\",'Renseignements sur le locataire'!E499)","v":""}]
[null,null,null,{"$f":"IF(ISBLANK('Renseignements sur le locataire'!E500),\"\",'Renseignements sur le locataire'!E500)","v":""}]
[null,null,null,{"$f":"IF(ISBLANK('Renseignements sur le locataire'!E501),\"\",'Renseignements sur le locataire'!E501)","v":""}]
[null,null,null,{"$f":"IF(ISBLANK('Renseignements sur le locataire'!E502),\"\",'Renseignements sur le locataire'!E502)","v":""}]
[null,null,null,{"$f":"IF(ISBLANK('Renseignements sur le locataire'!E503),\"\",'Renseignements sur le locataire'!E503)","v":""}]
[null,null,null,{"$f":"IF(ISBLANK('Renseignements sur le locataire'!E504),\"\",'Renseignements sur le locataire'!E504)","v":""}]
[null,null,null,{"$f":"IF(ISBLANK('Renseignements sur le locataire'!E505),\"\",'Renseignements sur le locataire'!E505)","v":""}]
[null,null,null,{"$f":"IF(ISBLANK('Renseignements sur le locataire'!E506),\"\",'Renseignements sur le locataire'!E506)","v":""}]
[null,null,null,{"$f":"IF(ISBLANK('Renseignements sur le locataire'!E507),\"\",'Renseignements sur le locataire'!E507)","v":""}]
[null,null,null,{"$f":"IF(ISBLANK('Renseignements sur le locataire'!E508),\"\",'Renseignements sur le locataire'!E508)","v":""}]
[null,null,null,{"$f":"IF(ISBLANK('Renseignements sur le locataire'!E509),\"\",'Renseignements sur le locataire'!E509)","v":""}]
[null,null,null,{"$f":"IF(ISBLANK('Renseignements sur le locataire'!E510),\"\",'Renseignements sur le locataire'!E510)","v":""}]
[null,null,null,{"$f":"IF(ISBLANK('Renseignements sur le locataire'!E511),\"\",'Renseignements sur le locataire'!E511)","v":""}]
[null,null,null,{"$f":"IF(ISBLANK('Renseignements sur le locataire'!E512),\"\",'Renseignements sur le locataire'!E512)","v":""}]
[null,null,null,{"$f":"IF(ISBLANK('Renseignements sur le locataire'!E513),\"\",'Renseignements sur le locataire'!E513)","v":""}]
[null,null,null,{"$f":"IF(ISBLANK('Renseignements sur le locataire'!E514),\"\",'Renseignements sur le locataire'!E514)","v":""}]
[null,null,null,{"$f":"IF(ISBLANK('Renseignements sur le locataire'!E515),\"\",'Renseignements sur le locataire'!E515)","v":""}]
[null,null,null,{"$f":"IF(ISBLANK('Renseignements sur le locataire'!E516),\"\",'Renseignements sur le locataire'!E516)","v":""}]
[null,null,null,{"$f":"IF(ISBLANK('Renseignements sur le locataire'!E517),\"\",'Renseignements sur le locataire'!E517)","v":""}]
[null,null,null,{"$f":"IF(ISBLANK('Renseignements sur le locataire'!E518),\"\",'Renseignements sur le locataire'!E518)","v":""}]
[null,null,null,{"$f":"IF(ISBLANK('Renseignements sur le locataire'!E519),\"\",'Renseignements sur le locataire'!E519)","v":""}]
[null,null,null,{"$f":"IF(ISBLANK('Renseignements sur le locataire'!E520),\"\",'Renseignements sur le locataire'!E520)","v":""}]
[null,null,null,{"$f":"IF(ISBLANK('Renseignements sur le locataire'!E521),\"\",'Renseignements sur le locataire'!E521)","v":""}]
[null,null,null,{"$f":"IF(ISBLANK('Renseignements sur le locataire'!E522),\"\",'Renseignements sur le locataire'!E522)","v":""}]
[null,null,null,{"$f":"IF(ISBLANK('Renseignements sur le locataire'!E523),\"\",'Renseignements sur le locataire'!E523)","v":""}]
[null,null,null,{"$f":"IF(ISBLANK('Renseignements sur le locataire'!E524),\"\",'Renseignements sur le locataire'!E524)","v":""}]
[null,null,null,{"$f":"IF(ISBLANK('Renseignements sur le locataire'!E525),\"\",'Renseignements sur le locataire'!E525)","v":""}]
[null,null,null,{"$f":"IF(ISBLANK('Renseignements sur le locataire'!E526),\"\",'Renseignements sur le locataire'!E526)","v":""}]
[null,null,null,{"$f":"IF(ISBLANK('Renseignements sur le locataire'!E527),\"\",'Renseignements sur le locataire'!E527)","v":""}]
[null,null,null,{"$f":"IF(ISBLANK('Renseignements sur le locataire'!E528),\"\",'Renseignements sur le locataire'!E528)","v":""}]
[null,null,null,{"$f":"IF(ISBLANK('Renseignements sur le locataire'!E529),\"\",'Renseignements sur le locataire'!E529)","v":""}]
[null,null,null,{"$f":"IF(ISBLANK('Renseignements sur le locataire'!E530),\"\",'Renseignements sur le locataire'!E530)","v":""}]
[null,null,null,{"$f":"IF(ISBLANK('Renseignements sur le locataire'!E531),\"\",'Renseignements sur le locataire'!E531)","v":""}]
[null,null,null,{"$f":"IF(ISBLANK('Renseignements sur le locataire'!E532),\"\",'Renseignements sur le locataire'!E532)","v":""}]
[null,null,null,{"$f":"IF(ISBLANK('Renseignements sur le locataire'!E533),\"\",'Renseignements sur le locataire'!E533)","v":""}]
[null,null,null,{"$f":"IF(ISBLANK('Renseignements sur le locataire'!E534),\"\",'Renseignements sur le locataire'!E534)","v":""}]
[null,null,null,{"$f":"IF(ISBLANK('Renseignements sur le locataire'!E535),\"\",'Renseignements sur le locataire'!E535)","v":""}]
[null,null,null,{"$f":"IF(ISBLANK('Renseignements sur le locataire'!E536),\"\",'Renseignements sur le locataire'!E536)","v":""}]
[null,null,null,{"$f":"IF(ISBLANK('Renseignements sur le locataire'!E537),\"\",'Renseignements sur le locataire'!E537)","v":""}]
[null,null,null,{"$f":"IF(ISBLANK('Renseignements sur le locataire'!E538),\"\",'Renseignements sur le locataire'!E538)","v":""}]
[null,null,null,{"$f":"IF(ISBLANK('Renseignements sur le locataire'!E539),\"\",'Renseignements sur le locataire'!E539)","v":""}]
[null,null,null,{"$f":"IF(ISBLANK('Renseignements sur le locataire'!E540),\"\",'Renseignements sur le locataire'!E540)","v":""}]
[null,null,null,{"$f":"IF(ISBLANK('Renseignements sur le locataire'!E541),\"\",'Renseignements sur le locataire'!E541)","v":""}]
[null,null,null,{"$f":"IF(ISBLANK('Renseignements sur le locataire'!E542),\"\",'Renseignements sur le locataire'!E542)","v":""}]
[null,null,null,{"$f":"IF(ISBLANK('Renseignements sur le locataire'!E543),\"\",'Renseignements sur le locataire'!E543)","v":""}]
[null,null,null,{"$f":"IF(ISBLANK('Renseignements sur le locataire'!E544),\"\",'Renseignements sur le locataire'!E544)","v":""}]
[null,null,null,{"$f":"IF(ISBLANK('Renseignements sur le locataire'!E545),\"\",'Renseignements sur le locataire'!E545)","v":""}]
[null,null,null,{"$f":"IF(ISBLANK('Renseignements sur le locataire'!E546),\"\",'Renseignements sur le locataire'!E546)","v":""}]
[null,null,null,{"$f":"IF(ISBLANK('Renseignements sur le locataire'!E547),\"\",'Renseignements sur le locataire'!E547)","v":""}]
[null,null,null,{"$f":"IF(ISBLANK('Renseignements sur le locataire'!E548),\"\",'Renseignements sur le locataire'!E548)","v":""}]
[null,null,null,{"$f":"IF(ISBLANK('Renseignements sur le locataire'!E549),\"\",'Renseignements sur le locataire'!E549)","v":""}]
[null,null,null,{"$f":"IF(ISBLANK('Renseignements sur le locataire'!E550),\"\",'Renseignements sur le locataire'!E550)","v":""}]
[null,null,null,{"$f":"IF(ISBLANK('Renseignements sur le locataire'!E551),\"\",'Renseignements sur le locataire'!E551)","v":""}]
[null,null,null,{"$f":"IF(ISBLANK('Renseignements sur le locataire'!E552),\"\",'Renseignements sur le locataire'!E552)","v":""}]
[null,null,null,{"$f":"IF(ISBLANK('Renseignements sur le locataire'!E553),\"\",'Renseignements sur le locataire'!E553)","v":""}]
[null,null,null,{"$f":"IF(ISBLANK('Renseignements sur le locataire'!E554),\"\",'Renseignements sur le locataire'!E554)","v":""}]
[null,null,null,{"$f":"IF(ISBLANK('Renseignements sur le locataire'!E555),\"\",'Renseignements sur le locataire'!E555)","v":""}]
[null,null,null,{"$f":"IF(ISBLANK('Renseignements sur le locataire'!E556),\"\",'Renseignements sur le locataire'!E556)","v":""}]
[null,null,null,{"$f":"IF(ISBLANK('Renseignements sur le locataire'!E557),\"\",'Renseignements sur le locataire'!E557)","v":""}]
[null,null,null,{"$f":"IF(ISBLANK('Renseignements sur le locataire'!E558),\"\",'Renseignements sur le locataire'!E558)","v":""}]
[null,null,null,{"$f":"IF(ISBLANK('Renseignements sur le locataire'!E559),\"\",'Renseignements sur le locataire'!E559)","v":""}]
[null,null,null,{"$f":"IF(ISBLANK('Renseignements sur le locataire'!E560),\"\",'Renseignements sur le locataire'!E560)","v":""}]
[null,null,null,{"$f":"IF(ISBLANK('Renseignements sur le locataire'!E561),\"\",'Renseignements sur le locataire'!E561)","v":""}]
[null,null,null,{"$f":"IF(ISBLANK('Renseignements sur le locataire'!E562),\"\",'Renseignements sur le locataire'!E562)","v":""}]
[null,null,null,{"$f":"IF(ISBLANK('Renseignements sur le locataire'!E563),\"\",'Renseignements sur le locataire'!E563)","v":""}]
[null,null,null,{"$f":"IF(ISBLANK('Renseignements sur le locataire'!E564),\"\",'Renseignements sur le locataire'!E564)","v":""}]
[null,null,null,{"$f":"IF(ISBLANK('Renseignements sur le locataire'!E565),\"\",'Renseignements sur le locataire'!E565)","v":""}]
[null,null,null,{"$f":"IF(ISBLANK('Renseignements sur le locataire'!E566),\"\",'Renseignements sur le locataire'!E566)","v":""}]
[null,null,null,{"$f":"IF(ISBLANK('Renseignements sur le locataire'!E567),\"\",'Renseignements sur le locataire'!E567)","v":""}]
[null,null,null,{"$f":"IF(ISBLANK('Renseignements sur le locataire'!E568),\"\",'Renseignements sur le locataire'!E568)","v":""}]
[null,null,null,{"$f":"IF(ISBLANK('Renseignements sur le locataire'!E569),\"\",'Renseignements sur le locataire'!E569)","v":""}]
[null,null,null,{"$f":"IF(ISBLANK('Renseignements sur le locataire'!E570),\"\",'Renseignements sur le locataire'!E570)","v":""}]
[null,null,null,{"$f":"IF(ISBLANK('Renseignements sur le locataire'!E571),\"\",'Renseignements sur le locataire'!E571)","v":""}]
[null,null,null,{"$f":"IF(ISBLANK('Renseignements sur le locataire'!E572),\"\",'Renseignements sur le locataire'!E572)","v":""}]
[null,null,null,{"$f":"IF(ISBLANK('Renseignements sur le locataire'!E573),\"\",'Renseignements sur le locataire'!E573)","v":""}]
[null,null,null,{"$f":"IF(ISBLANK('Renseignements sur le locataire'!E574),\"\",'Renseignements sur le locataire'!E574)","v":""}]
[null,null,null,{"$f":"IF(ISBLANK('Renseignements sur le locataire'!E575),\"\",'Renseignements sur le locataire'!E575)","v":""}]
[null,null,null,{"$f":"IF(ISBLANK('Renseignements sur le locataire'!E576),\"\",'Renseignements sur le locataire'!E576)","v":""}]
[null,null,null,{"$f":"IF(ISBLANK('Renseignements sur le locataire'!E577),\"\",'Renseignements sur le locataire'!E577)","v":""}]
[null,null,null,{"$f":"IF(ISBLANK('Renseignements sur le locataire'!E578),\"\",'Renseignements sur le locataire'!E578)","v":""}]
[null,null,null,{"$f":"IF(ISBLANK('Renseignements sur le locataire'!E579),\"\",'Renseignements sur le locataire'!E579)","v":""}]
[null,null,null,{"$f":"IF(ISBLANK('Renseignements sur le locataire'!E580),\"\",'Renseignements sur le locataire'!E580)","v":""}]
[null,null,null,{"$f":"IF(ISBLANK('Renseignements sur le locataire'!E581),\"\",'Renseignements sur le locataire'!E581)","v":""}]
[null,null,null,{"$f":"IF(ISBLANK('Renseignements sur le locataire'!E582),\"\",'Renseignements sur le locataire'!E582)","v":""}]
[null,null,null,{"$f":"IF(ISBLANK('Renseignements sur le locataire'!E583),\"\",'Renseignements sur le locataire'!E583)","v":""}]
[null,null,null,{"$f":"IF(ISBLANK('Renseignements sur le locataire'!E584),\"\",'Renseignements sur le locataire'!E584)","v":""}]
[null,null,null,{"$f":"IF(ISBLANK('Renseignements sur le locataire'!E585),\"\",'Renseignements sur le locataire'!E585)","v":""}]
[null,null,null,{"$f":"IF(ISBLANK('Renseignements sur le locataire'!E586),\"\",'Renseignements sur le locataire'!E586)","v":""}]
[null,null,null,{"$f":"IF(ISBLANK('Renseignements sur le locataire'!E587),\"\",'Renseignements sur le locataire'!E587)","v":""}]
[null,null,null,{"$f":"IF(ISBLANK('Renseignements sur le locataire'!E588),\"\",'Renseignements sur le locataire'!E588)","v":""}]
[null,null,null,{"$f":"IF(ISBLANK('Renseignements sur le locataire'!E589),\"\",'Renseignements sur le locataire'!E589)","v":""}]
[null,null,null,{"$f":"IF(ISBLANK('Renseignements sur le locataire'!E590),\"\",'Renseignements sur le locataire'!E590)","v":""}]
[null,null,null,{"$f":"IF(ISBLANK('Renseignements sur le locataire'!E591),\"\",'Renseignements sur le locataire'!E591)","v":""}]
[null,null,null,{"$f":"IF(ISBLANK('Renseignements sur le locataire'!E592),\"\",'Renseignements sur le locataire'!E592)","v":""}]
[null,null,null,{"$f":"IF(ISBLANK('Renseignements sur le locataire'!E593),\"\",'Renseignements sur le locataire'!E593)","v":""}]
[null,null,null,{"$f":"IF(ISBLANK('Renseignements sur le locataire'!E594),\"\",'Renseignements sur le locataire'!E594)","v":""}]
[null,null,null,{"$f":"IF(ISBLANK('Renseignements sur le locataire'!E595),\"\",'Renseignements sur le locataire'!E595)","v":""}]
[null,null,null,{"$f":"IF(ISBLANK('Renseignements sur le locataire'!E596),\"\",'Renseignements sur le locataire'!E596)","v":""}]
[null,null,null,{"$f":"IF(ISBLANK('Renseignements sur le locataire'!E597),\"\",'Renseignements sur le locataire'!E597)","v":""}]
[null,null,null,{"$f":"IF(ISBLANK('Renseignements sur le locataire'!E598),\"\",'Renseignements sur le locataire'!E598)","v":""}]
[null,null,null,{"$f":"IF(ISBLANK('Renseignements sur le locataire'!E599),\"\",'Renseignements sur le locataire'!E599)","v":""}]
[null,null,null,{"$f":"IF(ISBLANK('Renseignements sur le locataire'!E600),\"\",'Renseignements sur le locataire'!E600)","v":""}]
[null,null,null,{"$f":"IF(ISBLANK('Renseignements sur le locataire'!E601),\"\",'Renseignements sur le locataire'!E601)","v":""}]
[null,null,null,{"$f":"IF(ISBLANK('Renseignements sur le locataire'!E602),\"\",'Renseignements sur le locataire'!E602)","v":""}]
[null,null,null,{"$f":"IF(ISBLANK('Renseignements sur le locataire'!E603),\"\",'Renseignements sur le locataire'!E603)","v":""}]
[null,null,null,{"$f":"IF(ISBLANK('Renseignements sur le locataire'!E604),\"\",'Renseignements sur le locataire'!E604)","v":""}]
[null,null,null,{"$f":"IF(ISBLANK('Renseignements sur le locataire'!E605),\"\",'Renseignements sur le locataire'!E605)","v":""}]
[null,null,null,{"$f":"IF(ISBLANK('Renseignements sur le locataire'!E606),\"\",'Renseignements sur le locataire'!E606)","v":""}]
[null,null,null,{"$f":"IF(ISBLANK('Renseignements sur le locataire'!E607),\"\",'Renseignements sur le locataire'!E607)","v":""}]
[null,null,null,{"$f":"IF(ISBLANK('Renseignements sur le locataire'!E608),\"\",'Renseignements sur le locataire'!E608)","v":""}]
[null,null,null,{"$f":"IF(ISBLANK('Renseignements sur le locataire'!E609),\"\",'Renseignements sur le locataire'!E609)","v":""}]
[null,null,null,{"$f":"IF(ISBLANK('Renseignements sur le locataire'!E610),\"\",'Renseignements sur le locataire'!E610)","v":""}]
[null,null,null,{"$f":"IF(ISBLANK('Renseignements sur le locataire'!E611),\"\",'Renseignements sur le locataire'!E611)","v":""}]
[null,null,null,{"$f":"IF(ISBLANK('Renseignements sur le locataire'!E612),\"\",'Renseignements sur le locataire'!E612)","v":""}]
[null,null,null,{"$f":"IF(ISBLANK('Renseignements sur le locataire'!E613),\"\",'Renseignements sur le locataire'!E613)","v":""}]
[null,null,null,{"$f":"IF(ISBLANK('Renseignements sur le locataire'!E614),\"\",'Renseignements sur le locataire'!E614)","v":""}]
[null,null,null,{"$f":"IF(ISBLANK('Renseignements sur le locataire'!E615),\"\",'Renseignements sur le locataire'!E615)","v":""}]
[null,null,null,{"$f":"IF(ISBLANK('Renseignements sur le locataire'!E616),\"\",'Renseignements sur le locataire'!E616)","v":""}]
[null,null,null,{"$f":"IF(ISBLANK('Renseignements sur le locataire'!E617),\"\",'Renseignements sur le locataire'!E617)","v":""}]
[null,null,null,{"$f":"IF(ISBLANK('Renseignements sur le locataire'!E618),\"\",'Renseignements sur le locataire'!E618)","v":""}]
[null,null,null,{"$f":"IF(ISBLANK('Renseignements sur le locataire'!E619),\"\",'Renseignements sur le locataire'!E619)","v":""}]
[null,null,null,{"$f":"IF(ISBLANK('Renseignements sur le locataire'!E620),\"\",'Renseignements sur le locataire'!E620)","v":""}]
[null,null,null,{"$f":"IF(ISBLANK('Renseignements sur le locataire'!E621),\"\",'Renseignements sur le locataire'!E621)","v":""}]
[null,null,null,{"$f":"IF(ISBLANK('Renseignements sur le locataire'!E622),\"\",'Renseignements sur le locataire'!E622)","v":""}]
[null,null,null,{"$f":"IF(ISBLANK('Renseignements sur le locataire'!E623),\"\",'Renseignements sur le locataire'!E623)","v":""}]
[null,null,null,{"$f":"IF(ISBLANK('Renseignements sur le locataire'!E624),\"\",'Renseignements sur le locataire'!E624)","v":""}]
[null,null,null,{"$f":"IF(ISBLANK('Renseignements sur le locataire'!E625),\"\",'Renseignements sur le locataire'!E625)","v":""}]
[null,null,null,{"$f":"IF(ISBLANK('Renseignements sur le locataire'!E626),\"\",'Renseignements sur le locataire'!E626)","v":""}]
[null,null,null,{"$f":"IF(ISBLANK('Renseignements sur le locataire'!E627),\"\",'Renseignements sur le locataire'!E627)","v":""}]
[null,null,null,{"$f":"IF(ISBLANK('Renseignements sur le locataire'!E628),\"\",'Renseignements sur le locataire'!E628)","v":""}]
[null,null,null,{"$f":"IF(ISBLANK('Renseignements sur le locataire'!E629),\"\",'Renseignements sur le locataire'!E629)","v":""}]
[null,null,null,{"$f":"IF(ISBLANK('Renseignements sur le locataire'!E630),\"\",'Renseignements sur le locataire'!E630)","v":""}]
[null,null,null,{"$f":"IF(ISBLANK('Renseignements sur le locataire'!E631),\"\",'Renseignements sur le locataire'!E631)","v":""}]
[null,null,null,{"$f":"IF(ISBLANK('Renseignements sur le locataire'!E632),\"\",'Renseignements sur le locataire'!E632)","v":""}]
[null,null,null,{"$f":"IF(ISBLANK('Renseignements sur le locataire'!E633),\"\",'Renseignements sur le locataire'!E633)","v":""}]
[null,null,null,{"$f":"IF(ISBLANK('Renseignements sur le locataire'!E634),\"\",'Renseignements sur le locataire'!E634)","v":""}]
[null,null,null,{"$f":"IF(ISBLANK('Renseignements sur le locataire'!E635),\"\",'Renseignements sur le locataire'!E635)","v":""}]
[null,null,null,{"$f":"IF(ISBLANK('Renseignements sur le locataire'!E636),\"\",'Renseignements sur le locataire'!E636)","v":""}]
[null,null,null,{"$f":"IF(ISBLANK('Renseignements sur le locataire'!E637),\"\",'Renseignements sur le locataire'!E637)","v":""}]
[null,null,null,{"$f":"IF(ISBLANK('Renseignements sur le locataire'!E638),\"\",'Renseignements sur le locataire'!E638)","v":""}]
[null,null,null,{"$f":"IF(ISBLANK('Renseignements sur le locataire'!E639),\"\",'Renseignements sur le locataire'!E639)","v":""}]
[null,null,null,{"$f":"IF(ISBLANK('Renseignements sur le locataire'!E640),\"\",'Renseignements sur le locataire'!E640)","v":""}]
[null,null,null,{"$f":"IF(ISBLANK('Renseignements sur le locataire'!E641),\"\",'Renseignements sur le locataire'!E641)","v":""}]
[null,null,null,{"$f":"IF(ISBLANK('Renseignements sur le locataire'!E642),\"\",'Renseignements sur le locataire'!E642)","v":""}]
[null,null,null,{"$f":"IF(ISBLANK('Renseignements sur le locataire'!E643),\"\",'Renseignements sur le locataire'!E643)","v":""}]
[null,null,null,{"$f":"IF(ISBLANK('Renseignements sur le locataire'!E644),\"\",'Renseignements sur le locataire'!E644)","v":""}]
[null,null,null,{"$f":"IF(ISBLANK('Renseignements sur le locataire'!E645),\"\",'Renseignements sur le locataire'!E645)","v":""}]
[null,null,null,{"$f":"IF(ISBLANK('Renseignements sur le locataire'!E646),\"\",'Renseignements sur le locataire'!E646)","v":""}]
[null,null,null,{"$f":"IF(ISBLANK('Renseignements sur le locataire'!E647),\"\",'Renseignements sur le locataire'!E647)","v":""}]
[null,null,null,{"$f":"IF(ISBLANK('Renseignements sur le locataire'!E648),\"\",'Renseignements sur le locataire'!E648)","v":""}]
[null,null,null,{"$f":"IF(ISBLANK('Renseignements sur le locataire'!E649),\"\",'Renseignements sur le locataire'!E649)","v":""}]
[null,null,null,{"$f":"IF(ISBLANK('Renseignements sur le locataire'!E650),\"\",'Renseignements sur le locataire'!E650)","v":""}]
[null,null,null,{"$f":"IF(ISBLANK('Renseignements sur le locataire'!E651),\"\",'Renseignements sur le locataire'!E651)","v":""}]
[null,null,null,{"$f":"IF(ISBLANK('Renseignements sur le locataire'!E652),\"\",'Renseignements sur le locataire'!E652)","v":""}]
[null,null,null,{"$f":"IF(ISBLANK('Renseignements sur le locataire'!E653),\"\",'Renseignements sur le locataire'!E653)","v":""}]
[null,null,null,{"$f":"IF(ISBLANK('Renseignements sur le locataire'!E654),\"\",'Renseignements sur le locataire'!E654)","v":""}]
[null,null,null,{"$f":"IF(ISBLANK('Renseignements sur le locataire'!E655),\"\",'Renseignements sur le locataire'!E655)","v":""}]
[null,null,null,{"$f":"IF(ISBLANK('Renseignements sur le locataire'!E656),\"\",'Renseignements sur le locataire'!E656)","v":""}]
[null,null,null,{"$f":"IF(ISBLANK('Renseignements sur le locataire'!E657),\"\",'Renseignements sur le locataire'!E657)","v":""}]
[null,null,null,{"$f":"IF(ISBLANK('Renseignements sur le locataire'!E658),\"\",'Renseignements sur le locataire'!E658)","v":""}]
[null,null,null,{"$f":"IF(ISBLANK('Renseignements sur le locataire'!E659),\"\",'Renseignements sur le locataire'!E659)","v":""}]
[null,null,null,{"$f":"IF(ISBLANK('Renseignements sur le locataire'!E660),\"\",'Renseignements sur le locataire'!E660)","v":""}]
[null,null,null,{"$f":"IF(ISBLANK('Renseignements sur le locataire'!E661),\"\",'Renseignements sur le locataire'!E661)","v":""}]
[null,null,null,{"$f":"IF(ISBLANK('Renseignements sur le locataire'!E662),\"\",'Renseignements sur le locataire'!E662)","v":""}]
[null,null,null,{"$f":"IF(ISBLANK('Renseignements sur le locataire'!E663),\"\",'Renseignements sur le locataire'!E663)","v":""}]
[null,null,null,{"$f":"IF(ISBLANK('Renseignements sur le locataire'!E664),\"\",'Renseignements sur le locataire'!E664)","v":""}]
[null,null,null,{"$f":"IF(ISBLANK('Renseignements sur le locataire'!E665),\"\",'Renseignements sur le locataire'!E665)","v":""}]
[null,null,null,{"$f":"IF(ISBLANK('Renseignements sur le locataire'!E666),\"\",'Renseignements sur le locataire'!E666)","v":""}]
[null,null,null,{"$f":"IF(ISBLANK('Renseignements sur le locataire'!E667),\"\",'Renseignements sur le locataire'!E667)","v":""}]
[null,null,null,{"$f":"IF(ISBLANK('Renseignements sur le locataire'!E668),\"\",'Renseignements sur le locataire'!E668)","v":""}]
[null,null,null,{"$f":"IF(ISBLANK('Renseignements sur le locataire'!E669),\"\",'Renseignements sur le locataire'!E669)","v":""}]
[null,null,null,{"$f":"IF(ISBLANK('Renseignements sur le locataire'!E670),\"\",'Renseignements sur le locataire'!E670)","v":""}]
[null,null,null,{"$f":"IF(ISBLANK('Renseignements sur le locataire'!E671),\"\",'Renseignements sur le locataire'!E671)","v":""}]
[null,null,null,{"$f":"IF(ISBLANK('Renseignements sur le locataire'!E672),\"\",'Renseignements sur le locataire'!E672)","v":""}]
[null,null,null,{"$f":"IF(ISBLANK('Renseignements sur le locataire'!E673),\"\",'Renseignements sur le locataire'!E673)","v":""}]
[null,null,null,{"$f":"IF(ISBLANK('Renseignements sur le locataire'!E674),\"\",'Renseignements sur le locataire'!E674)","v":""}]
[null,null,null,{"$f":"IF(ISBLANK('Renseignements sur le locataire'!E675),\"\",'Renseignements sur le locataire'!E675)","v":""}]
[null,null,null,{"$f":"IF(ISBLANK('Renseignements sur le locataire'!E676),\"\",'Renseignements sur le locataire'!E676)","v":""}]
[null,null,null,{"$f":"IF(ISBLANK('Renseignements sur le locataire'!E677),\"\",'Renseignements sur le locataire'!E677)","v":""}]
[null,null,null,{"$f":"IF(ISBLANK('Renseignements sur le locataire'!E678),\"\",'Renseignements sur le locataire'!E678)","v":""}]
[null,null,null,{"$f":"IF(ISBLANK('Renseignements sur le locataire'!E679),\"\",'Renseignements sur le locataire'!E679)","v":""}]
[null,null,null,{"$f":"IF(ISBLANK('Renseignements sur le locataire'!E680),\"\",'Renseignements sur le locataire'!E680)","v":""}]
[null,null,null,{"$f":"IF(ISBLANK('Renseignements sur le locataire'!E681),\"\",'Renseignements sur le locataire'!E681)","v":""}]
[null,null,null,{"$f":"IF(ISBLANK('Renseignements sur le locataire'!E682),\"\",'Renseignements sur le locataire'!E682)","v":""}]
[null,null,null,{"$f":"IF(ISBLANK('Renseignements sur le locataire'!E683),\"\",'Renseignements sur le locataire'!E683)","v":""}]
[null,null,null,{"$f":"IF(ISBLANK('Renseignements sur le locataire'!E684),\"\",'Renseignements sur le locataire'!E684)","v":""}]
[null,null,null,{"$f":"IF(ISBLANK('Renseignements sur le locataire'!E685),\"\",'Renseignements sur le locataire'!E685)","v":""}]
[null,null,null,{"$f":"IF(ISBLANK('Renseignements sur le locataire'!E686),\"\",'Renseignements sur le locataire'!E686)","v":""}]
[null,null,null,{"$f":"IF(ISBLANK('Renseignements sur le locataire'!E687),\"\",'Renseignements sur le locataire'!E687)","v":""}]
[null,null,null,{"$f":"IF(ISBLANK('Renseignements sur le locataire'!E688),\"\",'Renseignements sur le locataire'!E688)","v":""}]
[null,null,null,{"$f":"IF(ISBLANK('Renseignements sur le locataire'!E689),\"\",'Renseignements sur le locataire'!E689)","v":""}]
[null,null,null,{"$f":"IF(ISBLANK('Renseignements sur le locataire'!E690),\"\",'Renseignements sur le locataire'!E690)","v":""}]
[null,null,null,{"$f":"IF(ISBLANK('Renseignements sur le locataire'!E691),\"\",'Renseignements sur le locataire'!E691)","v":""}]
[null,null,null,{"$f":"IF(ISBLANK('Renseignements sur le locataire'!E692),\"\",'Renseignements sur le locataire'!E692)","v":""}]
[null,null,null,{"$f":"IF(ISBLANK('Renseignements sur le locataire'!E693),\"\",'Renseignements sur le locataire'!E693)","v":""}]
[null,null,null,{"$f":"IF(ISBLANK('Renseignements sur le locataire'!E694),\"\",'Renseignements sur le locataire'!E694)","v":""}]
[null,null,null,{"$f":"IF(ISBLANK('Renseignements sur le locataire'!E695),\"\",'Renseignements sur le locataire'!E695)","v":""}]
[null,null,null,{"$f":"IF(ISBLANK('Renseignements sur le locataire'!E696),\"\",'Renseignements sur le locataire'!E696)","v":""}]
[null,null,null,{"$f":"IF(ISBLANK('Renseignements sur le locataire'!E697),\"\",'Renseignements sur le locataire'!E697)","v":""}]
[null,null,null,{"$f":"IF(ISBLANK('Renseignements sur le locataire'!E698),\"\",'Renseignements sur le locataire'!E698)","v":""}]
[null,null,null,{"$f":"IF(ISBLANK('Renseignements sur le locataire'!E699),\"\",'Renseignements sur le locataire'!E699)","v":""}]
[null,null,null,{"$f":"IF(ISBLANK('Renseignements sur le locataire'!E700),\"\",'Renseignements sur le locataire'!E700)","v":""}]
[null,null,null,{"$f":"IF(ISBLANK('Renseignements sur le locataire'!E701),\"\",'Renseignements sur le locataire'!E701)","v":""}]
[null,null,null,{"$f":"IF(ISBLANK('Renseignements sur le locataire'!E702),\"\",'Renseignements sur le locataire'!E702)","v":""}]
[null,null,null,{"$f":"IF(ISBLANK('Renseignements sur le locataire'!E703),\"\",'Renseignements sur le locataire'!E703)","v":""}]
[null,null,null,{"$f":"IF(ISBLANK('Renseignements sur le locataire'!E704),\"\",'Renseignements sur le locataire'!E704)","v":""}]
[null,null,null,{"$f":"IF(ISBLANK('Renseignements sur le locataire'!E705),\"\",'Renseignements sur le locataire'!E705)","v":""}]
[null,null,null,{"$f":"IF(ISBLANK('Renseignements sur le locataire'!E706),\"\",'Renseignements sur le locataire'!E706)","v":""}]
[null,null,null,{"$f":"IF(ISBLANK('Renseignements sur le locataire'!E707),\"\",'Renseignements sur le locataire'!E707)","v":""}]
[null,null,null,{"$f":"IF(ISBLANK('Renseignements sur le locataire'!E708),\"\",'Renseignements sur le locataire'!E708)","v":""}]
[null,null,null,{"$f":"IF(ISBLANK('Renseignements sur le locataire'!E709),\"\",'Renseignements sur le locataire'!E709)","v":""}]
[null,null,null,{"$f":"IF(ISBLANK('Renseignements sur le locataire'!E710),\"\",'Renseignements sur le locataire'!E710)","v":""}]
[null,null,null,{"$f":"IF(ISBLANK('Renseignements sur le locataire'!E711),\"\",'Renseignements sur le locataire'!E711)","v":""}]
[null,null,null,{"$f":"IF(ISBLANK('Renseignements sur le locataire'!E712),\"\",'Renseignements sur le locataire'!E712)","v":""}]
[null,null,null,{"$f":"IF(ISBLANK('Renseignements sur le locataire'!E713),\"\",'Renseignements sur le locataire'!E713)","v":""}]
[null,null,null,{"$f":"IF(ISBLANK('Renseignements sur le locataire'!E714),\"\",'Renseignements sur le locataire'!E714)","v":""}]
[null,null,null,{"$f":"IF(ISBLANK('Renseignements sur le locataire'!E715),\"\",'Renseignements sur le locataire'!E715)","v":""}]
[null,null,null,{"$f":"IF(ISBLANK('Renseignements sur le locataire'!E716),\"\",'Renseignements sur le locataire'!E716)","v":""}]
[null,null,null,{"$f":"IF(ISBLANK('Renseignements sur le locataire'!E717),\"\",'Renseignements sur le locataire'!E717)","v":""}]
[null,null,null,{"$f":"IF(ISBLANK('Renseignements sur le locataire'!E718),\"\",'Renseignements sur le locataire'!E718)","v":""}]
[null,null,null,{"$f":"IF(ISBLANK('Renseignements sur le locataire'!E719),\"\",'Renseignements sur le locataire'!E719)","v":""}]
[null,null,null,{"$f":"IF(ISBLANK('Renseignements sur le locataire'!E720),\"\",'Renseignements sur le locataire'!E720)","v":""}]
[null,null,null,{"$f":"IF(ISBLANK('Renseignements sur le locataire'!E721),\"\",'Renseignements sur le locataire'!E721)","v":""}]
[null,null,null,{"$f":"IF(ISBLANK('Renseignements sur le locataire'!E722),\"\",'Renseignements sur le locataire'!E722)","v":""}]
[null,null,null,{"$f":"IF(ISBLANK('Renseignements sur le locataire'!E723),\"\",'Renseignements sur le locataire'!E723)","v":""}]
[null,null,null,{"$f":"IF(ISBLANK('Renseignements sur le locataire'!E724),\"\",'Renseignements sur le locataire'!E724)","v":""}]
[null,null,null,{"$f":"IF(ISBLANK('Renseignements sur le locataire'!E725),\"\",'Renseignements sur le locataire'!E725)","v":""}]
[null,null,null,{"$f":"IF(ISBLANK('Renseignements sur le locataire'!E726),\"\",'Renseignements sur le locataire'!E726)","v":""}]
[null,null,null,{"$f":"IF(ISBLANK('Renseignements sur le locataire'!E727),\"\",'Renseignements sur le locataire'!E727)","v":""}]
[null,null,null,{"$f":"IF(ISBLANK('Renseignements sur le locataire'!E728),\"\",'Renseignements sur le locataire'!E728)","v":""}]
[null,null,null,{"$f":"IF(ISBLANK('Renseignements sur le locataire'!E729),\"\",'Renseignements sur le locataire'!E729)","v":""}]
[null,null,null,{"$f":"IF(ISBLANK('Renseignements sur le locataire'!E730),\"\",'Renseignements sur le locataire'!E730)","v":""}]
[null,null,null,{"$f":"IF(ISBLANK('Renseignements sur le locataire'!E731),\"\",'Renseignements sur le locataire'!E731)","v":""}]
[null,null,null,{"$f":"IF(ISBLANK('Renseignements sur le locataire'!E732),\"\",'Renseignements sur le locataire'!E732)","v":""}]
[null,null,null,{"$f":"IF(ISBLANK('Renseignements sur le locataire'!E733),\"\",'Renseignements sur le locataire'!E733)","v":""}]
[null,null,null,{"$f":"IF(ISBLANK('Renseignements sur le locataire'!E734),\"\",'Renseignements sur le locataire'!E734)","v":""}]
[null,null,null,{"$f":"IF(ISBLANK('Renseignements sur le locataire'!E735),\"\",'Renseignements sur le locataire'!E735)","v":""}]
[null,null,null,{"$f":"IF(ISBLANK('Renseignements sur le locataire'!E736),\"\",'Renseignements sur le locataire'!E736)","v":""}]
[null,null,null,{"$f":"IF(ISBLANK('Renseignements sur le locataire'!E737),\"\",'Renseignements sur le locataire'!E737)","v":""}]
[null,null,null,{"$f":"IF(ISBLANK('Renseignements sur le locataire'!E738),\"\",'Renseignements sur le locataire'!E738)","v":""}]
[null,null,null,{"$f":"IF(ISBLANK('Renseignements sur le locataire'!E739),\"\",'Renseignements sur le locataire'!E739)","v":""}]
[null,null,null,{"$f":"IF(ISBLANK('Renseignements sur le locataire'!E740),\"\",'Renseignements sur le locataire'!E740)","v":""}]
[null,null,null,{"$f":"IF(ISBLANK('Renseignements sur le locataire'!E741),\"\",'Renseignements sur le locataire'!E741)","v":""}]
[null,null,null,{"$f":"IF(ISBLANK('Renseignements sur le locataire'!E742),\"\",'Renseignements sur le locataire'!E742)","v":""}]
[null,null,null,{"$f":"IF(ISBLANK('Renseignements sur le locataire'!E743),\"\",'Renseignements sur le locataire'!E743)","v":""}]
[null,null,null,{"$f":"IF(ISBLANK('Renseignements sur le locataire'!E744),\"\",'Renseignements sur le locataire'!E744)","v":""}]
[null,null,null,{"$f":"IF(ISBLANK('Renseignements sur le locataire'!E745),\"\",'Renseignements sur le locataire'!E745)","v":""}]
[null,null,null,{"$f":"IF(ISBLANK('Renseignements sur le locataire'!E746),\"\",'Renseignements sur le locataire'!E746)","v":""}]
[null,null,null,{"$f":"IF(ISBLANK('Renseignements sur le locataire'!E747),\"\",'Renseignements sur le locataire'!E747)","v":""}]
[null,null,null,{"$f":"IF(ISBLANK('Renseignements sur le locataire'!E748),\"\",'Renseignements sur le locataire'!E748)","v":""}]
[null,null,null,{"$f":"IF(ISBLANK('Renseignements sur le locataire'!E749),\"\",'Renseignements sur le locataire'!E749)","v":""}]
[null,null,null,{"$f":"IF(ISBLANK('Renseignements sur le locataire'!E750),\"\",'Renseignements sur le locataire'!E750)","v":""}]
[null,null,null,{"$f":"IF(ISBLANK('Renseignements sur le locataire'!E751),\"\",'Renseignements sur le locataire'!E751)","v":""}]
[null,null,null,{"$f":"IF(ISBLANK('Renseignements sur le locataire'!E752),\"\",'Renseignements sur le locataire'!E752)","v":""}]
[null,null,null,{"$f":"IF(ISBLANK('Renseignements sur le locataire'!E753),\"\",'Renseignements sur le locataire'!E753)","v":""}]
[null,null,null,{"$f":"IF(ISBLANK('Renseignements sur le locataire'!E754),\"\",'Renseignements sur le locataire'!E754)","v":""}]
[null,null,null,{"$f":"IF(ISBLANK('Renseignements sur le locataire'!E755),\"\",'Renseignements sur le locataire'!E755)","v":""}]
[null,null,null,{"$f":"IF(ISBLANK('Renseignements sur le locataire'!E756),\"\",'Renseignements sur le locataire'!E756)","v":""}]
[null,null,null,{"$f":"IF(ISBLANK('Renseignements sur le locataire'!E757),\"\",'Renseignements sur le locataire'!E757)","v":""}]
[null,null,null,{"$f":"IF(ISBLANK('Renseignements sur le locataire'!E758),\"\",'Renseignements sur le locataire'!E758)","v":""}]
[null,null,null,{"$f":"IF(ISBLANK('Renseignements sur le locataire'!E759),\"\",'Renseignements sur le locataire'!E759)","v":""}]
[null,null,null,{"$f":"IF(ISBLANK('Renseignements sur le locataire'!E760),\"\",'Renseignements sur le locataire'!E760)","v":""}]
[null,null,null,{"$f":"IF(ISBLANK('Renseignements sur le locataire'!E761),\"\",'Renseignements sur le locataire'!E761)","v":""}]
[null,null,null,{"$f":"IF(ISBLANK('Renseignements sur le locataire'!E762),\"\",'Renseignements sur le locataire'!E762)","v":""}]
[null,null,null,{"$f":"IF(ISBLANK('Renseignements sur le locataire'!E763),\"\",'Renseignements sur le locataire'!E763)","v":""}]
[null,null,null,{"$f":"IF(ISBLANK('Renseignements sur le locataire'!E764),\"\",'Renseignements sur le locataire'!E764)","v":""}]
[null,null,null,{"$f":"IF(ISBLANK('Renseignements sur le locataire'!E765),\"\",'Renseignements sur le locataire'!E765)","v":""}]
[null,null,null,{"$f":"IF(ISBLANK('Renseignements sur le locataire'!E766),\"\",'Renseignements sur le locataire'!E766)","v":""}]
[null,null,null,{"$f":"IF(ISBLANK('Renseignements sur le locataire'!E767),\"\",'Renseignements sur le locataire'!E767)","v":""}]
[null,null,null,{"$f":"IF(ISBLANK('Renseignements sur le locataire'!E768),\"\",'Renseignements sur le locataire'!E768)","v":""}]
[null,null,null,{"$f":"IF(ISBLANK('Renseignements sur le locataire'!E769),\"\",'Renseignements sur le locataire'!E769)","v":""}]
[null,null,null,{"$f":"IF(ISBLANK('Renseignements sur le locataire'!E770),\"\",'Renseignements sur le locataire'!E770)","v":""}]
[null,null,null,{"$f":"IF(ISBLANK('Renseignements sur le locataire'!E771),\"\",'Renseignements sur le locataire'!E771)","v":""}]
[null,null,null,{"$f":"IF(ISBLANK('Renseignements sur le locataire'!E772),\"\",'Renseignements sur le locataire'!E772)","v":""}]
[null,null,null,{"$f":"IF(ISBLANK('Renseignements sur le locataire'!E773),\"\",'Renseignements sur le locataire'!E773)","v":""}]
[null,null,null,{"$f":"IF(ISBLANK('Renseignements sur le locataire'!E774),\"\",'Renseignements sur le locataire'!E774)","v":""}]
[null,null,null,{"$f":"IF(ISBLANK('Renseignements sur le locataire'!E775),\"\",'Renseignements sur le locataire'!E775)","v":""}]
[null,null,null,{"$f":"IF(ISBLANK('Renseignements sur le locataire'!E776),\"\",'Renseignements sur le locataire'!E776)","v":""}]
[null,null,null,{"$f":"IF(ISBLANK('Renseignements sur le locataire'!E777),\"\",'Renseignements sur le locataire'!E777)","v":""}]
[null,null,null,{"$f":"IF(ISBLANK('Renseignements sur le locataire'!E778),\"\",'Renseignements sur le locataire'!E778)","v":""}]
[null,null,null,{"$f":"IF(ISBLANK('Renseignements sur le locataire'!E779),\"\",'Renseignements sur le locataire'!E779)","v":""}]
[null,null,null,{"$f":"IF(ISBLANK('Renseignements sur le locataire'!E780),\"\",'Renseignements sur le locataire'!E780)","v":""}]
[null,null,null,{"$f":"IF(ISBLANK('Renseignements sur le locataire'!E781),\"\",'Renseignements sur le locataire'!E781)","v":""}]
[null,null,null,{"$f":"IF(ISBLANK('Renseignements sur le locataire'!E782),\"\",'Renseignements sur le locataire'!E782)","v":""}]
[null,null,null,{"$f":"IF(ISBLANK('Renseignements sur le locataire'!E783),\"\",'Renseignements sur le locataire'!E783)","v":""}]
[null,null,null,{"$f":"IF(ISBLANK('Renseignements sur le locataire'!E784),\"\",'Renseignements sur le locataire'!E784)","v":""}]
[null,null,null,{"$f":"IF(ISBLANK('Renseignements sur le locataire'!E785),\"\",'Renseignements sur le locataire'!E785)","v":""}]
[null,null,null,{"$f":"IF(ISBLANK('Renseignements sur le locataire'!E786),\"\",'Renseignements sur le locataire'!E786)","v":""}]
[null,null,null,{"$f":"IF(ISBLANK('Renseignements sur le locataire'!E787),\"\",'Renseignements sur le locataire'!E787)","v":""}]
[null,null,null,{"$f":"IF(ISBLANK('Renseignements sur le locataire'!E788),\"\",'Renseignements sur le locataire'!E788)","v":""}]
[null,null,null,{"$f":"IF(ISBLANK('Renseignements sur le locataire'!E789),\"\",'Renseignements sur le locataire'!E789)","v":""}]
[null,null,null,{"$f":"IF(ISBLANK('Renseignements sur le locataire'!E790),\"\",'Renseignements sur le locataire'!E790)","v":""}]
[null,null,null,{"$f":"IF(ISBLANK('Renseignements sur le locataire'!E791),\"\",'Renseignements sur le locataire'!E791)","v":""}]
[null,null,null,{"$f":"IF(ISBLANK('Renseignements sur le locataire'!E792),\"\",'Renseignements sur le locataire'!E792)","v":""}]
[null,null,null,{"$f":"IF(ISBLANK('Renseignements sur le locataire'!E793),\"\",'Renseignements sur le locataire'!E793)","v":""}]
[null,null,null,{"$f":"IF(ISBLANK('Renseignements sur le locataire'!E794),\"\",'Renseignements sur le locataire'!E794)","v":""}]
[null,null,null,{"$f":"IF(ISBLANK('Renseignements sur le locataire'!E795),\"\",'Renseignements sur le locataire'!E795)","v":""}]
[null,null,null,{"$f":"IF(ISBLANK('Renseignements sur le locataire'!E796),\"\",'Renseignements sur le locataire'!E796)","v":""}]
[null,null,null,{"$f":"IF(ISBLANK('Renseignements sur le locataire'!E797),\"\",'Renseignements sur le locataire'!E797)","v":""}]
[null,null,null,{"$f":"IF(ISBLANK('Renseignements sur le locataire'!E798),\"\",'Renseignements sur le locataire'!E798)","v":""}]
[null,null,null,{"$f":"IF(ISBLANK('Renseignements sur le locataire'!E799),\"\",'Renseignements sur le locataire'!E799)","v":""}]
[null,null,null,{"$f":"IF(ISBLANK('Renseignements sur le locataire'!E800),\"\",'Renseignements sur le locataire'!E800)","v":""}]
[null,null,null,{"$f":"IF(ISBLANK('Renseignements sur le locataire'!E801),\"\",'Renseignements sur le locataire'!E801)","v":""}]
[null,null,null,{"$f":"IF(ISBLANK('Renseignements sur le locataire'!E802),\"\",'Renseignements sur le locataire'!E802)","v":""}]
[null,null,null,{"$f":"IF(ISBLANK('Renseignements sur le locataire'!E803),\"\",'Renseignements sur le locataire'!E803)","v":""}]
[null,null,null,{"$f":"IF(ISBLANK('Renseignements sur le locataire'!E804),\"\",'Renseignements sur le locataire'!E804)","v":""}]
[null,null,null,{"$f":"IF(ISBLANK('Renseignements sur le locataire'!E805),\"\",'Renseignements sur le locataire'!E805)","v":""}]
[null,null,null,{"$f":"IF(ISBLANK('Renseignements sur le locataire'!E806),\"\",'Renseignements sur le locataire'!E806)","v":""}]
[null,null,null,{"$f":"IF(ISBLANK('Renseignements sur le locataire'!E807),\"\",'Renseignements sur le locataire'!E807)","v":""}]
[null,null,null,{"$f":"IF(ISBLANK('Renseignements sur le locataire'!E808),\"\",'Renseignements sur le locataire'!E808)","v":""}]
[null,null,null,{"$f":"IF(ISBLANK('Renseignements sur le locataire'!E809),\"\",'Renseignements sur le locataire'!E809)","v":""}]
[null,null,null,{"$f":"IF(ISBLANK('Renseignements sur le locataire'!E810),\"\",'Renseignements sur le locataire'!E810)","v":""}]
[null,null,null,{"$f":"IF(ISBLANK('Renseignements sur le locataire'!E811),\"\",'Renseignements sur le locataire'!E811)","v":""}]
[null,null,null,{"$f":"IF(ISBLANK('Renseignements sur le locataire'!E812),\"\",'Renseignements sur le locataire'!E812)","v":""}]
[null,null,null,{"$f":"IF(ISBLANK('Renseignements sur le locataire'!E813),\"\",'Renseignements sur le locataire'!E813)","v":""}]
[null,null,null,{"$f":"IF(ISBLANK('Renseignements sur le locataire'!E814),\"\",'Renseignements sur le locataire'!E814)","v":""}]
[null,null,null,{"$f":"IF(ISBLANK('Renseignements sur le locataire'!E815),\"\",'Renseignements sur le locataire'!E815)","v":""}]
[null,null,null,{"$f":"IF(ISBLANK('Renseignements sur le locataire'!E816),\"\",'Renseignements sur le locataire'!E816)","v":""}]
[null,null,null,{"$f":"IF(ISBLANK('Renseignements sur le locataire'!E817),\"\",'Renseignements sur le locataire'!E817)","v":""}]
[null,null,null,{"$f":"IF(ISBLANK('Renseignements sur le locataire'!E818),\"\",'Renseignements sur le locataire'!E818)","v":""}]
[null,null,null,{"$f":"IF(ISBLANK('Renseignements sur le locataire'!E819),\"\",'Renseignements sur le locataire'!E819)","v":""}]
[null,null,null,{"$f":"IF(ISBLANK('Renseignements sur le locataire'!E820),\"\",'Renseignements sur le locataire'!E820)","v":""}]
[null,null,null,{"$f":"IF(ISBLANK('Renseignements sur le locataire'!E821),\"\",'Renseignements sur le locataire'!E821)","v":""}]
[null,null,null,{"$f":"IF(ISBLANK('Renseignements sur le locataire'!E822),\"\",'Renseignements sur le locataire'!E822)","v":""}]
[null,null,null,{"$f":"IF(ISBLANK('Renseignements sur le locataire'!E823),\"\",'Renseignements sur le locataire'!E823)","v":""}]
[null,null,null,{"$f":"IF(ISBLANK('Renseignements sur le locataire'!E824),\"\",'Renseignements sur le locataire'!E824)","v":""}]
[null,null,null,{"$f":"IF(ISBLANK('Renseignements sur le locataire'!E825),\"\",'Renseignements sur le locataire'!E825)","v":""}]
[null,null,null,{"$f":"IF(ISBLANK('Renseignements sur le locataire'!E826),\"\",'Renseignements sur le locataire'!E826)","v":""}]
[null,null,null,{"$f":"IF(ISBLANK('Renseignements sur le locataire'!E827),\"\",'Renseignements sur le locataire'!E827)","v":""}]
[null,null,null,{"$f":"IF(ISBLANK('Renseignements sur le locataire'!E828),\"\",'Renseignements sur le locataire'!E828)","v":""}]
[null,null,null,{"$f":"IF(ISBLANK('Renseignements sur le locataire'!E829),\"\",'Renseignements sur le locataire'!E829)","v":""}]
[null,null,null,{"$f":"IF(ISBLANK('Renseignements sur le locataire'!E830),\"\",'Renseignements sur le locataire'!E830)","v":""}]
[null,null,null,{"$f":"IF(ISBLANK('Renseignements sur le locataire'!E831),\"\",'Renseignements sur le locataire'!E831)","v":""}]
[null,null,null,{"$f":"IF(ISBLANK('Renseignements sur le locataire'!E832),\"\",'Renseignements sur le locataire'!E832)","v":""}]
[null,null,null,{"$f":"IF(ISBLANK('Renseignements sur le locataire'!E833),\"\",'Renseignements sur le locataire'!E833)","v":""}]
[null,null,null,{"$f":"IF(ISBLANK('Renseignements sur le locataire'!E834),\"\",'Renseignements sur le locataire'!E834)","v":""}]
[null,null,null,{"$f":"IF(ISBLANK('Renseignements sur le locataire'!E835),\"\",'Renseignements sur le locataire'!E835)","v":""}]
[null,null,null,{"$f":"IF(ISBLANK('Renseignements sur le locataire'!E836),\"\",'Renseignements sur le locataire'!E836)","v":""}]
[null,null,null,{"$f":"IF(ISBLANK('Renseignements sur le locataire'!E837),\"\",'Renseignements sur le locataire'!E837)","v":""}]
[null,null,null,{"$f":"IF(ISBLANK('Renseignements sur le locataire'!E838),\"\",'Renseignements sur le locataire'!E838)","v":""}]
[null,null,null,{"$f":"IF(ISBLANK('Renseignements sur le locataire'!E839),\"\",'Renseignements sur le locataire'!E839)","v":""}]
[null,null,null,{"$f":"IF(ISBLANK('Renseignements sur le locataire'!E840),\"\",'Renseignements sur le locataire'!E840)","v":""}]
[null,null,null,{"$f":"IF(ISBLANK('Renseignements sur le locataire'!E841),\"\",'Renseignements sur le locataire'!E841)","v":""}]
[null,null,null,{"$f":"IF(ISBLANK('Renseignements sur le locataire'!E842),\"\",'Renseignements sur le locataire'!E842)","v":""}]
[null,null,null,{"$f":"IF(ISBLANK('Renseignements sur le locataire'!E843),\"\",'Renseignements sur le locataire'!E843)","v":""}]
[null,null,null,{"$f":"IF(ISBLANK('Renseignements sur le locataire'!E844),\"\",'Renseignements sur le locataire'!E844)","v":""}]
[null,null,null,{"$f":"IF(ISBLANK('Renseignements sur le locataire'!E845),\"\",'Renseignements sur le locataire'!E845)","v":""}]
[null,null,null,{"$f":"IF(ISBLANK('Renseignements sur le locataire'!E846),\"\",'Renseignements sur le locataire'!E846)","v":""}]
[null,null,null,{"$f":"IF(ISBLANK('Renseignements sur le locataire'!E847),\"\",'Renseignements sur le locataire'!E847)","v":""}]
[null,null,null,{"$f":"IF(ISBLANK('Renseignements sur le locataire'!E848),\"\",'Renseignements sur le locataire'!E848)","v":""}]
[null,null,null,{"$f":"IF(ISBLANK('Renseignements sur le locataire'!E849),\"\",'Renseignements sur le locataire'!E849)","v":""}]
[null,null,null,{"$f":"IF(ISBLANK('Renseignements sur le locataire'!E850),\"\",'Renseignements sur le locataire'!E850)","v":""}]
[null,null,null,{"$f":"IF(ISBLANK('Renseignements sur le locataire'!E851),\"\",'Renseignements sur le locataire'!E851)","v":""}]
[null,null,null,{"$f":"IF(ISBLANK('Renseignements sur le locataire'!E852),\"\",'Renseignements sur le locataire'!E852)","v":""}]
[null,null,null,{"$f":"IF(ISBLANK('Renseignements sur le locataire'!E853),\"\",'Renseignements sur le locataire'!E853)","v":""}]
[null,null,null,{"$f":"IF(ISBLANK('Renseignements sur le locataire'!E854),\"\",'Renseignements sur le locataire'!E854)","v":""}]
[null,null,null,{"$f":"IF(ISBLANK('Renseignements sur le locataire'!E855),\"\",'Renseignements sur le locataire'!E855)","v":""}]
[null,null,null,{"$f":"IF(ISBLANK('Renseignements sur le locataire'!E856),\"\",'Renseignements sur le locataire'!E856)","v":""}]
[null,null,null,{"$f":"IF(ISBLANK('Renseignements sur le locataire'!E857),\"\",'Renseignements sur le locataire'!E857)","v":""}]
[null,null,null,{"$f":"IF(ISBLANK('Renseignements sur le locataire'!E858),\"\",'Renseignements sur le locataire'!E858)","v":""}]
[null,null,null,{"$f":"IF(ISBLANK('Renseignements sur le locataire'!E859),\"\",'Renseignements sur le locataire'!E859)","v":""}]
[null,null,null,{"$f":"IF(ISBLANK('Renseignements sur le locataire'!E860),\"\",'Renseignements sur le locataire'!E860)","v":""}]
[null,null,null,{"$f":"IF(ISBLANK('Renseignements sur le locataire'!E861),\"\",'Renseignements sur le locataire'!E861)","v":""}]
[null,null,null,{"$f":"IF(ISBLANK('Renseignements sur le locataire'!E862),\"\",'Renseignements sur le locataire'!E862)","v":""}]
[null,null,null,{"$f":"IF(ISBLANK('Renseignements sur le locataire'!E863),\"\",'Renseignements sur le locataire'!E863)","v":""}]
[null,null,null,{"$f":"IF(ISBLANK('Renseignements sur le locataire'!E864),\"\",'Renseignements sur le locataire'!E864)","v":""}]
[null,null,null,{"$f":"IF(ISBLANK('Renseignements sur le locataire'!E865),\"\",'Renseignements sur le locataire'!E865)","v":""}]
[null,null,null,{"$f":"IF(ISBLANK('Renseignements sur le locataire'!E866),\"\",'Renseignements sur le locataire'!E866)","v":""}]
[null,null,null,{"$f":"IF(ISBLANK('Renseignements sur le locataire'!E867),\"\",'Renseignements sur le locataire'!E867)","v":""}]
[null,null,null,{"$f":"IF(ISBLANK('Renseignements sur le locataire'!E868),\"\",'Renseignements sur le locataire'!E868)","v":""}]
[null,null,null,{"$f":"IF(ISBLANK('Renseignements sur le locataire'!E869),\"\",'Renseignements sur le locataire'!E869)","v":""}]
[null,null,null,{"$f":"IF(ISBLANK('Renseignements sur le locataire'!E870),\"\",'Renseignements sur le locataire'!E870)","v":""}]
[null,null,null,{"$f":"IF(ISBLANK('Renseignements sur le locataire'!E871),\"\",'Renseignements sur le locataire'!E871)","v":""}]
[null,null,null,{"$f":"IF(ISBLANK('Renseignements sur le locataire'!E872),\"\",'Renseignements sur le locataire'!E872)","v":""}]
[null,null,null,{"$f":"IF(ISBLANK('Renseignements sur le locataire'!E873),\"\",'Renseignements sur le locataire'!E873)","v":""}]
[null,null,null,{"$f":"IF(ISBLANK('Renseignements sur le locataire'!E874),\"\",'Renseignements sur le locataire'!E874)","v":""}]
[null,null,null,{"$f":"IF(ISBLANK('Renseignements sur le locataire'!E875),\"\",'Renseignements sur le locataire'!E875)","v":""}]
[null,null,null,{"$f":"IF(ISBLANK('Renseignements sur le locataire'!E876),\"\",'Renseignements sur le locataire'!E876)","v":""}]
[null,null,null,{"$f":"IF(ISBLANK('Renseignements sur le locataire'!E877),\"\",'Renseignements sur le locataire'!E877)","v":""}]
[null,null,null,{"$f":"IF(ISBLANK('Renseignements sur le locataire'!E878),\"\",'Renseignements sur le locataire'!E878)","v":""}]
[null,null,null,{"$f":"IF(ISBLANK('Renseignements sur le locataire'!E879),\"\",'Renseignements sur le locataire'!E879)","v":""}]
[null,null,null,{"$f":"IF(ISBLANK('Renseignements sur le locataire'!E880),\"\",'Renseignements sur le locataire'!E880)","v":""}]
[null,null,null,{"$f":"IF(ISBLANK('Renseignements sur le locataire'!E881),\"\",'Renseignements sur le locataire'!E881)","v":""}]
[null,null,null,{"$f":"IF(ISBLANK('Renseignements sur le locataire'!E882),\"\",'Renseignements sur le locataire'!E882)","v":""}]
[null,null,null,{"$f":"IF(ISBLANK('Renseignements sur le locataire'!E883),\"\",'Renseignements sur le locataire'!E883)","v":""}]
[null,null,null,{"$f":"IF(ISBLANK('Renseignements sur le locataire'!E884),\"\",'Renseignements sur le locataire'!E884)","v":""}]
[null,null,null,{"$f":"IF(ISBLANK('Renseignements sur le locataire'!E885),\"\",'Renseignements sur le locataire'!E885)","v":""}]
[null,null,null,{"$f":"IF(ISBLANK('Renseignements sur le locataire'!E886),\"\",'Renseignements sur le locataire'!E886)","v":""}]
[null,null,null,{"$f":"IF(ISBLANK('Renseignements sur le locataire'!E887),\"\",'Renseignements sur le locataire'!E887)","v":""}]
[null,null,null,{"$f":"IF(ISBLANK('Renseignements sur le locataire'!E888),\"\",'Renseignements sur le locataire'!E888)","v":""}]
[null,null,null,{"$f":"IF(ISBLANK('Renseignements sur le locataire'!E889),\"\",'Renseignements sur le locataire'!E889)","v":""}]
[null,null,null,{"$f":"IF(ISBLANK('Renseignements sur le locataire'!E890),\"\",'Renseignements sur le locataire'!E890)","v":""}]
[null,null,null,{"$f":"IF(ISBLANK('Renseignements sur le locataire'!E891),\"\",'Renseignements sur le locataire'!E891)","v":""}]
[null,null,null,{"$f":"IF(ISBLANK('Renseignements sur le locataire'!E892),\"\",'Renseignements sur le locataire'!E892)","v":""}]
[null,null,null,{"$f":"IF(ISBLANK('Renseignements sur le locataire'!E893),\"\",'Renseignements sur le locataire'!E893)","v":""}]
[null,null,null,{"$f":"IF(ISBLANK('Renseignements sur le locataire'!E894),\"\",'Renseignements sur le locataire'!E894)","v":""}]
[null,null,null,{"$f":"IF(ISBLANK('Renseignements sur le locataire'!E895),\"\",'Renseignements sur le locataire'!E895)","v":""}]
[null,null,null,{"$f":"IF(ISBLANK('Renseignements sur le locataire'!E896),\"\",'Renseignements sur le locataire'!E896)","v":""}]
[null,null,null,{"$f":"IF(ISBLANK('Renseignements sur le locataire'!E897),\"\",'Renseignements sur le locataire'!E897)","v":""}]
[null,null,null,{"$f":"IF(ISBLANK('Renseignements sur le locataire'!E898),\"\",'Renseignements sur le locataire'!E898)","v":""}]
[null,null,null,{"$f":"IF(ISBLANK('Renseignements sur le locataire'!E899),\"\",'Renseignements sur le locataire'!E899)","v":""}]
[null,null,null,{"$f":"IF(ISBLANK('Renseignements sur le locataire'!E900),\"\",'Renseignements sur le locataire'!E900)","v":""}]
[null,null,null,{"$f":"IF(ISBLANK('Renseignements sur le locataire'!E901),\"\",'Renseignements sur le locataire'!E901)","v":""}]
[null,null,null,{"$f":"IF(ISBLANK('Renseignements sur le locataire'!E902),\"\",'Renseignements sur le locataire'!E902)","v":""}]
[null,null,null,{"$f":"IF(ISBLANK('Renseignements sur le locataire'!E903),\"\",'Renseignements sur le locataire'!E903)","v":""}]
[null,null,null,{"$f":"IF(ISBLANK('Renseignements sur le locataire'!E904),\"\",'Renseignements sur le locataire'!E904)","v":""}]
[null,null,null,{"$f":"IF(ISBLANK('Renseignements sur le locataire'!E905),\"\",'Renseignements sur le locataire'!E905)","v":""}]
[null,null,null,{"$f":"IF(ISBLANK('Renseignements sur le locataire'!E906),\"\",'Renseignements sur le locataire'!E906)","v":""}]
[null,null,null,{"$f":"IF(ISBLANK('Renseignements sur le locataire'!E907),\"\",'Renseignements sur le locataire'!E907)","v":""}]
[null,null,null,{"$f":"IF(ISBLANK('Renseignements sur le locataire'!E908),\"\",'Renseignements sur le locataire'!E908)","v":""}]
[null,null,null,{"$f":"IF(ISBLANK('Renseignements sur le locataire'!E909),\"\",'Renseignements sur le locataire'!E909)","v":""}]
[null,null,null,{"$f":"IF(ISBLANK('Renseignements sur le locataire'!E910),\"\",'Renseignements sur le locataire'!E910)","v":""}]
[null,null,null,{"$f":"IF(ISBLANK('Renseignements sur le locataire'!E911),\"\",'Renseignements sur le locataire'!E911)","v":""}]
[null,null,null,{"$f":"IF(ISBLANK('Renseignements sur le locataire'!E912),\"\",'Renseignements sur le locataire'!E912)","v":""}]
[null,null,null,{"$f":"IF(ISBLANK('Renseignements sur le locataire'!E913),\"\",'Renseignements sur le locataire'!E913)","v":""}]
[null,null,null,{"$f":"IF(ISBLANK('Renseignements sur le locataire'!E914),\"\",'Renseignements sur le locataire'!E914)","v":""}]
[null,null,null,{"$f":"IF(ISBLANK('Renseignements sur le locataire'!E915),\"\",'Renseignements sur le locataire'!E915)","v":""}]
[null,null,null,{"$f":"IF(ISBLANK('Renseignements sur le locataire'!E916),\"\",'Renseignements sur le locataire'!E916)","v":""}]
[null,null,null,{"$f":"IF(ISBLANK('Renseignements sur le locataire'!E917),\"\",'Renseignements sur le locataire'!E917)","v":""}]
[null,null,null,{"$f":"IF(ISBLANK('Renseignements sur le locataire'!E918),\"\",'Renseignements sur le locataire'!E918)","v":""}]
[null,null,null,{"$f":"IF(ISBLANK('Renseignements sur le locataire'!E919),\"\",'Renseignements sur le locataire'!E919)","v":""}]
[null,null,null,{"$f":"IF(ISBLANK('Renseignements sur le locataire'!E920),\"\",'Renseignements sur le locataire'!E920)","v":""}]
[null,null,null,{"$f":"IF(ISBLANK('Renseignements sur le locataire'!E921),\"\",'Renseignements sur le locataire'!E921)","v":""}]
[null,null,null,{"$f":"IF(ISBLANK('Renseignements sur le locataire'!E922),\"\",'Renseignements sur le locataire'!E922)","v":""}]
[null,null,null,{"$f":"IF(ISBLANK('Renseignements sur le locataire'!E923),\"\",'Renseignements sur le locataire'!E923)","v":""}]
[null,null,null,{"$f":"IF(ISBLANK('Renseignements sur le locataire'!E924),\"\",'Renseignements sur le locataire'!E924)","v":""}]
[null,null,null,{"$f":"IF(ISBLANK('Renseignements sur le locataire'!E925),\"\",'Renseignements sur le locataire'!E925)","v":""}]
[null,null,null,{"$f":"IF(ISBLANK('Renseignements sur le locataire'!E926),\"\",'Renseignements sur le locataire'!E926)","v":""}]
[null,null,null,{"$f":"IF(ISBLANK('Renseignements sur le locataire'!E927),\"\",'Renseignements sur le locataire'!E927)","v":""}]
[null,null,null,{"$f":"IF(ISBLANK('Renseignements sur le locataire'!E928),\"\",'Renseignements sur le locataire'!E928)","v":""}]
[null,null,null,{"$f":"IF(ISBLANK('Renseignements sur le locataire'!E929),\"\",'Renseignements sur le locataire'!E929)","v":""}]
[null,null,null,{"$f":"IF(ISBLANK('Renseignements sur le locataire'!E930),\"\",'Renseignements sur le locataire'!E930)","v":""}]
[null,null,null,{"$f":"IF(ISBLANK('Renseignements sur le locataire'!E931),\"\",'Renseignements sur le locataire'!E931)","v":""}]
[null,null,null,{"$f":"IF(ISBLANK('Renseignements sur le locataire'!E932),\"\",'Renseignements sur le locataire'!E932)","v":""}]
[null,null,null,{"$f":"IF(ISBLANK('Renseignements sur le locataire'!E933),\"\",'Renseignements sur le locataire'!E933)","v":""}]
[null,null,null,{"$f":"IF(ISBLANK('Renseignements sur le locataire'!E934),\"\",'Renseignements sur le locataire'!E934)","v":""}]
[null,null,null,{"$f":"IF(ISBLANK('Renseignements sur le locataire'!E935),\"\",'Renseignements sur le locataire'!E935)","v":""}]
[null,null,null,{"$f":"IF(ISBLANK('Renseignements sur le locataire'!E936),\"\",'Renseignements sur le locataire'!E936)","v":""}]
[null,null,null,{"$f":"IF(ISBLANK('Renseignements sur le locataire'!E937),\"\",'Renseignements sur le locataire'!E937)","v":""}]
[null,null,null,{"$f":"IF(ISBLANK('Renseignements sur le locataire'!E938),\"\",'Renseignements sur le locataire'!E938)","v":""}]
[null,null,null,{"$f":"IF(ISBLANK('Renseignements sur le locataire'!E939),\"\",'Renseignements sur le locataire'!E939)","v":""}]
[null,null,null,{"$f":"IF(ISBLANK('Renseignements sur le locataire'!E940),\"\",'Renseignements sur le locataire'!E940)","v":""}]
[null,null,null,{"$f":"IF(ISBLANK('Renseignements sur le locataire'!E941),\"\",'Renseignements sur le locataire'!E941)","v":""}]
[null,null,null,{"$f":"IF(ISBLANK('Renseignements sur le locataire'!E942),\"\",'Renseignements sur le locataire'!E942)","v":""}]
[null,null,null,{"$f":"IF(ISBLANK('Renseignements sur le locataire'!E943),\"\",'Renseignements sur le locataire'!E943)","v":""}]
[null,null,null,{"$f":"IF(ISBLANK('Renseignements sur le locataire'!E944),\"\",'Renseignements sur le locataire'!E944)","v":""}]
[null,null,null,{"$f":"IF(ISBLANK('Renseignements sur le locataire'!E945),\"\",'Renseignements sur le locataire'!E945)","v":""}]
[null,null,null,{"$f":"IF(ISBLANK('Renseignements sur le locataire'!E946),\"\",'Renseignements sur le locataire'!E946)","v":""}]
[null,null,null,{"$f":"IF(ISBLANK('Renseignements sur le locataire'!E947),\"\",'Renseignements sur le locataire'!E947)","v":""}]
[null,null,null,{"$f":"IF(ISBLANK('Renseignements sur le locataire'!E948),\"\",'Renseignements sur le locataire'!E948)","v":""}]
[null,null,null,{"$f":"IF(ISBLANK('Renseignements sur le locataire'!E949),\"\",'Renseignements sur le locataire'!E949)","v":""}]
[null,null,null,{"$f":"IF(ISBLANK('Renseignements sur le locataire'!E950),\"\",'Renseignements sur le locataire'!E950)","v":""}]
[null,null,null,{"$f":"IF(ISBLANK('Renseignements sur le locataire'!E951),\"\",'Renseignements sur le locataire'!E951)","v":""}]
[null,null,null,{"$f":"IF(ISBLANK('Renseignements sur le locataire'!E952),\"\",'Renseignements sur le locataire'!E952)","v":""}]
[null,null,null,{"$f":"IF(ISBLANK('Renseignements sur le locataire'!E953),\"\",'Renseignements sur le locataire'!E953)","v":""}]
[null,null,null,{"$f":"IF(ISBLANK('Renseignements sur le locataire'!E954),\"\",'Renseignements sur le locataire'!E954)","v":""}]
[null,null,null,{"$f":"IF(ISBLANK('Renseignements sur le locataire'!E955),\"\",'Renseignements sur le locataire'!E955)","v":""}]
[null,null,null,{"$f":"IF(ISBLANK('Renseignements sur le locataire'!E956),\"\",'Renseignements sur le locataire'!E956)","v":""}]
[null,null,null,{"$f":"IF(ISBLANK('Renseignements sur le locataire'!E957),\"\",'Renseignements sur le locataire'!E957)","v":""}]
[null,null,null,{"$f":"IF(ISBLANK('Renseignements sur le locataire'!E958),\"\",'Renseignements sur le locataire'!E958)","v":""}]
[null,null,null,{"$f":"IF(ISBLANK('Renseignements sur le locataire'!E959),\"\",'Renseignements sur le locataire'!E959)","v":""}]
[null,null,null,{"$f":"IF(ISBLANK('Renseignements sur le locataire'!E960),\"\",'Renseignements sur le locataire'!E960)","v":""}]
[null,null,null,{"$f":"IF(ISBLANK('Renseignements sur le locataire'!E961),\"\",'Renseignements sur le locataire'!E961)","v":""}]
[null,null,null,{"$f":"IF(ISBLANK('Renseignements sur le locataire'!E962),\"\",'Renseignements sur le locataire'!E962)","v":""}]
[null,null,null,{"$f":"IF(ISBLANK('Renseignements sur le locataire'!E963),\"\",'Renseignements sur le locataire'!E963)","v":""}]
[null,null,null,{"$f":"IF(ISBLANK('Renseignements sur le locataire'!E964),\"\",'Renseignements sur le locataire'!E964)","v":""}]
[null,null,null,{"$f":"IF(ISBLANK('Renseignements sur le locataire'!E965),\"\",'Renseignements sur le locataire'!E965)","v":""}]
[null,null,null,{"$f":"IF(ISBLANK('Renseignements sur le locataire'!E966),\"\",'Renseignements sur le locataire'!E966)","v":""}]
[null,null,null,{"$f":"IF(ISBLANK('Renseignements sur le locataire'!E967),\"\",'Renseignements sur le locataire'!E967)","v":""}]
[null,null,null,{"$f":"IF(ISBLANK('Renseignements sur le locataire'!E968),\"\",'Renseignements sur le locataire'!E968)","v":""}]
[null,null,null,{"$f":"IF(ISBLANK('Renseignements sur le locataire'!E969),\"\",'Renseignements sur le locataire'!E969)","v":""}]
[null,null,null,{"$f":"IF(ISBLANK('Renseignements sur le locataire'!E970),\"\",'Renseignements sur le locataire'!E970)","v":""}]
[null,null,null,{"$f":"IF(ISBLANK('Renseignements sur le locataire'!E971),\"\",'Renseignements sur le locataire'!E971)","v":""}]
[null,null,null,{"$f":"IF(ISBLANK('Renseignements sur le locataire'!E972),\"\",'Renseignements sur le locataire'!E972)","v":""}]
[null,null,null,{"$f":"IF(ISBLANK('Renseignements sur le locataire'!E973),\"\",'Renseignements sur le locataire'!E973)","v":""}]
[null,null,null,{"$f":"IF(ISBLANK('Renseignements sur le locataire'!E974),\"\",'Renseignements sur le locataire'!E974)","v":""}]
[null,null,null,{"$f":"IF(ISBLANK('Renseignements sur le locataire'!E975),\"\",'Renseignements sur le locataire'!E975)","v":""}]
[null,null,null,{"$f":"IF(ISBLANK('Renseignements sur le locataire'!E976),\"\",'Renseignements sur le locataire'!E976)","v":""}]
[null,null,null,{"$f":"IF(ISBLANK('Renseignements sur le locataire'!E977),\"\",'Renseignements sur le locataire'!E977)","v":""}]
[null,null,null,{"$f":"IF(ISBLANK('Renseignements sur le locataire'!E978),\"\",'Renseignements sur le locataire'!E978)","v":""}]
[null,null,null,{"$f":"IF(ISBLANK('Renseignements sur le locataire'!E979),\"\",'Renseignements sur le locataire'!E979)","v":""}]
[null,null,null,{"$f":"IF(ISBLANK('Renseignements sur le locataire'!E980),\"\",'Renseignements sur le locataire'!E980)","v":""}]
[null,null,null,{"$f":"IF(ISBLANK('Renseignements sur le locataire'!E981),\"\",'Renseignements sur le locataire'!E981)","v":""}]
[null,null,null,{"$f":"IF(ISBLANK('Renseignements sur le locataire'!E982),\"\",'Renseignements sur le locataire'!E982)","v":""}]
[null,null,null,{"$f":"IF(ISBLANK('Renseignements sur le locataire'!E983),\"\",'Renseignements sur le locataire'!E983)","v":""}]
[null,null,null,{"$f":"IF(ISBLANK('Renseignements sur le locataire'!E984),\"\",'Renseignements sur le locataire'!E984)","v":""}]
[null,null,null,{"$f":"IF(ISBLANK('Renseignements sur le locataire'!E985),\"\",'Renseignements sur le locataire'!E985)","v":""}]
[null,null,null,{"$f":"IF(ISBLANK('Renseignements sur le locataire'!E986),\"\",'Renseignements sur le locataire'!E986)","v":""}]
[null,null,null,{"$f":"IF(ISBLANK('Renseignements sur le locataire'!E987),\"\",'Renseignements sur le locataire'!E987)","v":""}]
[null,null,null,{"$f":"IF(ISBLANK('Renseignements sur le locataire'!E988),\"\",'Renseignements sur le locataire'!E988)","v":""}]
[null,null,null,{"$f":"IF(ISBLANK('Renseignements sur le locataire'!E989),\"\",'Renseignements sur le locataire'!E989)","v":""}]
[null,null,null,{"$f":"IF(ISBLANK('Renseignements sur le locataire'!E990),\"\",'Renseignements sur le locataire'!E990)","v":""}]
[null,null,null,{"$f":"IF(ISBLANK('Renseignements sur le locataire'!E991),\"\",'Renseignements sur le locataire'!E991)","v":""}]
[null,null,null,{"$f":"IF(ISBLANK('Renseignements sur le locataire'!E992),\"\",'Renseignements sur le locataire'!E992)","v":""}]
[null,null,null,{"$f":"IF(ISBLANK('Renseignements sur le locataire'!E993),\"\",'Renseignements sur le locataire'!E993)","v":""}]
[null,null,null,{"$f":"IF(ISBLANK('Renseignements sur le locataire'!E994),\"\",'Renseignements sur le locataire'!E994)","v":""}]
[null,null,null,{"$f":"IF(ISBLANK('Renseignements sur le locataire'!E995),\"\",'Renseignements sur le locataire'!E995)","v":""}]
[null,null,null,{"$f":"IF(ISBLANK('Renseignements sur le locataire'!E996),\"\",'Renseignements sur le locataire'!E996)","v":""}]
[null,null,null,{"$f":"IF(ISBLANK('Renseignements sur le locataire'!E997),\"\",'Renseignements sur le locataire'!E997)","v":""}]
[null,null,null,{"$f":"IF(ISBLANK('Renseignements sur le locataire'!E998),\"\",'Renseignements sur le locataire'!E998)","v":""}]
[null,null,null,{"$f":"IF(ISBLANK('Renseignements sur le locataire'!E999),\"\",'Renseignements sur le locataire'!E999)","v":""}]
[null,null,null,{"$f":"IF(ISBLANK('Renseignements sur le locataire'!E1000),\"\",'Renseignements sur le locataire'!E1000)","v":""}]
[null,null,null,{"$f":"IF(ISBLANK('Renseignements sur le locataire'!E1001),\"\",'Renseignements sur le locataire'!E1001)","v":""}]
[null,null,null,{"$f":"IF(ISBLANK('Renseignements sur le locataire'!E1002),\"\",'Renseignements sur le locataire'!E1002)","v":""}]
[null,null,null,{"$f":"IF(ISBLANK('Renseignements sur le locataire'!E1003),\"\",'Renseignements sur le locataire'!E1003)","v":""}]
[null,null,null,{"$f":"IF(ISBLANK('Renseignements sur le locataire'!E1004),\"\",'Renseignements sur le locataire'!E1004)","v":""}]
[null,null,null,{"$f":"IF(ISBLANK('Renseignements sur le locataire'!E1005),\"\",'Renseignements sur le locataire'!E1005)","v":""}]
[null,null,null,{"$f":"IF(ISBLANK('Renseignements sur le locataire'!E1006),\"\",'Renseignements sur le locataire'!E1006)","v":""}]
[null,null,null,{"$f":"IF(ISBLANK('Renseignements sur le locataire'!E1007),\"\",'Renseignements sur le locataire'!E1007)","v":""}]
[null,null,null,{"$f":"IF(ISBLANK('Renseignements sur le locataire'!E1008),\"\",'Renseignements sur le locataire'!E1008)","v":""}]
[null,null,null,{"$f":"IF(ISBLANK('Renseignements sur le locataire'!E1009),\"\",'Renseignements sur le locataire'!E1009)","v":""}]
[null,null,null,{"$f":"IF(ISBLANK('Renseignements sur le locataire'!E1010),\"\",'Renseignements sur le locataire'!E1010)","v":""}]
[null,null,null,{"$f":"IF(ISBLANK('Renseignements sur le locataire'!E1011),\"\",'Renseignements sur le locataire'!E1011)","v":""}]
[null,null,null,{"$f":"IF(ISBLANK('Renseignements sur le locataire'!E1012),\"\",'Renseignements sur le locataire'!E1012)","v":""}]
[null,null,null,{"$f":"IF(ISBLANK('Renseignements sur le locataire'!E1013),\"\",'Renseignements sur le locataire'!E1013)","v":""}]
[null,null,null,{"$f":"IF(ISBLANK('Renseignements sur le locataire'!E1014),\"\",'Renseignements sur le locataire'!E1014)","v":""}]
[null,null,null,{"$f":"IF(ISBLANK('Renseignements sur le locataire'!E1015),\"\",'Renseignements sur le locataire'!E1015)","v":""}]
[null,null,null,{"$f":"IF(ISBLANK('Renseignements sur le locataire'!E1016),\"\",'Renseignements sur le locataire'!E1016)","v":""}]
[null,null,null,{"$f":"IF(ISBLANK('Renseignements sur le locataire'!E1017),\"\",'Renseignements sur le locataire'!E1017)","v":""}]
[null,null,null,{"$f":"IF(ISBLANK('Renseignements sur le locataire'!E1018),\"\",'Renseignements sur le locataire'!E1018)","v":""}]
[null,null,null,{"$f":"IF(ISBLANK('Renseignements sur le locataire'!E1019),\"\",'Renseignements sur le locataire'!E1019)","v":""}]
[null,null,null,{"$f":"IF(ISBLANK('Renseignements sur le locataire'!E1020),\"\",'Renseignements sur le locataire'!E1020)","v":""}]
[null,null,null,{"$f":"IF(ISBLANK('Renseignements sur le locataire'!E1021),\"\",'Renseignements sur le locataire'!E1021)","v":""}]
[null,null,null,{"$f":"IF(ISBLANK('Renseignements sur le locataire'!E1022),\"\",'Renseignements sur le locataire'!E1022)","v":""}]
[null,null,null,{"$f":"IF(ISBLANK('Renseignements sur le locataire'!E1023),\"\",'Renseignements sur le locataire'!E1023)","v":""}]
[null,null,null,{"$f":"IF(ISBLANK('Renseignements sur le locataire'!E1024),\"\",'Renseignements sur le locataire'!E1024)","v":""}]
[null,null,null,{"$f":"IF(ISBLANK('Renseignements sur le locataire'!E1025),\"\",'Renseignements sur le locataire'!E1025)","v":""}]
[null,null,null,{"$f":"IF(ISBLANK('Renseignements sur le locataire'!E1026),\"\",'Renseignements sur le locataire'!E1026)","v":""}]
[null,null,null,{"$f":"IF(ISBLANK('Renseignements sur le locataire'!E1027),\"\",'Renseignements sur le locataire'!E1027)","v":""}]
[null,null,null,{"$f":"IF(ISBLANK('Renseignements sur le locataire'!E1028),\"\",'Renseignements sur le locataire'!E1028)","v":""}]
[null,null,null,{"$f":"IF(ISBLANK('Renseignements sur le locataire'!E1029),\"\",'Renseignements sur le locataire'!E1029)","v":""}]
[null,null,null,{"$f":"IF(ISBLANK('Renseignements sur le locataire'!E1030),\"\",'Renseignements sur le locataire'!E1030)","v":""}]
[null,null,null,{"$f":"IF(ISBLANK('Renseignements sur le locataire'!E1031),\"\",'Renseignements sur le locataire'!E1031)","v":""}]
[null,null,null,{"$f":"IF(ISBLANK('Renseignements sur le locataire'!E1032),\"\",'Renseignements sur le locataire'!E1032)","v":""}]
[null,null,null,{"$f":"IF(ISBLANK('Renseignements sur le locataire'!E1033),\"\",'Renseignements sur le locataire'!E1033)","v":""}]
[null,null,null,{"$f":"IF(ISBLANK('Renseignements sur le locataire'!E1034),\"\",'Renseignements sur le locataire'!E1034)","v":""}]
[null,null,null,{"$f":"IF(ISBLANK('Renseignements sur le locataire'!E1035),\"\",'Renseignements sur le locataire'!E1035)","v":""}]
[null,null,null,{"$f":"IF(ISBLANK('Renseignements sur le locataire'!E1036),\"\",'Renseignements sur le locataire'!E1036)","v":""}]
[null,null,null,{"$f":"IF(ISBLANK('Renseignements sur le locataire'!E1037),\"\",'Renseignements sur le locataire'!E1037)","v":""}]
[null,null,null,{"$f":"IF(ISBLANK('Renseignements sur le locataire'!E1038),\"\",'Renseignements sur le locataire'!E1038)","v":""}]
[null,null,null,{"$f":"IF(ISBLANK('Renseignements sur le locataire'!E1039),\"\",'Renseignements sur le locataire'!E1039)","v":""}]
[null,null,null,{"$f":"IF(ISBLANK('Renseignements sur le locataire'!E1040),\"\",'Renseignements sur le locataire'!E1040)","v":""}]
[null,null,null,{"$f":"IF(ISBLANK('Renseignements sur le locataire'!E1041),\"\",'Renseignements sur le locataire'!E1041)","v":""}]
[null,null,null,{"$f":"IF(ISBLANK('Renseignements sur le locataire'!E1042),\"\",'Renseignements sur le locataire'!E1042)","v":""}]
[null,null,null,{"$f":"IF(ISBLANK('Renseignements sur le locataire'!E1043),\"\",'Renseignements sur le locataire'!E1043)","v":""}]
[null,null,null,{"$f":"IF(ISBLANK('Renseignements sur le locataire'!E1044),\"\",'Renseignements sur le locataire'!E1044)","v":""}]
[null,null,null,{"$f":"IF(ISBLANK('Renseignements sur le locataire'!E1045),\"\",'Renseignements sur le locataire'!E1045)","v":""}]
[null,null,null,{"$f":"IF(ISBLANK('Renseignements sur le locataire'!E1046),\"\",'Renseignements sur le locataire'!E1046)","v":""}]
[null,null,null,{"$f":"IF(ISBLANK('Renseignements sur le locataire'!E1047),\"\",'Renseignements sur le locataire'!E1047)","v":""}]
[null,null,null,{"$f":"IF(ISBLANK('Renseignements sur le locataire'!E1048),\"\",'Renseignements sur le locataire'!E1048)","v":""}]
[null,null,null,{"$f":"IF(ISBLANK('Renseignements sur le locataire'!E1049),\"\",'Renseignements sur le locataire'!E1049)","v":""}]
[null,null,null,{"$f":"IF(ISBLANK('Renseignements sur le locataire'!E1050),\"\",'Renseignements sur le locataire'!E1050)","v":""}]
[null,null,null,{"$f":"IF(ISBLANK('Renseignements sur le locataire'!E1051),\"\",'Renseignements sur le locataire'!E1051)","v":""}]
[null,null,null,{"$f":"IF(ISBLANK('Renseignements sur le locataire'!E1052),\"\",'Renseignements sur le locataire'!E1052)","v":""}]
[null,null,null,{"$f":"IF(ISBLANK('Renseignements sur le locataire'!E1053),\"\",'Renseignements sur le locataire'!E1053)","v":""}]
[null,null,null,{"$f":"IF(ISBLANK('Renseignements sur le locataire'!E1054),\"\",'Renseignements sur le locataire'!E1054)","v":""}]
[null,null,null,{"$f":"IF(ISBLANK('Renseignements sur le locataire'!E1055),\"\",'Renseignements sur le locataire'!E1055)","v":""}]
[null,null,null,{"$f":"IF(ISBLANK('Renseignements sur le locataire'!E1056),\"\",'Renseignements sur le locataire'!E1056)","v":""}]
[null,null,null,{"$f":"IF(ISBLANK('Renseignements sur le locataire'!E1057),\"\",'Renseignements sur le locataire'!E1057)","v":""}]
[null,null,null,{"$f":"IF(ISBLANK('Renseignements sur le locataire'!E1058),\"\",'Renseignements sur le locataire'!E1058)","v":""}]
[null,null,null,{"$f":"IF(ISBLANK('Renseignements sur le locataire'!E1059),\"\",'Renseignements sur le locataire'!E1059)","v":""}]
[null,null,null,{"$f":"IF(ISBLANK('Renseignements sur le locataire'!E1060),\"\",'Renseignements sur le locataire'!E1060)","v":""}]
[null,null,null,{"$f":"IF(ISBLANK('Renseignements sur le locataire'!E1061),\"\",'Renseignements sur le locataire'!E1061)","v":""}]
[null,null,null,{"$f":"IF(ISBLANK('Renseignements sur le locataire'!E1062),\"\",'Renseignements sur le locataire'!E1062)","v":""}]
[null,null,null,{"$f":"IF(ISBLANK('Renseignements sur le locataire'!E1063),\"\",'Renseignements sur le locataire'!E1063)","v":""}]
[null,null,null,{"$f":"IF(ISBLANK('Renseignements sur le locataire'!E1064),\"\",'Renseignements sur le locataire'!E1064)","v":""}]
[null,null,null,{"$f":"IF(ISBLANK('Renseignements sur le locataire'!E1065),\"\",'Renseignements sur le locataire'!E1065)","v":""}]
[null,null,null,{"$f":"IF(ISBLANK('Renseignements sur le locataire'!E1066),\"\",'Renseignements sur le locataire'!E1066)","v":""}]
[null,null,null,{"$f":"IF(ISBLANK('Renseignements sur le locataire'!E1067),\"\",'Renseignements sur le locataire'!E1067)","v":""}]
[null,null,null,{"$f":"IF(ISBLANK('Renseignements sur le locataire'!E1068),\"\",'Renseignements sur le locataire'!E1068)","v":""}]
[null,null,null,{"$f":"IF(ISBLANK('Renseignements sur le locataire'!E1069),\"\",'Renseignements sur le locataire'!E1069)","v":""}]
[null,null,null,{"$f":"IF(ISBLANK('Renseignements sur le locataire'!E1070),\"\",'Renseignements sur le locataire'!E1070)","v":""}]
[null,null,null,{"$f":"IF(ISBLANK('Renseignements sur le locataire'!E1071),\"\",'Renseignements sur le locataire'!E1071)","v":""}]
[null,null,null,{"$f":"IF(ISBLANK('Renseignements sur le locataire'!E1072),\"\",'Renseignements sur le locataire'!E1072)","v":""}]
[null,null,null,{"$f":"IF(ISBLANK('Renseignements sur le locataire'!E1073),\"\",'Renseignements sur le locataire'!E1073)","v":""}]
[null,null,null,{"$f":"IF(ISBLANK('Renseignements sur le locataire'!E1074),\"\",'Renseignements sur le locataire'!E1074)","v":""}]
[null,null,null,{"$f":"IF(ISBLANK('Renseignements sur le locataire'!E1075),\"\",'Renseignements sur le locataire'!E1075)","v":""}]
[null,null,null,{"$f":"IF(ISBLANK('Renseignements sur le locataire'!E1076),\"\",'Renseignements sur le locataire'!E1076)","v":""}]
[null,null,null,{"$f":"IF(ISBLANK('Renseignements sur le locataire'!E1077),\"\",'Renseignements sur le locataire'!E1077)","v":""}]
[null,null,null,{"$f":"IF(ISBLANK('Renseignements sur le locataire'!E1078),\"\",'Renseignements sur le locataire'!E1078)","v":""}]
[null,null,null,{"$f":"IF(ISBLANK('Renseignements sur le locataire'!E1079),\"\",'Renseignements sur le locataire'!E1079)","v":""}]
[null,null,null,{"$f":"IF(ISBLANK('Renseignements sur le locataire'!E1080),\"\",'Renseignements sur le locataire'!E1080)","v":""}]
[null,null,null,{"$f":"IF(ISBLANK('Renseignements sur le locataire'!E1081),\"\",'Renseignements sur le locataire'!E1081)","v":""}]
[null,null,null,{"$f":"IF(ISBLANK('Renseignements sur le locataire'!E1082),\"\",'Renseignements sur le locataire'!E1082)","v":""}]
[null,null,null,{"$f":"IF(ISBLANK('Renseignements sur le locataire'!E1083),\"\",'Renseignements sur le locataire'!E1083)","v":""}]
[null,null,null,{"$f":"IF(ISBLANK('Renseignements sur le locataire'!E1084),\"\",'Renseignements sur le locataire'!E1084)","v":""}]
[null,null,null,{"$f":"IF(ISBLANK('Renseignements sur le locataire'!E1085),\"\",'Renseignements sur le locataire'!E1085)","v":""}]
[null,null,null,{"$f":"IF(ISBLANK('Renseignements sur le locataire'!E1086),\"\",'Renseignements sur le locataire'!E1086)","v":""}]
[null,null,null,{"$f":"IF(ISBLANK('Renseignements sur le locataire'!E1087),\"\",'Renseignements sur le locataire'!E1087)","v":""}]
[null,null,null,{"$f":"IF(ISBLANK('Renseignements sur le locataire'!E1088),\"\",'Renseignements sur le locataire'!E1088)","v":""}]
[null,null,null,{"$f":"IF(ISBLANK('Renseignements sur le locataire'!E1089),\"\",'Renseignements sur le locataire'!E1089)","v":""}]
[null,null,null,{"$f":"IF(ISBLANK('Renseignements sur le locataire'!E1090),\"\",'Renseignements sur le locataire'!E1090)","v":""}]
[null,null,null,{"$f":"IF(ISBLANK('Renseignements sur le locataire'!E1091),\"\",'Renseignements sur le locataire'!E1091)","v":""}]
[null,null,null,{"$f":"IF(ISBLANK('Renseignements sur le locataire'!E1092),\"\",'Renseignements sur le locataire'!E1092)","v":""}]
[null,null,null,{"$f":"IF(ISBLANK('Renseignements sur le locataire'!E1093),\"\",'Renseignements sur le locataire'!E1093)","v":""}]
[null,null,null,{"$f":"IF(ISBLANK('Renseignements sur le locataire'!E1094),\"\",'Renseignements sur le locataire'!E1094)","v":""}]
[null,null,null,{"$f":"IF(ISBLANK('Renseignements sur le locataire'!E1095),\"\",'Renseignements sur le locataire'!E1095)","v":""}]
[null,null,null,{"$f":"IF(ISBLANK('Renseignements sur le locataire'!E1096),\"\",'Renseignements sur le locataire'!E1096)","v":""}]
[null,null,null,{"$f":"IF(ISBLANK('Renseignements sur le locataire'!E1097),\"\",'Renseignements sur le locataire'!E1097)","v":""}]
[null,null,null,{"$f":"IF(ISBLANK('Renseignements sur le locataire'!E1098),\"\",'Renseignements sur le locataire'!E1098)","v":""}]
[null,null,null,{"$f":"IF(ISBLANK('Renseignements sur le locataire'!E1099),\"\",'Renseignements sur le locataire'!E1099)","v":""}]
[null,null,null,{"$f":"IF(ISBLANK('Renseignements sur le locataire'!E1100),\"\",'Renseignements sur le locataire'!E1100)","v":""}]
[null,null,null,{"$f":"IF(ISBLANK('Renseignements sur le locataire'!E1101),\"\",'Renseignements sur le locataire'!E1101)","v":""}]
[null,null,null,{"$f":"IF(ISBLANK('Renseignements sur le locataire'!E1102),\"\",'Renseignements sur le locataire'!E1102)","v":""}]
[null,null,null,{"$f":"IF(ISBLANK('Renseignements sur le locataire'!E1103),\"\",'Renseignements sur le locataire'!E1103)","v":""}]
[null,null,null,{"$f":"IF(ISBLANK('Renseignements sur le locataire'!E1104),\"\",'Renseignements sur le locataire'!E1104)","v":""}]
[null,null,null,{"$f":"IF(ISBLANK('Renseignements sur le locataire'!E1105),\"\",'Renseignements sur le locataire'!E1105)","v":""}]
[null,null,null,{"$f":"IF(ISBLANK('Renseignements sur le locataire'!E1106),\"\",'Renseignements sur le locataire'!E1106)","v":""}]
[null,null,null,{"$f":"IF(ISBLANK('Renseignements sur le locataire'!E1107),\"\",'Renseignements sur le locataire'!E1107)","v":""}]
[null,null,null,{"$f":"IF(ISBLANK('Renseignements sur le locataire'!E1108),\"\",'Renseignements sur le locataire'!E1108)","v":""}]
[null,null,null,{"$f":"IF(ISBLANK('Renseignements sur le locataire'!E1109),\"\",'Renseignements sur le locataire'!E1109)","v":""}]
[null,null,null,{"$f":"IF(ISBLANK('Renseignements sur le locataire'!E1110),\"\",'Renseignements sur le locataire'!E1110)","v":""}]
[null,null,null,{"$f":"IF(ISBLANK('Renseignements sur le locataire'!E1111),\"\",'Renseignements sur le locataire'!E1111)","v":""}]
[null,null,null,{"$f":"IF(ISBLANK('Renseignements sur le locataire'!E1112),\"\",'Renseignements sur le locataire'!E1112)","v":""}]
[null,null,null,{"$f":"IF(ISBLANK('Renseignements sur le locataire'!E1113),\"\",'Renseignements sur le locataire'!E1113)","v":""}]
[null,null,null,{"$f":"IF(ISBLANK('Renseignements sur le locataire'!E1114),\"\",'Renseignements sur le locataire'!E1114)","v":""}]
[null,null,null,{"$f":"IF(ISBLANK('Renseignements sur le locataire'!E1115),\"\",'Renseignements sur le locataire'!E1115)","v":""}]
[null,null,null,{"$f":"IF(ISBLANK('Renseignements sur le locataire'!E1116),\"\",'Renseignements sur le locataire'!E1116)","v":""}]
[null,null,null,{"$f":"IF(ISBLANK('Renseignements sur le locataire'!E1117),\"\",'Renseignements sur le locataire'!E1117)","v":""}]
[null,null,null,{"$f":"IF(ISBLANK('Renseignements sur le locataire'!E1118),\"\",'Renseignements sur le locataire'!E1118)","v":""}]
[null,null,null,{"$f":"IF(ISBLANK('Renseignements sur le locataire'!E1119),\"\",'Renseignements sur le locataire'!E1119)","v":""}]
[null,null,null,{"$f":"IF(ISBLANK('Renseignements sur le locataire'!E1120),\"\",'Renseignements sur le locataire'!E1120)","v":""}]
[null,null,null,{"$f":"IF(ISBLANK('Renseignements sur le locataire'!E1121),\"\",'Renseignements sur le locataire'!E1121)","v":""}]
[null,null,null,{"$f":"IF(ISBLANK('Renseignements sur le locataire'!E1122),\"\",'Renseignements sur le locataire'!E1122)","v":""}]
[null,null,null,{"$f":"IF(ISBLANK('Renseignements sur le locataire'!E1123),\"\",'Renseignements sur le locataire'!E1123)","v":""}]
[null,null,null,{"$f":"IF(ISBLANK('Renseignements sur le locataire'!E1124),\"\",'Renseignements sur le locataire'!E1124)","v":""}]
[null,null,null,{"$f":"IF(ISBLANK('Renseignements sur le locataire'!E1125),\"\",'Renseignements sur le locataire'!E1125)","v":""}]
[null,null,null,{"$f":"IF(ISBLANK('Renseignements sur le locataire'!E1126),\"\",'Renseignements sur le locataire'!E1126)","v":""}]
[null,null,null,{"$f":"IF(ISBLANK('Renseignements sur le locataire'!E1127),\"\",'Renseignements sur le locataire'!E1127)","v":""}]
[null,null,null,{"$f":"IF(ISBLANK('Renseignements sur le locataire'!E1128),\"\",'Renseignements sur le locataire'!E1128)","v":""}]
[null,null,null,{"$f":"IF(ISBLANK('Renseignements sur le locataire'!E1129),\"\",'Renseignements sur le locataire'!E1129)","v":""}]
[null,null,null,{"$f":"IF(ISBLANK('Renseignements sur le locataire'!E1130),\"\",'Renseignements sur le locataire'!E1130)","v":""}]
[null,null,null,{"$f":"IF(ISBLANK('Renseignements sur le locataire'!E1131),\"\",'Renseignements sur le locataire'!E1131)","v":""}]
[null,null,null,{"$f":"IF(ISBLANK('Renseignements sur le locataire'!E1132),\"\",'Renseignements sur le locataire'!E1132)","v":""}]
[null,null,null,{"$f":"IF(ISBLANK('Renseignements sur le locataire'!E1133),\"\",'Renseignements sur le locataire'!E1133)","v":""}]
[null,null,null,{"$f":"IF(ISBLANK('Renseignements sur le locataire'!E1134),\"\",'Renseignements sur le locataire'!E1134)","v":""}]
[null,null,null,{"$f":"IF(ISBLANK('Renseignements sur le locataire'!E1135),\"\",'Renseignements sur le locataire'!E1135)","v":""}]
[null,null,null,{"$f":"IF(ISBLANK('Renseignements sur le locataire'!E1136),\"\",'Renseignements sur le locataire'!E1136)","v":""}]
[null,null,null,{"$f":"IF(ISBLANK('Renseignements sur le locataire'!E1137),\"\",'Renseignements sur le locataire'!E1137)","v":""}]
[null,null,null,{"$f":"IF(ISBLANK('Renseignements sur le locataire'!E1138),\"\",'Renseignements sur le locataire'!E1138)","v":""}]
[null,null,null,{"$f":"IF(ISBLANK('Renseignements sur le locataire'!E1139),\"\",'Renseignements sur le locataire'!E1139)","v":""}]
[null,null,null,{"$f":"IF(ISBLANK('Renseignements sur le locataire'!E1140),\"\",'Renseignements sur le locataire'!E1140)","v":""}]
[null,null,null,{"$f":"IF(ISBLANK('Renseignements sur le locataire'!E1141),\"\",'Renseignements sur le locataire'!E1141)","v":""}]
[null,null,null,{"$f":"IF(ISBLANK('Renseignements sur le locataire'!E1142),\"\",'Renseignements sur le locataire'!E1142)","v":""}]
[null,null,null,{"$f":"IF(ISBLANK('Renseignements sur le locataire'!E1143),\"\",'Renseignements sur le locataire'!E1143)","v":""}]
[null,null,null,{"$f":"IF(ISBLANK('Renseignements sur le locataire'!E1144),\"\",'Renseignements sur le locataire'!E1144)","v":""}]
[null,null,null,{"$f":"IF(ISBLANK('Renseignements sur le locataire'!E1145),\"\",'Renseignements sur le locataire'!E1145)","v":""}]
[null,null,null,{"$f":"IF(ISBLANK('Renseignements sur le locataire'!E1146),\"\",'Renseignements sur le locataire'!E1146)","v":""}]
[null,null,null,{"$f":"IF(ISBLANK('Renseignements sur le locataire'!E1147),\"\",'Renseignements sur le locataire'!E1147)","v":""}]
[null,null,null,{"$f":"IF(ISBLANK('Renseignements sur le locataire'!E1148),\"\",'Renseignements sur le locataire'!E1148)","v":""}]
[null,null,null,{"$f":"IF(ISBLANK('Renseignements sur le locataire'!E1149),\"\",'Renseignements sur le locataire'!E1149)","v":""}]
[null,null,null,{"$f":"IF(ISBLANK('Renseignements sur le locataire'!E1150),\"\",'Renseignements sur le locataire'!E1150)","v":""}]
[null,null,null,{"$f":"IF(ISBLANK('Renseignements sur le locataire'!E1151),\"\",'Renseignements sur le locataire'!E1151)","v":""}]
[null,null,null,{"$f":"IF(ISBLANK('Renseignements sur le locataire'!E1152),\"\",'Renseignements sur le locataire'!E1152)","v":""}]
[null,null,null,{"$f":"IF(ISBLANK('Renseignements sur le locataire'!E1153),\"\",'Renseignements sur le locataire'!E1153)","v":""}]
[null,null,null,{"$f":"IF(ISBLANK('Renseignements sur le locataire'!E1154),\"\",'Renseignements sur le locataire'!E1154)","v":""}]
[null,null,null,{"$f":"IF(ISBLANK('Renseignements sur le locataire'!E1155),\"\",'Renseignements sur le locataire'!E1155)","v":""}]
[null,null,null,{"$f":"IF(ISBLANK('Renseignements sur le locataire'!E1156),\"\",'Renseignements sur le locataire'!E1156)","v":""}]
[null,null,null,{"$f":"IF(ISBLANK('Renseignements sur le locataire'!E1157),\"\",'Renseignements sur le locataire'!E1157)","v":""}]
[null,null,null,{"$f":"IF(ISBLANK('Renseignements sur le locataire'!E1158),\"\",'Renseignements sur le locataire'!E1158)","v":""}]
[null,null,null,{"$f":"IF(ISBLANK('Renseignements sur le locataire'!E1159),\"\",'Renseignements sur le locataire'!E1159)","v":""}]
[null,null,null,{"$f":"IF(ISBLANK('Renseignements sur le locataire'!E1160),\"\",'Renseignements sur le locataire'!E1160)","v":""}]
[null,null,null,{"$f":"IF(ISBLANK('Renseignements sur le locataire'!E1161),\"\",'Renseignements sur le locataire'!E1161)","v":""}]
[null,null,null,{"$f":"IF(ISBLANK('Renseignements sur le locataire'!E1162),\"\",'Renseignements sur le locataire'!E1162)","v":""}]
[null,null,null,{"$f":"IF(ISBLANK('Renseignements sur le locataire'!E1163),\"\",'Renseignements sur le locataire'!E1163)","v":""}]
[null,null,null,{"$f":"IF(ISBLANK('Renseignements sur le locataire'!E1164),\"\",'Renseignements sur le locataire'!E1164)","v":""}]
[null,null,null,{"$f":"IF(ISBLANK('Renseignements sur le locataire'!E1165),\"\",'Renseignements sur le locataire'!E1165)","v":""}]
[null,null,null,{"$f":"IF(ISBLANK('Renseignements sur le locataire'!E1166),\"\",'Renseignements sur le locataire'!E1166)","v":""}]
[null,null,null,{"$f":"IF(ISBLANK('Renseignements sur le locataire'!E1167),\"\",'Renseignements sur le locataire'!E1167)","v":""}]
[null,null,null,{"$f":"IF(ISBLANK('Renseignements sur le locataire'!E1168),\"\",'Renseignements sur le locataire'!E1168)","v":""}]
[null,null,null,{"$f":"IF(ISBLANK('Renseignements sur le locataire'!E1169),\"\",'Renseignements sur le locataire'!E1169)","v":""}]
[null,null,null,{"$f":"IF(ISBLANK('Renseignements sur le locataire'!E1170),\"\",'Renseignements sur le locataire'!E1170)","v":""}]
[null,null,null,{"$f":"IF(ISBLANK('Renseignements sur le locataire'!E1171),\"\",'Renseignements sur le locataire'!E1171)","v":""}]
[null,null,null,{"$f":"IF(ISBLANK('Renseignements sur le locataire'!E1172),\"\",'Renseignements sur le locataire'!E1172)","v":""}]
[null,null,null,{"$f":"IF(ISBLANK('Renseignements sur le locataire'!E1173),\"\",'Renseignements sur le locataire'!E1173)","v":""}]
[null,null,null,{"$f":"IF(ISBLANK('Renseignements sur le locataire'!E1174),\"\",'Renseignements sur le locataire'!E1174)","v":""}]
[null,null,null,{"$f":"IF(ISBLANK('Renseignements sur le locataire'!E1175),\"\",'Renseignements sur le locataire'!E1175)","v":""}]
[null,null,null,{"$f":"IF(ISBLANK('Renseignements sur le locataire'!E1176),\"\",'Renseignements sur le locataire'!E1176)","v":""}]
[null,null,null,{"$f":"IF(ISBLANK('Renseignements sur le locataire'!E1177),\"\",'Renseignements sur le locataire'!E1177)","v":""}]
[null,null,null,{"$f":"IF(ISBLANK('Renseignements sur le locataire'!E1178),\"\",'Renseignements sur le locataire'!E1178)","v":""}]
[null,null,null,{"$f":"IF(ISBLANK('Renseignements sur le locataire'!E1179),\"\",'Renseignements sur le locataire'!E1179)","v":""}]
[null,null,null,{"$f":"IF(ISBLANK('Renseignements sur le locataire'!E1180),\"\",'Renseignements sur le locataire'!E1180)","v":""}]
[null,null,null,{"$f":"IF(ISBLANK('Renseignements sur le locataire'!E1181),\"\",'Renseignements sur le locataire'!E1181)","v":""}]
[null,null,null,{"$f":"IF(ISBLANK('Renseignements sur le locataire'!E1182),\"\",'Renseignements sur le locataire'!E1182)","v":""}]
[null,null,null,{"$f":"IF(ISBLANK('Renseignements sur le locataire'!E1183),\"\",'Renseignements sur le locataire'!E1183)","v":""}]
[null,null,null,{"$f":"IF(ISBLANK('Renseignements sur le locataire'!E1184),\"\",'Renseignements sur le locataire'!E1184)","v":""}]
[null,null,null,{"$f":"IF(ISBLANK('Renseignements sur le locataire'!E1185),\"\",'Renseignements sur le locataire'!E1185)","v":""}]
[null,null,null,{"$f":"IF(ISBLANK('Renseignements sur le locataire'!E1186),\"\",'Renseignements sur le locataire'!E1186)","v":""}]
[null,null,null,{"$f":"IF(ISBLANK('Renseignements sur le locataire'!E1187),\"\",'Renseignements sur le locataire'!E1187)","v":""}]
[null,null,null,{"$f":"IF(ISBLANK('Renseignements sur le locataire'!E1188),\"\",'Renseignements sur le locataire'!E1188)","v":""}]
[null,null,null,{"$f":"IF(ISBLANK('Renseignements sur le locataire'!E1189),\"\",'Renseignements sur le locataire'!E1189)","v":""}]
[null,null,null,{"$f":"IF(ISBLANK('Renseignements sur le locataire'!E1190),\"\",'Renseignements sur le locataire'!E1190)","v":""}]
[null,null,null,{"$f":"IF(ISBLANK('Renseignements sur le locataire'!E1191),\"\",'Renseignements sur le locataire'!E1191)","v":""}]
[null,null,null,{"$f":"IF(ISBLANK('Renseignements sur le locataire'!E1192),\"\",'Renseignements sur le locataire'!E1192)","v":""}]
[null,null,null,{"$f":"IF(ISBLANK('Renseignements sur le locataire'!E1193),\"\",'Renseignements sur le locataire'!E1193)","v":""}]
[null,null,null,{"$f":"IF(ISBLANK('Renseignements sur le locataire'!E1194),\"\",'Renseignements sur le locataire'!E1194)","v":""}]
[null,null,null,{"$f":"IF(ISBLANK('Renseignements sur le locataire'!E1195),\"\",'Renseignements sur le locataire'!E1195)","v":""}]
[null,null,null,{"$f":"IF(ISBLANK('Renseignements sur le locataire'!E1196),\"\",'Renseignements sur le locataire'!E1196)","v":""}]
[null,null,null,{"$f":"IF(ISBLANK('Renseignements sur le locataire'!E1197),\"\",'Renseignements sur le locataire'!E1197)","v":""}]
[null,null,null,{"$f":"IF(ISBLANK('Renseignements sur le locataire'!E1198),\"\",'Renseignements sur le locataire'!E1198)","v":""}]
[null,null,null,{"$f":"IF(ISBLANK('Renseignements sur le locataire'!E1199),\"\",'Renseignements sur le locataire'!E1199)","v":""}]
[null,null,null,{"$f":"IF(ISBLANK('Renseignements sur le locataire'!E1200),\"\",'Renseignements sur le locataire'!E1200)","v":""}]
[null,null,null,{"$f":"IF(ISBLANK('Renseignements sur le locataire'!E1201),\"\",'Renseignements sur le locataire'!E1201)","v":""}]
[null,null,null,{"$f":"IF(ISBLANK('Renseignements sur le locataire'!E1202),\"\",'Renseignements sur le locataire'!E1202)","v":""}]
[null,null,null,{"$f":"IF(ISBLANK('Renseignements sur le locataire'!E1203),\"\",'Renseignements sur le locataire'!E1203)","v":""}]
[null,null,null,{"$f":"IF(ISBLANK('Renseignements sur le locataire'!E1204),\"\",'Renseignements sur le locataire'!E1204)","v":""}]
[null,null,null,{"$f":"IF(ISBLANK('Renseignements sur le locataire'!E1205),\"\",'Renseignements sur le locataire'!E1205)","v":""}]
[null,null,null,{"$f":"IF(ISBLANK('Renseignements sur le locataire'!E1206),\"\",'Renseignements sur le locataire'!E1206)","v":""}]
[null,null,null,{"$f":"IF(ISBLANK('Renseignements sur le locataire'!E1207),\"\",'Renseignements sur le locataire'!E1207)","v":""}]
[null,null,null,{"$f":"IF(ISBLANK('Renseignements sur le locataire'!E1208),\"\",'Renseignements sur le locataire'!E1208)","v":""}]
[null,null,null,{"$f":"IF(ISBLANK('Renseignements sur le locataire'!E1209),\"\",'Renseignements sur le locataire'!E1209)","v":""}]
[null,null,null,{"$f":"IF(ISBLANK('Renseignements sur le locataire'!E1210),\"\",'Renseignements sur le locataire'!E1210)","v":""}]
[null,null,null,{"$f":"IF(ISBLANK('Renseignements sur le locataire'!E1211),\"\",'Renseignements sur le locataire'!E1211)","v":""}]
[null,null,null,{"$f":"IF(ISBLANK('Renseignements sur le locataire'!E1212),\"\",'Renseignements sur le locataire'!E1212)","v":""}]
[null,null,null,{"$f":"IF(ISBLANK('Renseignements sur le locataire'!E1213),\"\",'Renseignements sur le locataire'!E1213)","v":""}]
[null,null,null,{"$f":"IF(ISBLANK('Renseignements sur le locataire'!E1214),\"\",'Renseignements sur le locataire'!E1214)","v":""}]
[null,null,null,{"$f":"IF(ISBLANK('Renseignements sur le locataire'!E1215),\"\",'Renseignements sur le locataire'!E1215)","v":""}]
[null,null,null,{"$f":"IF(ISBLANK('Renseignements sur le locataire'!E1216),\"\",'Renseignements sur le locataire'!E1216)","v":""}]
[null,null,null,{"$f":"IF(ISBLANK('Renseignements sur le locataire'!E1217),\"\",'Renseignements sur le locataire'!E1217)","v":""}]
[null,null,null,{"$f":"IF(ISBLANK('Renseignements sur le locataire'!E1218),\"\",'Renseignements sur le locataire'!E1218)","v":""}]
[null,null,null,{"$f":"IF(ISBLANK('Renseignements sur le locataire'!E1219),\"\",'Renseignements sur le locataire'!E1219)","v":""}]
[null,null,null,{"$f":"IF(ISBLANK('Renseignements sur le locataire'!E1220),\"\",'Renseignements sur le locataire'!E1220)","v":""}]
[null,null,null,{"$f":"IF(ISBLANK('Renseignements sur le locataire'!E1221),\"\",'Renseignements sur le locataire'!E1221)","v":""}]
[null,null,null,{"$f":"IF(ISBLANK('Renseignements sur le locataire'!E1222),\"\",'Renseignements sur le locataire'!E1222)","v":""}]
[null,null,null,{"$f":"IF(ISBLANK('Renseignements sur le locataire'!E1223),\"\",'Renseignements sur le locataire'!E1223)","v":""}]
[null,null,null,{"$f":"IF(ISBLANK('Renseignements sur le locataire'!E1224),\"\",'Renseignements sur le locataire'!E1224)","v":""}]
[null,null,null,{"$f":"IF(ISBLANK('Renseignements sur le locataire'!E1225),\"\",'Renseignements sur le locataire'!E1225)","v":""}]
[null,null,null,{"$f":"IF(ISBLANK('Renseignements sur le locataire'!E1226),\"\",'Renseignements sur le locataire'!E1226)","v":""}]
[null,null,null,{"$f":"IF(ISBLANK('Renseignements sur le locataire'!E1227),\"\",'Renseignements sur le locataire'!E1227)","v":""}]
[null,null,null,{"$f":"IF(ISBLANK('Renseignements sur le locataire'!E1228),\"\",'Renseignements sur le locataire'!E1228)","v":""}]
[null,null,null,{"$f":"IF(ISBLANK('Renseignements sur le locataire'!E1229),\"\",'Renseignements sur le locataire'!E1229)","v":""}]
[null,null,null,{"$f":"IF(ISBLANK('Renseignements sur le locataire'!E1230),\"\",'Renseignements sur le locataire'!E1230)","v":""}]
[null,null,null,{"$f":"IF(ISBLANK('Renseignements sur le locataire'!E1231),\"\",'Renseignements sur le locataire'!E1231)","v":""}]
[null,null,null,{"$f":"IF(ISBLANK('Renseignements sur le locataire'!E1232),\"\",'Renseignements sur le locataire'!E1232)","v":""}]
[null,null,null,{"$f":"IF(ISBLANK('Renseignements sur le locataire'!E1233),\"\",'Renseignements sur le locataire'!E1233)","v":""}]
[null,null,null,{"$f":"IF(ISBLANK('Renseignements sur le locataire'!E1234),\"\",'Renseignements sur le locataire'!E1234)","v":""}]
[null,null,null,{"$f":"IF(ISBLANK('Renseignements sur le locataire'!E1235),\"\",'Renseignements sur le locataire'!E1235)","v":""}]
[null,null,null,{"$f":"IF(ISBLANK('Renseignements sur le locataire'!E1236),\"\",'Renseignements sur le locataire'!E1236)","v":""}]
[null,null,null,{"$f":"IF(ISBLANK('Renseignements sur le locataire'!E1237),\"\",'Renseignements sur le locataire'!E1237)","v":""}]
[null,null,null,{"$f":"IF(ISBLANK('Renseignements sur le locataire'!E1238),\"\",'Renseignements sur le locataire'!E1238)","v":""}]
[null,null,null,{"$f":"IF(ISBLANK('Renseignements sur le locataire'!E1239),\"\",'Renseignements sur le locataire'!E1239)","v":""}]
[null,null,null,{"$f":"IF(ISBLANK('Renseignements sur le locataire'!E1240),\"\",'Renseignements sur le locataire'!E1240)","v":""}]
[null,null,null,{"$f":"IF(ISBLANK('Renseignements sur le locataire'!E1241),\"\",'Renseignements sur le locataire'!E1241)","v":""}]
[null,null,null,{"$f":"IF(ISBLANK('Renseignements sur le locataire'!E1242),\"\",'Renseignements sur le locataire'!E1242)","v":""}]
[null,null,null,{"$f":"IF(ISBLANK('Renseignements sur le locataire'!E1243),\"\",'Renseignements sur le locataire'!E1243)","v":""}]
[null,null,null,{"$f":"IF(ISBLANK('Renseignements sur le locataire'!E1244),\"\",'Renseignements sur le locataire'!E1244)","v":""}]
[null,null,null,{"$f":"IF(ISBLANK('Renseignements sur le locataire'!E1245),\"\",'Renseignements sur le locataire'!E1245)","v":""}]
[null,null,null,{"$f":"IF(ISBLANK('Renseignements sur le locataire'!E1246),\"\",'Renseignements sur le locataire'!E1246)","v":""}]
[null,null,null,{"$f":"IF(ISBLANK('Renseignements sur le locataire'!E1247),\"\",'Renseignements sur le locataire'!E1247)","v":""}]
[null,null,null,{"$f":"IF(ISBLANK('Renseignements sur le locataire'!E1248),\"\",'Renseignements sur le locataire'!E1248)","v":""}]
[null,null,null,{"$f":"IF(ISBLANK('Renseignements sur le locataire'!E1249),\"\",'Renseignements sur le locataire'!E1249)","v":""}]
[null,null,null,{"$f":"IF(ISBLANK('Renseignements sur le locataire'!E1250),\"\",'Renseignements sur le locataire'!E1250)","v":""}]
[null,null,null,{"$f":"IF(ISBLANK('Renseignements sur le locataire'!E1251),\"\",'Renseignements sur le locataire'!E1251)","v":""}]
[null,null,null,{"$f":"IF(ISBLANK('Renseignements sur le locataire'!E1252),\"\",'Renseignements sur le locataire'!E1252)","v":""}]
[null,null,null,{"$f":"IF(ISBLANK('Renseignements sur le locataire'!E1253),\"\",'Renseignements sur le locataire'!E1253)","v":""}]
[null,null,null,{"$f":"IF(ISBLANK('Renseignements sur le locataire'!E1254),\"\",'Renseignements sur le locataire'!E1254)","v":""}]
[null,null,null,{"$f":"IF(ISBLANK('Renseignements sur le locataire'!E1255),\"\",'Renseignements sur le locataire'!E1255)","v":""}]
[null,null,null,{"$f":"IF(ISBLANK('Renseignements sur le locataire'!E1256),\"\",'Renseignements sur le locataire'!E1256)","v":""}]
[null,null,null,{"$f":"IF(ISBLANK('Renseignements sur le locataire'!E1257),\"\",'Renseignements sur le locataire'!E1257)","v":""}]
[null,null,null,{"$f":"IF(ISBLANK('Renseignements sur le locataire'!E1258),\"\",'Renseignements sur le locataire'!E1258)","v":""}]
[null,null,null,{"$f":"IF(ISBLANK('Renseignements sur le locataire'!E1259),\"\",'Renseignements sur le locataire'!E1259)","v":""}]
[null,null,null,{"$f":"IF(ISBLANK('Renseignements sur le locataire'!E1260),\"\",'Renseignements sur le locataire'!E1260)","v":""}]
[null,null,null,{"$f":"IF(ISBLANK('Renseignements sur le locataire'!E1261),\"\",'Renseignements sur le locataire'!E1261)","v":""}]
[null,null,null,{"$f":"IF(ISBLANK('Renseignements sur le locataire'!E1262),\"\",'Renseignements sur le locataire'!E1262)","v":""}]
[null,null,null,{"$f":"IF(ISBLANK('Renseignements sur le locataire'!E1263),\"\",'Renseignements sur le locataire'!E1263)","v":""}]
[null,null,null,{"$f":"IF(ISBLANK('Renseignements sur le locataire'!E1264),\"\",'Renseignements sur le locataire'!E1264)","v":""}]
[null,null,null,{"$f":"IF(ISBLANK('Renseignements sur le locataire'!E1265),\"\",'Renseignements sur le locataire'!E1265)","v":""}]
[null,null,null,{"$f":"IF(ISBLANK('Renseignements sur le locataire'!E1266),\"\",'Renseignements sur le locataire'!E1266)","v":""}]
[null,null,null,{"$f":"IF(ISBLANK('Renseignements sur le locataire'!E1267),\"\",'Renseignements sur le locataire'!E1267)","v":""}]
[null,null,null,{"$f":"IF(ISBLANK('Renseignements sur le locataire'!E1268),\"\",'Renseignements sur le locataire'!E1268)","v":""}]
[null,null,null,{"$f":"IF(ISBLANK('Renseignements sur le locataire'!E1269),\"\",'Renseignements sur le locataire'!E1269)","v":""}]
[null,null,null,{"$f":"IF(ISBLANK('Renseignements sur le locataire'!E1270),\"\",'Renseignements sur le locataire'!E1270)","v":""}]
[null,null,null,{"$f":"IF(ISBLANK('Renseignements sur le locataire'!E1271),\"\",'Renseignements sur le locataire'!E1271)","v":""}]
[null,null,null,{"$f":"IF(ISBLANK('Renseignements sur le locataire'!E1272),\"\",'Renseignements sur le locataire'!E1272)","v":""}]
[null,null,null,{"$f":"IF(ISBLANK('Renseignements sur le locataire'!E1273),\"\",'Renseignements sur le locataire'!E1273)","v":""}]
[null,null,null,{"$f":"IF(ISBLANK('Renseignements sur le locataire'!E1274),\"\",'Renseignements sur le locataire'!E1274)","v":""}]
[null,null,null,{"$f":"IF(ISBLANK('Renseignements sur le locataire'!E1275),\"\",'Renseignements sur le locataire'!E1275)","v":""}]
[null,null,null,{"$f":"IF(ISBLANK('Renseignements sur le locataire'!E1276),\"\",'Renseignements sur le locataire'!E1276)","v":""}]
[null,null,null,{"$f":"IF(ISBLANK('Renseignements sur le locataire'!E1277),\"\",'Renseignements sur le locataire'!E1277)","v":""}]
[null,null,null,{"$f":"IF(ISBLANK('Renseignements sur le locataire'!E1278),\"\",'Renseignements sur le locataire'!E1278)","v":""}]
[null,null,null,{"$f":"IF(ISBLANK('Renseignements sur le locataire'!E1279),\"\",'Renseignements sur le locataire'!E1279)","v":""}]
[null,null,null,{"$f":"IF(ISBLANK('Renseignements sur le locataire'!E1280),\"\",'Renseignements sur le locataire'!E1280)","v":""}]
[null,null,null,{"$f":"IF(ISBLANK('Renseignements sur le locataire'!E1281),\"\",'Renseignements sur le locataire'!E1281)","v":""}]
[null,null,null,{"$f":"IF(ISBLANK('Renseignements sur le locataire'!E1282),\"\",'Renseignements sur le locataire'!E1282)","v":""}]
[null,null,null,{"$f":"IF(ISBLANK('Renseignements sur le locataire'!E1283),\"\",'Renseignements sur le locataire'!E1283)","v":""}]
[null,null,null,{"$f":"IF(ISBLANK('Renseignements sur le locataire'!E1284),\"\",'Renseignements sur le locataire'!E1284)","v":""}]
[null,null,null,{"$f":"IF(ISBLANK('Renseignements sur le locataire'!E1285),\"\",'Renseignements sur le locataire'!E1285)","v":""}]
[null,null,null,{"$f":"IF(ISBLANK('Renseignements sur le locataire'!E1286),\"\",'Renseignements sur le locataire'!E1286)","v":""}]
[null,null,null,{"$f":"IF(ISBLANK('Renseignements sur le locataire'!E1287),\"\",'Renseignements sur le locataire'!E1287)","v":""}]
[null,null,null,{"$f":"IF(ISBLANK('Renseignements sur le locataire'!E1288),\"\",'Renseignements sur le locataire'!E1288)","v":""}]
[null,null,null,{"$f":"IF(ISBLANK('Renseignements sur le locataire'!E1289),\"\",'Renseignements sur le locataire'!E1289)","v":""}]
[null,null,null,{"$f":"IF(ISBLANK('Renseignements sur le locataire'!E1290),\"\",'Renseignements sur le locataire'!E1290)","v":""}]
[null,null,null,{"$f":"IF(ISBLANK('Renseignements sur le locataire'!E1291),\"\",'Renseignements sur le locataire'!E1291)","v":""}]
[null,null,null,{"$f":"IF(ISBLANK('Renseignements sur le locataire'!E1292),\"\",'Renseignements sur le locataire'!E1292)","v":""}]
[null,null,null,{"$f":"IF(ISBLANK('Renseignements sur le locataire'!E1293),\"\",'Renseignements sur le locataire'!E1293)","v":""}]
[null,null,null,{"$f":"IF(ISBLANK('Renseignements sur le locataire'!E1294),\"\",'Renseignements sur le locataire'!E1294)","v":""}]
[null,null,null,{"$f":"IF(ISBLANK('Renseignements sur le locataire'!E1295),\"\",'Renseignements sur le locataire'!E1295)","v":""}]
[null,null,null,{"$f":"IF(ISBLANK('Renseignements sur le locataire'!E1296),\"\",'Renseignements sur le locataire'!E1296)","v":""}]
[null,null,null,{"$f":"IF(ISBLANK('Renseignements sur le locataire'!E1297),\"\",'Renseignements sur le locataire'!E1297)","v":""}]
[null,null,null,{"$f":"IF(ISBLANK('Renseignements sur le locataire'!E1298),\"\",'Renseignements sur le locataire'!E1298)","v":""}]
[null,null,null,{"$f":"IF(ISBLANK('Renseignements sur le locataire'!E1299),\"\",'Renseignements sur le locataire'!E1299)","v":""}]
[null,null,null,{"$f":"IF(ISBLANK('Renseignements sur le locataire'!E1300),\"\",'Renseignements sur le locataire'!E1300)","v":""}]
[null,null,null,{"$f":"IF(ISBLANK('Renseignements sur le locataire'!E1301),\"\",'Renseignements sur le locataire'!E1301)","v":""}]
[null,null,null,{"$f":"IF(ISBLANK('Renseignements sur le locataire'!E1302),\"\",'Renseignements sur le locataire'!E1302)","v":""}]
[null,null,null,{"$f":"IF(ISBLANK('Renseignements sur le locataire'!E1303),\"\",'Renseignements sur le locataire'!E1303)","v":""}]
[null,null,null,{"$f":"IF(ISBLANK('Renseignements sur le locataire'!E1304),\"\",'Renseignements sur le locataire'!E1304)","v":""}]
[null,null,null,{"$f":"IF(ISBLANK('Renseignements sur le locataire'!E1305),\"\",'Renseignements sur le locataire'!E1305)","v":""}]
[null,null,null,{"$f":"IF(ISBLANK('Renseignements sur le locataire'!E1306),\"\",'Renseignements sur le locataire'!E1306)","v":""}]
[null,null,null,{"$f":"IF(ISBLANK('Renseignements sur le locataire'!E1307),\"\",'Renseignements sur le locataire'!E1307)","v":""}]
[null,null,null,{"$f":"IF(ISBLANK('Renseignements sur le locataire'!E1308),\"\",'Renseignements sur le locataire'!E1308)","v":""}]
[null,null,null,{"$f":"IF(ISBLANK('Renseignements sur le locataire'!E1309),\"\",'Renseignements sur le locataire'!E1309)","v":""}]
[null,null,null,{"$f":"IF(ISBLANK('Renseignements sur le locataire'!E1310),\"\",'Renseignements sur le locataire'!E1310)","v":""}]
[null,null,null,{"$f":"IF(ISBLANK('Renseignements sur le locataire'!E1311),\"\",'Renseignements sur le locataire'!E1311)","v":""}]
[null,null,null,{"$f":"IF(ISBLANK('Renseignements sur le locataire'!E1312),\"\",'Renseignements sur le locataire'!E1312)","v":""}]
[null,null,null,{"$f":"IF(ISBLANK('Renseignements sur le locataire'!E1313),\"\",'Renseignements sur le locataire'!E1313)","v":""}]
[null,null,null,{"$f":"IF(ISBLANK('Renseignements sur le locataire'!E1314),\"\",'Renseignements sur le locataire'!E1314)","v":""}]
[null,null,null,{"$f":"IF(ISBLANK('Renseignements sur le locataire'!E1315),\"\",'Renseignements sur le locataire'!E1315)","v":""}]
[null,null,null,{"$f":"IF(ISBLANK('Renseignements sur le locataire'!E1316),\"\",'Renseignements sur le locataire'!E1316)","v":""}]
[null,null,null,{"$f":"IF(ISBLANK('Renseignements sur le locataire'!E1317),\"\",'Renseignements sur le locataire'!E1317)","v":""}]
[null,null,null,{"$f":"IF(ISBLANK('Renseignements sur le locataire'!E1318),\"\",'Renseignements sur le locataire'!E1318)","v":""}]
[null,null,null,{"$f":"IF(ISBLANK('Renseignements sur le locataire'!E1319),\"\",'Renseignements sur le locataire'!E1319)","v":""}]
[null,null,null,{"$f":"IF(ISBLANK('Renseignements sur le locataire'!E1320),\"\",'Renseignements sur le locataire'!E1320)","v":""}]
[null,null,null,{"$f":"IF(ISBLANK('Renseignements sur le locataire'!E1321),\"\",'Renseignements sur le locataire'!E1321)","v":""}]
[null,null,null,{"$f":"IF(ISBLANK('Renseignements sur le locataire'!E1322),\"\",'Renseignements sur le locataire'!E1322)","v":""}]
[null,null,null,{"$f":"IF(ISBLANK('Renseignements sur le locataire'!E1323),\"\",'Renseignements sur le locataire'!E1323)","v":""}]
[null,null,null,{"$f":"IF(ISBLANK('Renseignements sur le locataire'!E1324),\"\",'Renseignements sur le locataire'!E1324)","v":""}]
[null,null,null,{"$f":"IF(ISBLANK('Renseignements sur le locataire'!E1325),\"\",'Renseignements sur le locataire'!E1325)","v":""}]
[null,null,null,{"$f":"IF(ISBLANK('Renseignements sur le locataire'!E1326),\"\",'Renseignements sur le locataire'!E1326)","v":""}]
[null,null,null,{"$f":"IF(ISBLANK('Renseignements sur le locataire'!E1327),\"\",'Renseignements sur le locataire'!E1327)","v":""}]
[null,null,null,{"$f":"IF(ISBLANK('Renseignements sur le locataire'!E1328),\"\",'Renseignements sur le locataire'!E1328)","v":""}]
[null,null,null,{"$f":"IF(ISBLANK('Renseignements sur le locataire'!E1329),\"\",'Renseignements sur le locataire'!E1329)","v":""}]
[null,null,null,{"$f":"IF(ISBLANK('Renseignements sur le locataire'!E1330),\"\",'Renseignements sur le locataire'!E1330)","v":""}]
[null,null,null,{"$f":"IF(ISBLANK('Renseignements sur le locataire'!E1331),\"\",'Renseignements sur le locataire'!E1331)","v":""}]
[null,null,null,{"$f":"IF(ISBLANK('Renseignements sur le locataire'!E1332),\"\",'Renseignements sur le locataire'!E1332)","v":""}]
[null,null,null,{"$f":"IF(ISBLANK('Renseignements sur le locataire'!E1333),\"\",'Renseignements sur le locataire'!E1333)","v":""}]
[null,null,null,{"$f":"IF(ISBLANK('Renseignements sur le locataire'!E1334),\"\",'Renseignements sur le locataire'!E1334)","v":""}]
[null,null,null,{"$f":"IF(ISBLANK('Renseignements sur le locataire'!E1335),\"\",'Renseignements sur le locataire'!E1335)","v":""}]
[null,null,null,{"$f":"IF(ISBLANK('Renseignements sur le locataire'!E1336),\"\",'Renseignements sur le locataire'!E1336)","v":""}]
[null,null,null,{"$f":"IF(ISBLANK('Renseignements sur le locataire'!E1337),\"\",'Renseignements sur le locataire'!E1337)","v":""}]
[null,null,null,{"$f":"IF(ISBLANK('Renseignements sur le locataire'!E1338),\"\",'Renseignements sur le locataire'!E1338)","v":""}]
[null,null,null,{"$f":"IF(ISBLANK('Renseignements sur le locataire'!E1339),\"\",'Renseignements sur le locataire'!E1339)","v":""}]
[null,null,null,{"$f":"IF(ISBLANK('Renseignements sur le locataire'!E1340),\"\",'Renseignements sur le locataire'!E1340)","v":""}]
[null,null,null,{"$f":"IF(ISBLANK('Renseignements sur le locataire'!E1341),\"\",'Renseignements sur le locataire'!E1341)","v":""}]
[null,null,null,{"$f":"IF(ISBLANK('Renseignements sur le locataire'!E1342),\"\",'Renseignements sur le locataire'!E1342)","v":""}]
[null,null,null,{"$f":"IF(ISBLANK('Renseignements sur le locataire'!E1343),\"\",'Renseignements sur le locataire'!E1343)","v":""}]
[null,null,null,{"$f":"IF(ISBLANK('Renseignements sur le locataire'!E1344),\"\",'Renseignements sur le locataire'!E1344)","v":""}]
[null,null,null,{"$f":"IF(ISBLANK('Renseignements sur le locataire'!E1345),\"\",'Renseignements sur le locataire'!E1345)","v":""}]
[null,null,null,{"$f":"IF(ISBLANK('Renseignements sur le locataire'!E1346),\"\",'Renseignements sur le locataire'!E1346)","v":""}]
[null,null,null,{"$f":"IF(ISBLANK('Renseignements sur le locataire'!E1347),\"\",'Renseignements sur le locataire'!E1347)","v":""}]
[null,null,null,{"$f":"IF(ISBLANK('Renseignements sur le locataire'!E1348),\"\",'Renseignements sur le locataire'!E1348)","v":""}]
[null,null,null,{"$f":"IF(ISBLANK('Renseignements sur le locataire'!E1349),\"\",'Renseignements sur le locataire'!E1349)","v":""}]
[null,null,null,{"$f":"IF(ISBLANK('Renseignements sur le locataire'!E1350),\"\",'Renseignements sur le locataire'!E1350)","v":""}]
[null,null,null,{"$f":"IF(ISBLANK('Renseignements sur le locataire'!E1351),\"\",'Renseignements sur le locataire'!E1351)","v":""}]
[null,null,null,{"$f":"IF(ISBLANK('Renseignements sur le locataire'!E1352),\"\",'Renseignements sur le locataire'!E1352)","v":""}]
[null,null,null,{"$f":"IF(ISBLANK('Renseignements sur le locataire'!E1353),\"\",'Renseignements sur le locataire'!E1353)","v":""}]
[null,null,null,{"$f":"IF(ISBLANK('Renseignements sur le locataire'!E1354),\"\",'Renseignements sur le locataire'!E1354)","v":""}]
[null,null,null,{"$f":"IF(ISBLANK('Renseignements sur le locataire'!E1355),\"\",'Renseignements sur le locataire'!E1355)","v":""}]
[null,null,null,{"$f":"IF(ISBLANK('Renseignements sur le locataire'!E1356),\"\",'Renseignements sur le locataire'!E1356)","v":""}]
[null,null,null,{"$f":"IF(ISBLANK('Renseignements sur le locataire'!E1357),\"\",'Renseignements sur le locataire'!E1357)","v":""}]
[null,null,null,{"$f":"IF(ISBLANK('Renseignements sur le locataire'!E1358),\"\",'Renseignements sur le locataire'!E1358)","v":""}]
[null,null,null,{"$f":"IF(ISBLANK('Renseignements sur le locataire'!E1359),\"\",'Renseignements sur le locataire'!E1359)","v":""}]
[null,null,null,{"$f":"IF(ISBLANK('Renseignements sur le locataire'!E1360),\"\",'Renseignements sur le locataire'!E1360)","v":""}]
[null,null,null,{"$f":"IF(ISBLANK('Renseignements sur le locataire'!E1361),\"\",'Renseignements sur le locataire'!E1361)","v":""}]
[null,null,null,{"$f":"IF(ISBLANK('Renseignements sur le locataire'!E1362),\"\",'Renseignements sur le locataire'!E1362)","v":""}]
[null,null,null,{"$f":"IF(ISBLANK('Renseignements sur le locataire'!E1363),\"\",'Renseignements sur le locataire'!E1363)","v":""}]
[null,null,null,{"$f":"IF(ISBLANK('Renseignements sur le locataire'!E1364),\"\",'Renseignements sur le locataire'!E1364)","v":""}]
[null,null,null,{"$f":"IF(ISBLANK('Renseignements sur le locataire'!E1365),\"\",'Renseignements sur le locataire'!E1365)","v":""}]
[null,null,null,{"$f":"IF(ISBLANK('Renseignements sur le locataire'!E1366),\"\",'Renseignements sur le locataire'!E1366)","v":""}]
[null,null,null,{"$f":"IF(ISBLANK('Renseignements sur le locataire'!E1367),\"\",'Renseignements sur le locataire'!E1367)","v":""}]
[null,null,null,{"$f":"IF(ISBLANK('Renseignements sur le locataire'!E1368),\"\",'Renseignements sur le locataire'!E1368)","v":""}]
[null,null,null,{"$f":"IF(ISBLANK('Renseignements sur le locataire'!E1369),\"\",'Renseignements sur le locataire'!E1369)","v":""}]
[null,null,null,{"$f":"IF(ISBLANK('Renseignements sur le locataire'!E1370),\"\",'Renseignements sur le locataire'!E1370)","v":""}]
[null,null,null,{"$f":"IF(ISBLANK('Renseignements sur le locataire'!E1371),\"\",'Renseignements sur le locataire'!E1371)","v":""}]
[null,null,null,{"$f":"IF(ISBLANK('Renseignements sur le locataire'!E1372),\"\",'Renseignements sur le locataire'!E1372)","v":""}]
[null,null,null,{"$f":"IF(ISBLANK('Renseignements sur le locataire'!E1373),\"\",'Renseignements sur le locataire'!E1373)","v":""}]
[null,null,null,{"$f":"IF(ISBLANK('Renseignements sur le locataire'!E1374),\"\",'Renseignements sur le locataire'!E1374)","v":""}]
[null,null,null,{"$f":"IF(ISBLANK('Renseignements sur le locataire'!E1375),\"\",'Renseignements sur le locataire'!E1375)","v":""}]
[null,null,null,{"$f":"IF(ISBLANK('Renseignements sur le locataire'!E1376),\"\",'Renseignements sur le locataire'!E1376)","v":""}]
[null,null,null,{"$f":"IF(ISBLANK('Renseignements sur le locataire'!E1377),\"\",'Renseignements sur le locataire'!E1377)","v":""}]
[null,null,null,{"$f":"IF(ISBLANK('Renseignements sur le locataire'!E1378),\"\",'Renseignements sur le locataire'!E1378)","v":""}]
[null,null,null,{"$f":"IF(ISBLANK('Renseignements sur le locataire'!E1379),\"\",'Renseignements sur le locataire'!E1379)","v":""}]
[null,null,null,{"$f":"IF(ISBLANK('Renseignements sur le locataire'!E1380),\"\",'Renseignements sur le locataire'!E1380)","v":""}]
[null,null,null,{"$f":"IF(ISBLANK('Renseignements sur le locataire'!E1381),\"\",'Renseignements sur le locataire'!E1381)","v":""}]
[null,null,null,{"$f":"IF(ISBLANK('Renseignements sur le locataire'!E1382),\"\",'Renseignements sur le locataire'!E1382)","v":""}]
[null,null,null,{"$f":"IF(ISBLANK('Renseignements sur le locataire'!E1383),\"\",'Renseignements sur le locataire'!E1383)","v":""}]
[null,null,null,{"$f":"IF(ISBLANK('Renseignements sur le locataire'!E1384),\"\",'Renseignements sur le locataire'!E1384)","v":""}]
[null,null,null,{"$f":"IF(ISBLANK('Renseignements sur le locataire'!E1385),\"\",'Renseignements sur le locataire'!E1385)","v":""}]
[null,null,null,{"$f":"IF(ISBLANK('Renseignements sur le locataire'!E1386),\"\",'Renseignements sur le locataire'!E1386)","v":""}]
[null,null,null,{"$f":"IF(ISBLANK('Renseignements sur le locataire'!E1387),\"\",'Renseignements sur le locataire'!E1387)","v":""}]
[null,null,null,{"$f":"IF(ISBLANK('Renseignements sur le locataire'!E1388),\"\",'Renseignements sur le locataire'!E1388)","v":""}]
[null,null,null,{"$f":"IF(ISBLANK('Renseignements sur le locataire'!E1389),\"\",'Renseignements sur le locataire'!E1389)","v":""}]
[null,null,null,{"$f":"IF(ISBLANK('Renseignements sur le locataire'!E1390),\"\",'Renseignements sur le locataire'!E1390)","v":""}]
[null,null,null,{"$f":"IF(ISBLANK('Renseignements sur le locataire'!E1391),\"\",'Renseignements sur le locataire'!E1391)","v":""}]
[null,null,null,{"$f":"IF(ISBLANK('Renseignements sur le locataire'!E1392),\"\",'Renseignements sur le locataire'!E1392)","v":""}]
[null,null,null,{"$f":"IF(ISBLANK('Renseignements sur le locataire'!E1393),\"\",'Renseignements sur le locataire'!E1393)","v":""}]
[null,null,null,{"$f":"IF(ISBLANK('Renseignements sur le locataire'!E1394),\"\",'Renseignements sur le locataire'!E1394)","v":""}]
[null,null,null,{"$f":"IF(ISBLANK('Renseignements sur le locataire'!E1395),\"\",'Renseignements sur le locataire'!E1395)","v":""}]
[null,null,null,{"$f":"IF(ISBLANK('Renseignements sur le locataire'!E1396),\"\",'Renseignements sur le locataire'!E1396)","v":""}]
[null,null,null,{"$f":"IF(ISBLANK('Renseignements sur le locataire'!E1397),\"\",'Renseignements sur le locataire'!E1397)","v":""}]
[null,null,null,{"$f":"IF(ISBLANK('Renseignements sur le locataire'!E1398),\"\",'Renseignements sur le locataire'!E1398)","v":""}]
[null,null,null,{"$f":"IF(ISBLANK('Renseignements sur le locataire'!E1399),\"\",'Renseignements sur le locataire'!E1399)","v":""}]
[null,null,null,{"$f":"IF(ISBLANK('Renseignements sur le locataire'!E1400),\"\",'Renseignements sur le locataire'!E1400)","v":""}]
[null,null,null,{"$f":"IF(ISBLANK('Renseignements sur le locataire'!E1401),\"\",'Renseignements sur le locataire'!E1401)","v":""}]
[null,null,null,{"$f":"IF(ISBLANK('Renseignements sur le locataire'!E1402),\"\",'Renseignements sur le locataire'!E1402)","v":""}]
[null,null,null,{"$f":"IF(ISBLANK('Renseignements sur le locataire'!E1403),\"\",'Renseignements sur le locataire'!E1403)","v":""}]
[null,null,null,{"$f":"IF(ISBLANK('Renseignements sur le locataire'!E1404),\"\",'Renseignements sur le locataire'!E1404)","v":""}]
[null,null,null,{"$f":"IF(ISBLANK('Renseignements sur le locataire'!E1405),\"\",'Renseignements sur le locataire'!E1405)","v":""}]
[null,null,null,{"$f":"IF(ISBLANK('Renseignements sur le locataire'!E1406),\"\",'Renseignements sur le locataire'!E1406)","v":""}]
[null,null,null,{"$f":"IF(ISBLANK('Renseignements sur le locataire'!E1407),\"\",'Renseignements sur le locataire'!E1407)","v":""}]
[null,null,null,{"$f":"IF(ISBLANK('Renseignements sur le locataire'!E1408),\"\",'Renseignements sur le locataire'!E1408)","v":""}]
[null,null,null,{"$f":"IF(ISBLANK('Renseignements sur le locataire'!E1409),\"\",'Renseignements sur le locataire'!E1409)","v":""}]
[null,null,null,{"$f":"IF(ISBLANK('Renseignements sur le locataire'!E1410),\"\",'Renseignements sur le locataire'!E1410)","v":""}]
[null,null,null,{"$f":"IF(ISBLANK('Renseignements sur le locataire'!E1411),\"\",'Renseignements sur le locataire'!E1411)","v":""}]
[null,null,null,{"$f":"IF(ISBLANK('Renseignements sur le locataire'!E1412),\"\",'Renseignements sur le locataire'!E1412)","v":""}]
[null,null,null,{"$f":"IF(ISBLANK('Renseignements sur le locataire'!E1413),\"\",'Renseignements sur le locataire'!E1413)","v":""}]
[null,null,null,{"$f":"IF(ISBLANK('Renseignements sur le locataire'!E1414),\"\",'Renseignements sur le locataire'!E1414)","v":""}]
[null,null,null,{"$f":"IF(ISBLANK('Renseignements sur le locataire'!E1415),\"\",'Renseignements sur le locataire'!E1415)","v":""}]
[null,null,null,{"$f":"IF(ISBLANK('Renseignements sur le locataire'!E1416),\"\",'Renseignements sur le locataire'!E1416)","v":""}]
[null,null,null,{"$f":"IF(ISBLANK('Renseignements sur le locataire'!E1417),\"\",'Renseignements sur le locataire'!E1417)","v":""}]
[null,null,null,{"$f":"IF(ISBLANK('Renseignements sur le locataire'!E1418),\"\",'Renseignements sur le locataire'!E1418)","v":""}]
[null,null,null,{"$f":"IF(ISBLANK('Renseignements sur le locataire'!E1419),\"\",'Renseignements sur le locataire'!E1419)","v":""}]
[null,null,null,{"$f":"IF(ISBLANK('Renseignements sur le locataire'!E1420),\"\",'Renseignements sur le locataire'!E1420)","v":""}]
[null,null,null,{"$f":"IF(ISBLANK('Renseignements sur le locataire'!E1421),\"\",'Renseignements sur le locataire'!E1421)","v":""}]
[null,null,null,{"$f":"IF(ISBLANK('Renseignements sur le locataire'!E1422),\"\",'Renseignements sur le locataire'!E1422)","v":""}]
[null,null,null,{"$f":"IF(ISBLANK('Renseignements sur le locataire'!E1423),\"\",'Renseignements sur le locataire'!E1423)","v":""}]
[null,null,null,{"$f":"IF(ISBLANK('Renseignements sur le locataire'!E1424),\"\",'Renseignements sur le locataire'!E1424)","v":""}]
[null,null,null,{"$f":"IF(ISBLANK('Renseignements sur le locataire'!E1425),\"\",'Renseignements sur le locataire'!E1425)","v":""}]
[null,null,null,{"$f":"IF(ISBLANK('Renseignements sur le locataire'!E1426),\"\",'Renseignements sur le locataire'!E1426)","v":""}]
[null,null,null,{"$f":"IF(ISBLANK('Renseignements sur le locataire'!E1427),\"\",'Renseignements sur le locataire'!E1427)","v":""}]
[null,null,null,{"$f":"IF(ISBLANK('Renseignements sur le locataire'!E1428),\"\",'Renseignements sur le locataire'!E1428)","v":""}]
[null,null,null,{"$f":"IF(ISBLANK('Renseignements sur le locataire'!E1429),\"\",'Renseignements sur le locataire'!E1429)","v":""}]
[null,null,null,{"$f":"IF(ISBLANK('Renseignements sur le locataire'!E1430),\"\",'Renseignements sur le locataire'!E1430)","v":""}]
[null,null,null,{"$f":"IF(ISBLANK('Renseignements sur le locataire'!E1431),\"\",'Renseignements sur le locataire'!E1431)","v":""}]
[null,null,null,{"$f":"IF(ISBLANK('Renseignements sur le locataire'!E1432),\"\",'Renseignements sur le locataire'!E1432)","v":""}]
[null,null,null,{"$f":"IF(ISBLANK('Renseignements sur le locataire'!E1433),\"\",'Renseignements sur le locataire'!E1433)","v":""}]
[null,null,null,{"$f":"IF(ISBLANK('Renseignements sur le locataire'!E1434),\"\",'Renseignements sur le locataire'!E1434)","v":""}]
[null,null,null,{"$f":"IF(ISBLANK('Renseignements sur le locataire'!E1435),\"\",'Renseignements sur le locataire'!E1435)","v":""}]
[null,null,null,{"$f":"IF(ISBLANK('Renseignements sur le locataire'!E1436),\"\",'Renseignements sur le locataire'!E1436)","v":""}]
[null,null,null,{"$f":"IF(ISBLANK('Renseignements sur le locataire'!E1437),\"\",'Renseignements sur le locataire'!E1437)","v":""}]
[null,null,null,{"$f":"IF(ISBLANK('Renseignements sur le locataire'!E1438),\"\",'Renseignements sur le locataire'!E1438)","v":""}]
[null,null,null,{"$f":"IF(ISBLANK('Renseignements sur le locataire'!E1439),\"\",'Renseignements sur le locataire'!E1439)","v":""}]
[null,null,null,{"$f":"IF(ISBLANK('Renseignements sur le locataire'!E1440),\"\",'Renseignements sur le locataire'!E1440)","v":""}]
[null,null,null,{"$f":"IF(ISBLANK('Renseignements sur le locataire'!E1441),\"\",'Renseignements sur le locataire'!E1441)","v":""}]
[null,null,null,{"$f":"IF(ISBLANK('Renseignements sur le locataire'!E1442),\"\",'Renseignements sur le locataire'!E1442)","v":""}]
[null,null,null,{"$f":"IF(ISBLANK('Renseignements sur le locataire'!E1443),\"\",'Renseignements sur le locataire'!E1443)","v":""}]
[null,null,null,{"$f":"IF(ISBLANK('Renseignements sur le locataire'!E1444),\"\",'Renseignements sur le locataire'!E1444)","v":""}]
[null,null,null,{"$f":"IF(ISBLANK('Renseignements sur le locataire'!E1445),\"\",'Renseignements sur le locataire'!E1445)","v":""}]
[null,null,null,{"$f":"IF(ISBLANK('Renseignements sur le locataire'!E1446),\"\",'Renseignements sur le locataire'!E1446)","v":""}]
[null,null,null,{"$f":"IF(ISBLANK('Renseignements sur le locataire'!E1447),\"\",'Renseignements sur le locataire'!E1447)","v":""}]
[null,null,null,{"$f":"IF(ISBLANK('Renseignements sur le locataire'!E1448),\"\",'Renseignements sur le locataire'!E1448)","v":""}]
[null,null,null,{"$f":"IF(ISBLANK('Renseignements sur le locataire'!E1449),\"\",'Renseignements sur le locataire'!E1449)","v":""}]
[null,null,null,{"$f":"IF(ISBLANK('Renseignements sur le locataire'!E1450),\"\",'Renseignements sur le locataire'!E1450)","v":""}]
[null,null,null,{"$f":"IF(ISBLANK('Renseignements sur le locataire'!E1451),\"\",'Renseignements sur le locataire'!E1451)","v":""}]
[null,null,null,{"$f":"IF(ISBLANK('Renseignements sur le locataire'!E1452),\"\",'Renseignements sur le locataire'!E1452)","v":""}]
[null,null,null,{"$f":"IF(ISBLANK('Renseignements sur le locataire'!E1453),\"\",'Renseignements sur le locataire'!E1453)","v":""}]
[null,null,null,{"$f":"IF(ISBLANK('Renseignements sur le locataire'!E1454),\"\",'Renseignements sur le locataire'!E1454)","v":""}]
[null,null,null,{"$f":"IF(ISBLANK('Renseignements sur le locataire'!E1455),\"\",'Renseignements sur le locataire'!E1455)","v":""}]
[null,null,null,{"$f":"IF(ISBLANK('Renseignements sur le locataire'!E1456),\"\",'Renseignements sur le locataire'!E1456)","v":""}]
[null,null,null,{"$f":"IF(ISBLANK('Renseignements sur le locataire'!E1457),\"\",'Renseignements sur le locataire'!E1457)","v":""}]
[null,null,null,{"$f":"IF(ISBLANK('Renseignements sur le locataire'!E1458),\"\",'Renseignements sur le locataire'!E1458)","v":""}]
[null,null,null,{"$f":"IF(ISBLANK('Renseignements sur le locataire'!E1459),\"\",'Renseignements sur le locataire'!E1459)","v":""}]
[null,null,null,{"$f":"IF(ISBLANK('Renseignements sur le locataire'!E1460),\"\",'Renseignements sur le locataire'!E1460)","v":""}]
[null,null,null,{"$f":"IF(ISBLANK('Renseignements sur le locataire'!E1461),\"\",'Renseignements sur le locataire'!E1461)","v":""}]
[null,null,null,{"$f":"IF(ISBLANK('Renseignements sur le locataire'!E1462),\"\",'Renseignements sur le locataire'!E1462)","v":""}]
[null,null,null,{"$f":"IF(ISBLANK('Renseignements sur le locataire'!E1463),\"\",'Renseignements sur le locataire'!E1463)","v":""}]
[null,null,null,{"$f":"IF(ISBLANK('Renseignements sur le locataire'!E1464),\"\",'Renseignements sur le locataire'!E1464)","v":""}]
[null,null,null,{"$f":"IF(ISBLANK('Renseignements sur le locataire'!E1465),\"\",'Renseignements sur le locataire'!E1465)","v":""}]
[null,null,null,{"$f":"IF(ISBLANK('Renseignements sur le locataire'!E1466),\"\",'Renseignements sur le locataire'!E1466)","v":""}]
[null,null,null,{"$f":"IF(ISBLANK('Renseignements sur le locataire'!E1467),\"\",'Renseignements sur le locataire'!E1467)","v":""}]
[null,null,null,{"$f":"IF(ISBLANK('Renseignements sur le locataire'!E1468),\"\",'Renseignements sur le locataire'!E1468)","v":""}]
[null,null,null,{"$f":"IF(ISBLANK('Renseignements sur le locataire'!E1469),\"\",'Renseignements sur le locataire'!E1469)","v":""}]
[null,null,null,{"$f":"IF(ISBLANK('Renseignements sur le locataire'!E1470),\"\",'Renseignements sur le locataire'!E1470)","v":""}]
[null,null,null,{"$f":"IF(ISBLANK('Renseignements sur le locataire'!E1471),\"\",'Renseignements sur le locataire'!E1471)","v":""}]
[null,null,null,{"$f":"IF(ISBLANK('Renseignements sur le locataire'!E1472),\"\",'Renseignements sur le locataire'!E1472)","v":""}]
[null,null,null,{"$f":"IF(ISBLANK('Renseignements sur le locataire'!E1473),\"\",'Renseignements sur le locataire'!E1473)","v":""}]
[null,null,null,{"$f":"IF(ISBLANK('Renseignements sur le locataire'!E1474),\"\",'Renseignements sur le locataire'!E1474)","v":""}]
[null,null,null,{"$f":"IF(ISBLANK('Renseignements sur le locataire'!E1475),\"\",'Renseignements sur le locataire'!E1475)","v":""}]
[null,null,null,{"$f":"IF(ISBLANK('Renseignements sur le locataire'!E1476),\"\",'Renseignements sur le locataire'!E1476)","v":""}]
[null,null,null,{"$f":"IF(ISBLANK('Renseignements sur le locataire'!E1477),\"\",'Renseignements sur le locataire'!E1477)","v":""}]
[null,null,null,{"$f":"IF(ISBLANK('Renseignements sur le locataire'!E1478),\"\",'Renseignements sur le locataire'!E1478)","v":""}]
[null,null,null,{"$f":"IF(ISBLANK('Renseignements sur le locataire'!E1479),\"\",'Renseignements sur le locataire'!E1479)","v":""}]
[null,null,null,{"$f":"IF(ISBLANK('Renseignements sur le locataire'!E1480),\"\",'Renseignements sur le locataire'!E1480)","v":""}]
[null,null,null,{"$f":"IF(ISBLANK('Renseignements sur le locataire'!E1481),\"\",'Renseignements sur le locataire'!E1481)","v":""}]
[null,null,null,{"$f":"IF(ISBLANK('Renseignements sur le locataire'!E1482),\"\",'Renseignements sur le locataire'!E1482)","v":""}]
[null,null,null,{"$f":"IF(ISBLANK('Renseignements sur le locataire'!E1483),\"\",'Renseignements sur le locataire'!E1483)","v":""}]
[null,null,null,{"$f":"IF(ISBLANK('Renseignements sur le locataire'!E1484),\"\",'Renseignements sur le locataire'!E1484)","v":""}]
[null,null,null,{"$f":"IF(ISBLANK('Renseignements sur le locataire'!E1485),\"\",'Renseignements sur le locataire'!E1485)","v":""}]
[null,null,null,{"$f":"IF(ISBLANK('Renseignements sur le locataire'!E1486),\"\",'Renseignements sur le locataire'!E1486)","v":""}]
[null,null,null,{"$f":"IF(ISBLANK('Renseignements sur le locataire'!E1487),\"\",'Renseignements sur le locataire'!E1487)","v":""}]
[null,null,null,{"$f":"IF(ISBLANK('Renseignements sur le locataire'!E1488),\"\",'Renseignements sur le locataire'!E1488)","v":""}]
[null,null,null,{"$f":"IF(ISBLANK('Renseignements sur le locataire'!E1489),\"\",'Renseignements sur le locataire'!E1489)","v":""}]
[null,null,null,{"$f":"IF(ISBLANK('Renseignements sur le locataire'!E1490),\"\",'Renseignements sur le locataire'!E1490)","v":""}]
[null,null,null,{"$f":"IF(ISBLANK('Renseignements sur le locataire'!E1491),\"\",'Renseignements sur le locataire'!E1491)","v":""}]
[null,null,null,{"$f":"IF(ISBLANK('Renseignements sur le locataire'!E1492),\"\",'Renseignements sur le locataire'!E1492)","v":""}]
[null,null,null,{"$f":"IF(ISBLANK('Renseignements sur le locataire'!E1493),\"\",'Renseignements sur le locataire'!E1493)","v":""}]
[null,null,null,{"$f":"IF(ISBLANK('Renseignements sur le locataire'!E1494),\"\",'Renseignements sur le locataire'!E1494)","v":""}]
[null,null,null,{"$f":"IF(ISBLANK('Renseignements sur le locataire'!E1495),\"\",'Renseignements sur le locataire'!E1495)","v":""}]
[null,null,null,{"$f":"IF(ISBLANK('Renseignements sur le locataire'!E1496),\"\",'Renseignements sur le locataire'!E1496)","v":""}]
[null,null,null,{"$f":"IF(ISBLANK('Renseignements sur le locataire'!E1497),\"\",'Renseignements sur le locataire'!E1497)","v":""}]
[null,null,null,{"$f":"IF(ISBLANK('Renseignements sur le locataire'!E1498),\"\",'Renseignements sur le locataire'!E1498)","v":""}]
[null,null,null,{"$f":"IF(ISBLANK('Renseignements sur le locataire'!E1499),\"\",'Renseignements sur le locataire'!E1499)","v":""}]
[null,null,null,{"$f":"IF(ISBLANK('Renseignements sur le locataire'!E1500),\"\",'Renseignements sur le locataire'!E1500)","v":""}]
[null,null,null,{"$f":"IF(ISBLANK('Renseignements sur le locataire'!E1501),\"\",'Renseignements sur le locataire'!E1501)","v":""}]
[null,null,null,{"$f":"IF(ISBLANK('Renseignements sur le locataire'!E1502),\"\",'Renseignements sur le locataire'!E1502)","v":""}]
[null,null,null,{"$f":"IF(ISBLANK('Renseignements sur le locataire'!E1503),\"\",'Renseignements sur le locataire'!E1503)","v":""}]
[null,null,null,{"$f":"IF(ISBLANK('Renseignements sur le locataire'!E1504),\"\",'Renseignements sur le locataire'!E1504)","v":""}]
[null,null,null,{"$f":"IF(ISBLANK('Renseignements sur le locataire'!E1505),\"\",'Renseignements sur le locataire'!E1505)","v":""}]
[null,null,null,{"$f":"IF(ISBLANK('Renseignements sur le locataire'!E1506),\"\",'Renseignements sur le locataire'!E1506)","v":""}]
[null,null,null,{"$f":"IF(ISBLANK('Renseignements sur le locataire'!E1507),\"\",'Renseignements sur le locataire'!E1507)","v":""}]
[null,null,null,{"$f":"IF(ISBLANK('Renseignements sur le locataire'!E1508),\"\",'Renseignements sur le locataire'!E1508)","v":""}]
[null,null,null,{"$f":"IF(ISBLANK('Renseignements sur le locataire'!E1509),\"\",'Renseignements sur le locataire'!E1509)","v":""}]
[null,null,null,{"$f":"IF(ISBLANK('Renseignements sur le locataire'!E1510),\"\",'Renseignements sur le locataire'!E1510)","v":""}]
[null,null,null,{"$f":"IF(ISBLANK('Renseignements sur le locataire'!E1511),\"\",'Renseignements sur le locataire'!E1511)","v":""}]
[null,null,null,{"$f":"IF(ISBLANK('Renseignements sur le locataire'!E1512),\"\",'Renseignements sur le locataire'!E1512)","v":""}]
[null,null,null,{"$f":"IF(ISBLANK('Renseignements sur le locataire'!E1513),\"\",'Renseignements sur le locataire'!E1513)","v":""}]
[null,null,null,{"$f":"IF(ISBLANK('Renseignements sur le locataire'!E1514),\"\",'Renseignements sur le locataire'!E1514)","v":""}]
[null,null,null,{"$f":"IF(ISBLANK('Renseignements sur le locataire'!E1515),\"\",'Renseignements sur le locataire'!E1515)","v":""}]
[null,null,null,{"$f":"IF(ISBLANK('Renseignements sur le locataire'!E1516),\"\",'Renseignements sur le locataire'!E1516)","v":""}]
[null,null,null,{"$f":"IF(ISBLANK('Renseignements sur le locataire'!E1517),\"\",'Renseignements sur le locataire'!E1517)","v":""}]
[null,null,null,{"$f":"IF(ISBLANK('Renseignements sur le locataire'!E1518),\"\",'Renseignements sur le locataire'!E1518)","v":""}]
[null,null,null,{"$f":"IF(ISBLANK('Renseignements sur le locataire'!E1519),\"\",'Renseignements sur le locataire'!E1519)","v":""}]
[null,null,null,{"$f":"IF(ISBLANK('Renseignements sur le locataire'!E1520),\"\",'Renseignements sur le locataire'!E1520)","v":""}]
[null,null,null,{"$f":"IF(ISBLANK('Renseignements sur le locataire'!E1521),\"\",'Renseignements sur le locataire'!E1521)","v":""}]
[null,null,null,{"$f":"IF(ISBLANK('Renseignements sur le locataire'!E1522),\"\",'Renseignements sur le locataire'!E1522)","v":""}]
[null,null,null,{"$f":"IF(ISBLANK('Renseignements sur le locataire'!E1523),\"\",'Renseignements sur le locataire'!E1523)","v":""}]
[null,null,null,{"$f":"IF(ISBLANK('Renseignements sur le locataire'!E1524),\"\",'Renseignements sur le locataire'!E1524)","v":""}]
[null,null,null,{"$f":"IF(ISBLANK('Renseignements sur le locataire'!E1525),\"\",'Renseignements sur le locataire'!E1525)","v":""}]
[null,null,null,{"$f":"IF(ISBLANK('Renseignements sur le locataire'!E1526),\"\",'Renseignements sur le locataire'!E1526)","v":""}]
[null,null,null,{"$f":"IF(ISBLANK('Renseignements sur le locataire'!E1527),\"\",'Renseignements sur le locataire'!E1527)","v":""}]
[null,null,null,{"$f":"IF(ISBLANK('Renseignements sur le locataire'!E1528),\"\",'Renseignements sur le locataire'!E1528)","v":""}]
[null,null,null,{"$f":"IF(ISBLANK('Renseignements sur le locataire'!E1529),\"\",'Renseignements sur le locataire'!E1529)","v":""}]
[null,null,null,{"$f":"IF(ISBLANK('Renseignements sur le locataire'!E1530),\"\",'Renseignements sur le locataire'!E1530)","v":""}]
[null,null,null,{"$f":"IF(ISBLANK('Renseignements sur le locataire'!E1531),\"\",'Renseignements sur le locataire'!E1531)","v":""}]
[null,null,null,{"$f":"IF(ISBLANK('Renseignements sur le locataire'!E1532),\"\",'Renseignements sur le locataire'!E1532)","v":""}]
[null,null,null,{"$f":"IF(ISBLANK('Renseignements sur le locataire'!E1533),\"\",'Renseignements sur le locataire'!E1533)","v":""}]
[null,null,null,{"$f":"IF(ISBLANK('Renseignements sur le locataire'!E1534),\"\",'Renseignements sur le locataire'!E1534)","v":""}]
[null,null,null,{"$f":"IF(ISBLANK('Renseignements sur le locataire'!E1535),\"\",'Renseignements sur le locataire'!E1535)","v":""}]
[null,null,null,{"$f":"IF(ISBLANK('Renseignements sur le locataire'!E1536),\"\",'Renseignements sur le locataire'!E1536)","v":""}]
[null,null,null,{"$f":"IF(ISBLANK('Renseignements sur le locataire'!E1537),\"\",'Renseignements sur le locataire'!E1537)","v":""}]
[null,null,null,{"$f":"IF(ISBLANK('Renseignements sur le locataire'!E1538),\"\",'Renseignements sur le locataire'!E1538)","v":""}]
[null,null,null,{"$f":"IF(ISBLANK('Renseignements sur le locataire'!E1539),\"\",'Renseignements sur le locataire'!E1539)","v":""}]
[null,null,null,{"$f":"IF(ISBLANK('Renseignements sur le locataire'!E1540),\"\",'Renseignements sur le locataire'!E1540)","v":""}]
[null,null,null,{"$f":"IF(ISBLANK('Renseignements sur le locataire'!E1541),\"\",'Renseignements sur le locataire'!E1541)","v":""}]
[null,null,null,{"$f":"IF(ISBLANK('Renseignements sur le locataire'!E1542),\"\",'Renseignements sur le locataire'!E1542)","v":""}]
[null,null,null,{"$f":"IF(ISBLANK('Renseignements sur le locataire'!E1543),\"\",'Renseignements sur le locataire'!E1543)","v":""}]
[null,null,null,{"$f":"IF(ISBLANK('Renseignements sur le locataire'!E1544),\"\",'Renseignements sur le locataire'!E1544)","v":""}]
[null,null,null,{"$f":"IF(ISBLANK('Renseignements sur le locataire'!E1545),\"\",'Renseignements sur le locataire'!E1545)","v":""}]
[null,null,null,{"$f":"IF(ISBLANK('Renseignements sur le locataire'!E1546),\"\",'Renseignements sur le locataire'!E1546)","v":""}]
[null,null,null,{"$f":"IF(ISBLANK('Renseignements sur le locataire'!E1547),\"\",'Renseignements sur le locataire'!E1547)","v":""}]
[null,null,null,{"$f":"IF(ISBLANK('Renseignements sur le locataire'!E1548),\"\",'Renseignements sur le locataire'!E1548)","v":""}]
[null,null,null,{"$f":"IF(ISBLANK('Renseignements sur le locataire'!E1549),\"\",'Renseignements sur le locataire'!E1549)","v":""}]
[null,null,null,{"$f":"IF(ISBLANK('Renseignements sur le locataire'!E1550),\"\",'Renseignements sur le locataire'!E1550)","v":""}]
[null,null,null,{"$f":"IF(ISBLANK('Renseignements sur le locataire'!E1551),\"\",'Renseignements sur le locataire'!E1551)","v":""}]
[null,null,null,{"$f":"IF(ISBLANK('Renseignements sur le locataire'!E1552),\"\",'Renseignements sur le locataire'!E1552)","v":""}]
[null,null,null,{"$f":"IF(ISBLANK('Renseignements sur le locataire'!E1553),\"\",'Renseignements sur le locataire'!E1553)","v":""}]
[null,null,null,{"$f":"IF(ISBLANK('Renseignements sur le locataire'!E1554),\"\",'Renseignements sur le locataire'!E1554)","v":""}]
[null,null,null,{"$f":"IF(ISBLANK('Renseignements sur le locataire'!E1555),\"\",'Renseignements sur le locataire'!E1555)","v":""}]
[null,null,null,{"$f":"IF(ISBLANK('Renseignements sur le locataire'!E1556),\"\",'Renseignements sur le locataire'!E1556)","v":""}]
[null,null,null,{"$f":"IF(ISBLANK('Renseignements sur le locataire'!E1557),\"\",'Renseignements sur le locataire'!E1557)","v":""}]
[null,null,null,{"$f":"IF(ISBLANK('Renseignements sur le locataire'!E1558),\"\",'Renseignements sur le locataire'!E1558)","v":""}]
[null,null,null,{"$f":"IF(ISBLANK('Renseignements sur le locataire'!E1559),\"\",'Renseignements sur le locataire'!E1559)","v":""}]
[null,null,null,{"$f":"IF(ISBLANK('Renseignements sur le locataire'!E1560),\"\",'Renseignements sur le locataire'!E1560)","v":""}]
[null,null,null,{"$f":"IF(ISBLANK('Renseignements sur le locataire'!E1561),\"\",'Renseignements sur le locataire'!E1561)","v":""}]
[null,null,null,{"$f":"IF(ISBLANK('Renseignements sur le locataire'!E1562),\"\",'Renseignements sur le locataire'!E1562)","v":""}]
[null,null,null,{"$f":"IF(ISBLANK('Renseignements sur le locataire'!E1563),\"\",'Renseignements sur le locataire'!E1563)","v":""}]
[null,null,null,{"$f":"IF(ISBLANK('Renseignements sur le locataire'!E1564),\"\",'Renseignements sur le locataire'!E1564)","v":""}]
[null,null,null,{"$f":"IF(ISBLANK('Renseignements sur le locataire'!E1565),\"\",'Renseignements sur le locataire'!E1565)","v":""}]
[null,null,null,{"$f":"IF(ISBLANK('Renseignements sur le locataire'!E1566),\"\",'Renseignements sur le locataire'!E1566)","v":""}]
[null,null,null,{"$f":"IF(ISBLANK('Renseignements sur le locataire'!E1567),\"\",'Renseignements sur le locataire'!E1567)","v":""}]
[null,null,null,{"$f":"IF(ISBLANK('Renseignements sur le locataire'!E1568),\"\",'Renseignements sur le locataire'!E1568)","v":""}]
[null,null,null,{"$f":"IF(ISBLANK('Renseignements sur le locataire'!E1569),\"\",'Renseignements sur le locataire'!E1569)","v":""}]
[null,null,null,{"$f":"IF(ISBLANK('Renseignements sur le locataire'!E1570),\"\",'Renseignements sur le locataire'!E1570)","v":""}]
[null,null,null,{"$f":"IF(ISBLANK('Renseignements sur le locataire'!E1571),\"\",'Renseignements sur le locataire'!E1571)","v":""}]
[null,null,null,{"$f":"IF(ISBLANK('Renseignements sur le locataire'!E1572),\"\",'Renseignements sur le locataire'!E1572)","v":""}]
[null,null,null,{"$f":"IF(ISBLANK('Renseignements sur le locataire'!E1573),\"\",'Renseignements sur le locataire'!E1573)","v":""}]
[null,null,null,{"$f":"IF(ISBLANK('Renseignements sur le locataire'!E1574),\"\",'Renseignements sur le locataire'!E1574)","v":""}]
[null,null,null,{"$f":"IF(ISBLANK('Renseignements sur le locataire'!E1575),\"\",'Renseignements sur le locataire'!E1575)","v":""}]
[null,null,null,{"$f":"IF(ISBLANK('Renseignements sur le locataire'!E1576),\"\",'Renseignements sur le locataire'!E1576)","v":""}]
[null,null,null,{"$f":"IF(ISBLANK('Renseignements sur le locataire'!E1577),\"\",'Renseignements sur le locataire'!E1577)","v":""}]
[null,null,null,{"$f":"IF(ISBLANK('Renseignements sur le locataire'!E1578),\"\",'Renseignements sur le locataire'!E1578)","v":""}]
[null,null,null,{"$f":"IF(ISBLANK('Renseignements sur le locataire'!E1579),\"\",'Renseignements sur le locataire'!E1579)","v":""}]
[null,null,null,{"$f":"IF(ISBLANK('Renseignements sur le locataire'!E1580),\"\",'Renseignements sur le locataire'!E1580)","v":""}]
[null,null,null,{"$f":"IF(ISBLANK('Renseignements sur le locataire'!E1581),\"\",'Renseignements sur le locataire'!E1581)","v":""}]
[null,null,null,{"$f":"IF(ISBLANK('Renseignements sur le locataire'!E1582),\"\",'Renseignements sur le locataire'!E1582)","v":""}]
[null,null,null,{"$f":"IF(ISBLANK('Renseignements sur le locataire'!E1583),\"\",'Renseignements sur le locataire'!E1583)","v":""}]
[null,null,null,{"$f":"IF(ISBLANK('Renseignements sur le locataire'!E1584),\"\",'Renseignements sur le locataire'!E1584)","v":""}]
[null,null,null,{"$f":"IF(ISBLANK('Renseignements sur le locataire'!E1585),\"\",'Renseignements sur le locataire'!E1585)","v":""}]
[null,null,null,{"$f":"IF(ISBLANK('Renseignements sur le locataire'!E1586),\"\",'Renseignements sur le locataire'!E1586)","v":""}]
[null,null,null,{"$f":"IF(ISBLANK('Renseignements sur le locataire'!E1587),\"\",'Renseignements sur le locataire'!E1587)","v":""}]
[null,null,null,{"$f":"IF(ISBLANK('Renseignements sur le locataire'!E1588),\"\",'Renseignements sur le locataire'!E1588)","v":""}]
[null,null,null,{"$f":"IF(ISBLANK('Renseignements sur le locataire'!E1589),\"\",'Renseignements sur le locataire'!E1589)","v":""}]
[null,null,null,{"$f":"IF(ISBLANK('Renseignements sur le locataire'!E1590),\"\",'Renseignements sur le locataire'!E1590)","v":""}]
[null,null,null,{"$f":"IF(ISBLANK('Renseignements sur le locataire'!E1591),\"\",'Renseignements sur le locataire'!E1591)","v":""}]
[null,null,null,{"$f":"IF(ISBLANK('Renseignements sur le locataire'!E1592),\"\",'Renseignements sur le locataire'!E1592)","v":""}]
[null,null,null,{"$f":"IF(ISBLANK('Renseignements sur le locataire'!E1593),\"\",'Renseignements sur le locataire'!E1593)","v":""}]
[null,null,null,{"$f":"IF(ISBLANK('Renseignements sur le locataire'!E1594),\"\",'Renseignements sur le locataire'!E1594)","v":""}]
[null,null,null,{"$f":"IF(ISBLANK('Renseignements sur le locataire'!E1595),\"\",'Renseignements sur le locataire'!E1595)","v":""}]
[null,null,null,{"$f":"IF(ISBLANK('Renseignements sur le locataire'!E1596),\"\",'Renseignements sur le locataire'!E1596)","v":""}]
[null,null,null,{"$f":"IF(ISBLANK('Renseignements sur le locataire'!E1597),\"\",'Renseignements sur le locataire'!E1597)","v":""}]
[null,null,null,{"$f":"IF(ISBLANK('Renseignements sur le locataire'!E1598),\"\",'Renseignements sur le locataire'!E1598)","v":""}]
[null,null,null,{"$f":"IF(ISBLANK('Renseignements sur le locataire'!E1599),\"\",'Renseignements sur le locataire'!E1599)","v":""}]
[null,null,null,{"$f":"IF(ISBLANK('Renseignements sur le locataire'!E1600),\"\",'Renseignements sur le locataire'!E1600)","v":""}]
[null,null,null,{"$f":"IF(ISBLANK('Renseignements sur le locataire'!E1601),\"\",'Renseignements sur le locataire'!E1601)","v":""}]
[null,null,null,{"$f":"IF(ISBLANK('Renseignements sur le locataire'!E1602),\"\",'Renseignements sur le locataire'!E1602)","v":""}]
[null,null,null,{"$f":"IF(ISBLANK('Renseignements sur le locataire'!E1603),\"\",'Renseignements sur le locataire'!E1603)","v":""}]
[null,null,null,{"$f":"IF(ISBLANK('Renseignements sur le locataire'!E1604),\"\",'Renseignements sur le locataire'!E1604)","v":""}]
[null,null,null,{"$f":"IF(ISBLANK('Renseignements sur le locataire'!E1605),\"\",'Renseignements sur le locataire'!E1605)","v":""}]
[null,null,null,{"$f":"IF(ISBLANK('Renseignements sur le locataire'!E1606),\"\",'Renseignements sur le locataire'!E1606)","v":""}]
[null,null,null,{"$f":"IF(ISBLANK('Renseignements sur le locataire'!E1607),\"\",'Renseignements sur le locataire'!E1607)","v":""}]
[null,null,null,{"$f":"IF(ISBLANK('Renseignements sur le locataire'!E1608),\"\",'Renseignements sur le locataire'!E1608)","v":""}]
[null,null,null,{"$f":"IF(ISBLANK('Renseignements sur le locataire'!E1609),\"\",'Renseignements sur le locataire'!E1609)","v":""}]
[null,null,null,{"$f":"IF(ISBLANK('Renseignements sur le locataire'!E1610),\"\",'Renseignements sur le locataire'!E1610)","v":""}]
[null,null,null,{"$f":"IF(ISBLANK('Renseignements sur le locataire'!E1611),\"\",'Renseignements sur le locataire'!E1611)","v":""}]
[null,null,null,{"$f":"IF(ISBLANK('Renseignements sur le locataire'!E1612),\"\",'Renseignements sur le locataire'!E1612)","v":""}]
[null,null,null,{"$f":"IF(ISBLANK('Renseignements sur le locataire'!E1613),\"\",'Renseignements sur le locataire'!E1613)","v":""}]
[null,null,null,{"$f":"IF(ISBLANK('Renseignements sur le locataire'!E1614),\"\",'Renseignements sur le locataire'!E1614)","v":""}]
[null,null,null,{"$f":"IF(ISBLANK('Renseignements sur le locataire'!E1615),\"\",'Renseignements sur le locataire'!E1615)","v":""}]
[null,null,null,{"$f":"IF(ISBLANK('Renseignements sur le locataire'!E1616),\"\",'Renseignements sur le locataire'!E1616)","v":""}]
[null,null,null,{"$f":"IF(ISBLANK('Renseignements sur le locataire'!E1617),\"\",'Renseignements sur le locataire'!E1617)","v":""}]
[null,null,null,{"$f":"IF(ISBLANK('Renseignements sur le locataire'!E1618),\"\",'Renseignements sur le locataire'!E1618)","v":""}]
[null,null,null,{"$f":"IF(ISBLANK('Renseignements sur le locataire'!E1619),\"\",'Renseignements sur le locataire'!E1619)","v":""}]
[null,null,null,{"$f":"IF(ISBLANK('Renseignements sur le locataire'!E1620),\"\",'Renseignements sur le locataire'!E1620)","v":""}]
[null,null,null,{"$f":"IF(ISBLANK('Renseignements sur le locataire'!E1621),\"\",'Renseignements sur le locataire'!E1621)","v":""}]
[null,null,null,{"$f":"IF(ISBLANK('Renseignements sur le locataire'!E1622),\"\",'Renseignements sur le locataire'!E1622)","v":""}]
[null,null,null,{"$f":"IF(ISBLANK('Renseignements sur le locataire'!E1623),\"\",'Renseignements sur le locataire'!E1623)","v":""}]
[null,null,null,{"$f":"IF(ISBLANK('Renseignements sur le locataire'!E1624),\"\",'Renseignements sur le locataire'!E1624)","v":""}]
[null,null,null,{"$f":"IF(ISBLANK('Renseignements sur le locataire'!E1625),\"\",'Renseignements sur le locataire'!E1625)","v":""}]
[null,null,null,{"$f":"IF(ISBLANK('Renseignements sur le locataire'!E1626),\"\",'Renseignements sur le locataire'!E1626)","v":""}]
[null,null,null,{"$f":"IF(ISBLANK('Renseignements sur le locataire'!E1627),\"\",'Renseignements sur le locataire'!E1627)","v":""}]
[null,null,null,{"$f":"IF(ISBLANK('Renseignements sur le locataire'!E1628),\"\",'Renseignements sur le locataire'!E1628)","v":""}]
[null,null,null,{"$f":"IF(ISBLANK('Renseignements sur le locataire'!E1629),\"\",'Renseignements sur le locataire'!E1629)","v":""}]
[null,null,null,{"$f":"IF(ISBLANK('Renseignements sur le locataire'!E1630),\"\",'Renseignements sur le locataire'!E1630)","v":""}]
[null,null,null,{"$f":"IF(ISBLANK('Renseignements sur le locataire'!E1631),\"\",'Renseignements sur le locataire'!E1631)","v":""}]
[null,null,null,{"$f":"IF(ISBLANK('Renseignements sur le locataire'!E1632),\"\",'Renseignements sur le locataire'!E1632)","v":""}]
[null,null,null,{"$f":"IF(ISBLANK('Renseignements sur le locataire'!E1633),\"\",'Renseignements sur le locataire'!E1633)","v":""}]
[null,null,null,{"$f":"IF(ISBLANK('Renseignements sur le locataire'!E1634),\"\",'Renseignements sur le locataire'!E1634)","v":""}]
[null,null,null,{"$f":"IF(ISBLANK('Renseignements sur le locataire'!E1635),\"\",'Renseignements sur le locataire'!E1635)","v":""}]
[null,null,null,{"$f":"IF(ISBLANK('Renseignements sur le locataire'!E1636),\"\",'Renseignements sur le locataire'!E1636)","v":""}]
[null,null,null,{"$f":"IF(ISBLANK('Renseignements sur le locataire'!E1637),\"\",'Renseignements sur le locataire'!E1637)","v":""}]
[null,null,null,{"$f":"IF(ISBLANK('Renseignements sur le locataire'!E1638),\"\",'Renseignements sur le locataire'!E1638)","v":""}]
[null,null,null,{"$f":"IF(ISBLANK('Renseignements sur le locataire'!E1639),\"\",'Renseignements sur le locataire'!E1639)","v":""}]
[null,null,null,{"$f":"IF(ISBLANK('Renseignements sur le locataire'!E1640),\"\",'Renseignements sur le locataire'!E1640)","v":""}]
[null,null,null,{"$f":"IF(ISBLANK('Renseignements sur le locataire'!E1641),\"\",'Renseignements sur le locataire'!E1641)","v":""}]
[null,null,null,{"$f":"IF(ISBLANK('Renseignements sur le locataire'!E1642),\"\",'Renseignements sur le locataire'!E1642)","v":""}]
[null,null,null,{"$f":"IF(ISBLANK('Renseignements sur le locataire'!E1643),\"\",'Renseignements sur le locataire'!E1643)","v":""}]
[null,null,null,{"$f":"IF(ISBLANK('Renseignements sur le locataire'!E1644),\"\",'Renseignements sur le locataire'!E1644)","v":""}]
[null,null,null,{"$f":"IF(ISBLANK('Renseignements sur le locataire'!E1645),\"\",'Renseignements sur le locataire'!E1645)","v":""}]
[null,null,null,{"$f":"IF(ISBLANK('Renseignements sur le locataire'!E1646),\"\",'Renseignements sur le locataire'!E1646)","v":""}]
[null,null,null,{"$f":"IF(ISBLANK('Renseignements sur le locataire'!E1647),\"\",'Renseignements sur le locataire'!E1647)","v":""}]
[null,null,null,{"$f":"IF(ISBLANK('Renseignements sur le locataire'!E1648),\"\",'Renseignements sur le locataire'!E1648)","v":""}]
[null,null,null,{"$f":"IF(ISBLANK('Renseignements sur le locataire'!E1649),\"\",'Renseignements sur le locataire'!E1649)","v":""}]
[null,null,null,{"$f":"IF(ISBLANK('Renseignements sur le locataire'!E1650),\"\",'Renseignements sur le locataire'!E1650)","v":""}]
[null,null,null,{"$f":"IF(ISBLANK('Renseignements sur le locataire'!E1651),\"\",'Renseignements sur le locataire'!E1651)","v":""}]
[null,null,null,{"$f":"IF(ISBLANK('Renseignements sur le locataire'!E1652),\"\",'Renseignements sur le locataire'!E1652)","v":""}]
[null,null,null,{"$f":"IF(ISBLANK('Renseignements sur le locataire'!E1653),\"\",'Renseignements sur le locataire'!E1653)","v":""}]
[null,null,null,{"$f":"IF(ISBLANK('Renseignements sur le locataire'!E1654),\"\",'Renseignements sur le locataire'!E1654)","v":""}]
[null,null,null,{"$f":"IF(ISBLANK('Renseignements sur le locataire'!E1655),\"\",'Renseignements sur le locataire'!E1655)","v":""}]
[null,null,null,{"$f":"IF(ISBLANK('Renseignements sur le locataire'!E1656),\"\",'Renseignements sur le locataire'!E1656)","v":""}]
[null,null,null,{"$f":"IF(ISBLANK('Renseignements sur le locataire'!E1657),\"\",'Renseignements sur le locataire'!E1657)","v":""}]
[null,null,null,{"$f":"IF(ISBLANK('Renseignements sur le locataire'!E1658),\"\",'Renseignements sur le locataire'!E1658)","v":""}]
[null,null,null,{"$f":"IF(ISBLANK('Renseignements sur le locataire'!E1659),\"\",'Renseignements sur le locataire'!E1659)","v":""}]
[null,null,null,{"$f":"IF(ISBLANK('Renseignements sur le locataire'!E1660),\"\",'Renseignements sur le locataire'!E1660)","v":""}]
[null,null,null,{"$f":"IF(ISBLANK('Renseignements sur le locataire'!E1661),\"\",'Renseignements sur le locataire'!E1661)","v":""}]
[null,null,null,{"$f":"IF(ISBLANK('Renseignements sur le locataire'!E1662),\"\",'Renseignements sur le locataire'!E1662)","v":""}]
[null,null,null,{"$f":"IF(ISBLANK('Renseignements sur le locataire'!E1663),\"\",'Renseignements sur le locataire'!E1663)","v":""}]
[null,null,null,{"$f":"IF(ISBLANK('Renseignements sur le locataire'!E1664),\"\",'Renseignements sur le locataire'!E1664)","v":""}]
[null,null,null,{"$f":"IF(ISBLANK('Renseignements sur le locataire'!E1665),\"\",'Renseignements sur le locataire'!E1665)","v":""}]
[null,null,null,{"$f":"IF(ISBLANK('Renseignements sur le locataire'!E1666),\"\",'Renseignements sur le locataire'!E1666)","v":""}]
[null,null,null,{"$f":"IF(ISBLANK('Renseignements sur le locataire'!E1667),\"\",'Renseignements sur le locataire'!E1667)","v":""}]
[null,null,null,{"$f":"IF(ISBLANK('Renseignements sur le locataire'!E1668),\"\",'Renseignements sur le locataire'!E1668)","v":""}]
[null,null,null,{"$f":"IF(ISBLANK('Renseignements sur le locataire'!E1669),\"\",'Renseignements sur le locataire'!E1669)","v":""}]
[null,null,null,{"$f":"IF(ISBLANK('Renseignements sur le locataire'!E1670),\"\",'Renseignements sur le locataire'!E1670)","v":""}]
[null,null,null,{"$f":"IF(ISBLANK('Renseignements sur le locataire'!E1671),\"\",'Renseignements sur le locataire'!E1671)","v":""}]
[null,null,null,{"$f":"IF(ISBLANK('Renseignements sur le locataire'!E1672),\"\",'Renseignements sur le locataire'!E1672)","v":""}]
[null,null,null,{"$f":"IF(ISBLANK('Renseignements sur le locataire'!E1673),\"\",'Renseignements sur le locataire'!E1673)","v":""}]
[null,null,null,{"$f":"IF(ISBLANK('Renseignements sur le locataire'!E1674),\"\",'Renseignements sur le locataire'!E1674)","v":""}]
[null,null,null,{"$f":"IF(ISBLANK('Renseignements sur le locataire'!E1675),\"\",'Renseignements sur le locataire'!E1675)","v":""}]
[null,null,null,{"$f":"IF(ISBLANK('Renseignements sur le locataire'!E1676),\"\",'Renseignements sur le locataire'!E1676)","v":""}]
[null,null,null,{"$f":"IF(ISBLANK('Renseignements sur le locataire'!E1677),\"\",'Renseignements sur le locataire'!E1677)","v":""}]
[null,null,null,{"$f":"IF(ISBLANK('Renseignements sur le locataire'!E1678),\"\",'Renseignements sur le locataire'!E1678)","v":""}]
[null,null,null,{"$f":"IF(ISBLANK('Renseignements sur le locataire'!E1679),\"\",'Renseignements sur le locataire'!E1679)","v":""}]
[null,null,null,{"$f":"IF(ISBLANK('Renseignements sur le locataire'!E1680),\"\",'Renseignements sur le locataire'!E1680)","v":""}]
[null,null,null,{"$f":"IF(ISBLANK('Renseignements sur le locataire'!E1681),\"\",'Renseignements sur le locataire'!E1681)","v":""}]
[null,null,null,{"$f":"IF(ISBLANK('Renseignements sur le locataire'!E1682),\"\",'Renseignements sur le locataire'!E1682)","v":""}]
[null,null,null,{"$f":"IF(ISBLANK('Renseignements sur le locataire'!E1683),\"\",'Renseignements sur le locataire'!E1683)","v":""}]
[null,null,null,{"$f":"IF(ISBLANK('Renseignements sur le locataire'!E1684),\"\",'Renseignements sur le locataire'!E1684)","v":""}]
[null,null,null,{"$f":"IF(ISBLANK('Renseignements sur le locataire'!E1685),\"\",'Renseignements sur le locataire'!E1685)","v":""}]
[null,null,null,{"$f":"IF(ISBLANK('Renseignements sur le locataire'!E1686),\"\",'Renseignements sur le locataire'!E1686)","v":""}]
[null,null,null,{"$f":"IF(ISBLANK('Renseignements sur le locataire'!E1687),\"\",'Renseignements sur le locataire'!E1687)","v":""}]
[null,null,null,{"$f":"IF(ISBLANK('Renseignements sur le locataire'!E1688),\"\",'Renseignements sur le locataire'!E1688)","v":""}]
[null,null,null,{"$f":"IF(ISBLANK('Renseignements sur le locataire'!E1689),\"\",'Renseignements sur le locataire'!E1689)","v":""}]
[null,null,null,{"$f":"IF(ISBLANK('Renseignements sur le locataire'!E1690),\"\",'Renseignements sur le locataire'!E1690)","v":""}]
[null,null,null,{"$f":"IF(ISBLANK('Renseignements sur le locataire'!E1691),\"\",'Renseignements sur le locataire'!E1691)","v":""}]
[null,null,null,{"$f":"IF(ISBLANK('Renseignements sur le locataire'!E1692),\"\",'Renseignements sur le locataire'!E1692)","v":""}]
[null,null,null,{"$f":"IF(ISBLANK('Renseignements sur le locataire'!E1693),\"\",'Renseignements sur le locataire'!E1693)","v":""}]
[null,null,null,{"$f":"IF(ISBLANK('Renseignements sur le locataire'!E1694),\"\",'Renseignements sur le locataire'!E1694)","v":""}]
[null,null,null,{"$f":"IF(ISBLANK('Renseignements sur le locataire'!E1695),\"\",'Renseignements sur le locataire'!E1695)","v":""}]
[null,null,null,{"$f":"IF(ISBLANK('Renseignements sur le locataire'!E1696),\"\",'Renseignements sur le locataire'!E1696)","v":""}]
[null,null,null,{"$f":"IF(ISBLANK('Renseignements sur le locataire'!E1697),\"\",'Renseignements sur le locataire'!E1697)","v":""}]
[null,null,null,{"$f":"IF(ISBLANK('Renseignements sur le locataire'!E1698),\"\",'Renseignements sur le locataire'!E1698)","v":""}]
[null,null,null,{"$f":"IF(ISBLANK('Renseignements sur le locataire'!E1699),\"\",'Renseignements sur le locataire'!E1699)","v":""}]
[null,null,null,{"$f":"IF(ISBLANK('Renseignements sur le locataire'!E1700),\"\",'Renseignements sur le locataire'!E1700)","v":""}]
[null,null,null,{"$f":"IF(ISBLANK('Renseignements sur le locataire'!E1701),\"\",'Renseignements sur le locataire'!E1701)","v":""}]
[null,null,null,{"$f":"IF(ISBLANK('Renseignements sur le locataire'!E1702),\"\",'Renseignements sur le locataire'!E1702)","v":""}]
[null,null,null,{"$f":"IF(ISBLANK('Renseignements sur le locataire'!E1703),\"\",'Renseignements sur le locataire'!E1703)","v":""}]
[null,null,null,{"$f":"IF(ISBLANK('Renseignements sur le locataire'!E1704),\"\",'Renseignements sur le locataire'!E1704)","v":""}]
[null,null,null,{"$f":"IF(ISBLANK('Renseignements sur le locataire'!E1705),\"\",'Renseignements sur le locataire'!E1705)","v":""}]
[null,null,null,{"$f":"IF(ISBLANK('Renseignements sur le locataire'!E1706),\"\",'Renseignements sur le locataire'!E1706)","v":""}]
[null,null,null,{"$f":"IF(ISBLANK('Renseignements sur le locataire'!E1707),\"\",'Renseignements sur le locataire'!E1707)","v":""}]
[null,null,null,{"$f":"IF(ISBLANK('Renseignements sur le locataire'!E1708),\"\",'Renseignements sur le locataire'!E1708)","v":""}]
[null,null,null,{"$f":"IF(ISBLANK('Renseignements sur le locataire'!E1709),\"\",'Renseignements sur le locataire'!E1709)","v":""}]
[null,null,null,{"$f":"IF(ISBLANK('Renseignements sur le locataire'!E1710),\"\",'Renseignements sur le locataire'!E1710)","v":""}]
[null,null,null,{"$f":"IF(ISBLANK('Renseignements sur le locataire'!E1711),\"\",'Renseignements sur le locataire'!E1711)","v":""}]
[null,null,null,{"$f":"IF(ISBLANK('Renseignements sur le locataire'!E1712),\"\",'Renseignements sur le locataire'!E1712)","v":""}]
[null,null,null,{"$f":"IF(ISBLANK('Renseignements sur le locataire'!E1713),\"\",'Renseignements sur le locataire'!E1713)","v":""}]
[null,null,null,{"$f":"IF(ISBLANK('Renseignements sur le locataire'!E1714),\"\",'Renseignements sur le locataire'!E1714)","v":""}]
[null,null,null,{"$f":"IF(ISBLANK('Renseignements sur le locataire'!E1715),\"\",'Renseignements sur le locataire'!E1715)","v":""}]
[null,null,null,{"$f":"IF(ISBLANK('Renseignements sur le locataire'!E1716),\"\",'Renseignements sur le locataire'!E1716)","v":""}]
[null,null,null,{"$f":"IF(ISBLANK('Renseignements sur le locataire'!E1717),\"\",'Renseignements sur le locataire'!E1717)","v":""}]
[null,null,null,{"$f":"IF(ISBLANK('Renseignements sur le locataire'!E1718),\"\",'Renseignements sur le locataire'!E1718)","v":""}]
[null,null,null,{"$f":"IF(ISBLANK('Renseignements sur le locataire'!E1719),\"\",'Renseignements sur le locataire'!E1719)","v":""}]
[null,null,null,{"$f":"IF(ISBLANK('Renseignements sur le locataire'!E1720),\"\",'Renseignements sur le locataire'!E1720)","v":""}]
[null,null,null,{"$f":"IF(ISBLANK('Renseignements sur le locataire'!E1721),\"\",'Renseignements sur le locataire'!E1721)","v":""}]
[null,null,null,{"$f":"IF(ISBLANK('Renseignements sur le locataire'!E1722),\"\",'Renseignements sur le locataire'!E1722)","v":""}]
[null,null,null,{"$f":"IF(ISBLANK('Renseignements sur le locataire'!E1723),\"\",'Renseignements sur le locataire'!E1723)","v":""}]
[null,null,null,{"$f":"IF(ISBLANK('Renseignements sur le locataire'!E1724),\"\",'Renseignements sur le locataire'!E1724)","v":""}]
[null,null,null,{"$f":"IF(ISBLANK('Renseignements sur le locataire'!E1725),\"\",'Renseignements sur le locataire'!E1725)","v":""}]
[null,null,null,{"$f":"IF(ISBLANK('Renseignements sur le locataire'!E1726),\"\",'Renseignements sur le locataire'!E1726)","v":""}]
[null,null,null,{"$f":"IF(ISBLANK('Renseignements sur le locataire'!E1727),\"\",'Renseignements sur le locataire'!E1727)","v":""}]
[null,null,null,{"$f":"IF(ISBLANK('Renseignements sur le locataire'!E1728),\"\",'Renseignements sur le locataire'!E1728)","v":""}]
[null,null,null,{"$f":"IF(ISBLANK('Renseignements sur le locataire'!E1729),\"\",'Renseignements sur le locataire'!E1729)","v":""}]
[null,null,null,{"$f":"IF(ISBLANK('Renseignements sur le locataire'!E1730),\"\",'Renseignements sur le locataire'!E1730)","v":""}]
[null,null,null,{"$f":"IF(ISBLANK('Renseignements sur le locataire'!E1731),\"\",'Renseignements sur le locataire'!E1731)","v":""}]
[null,null,null,{"$f":"IF(ISBLANK('Renseignements sur le locataire'!E1732),\"\",'Renseignements sur le locataire'!E1732)","v":""}]
[null,null,null,{"$f":"IF(ISBLANK('Renseignements sur le locataire'!E1733),\"\",'Renseignements sur le locataire'!E1733)","v":""}]
[null,null,null,{"$f":"IF(ISBLANK('Renseignements sur le locataire'!E1734),\"\",'Renseignements sur le locataire'!E1734)","v":""}]
[null,null,null,{"$f":"IF(ISBLANK('Renseignements sur le locataire'!E1735),\"\",'Renseignements sur le locataire'!E1735)","v":""}]
[null,null,null,{"$f":"IF(ISBLANK('Renseignements sur le locataire'!E1736),\"\",'Renseignements sur le locataire'!E1736)","v":""}]
[null,null,null,{"$f":"IF(ISBLANK('Renseignements sur le locataire'!E1737),\"\",'Renseignements sur le locataire'!E1737)","v":""}]
[null,null,null,{"$f":"IF(ISBLANK('Renseignements sur le locataire'!E1738),\"\",'Renseignements sur le locataire'!E1738)","v":""}]
[null,null,null,{"$f":"IF(ISBLANK('Renseignements sur le locataire'!E1739),\"\",'Renseignements sur le locataire'!E1739)","v":""}]
[null,null,null,{"$f":"IF(ISBLANK('Renseignements sur le locataire'!E1740),\"\",'Renseignements sur le locataire'!E1740)","v":""}]
[null,null,null,{"$f":"IF(ISBLANK('Renseignements sur le locataire'!E1741),\"\",'Renseignements sur le locataire'!E1741)","v":""}]
[null,null,null,{"$f":"IF(ISBLANK('Renseignements sur le locataire'!E1742),\"\",'Renseignements sur le locataire'!E1742)","v":""}]
[null,null,null,{"$f":"IF(ISBLANK('Renseignements sur le locataire'!E1743),\"\",'Renseignements sur le locataire'!E1743)","v":""}]
[null,null,null,{"$f":"IF(ISBLANK('Renseignements sur le locataire'!E1744),\"\",'Renseignements sur le locataire'!E1744)","v":""}]
[null,null,null,{"$f":"IF(ISBLANK('Renseignements sur le locataire'!E1745),\"\",'Renseignements sur le locataire'!E1745)","v":""}]
[null,null,null,{"$f":"IF(ISBLANK('Renseignements sur le locataire'!E1746),\"\",'Renseignements sur le locataire'!E1746)","v":""}]
[null,null,null,{"$f":"IF(ISBLANK('Renseignements sur le locataire'!E1747),\"\",'Renseignements sur le locataire'!E1747)","v":""}]
[null,null,null,{"$f":"IF(ISBLANK('Renseignements sur le locataire'!E1748),\"\",'Renseignements sur le locataire'!E1748)","v":""}]
[null,null,null,{"$f":"IF(ISBLANK('Renseignements sur le locataire'!E1749),\"\",'Renseignements sur le locataire'!E1749)","v":""}]
[null,null,null,{"$f":"IF(ISBLANK('Renseignements sur le locataire'!E1750),\"\",'Renseignements sur le locataire'!E1750)","v":""}]
[null,null,null,{"$f":"IF(ISBLANK('Renseignements sur le locataire'!E1751),\"\",'Renseignements sur le locataire'!E1751)","v":""}]
[null,null,null,{"$f":"IF(ISBLANK('Renseignements sur le locataire'!E1752),\"\",'Renseignements sur le locataire'!E1752)","v":""}]
[null,null,null,{"$f":"IF(ISBLANK('Renseignements sur le locataire'!E1753),\"\",'Renseignements sur le locataire'!E1753)","v":""}]
[null,null,null,{"$f":"IF(ISBLANK('Renseignements sur le locataire'!E1754),\"\",'Renseignements sur le locataire'!E1754)","v":""}]
[null,null,null,{"$f":"IF(ISBLANK('Renseignements sur le locataire'!E1755),\"\",'Renseignements sur le locataire'!E1755)","v":""}]
[null,null,null,{"$f":"IF(ISBLANK('Renseignements sur le locataire'!E1756),\"\",'Renseignements sur le locataire'!E1756)","v":""}]
[null,null,null,{"$f":"IF(ISBLANK('Renseignements sur le locataire'!E1757),\"\",'Renseignements sur le locataire'!E1757)","v":""}]
[null,null,null,{"$f":"IF(ISBLANK('Renseignements sur le locataire'!E1758),\"\",'Renseignements sur le locataire'!E1758)","v":""}]
[null,null,null,{"$f":"IF(ISBLANK('Renseignements sur le locataire'!E1759),\"\",'Renseignements sur le locataire'!E1759)","v":""}]
[null,null,null,{"$f":"IF(ISBLANK('Renseignements sur le locataire'!E1760),\"\",'Renseignements sur le locataire'!E1760)","v":""}]
[null,null,null,{"$f":"IF(ISBLANK('Renseignements sur le locataire'!E1761),\"\",'Renseignements sur le locataire'!E1761)","v":""}]
[null,null,null,{"$f":"IF(ISBLANK('Renseignements sur le locataire'!E1762),\"\",'Renseignements sur le locataire'!E1762)","v":""}]
[null,null,null,{"$f":"IF(ISBLANK('Renseignements sur le locataire'!E1763),\"\",'Renseignements sur le locataire'!E1763)","v":""}]
[null,null,null,{"$f":"IF(ISBLANK('Renseignements sur le locataire'!E1764),\"\",'Renseignements sur le locataire'!E1764)","v":""}]
[null,null,null,{"$f":"IF(ISBLANK('Renseignements sur le locataire'!E1765),\"\",'Renseignements sur le locataire'!E1765)","v":""}]
[null,null,null,{"$f":"IF(ISBLANK('Renseignements sur le locataire'!E1766),\"\",'Renseignements sur le locataire'!E1766)","v":""}]
[null,null,null,{"$f":"IF(ISBLANK('Renseignements sur le locataire'!E1767),\"\",'Renseignements sur le locataire'!E1767)","v":""}]
[null,null,null,{"$f":"IF(ISBLANK('Renseignements sur le locataire'!E1768),\"\",'Renseignements sur le locataire'!E1768)","v":""}]
[null,null,null,{"$f":"IF(ISBLANK('Renseignements sur le locataire'!E1769),\"\",'Renseignements sur le locataire'!E1769)","v":""}]
[null,null,null,{"$f":"IF(ISBLANK('Renseignements sur le locataire'!E1770),\"\",'Renseignements sur le locataire'!E1770)","v":""}]
[null,null,null,{"$f":"IF(ISBLANK('Renseignements sur le locataire'!E1771),\"\",'Renseignements sur le locataire'!E1771)","v":""}]
[null,null,null,{"$f":"IF(ISBLANK('Renseignements sur le locataire'!E1772),\"\",'Renseignements sur le locataire'!E1772)","v":""}]
[null,null,null,{"$f":"IF(ISBLANK('Renseignements sur le locataire'!E1773),\"\",'Renseignements sur le locataire'!E1773)","v":""}]
[null,null,null,{"$f":"IF(ISBLANK('Renseignements sur le locataire'!E1774),\"\",'Renseignements sur le locataire'!E1774)","v":""}]
[null,null,null,{"$f":"IF(ISBLANK('Renseignements sur le locataire'!E1775),\"\",'Renseignements sur le locataire'!E1775)","v":""}]
[null,null,null,{"$f":"IF(ISBLANK('Renseignements sur le locataire'!E1776),\"\",'Renseignements sur le locataire'!E1776)","v":""}]
[null,null,null,{"$f":"IF(ISBLANK('Renseignements sur le locataire'!E1777),\"\",'Renseignements sur le locataire'!E1777)","v":""}]
[null,null,null,{"$f":"IF(ISBLANK('Renseignements sur le locataire'!E1778),\"\",'Renseignements sur le locataire'!E1778)","v":""}]
[null,null,null,{"$f":"IF(ISBLANK('Renseignements sur le locataire'!E1779),\"\",'Renseignements sur le locataire'!E1779)","v":""}]
[null,null,null,{"$f":"IF(ISBLANK('Renseignements sur le locataire'!E1780),\"\",'Renseignements sur le locataire'!E1780)","v":""}]
[null,null,null,{"$f":"IF(ISBLANK('Renseignements sur le locataire'!E1781),\"\",'Renseignements sur le locataire'!E1781)","v":""}]
[null,null,null,{"$f":"IF(ISBLANK('Renseignements sur le locataire'!E1782),\"\",'Renseignements sur le locataire'!E1782)","v":""}]
[null,null,null,{"$f":"IF(ISBLANK('Renseignements sur le locataire'!E1783),\"\",'Renseignements sur le locataire'!E1783)","v":""}]
[null,null,null,{"$f":"IF(ISBLANK('Renseignements sur le locataire'!E1784),\"\",'Renseignements sur le locataire'!E1784)","v":""}]
[null,null,null,{"$f":"IF(ISBLANK('Renseignements sur le locataire'!E1785),\"\",'Renseignements sur le locataire'!E1785)","v":""}]
[null,null,null,{"$f":"IF(ISBLANK('Renseignements sur le locataire'!E1786),\"\",'Renseignements sur le locataire'!E1786)","v":""}]
[null,null,null,{"$f":"IF(ISBLANK('Renseignements sur le locataire'!E1787),\"\",'Renseignements sur le locataire'!E1787)","v":""}]
[null,null,null,{"$f":"IF(ISBLANK('Renseignements sur le locataire'!E1788),\"\",'Renseignements sur le locataire'!E1788)","v":""}]
[null,null,null,{"$f":"IF(ISBLANK('Renseignements sur le locataire'!E1789),\"\",'Renseignements sur le locataire'!E1789)","v":""}]
[null,null,null,{"$f":"IF(ISBLANK('Renseignements sur le locataire'!E1790),\"\",'Renseignements sur le locataire'!E1790)","v":""}]
[null,null,null,{"$f":"IF(ISBLANK('Renseignements sur le locataire'!E1791),\"\",'Renseignements sur le locataire'!E1791)","v":""}]
[null,null,null,{"$f":"IF(ISBLANK('Renseignements sur le locataire'!E1792),\"\",'Renseignements sur le locataire'!E1792)","v":""}]
[null,null,null,{"$f":"IF(ISBLANK('Renseignements sur le locataire'!E1793),\"\",'Renseignements sur le locataire'!E1793)","v":""}]
[null,null,null,{"$f":"IF(ISBLANK('Renseignements sur le locataire'!E1794),\"\",'Renseignements sur le locataire'!E1794)","v":""}]
[null,null,null,{"$f":"IF(ISBLANK('Renseignements sur le locataire'!E1795),\"\",'Renseignements sur le locataire'!E1795)","v":""}]
[null,null,null,{"$f":"IF(ISBLANK('Renseignements sur le locataire'!E1796),\"\",'Renseignements sur le locataire'!E1796)","v":""}]
[null,null,null,{"$f":"IF(ISBLANK('Renseignements sur le locataire'!E1797),\"\",'Renseignements sur le locataire'!E1797)","v":""}]
[null,null,null,{"$f":"IF(ISBLANK('Renseignements sur le locataire'!E1798),\"\",'Renseignements sur le locataire'!E1798)","v":""}]
[null,null,null,{"$f":"IF(ISBLANK('Renseignements sur le locataire'!E1799),\"\",'Renseignements sur le locataire'!E1799)","v":""}]
[null,null,null,{"$f":"IF(ISBLANK('Renseignements sur le locataire'!E1800),\"\",'Renseignements sur le locataire'!E1800)","v":""}]
[null,null,null,{"$f":"IF(ISBLANK('Renseignements sur le locataire'!E1801),\"\",'Renseignements sur le locataire'!E1801)","v":""}]
[null,null,null,{"$f":"IF(ISBLANK('Renseignements sur le locataire'!E1802),\"\",'Renseignements sur le locataire'!E1802)","v":""}]
[null,null,null,{"$f":"IF(ISBLANK('Renseignements sur le locataire'!E1803),\"\",'Renseignements sur le locataire'!E1803)","v":""}]
[null,null,null,{"$f":"IF(ISBLANK('Renseignements sur le locataire'!E1804),\"\",'Renseignements sur le locataire'!E1804)","v":""}]
[null,null,null,{"$f":"IF(ISBLANK('Renseignements sur le locataire'!E1805),\"\",'Renseignements sur le locataire'!E1805)","v":""}]
[null,null,null,{"$f":"IF(ISBLANK('Renseignements sur le locataire'!E1806),\"\",'Renseignements sur le locataire'!E1806)","v":""}]
[null,null,null,{"$f":"IF(ISBLANK('Renseignements sur le locataire'!E1807),\"\",'Renseignements sur le locataire'!E1807)","v":""}]
[null,null,null,{"$f":"IF(ISBLANK('Renseignements sur le locataire'!E1808),\"\",'Renseignements sur le locataire'!E1808)","v":""}]
[null,null,null,{"$f":"IF(ISBLANK('Renseignements sur le locataire'!E1809),\"\",'Renseignements sur le locataire'!E1809)","v":""}]
[null,null,null,{"$f":"IF(ISBLANK('Renseignements sur le locataire'!E1810),\"\",'Renseignements sur le locataire'!E1810)","v":""}]
[null,null,null,{"$f":"IF(ISBLANK('Renseignements sur le locataire'!E1811),\"\",'Renseignements sur le locataire'!E1811)","v":""}]
[null,null,null,{"$f":"IF(ISBLANK('Renseignements sur le locataire'!E1812),\"\",'Renseignements sur le locataire'!E1812)","v":""}]
[null,null,null,{"$f":"IF(ISBLANK('Renseignements sur le locataire'!E1813),\"\",'Renseignements sur le locataire'!E1813)","v":""}]
[null,null,null,{"$f":"IF(ISBLANK('Renseignements sur le locataire'!E1814),\"\",'Renseignements sur le locataire'!E1814)","v":""}]
[null,null,null,{"$f":"IF(ISBLANK('Renseignements sur le locataire'!E1815),\"\",'Renseignements sur le locataire'!E1815)","v":""}]
[null,null,null,{"$f":"IF(ISBLANK('Renseignements sur le locataire'!E1816),\"\",'Renseignements sur le locataire'!E1816)","v":""}]
[null,null,null,{"$f":"IF(ISBLANK('Renseignements sur le locataire'!E1817),\"\",'Renseignements sur le locataire'!E1817)","v":""}]
[null,null,null,{"$f":"IF(ISBLANK('Renseignements sur le locataire'!E1818),\"\",'Renseignements sur le locataire'!E1818)","v":""}]
[null,null,null,{"$f":"IF(ISBLANK('Renseignements sur le locataire'!E1819),\"\",'Renseignements sur le locataire'!E1819)","v":""}]
[null,null,null,{"$f":"IF(ISBLANK('Renseignements sur le locataire'!E1820),\"\",'Renseignements sur le locataire'!E1820)","v":""}]
[null,null,null,{"$f":"IF(ISBLANK('Renseignements sur le locataire'!E1821),\"\",'Renseignements sur le locataire'!E1821)","v":""}]
[null,null,null,{"$f":"IF(ISBLANK('Renseignements sur le locataire'!E1822),\"\",'Renseignements sur le locataire'!E1822)","v":""}]
[null,null,null,{"$f":"IF(ISBLANK('Renseignements sur le locataire'!E1823),\"\",'Renseignements sur le locataire'!E1823)","v":""}]
[null,null,null,{"$f":"IF(ISBLANK('Renseignements sur le locataire'!E1824),\"\",'Renseignements sur le locataire'!E1824)","v":""}]
[null,null,null,{"$f":"IF(ISBLANK('Renseignements sur le locataire'!E1825),\"\",'Renseignements sur le locataire'!E1825)","v":""}]
[null,null,null,{"$f":"IF(ISBLANK('Renseignements sur le locataire'!E1826),\"\",'Renseignements sur le locataire'!E1826)","v":""}]
[null,null,null,{"$f":"IF(ISBLANK('Renseignements sur le locataire'!E1827),\"\",'Renseignements sur le locataire'!E1827)","v":""}]
[null,null,null,{"$f":"IF(ISBLANK('Renseignements sur le locataire'!E1828),\"\",'Renseignements sur le locataire'!E1828)","v":""}]
[null,null,null,{"$f":"IF(ISBLANK('Renseignements sur le locataire'!E1829),\"\",'Renseignements sur le locataire'!E1829)","v":""}]
[null,null,null,{"$f":"IF(ISBLANK('Renseignements sur le locataire'!E1830),\"\",'Renseignements sur le locataire'!E1830)","v":""}]
[null,null,null,{"$f":"IF(ISBLANK('Renseignements sur le locataire'!E1831),\"\",'Renseignements sur le locataire'!E1831)","v":""}]
[null,null,null,{"$f":"IF(ISBLANK('Renseignements sur le locataire'!E1832),\"\",'Renseignements sur le locataire'!E1832)","v":""}]
[null,null,null,{"$f":"IF(ISBLANK('Renseignements sur le locataire'!E1833),\"\",'Renseignements sur le locataire'!E1833)","v":""}]
[null,null,null,{"$f":"IF(ISBLANK('Renseignements sur le locataire'!E1834),\"\",'Renseignements sur le locataire'!E1834)","v":""}]
[null,null,null,{"$f":"IF(ISBLANK('Renseignements sur le locataire'!E1835),\"\",'Renseignements sur le locataire'!E1835)","v":""}]
[null,null,null,{"$f":"IF(ISBLANK('Renseignements sur le locataire'!E1836),\"\",'Renseignements sur le locataire'!E1836)","v":""}]
[null,null,null,{"$f":"IF(ISBLANK('Renseignements sur le locataire'!E1837),\"\",'Renseignements sur le locataire'!E1837)","v":""}]
[null,null,null,{"$f":"IF(ISBLANK('Renseignements sur le locataire'!E1838),\"\",'Renseignements sur le locataire'!E1838)","v":""}]
[null,null,null,{"$f":"IF(ISBLANK('Renseignements sur le locataire'!E1839),\"\",'Renseignements sur le locataire'!E1839)","v":""}]
[null,null,null,{"$f":"IF(ISBLANK('Renseignements sur le locataire'!E1840),\"\",'Renseignements sur le locataire'!E1840)","v":""}]
[null,null,null,{"$f":"IF(ISBLANK('Renseignements sur le locataire'!E1841),\"\",'Renseignements sur le locataire'!E1841)","v":""}]
[null,null,null,{"$f":"IF(ISBLANK('Renseignements sur le locataire'!E1842),\"\",'Renseignements sur le locataire'!E1842)","v":""}]
[null,null,null,{"$f":"IF(ISBLANK('Renseignements sur le locataire'!E1843),\"\",'Renseignements sur le locataire'!E1843)","v":""}]
[null,null,null,{"$f":"IF(ISBLANK('Renseignements sur le locataire'!E1844),\"\",'Renseignements sur le locataire'!E1844)","v":""}]
[null,null,null,{"$f":"IF(ISBLANK('Renseignements sur le locataire'!E1845),\"\",'Renseignements sur le locataire'!E1845)","v":""}]
[null,null,null,{"$f":"IF(ISBLANK('Renseignements sur le locataire'!E1846),\"\",'Renseignements sur le locataire'!E1846)","v":""}]
[null,null,null,{"$f":"IF(ISBLANK('Renseignements sur le locataire'!E1847),\"\",'Renseignements sur le locataire'!E1847)","v":""}]
[null,null,null,{"$f":"IF(ISBLANK('Renseignements sur le locataire'!E1848),\"\",'Renseignements sur le locataire'!E1848)","v":""}]
[null,null,null,{"$f":"IF(ISBLANK('Renseignements sur le locataire'!E1849),\"\",'Renseignements sur le locataire'!E1849)","v":""}]
[null,null,null,{"$f":"IF(ISBLANK('Renseignements sur le locataire'!E1850),\"\",'Renseignements sur le locataire'!E1850)","v":""}]
[null,null,null,{"$f":"IF(ISBLANK('Renseignements sur le locataire'!E1851),\"\",'Renseignements sur le locataire'!E1851)","v":""}]
[null,null,null,{"$f":"IF(ISBLANK('Renseignements sur le locataire'!E1852),\"\",'Renseignements sur le locataire'!E1852)","v":""}]
[null,null,null,{"$f":"IF(ISBLANK('Renseignements sur le locataire'!E1853),\"\",'Renseignements sur le locataire'!E1853)","v":""}]
[null,null,null,{"$f":"IF(ISBLANK('Renseignements sur le locataire'!E1854),\"\",'Renseignements sur le locataire'!E1854)","v":""}]
[null,null,null,{"$f":"IF(ISBLANK('Renseignements sur le locataire'!E1855),\"\",'Renseignements sur le locataire'!E1855)","v":""}]
[null,null,null,{"$f":"IF(ISBLANK('Renseignements sur le locataire'!E1856),\"\",'Renseignements sur le locataire'!E1856)","v":""}]
[null,null,null,{"$f":"IF(ISBLANK('Renseignements sur le locataire'!E1857),\"\",'Renseignements sur le locataire'!E1857)","v":""}]
[null,null,null,{"$f":"IF(ISBLANK('Renseignements sur le locataire'!E1858),\"\",'Renseignements sur le locataire'!E1858)","v":""}]
[null,null,null,{"$f":"IF(ISBLANK('Renseignements sur le locataire'!E1859),\"\",'Renseignements sur le locataire'!E1859)","v":""}]
[null,null,null,{"$f":"IF(ISBLANK('Renseignements sur le locataire'!E1860),\"\",'Renseignements sur le locataire'!E1860)","v":""}]
[null,null,null,{"$f":"IF(ISBLANK('Renseignements sur le locataire'!E1861),\"\",'Renseignements sur le locataire'!E1861)","v":""}]
[null,null,null,{"$f":"IF(ISBLANK('Renseignements sur le locataire'!E1862),\"\",'Renseignements sur le locataire'!E1862)","v":""}]
[null,null,null,{"$f":"IF(ISBLANK('Renseignements sur le locataire'!E1863),\"\",'Renseignements sur le locataire'!E1863)","v":""}]
[null,null,null,{"$f":"IF(ISBLANK('Renseignements sur le locataire'!E1864),\"\",'Renseignements sur le locataire'!E1864)","v":""}]
[null,null,null,{"$f":"IF(ISBLANK('Renseignements sur le locataire'!E1865),\"\",'Renseignements sur le locataire'!E1865)","v":""}]
[null,null,null,{"$f":"IF(ISBLANK('Renseignements sur le locataire'!E1866),\"\",'Renseignements sur le locataire'!E1866)","v":""}]
[null,null,null,{"$f":"IF(ISBLANK('Renseignements sur le locataire'!E1867),\"\",'Renseignements sur le locataire'!E1867)","v":""}]
[null,null,null,{"$f":"IF(ISBLANK('Renseignements sur le locataire'!E1868),\"\",'Renseignements sur le locataire'!E1868)","v":""}]
[null,null,null,{"$f":"IF(ISBLANK('Renseignements sur le locataire'!E1869),\"\",'Renseignements sur le locataire'!E1869)","v":""}]
[null,null,null,{"$f":"IF(ISBLANK('Renseignements sur le locataire'!E1870),\"\",'Renseignements sur le locataire'!E1870)","v":""}]
[null,null,null,{"$f":"IF(ISBLANK('Renseignements sur le locataire'!E1871),\"\",'Renseignements sur le locataire'!E1871)","v":""}]
[null,null,null,{"$f":"IF(ISBLANK('Renseignements sur le locataire'!E1872),\"\",'Renseignements sur le locataire'!E1872)","v":""}]
[null,null,null,{"$f":"IF(ISBLANK('Renseignements sur le locataire'!E1873),\"\",'Renseignements sur le locataire'!E1873)","v":""}]
[null,null,null,{"$f":"IF(ISBLANK('Renseignements sur le locataire'!E1874),\"\",'Renseignements sur le locataire'!E1874)","v":""}]
[null,null,null,{"$f":"IF(ISBLANK('Renseignements sur le locataire'!E1875),\"\",'Renseignements sur le locataire'!E1875)","v":""}]
[null,null,null,{"$f":"IF(ISBLANK('Renseignements sur le locataire'!E1876),\"\",'Renseignements sur le locataire'!E1876)","v":""}]
[null,null,null,{"$f":"IF(ISBLANK('Renseignements sur le locataire'!E1877),\"\",'Renseignements sur le locataire'!E1877)","v":""}]
[null,null,null,{"$f":"IF(ISBLANK('Renseignements sur le locataire'!E1878),\"\",'Renseignements sur le locataire'!E1878)","v":""}]
[null,null,null,{"$f":"IF(ISBLANK('Renseignements sur le locataire'!E1879),\"\",'Renseignements sur le locataire'!E1879)","v":""}]
[null,null,null,{"$f":"IF(ISBLANK('Renseignements sur le locataire'!E1880),\"\",'Renseignements sur le locataire'!E1880)","v":""}]
[null,null,null,{"$f":"IF(ISBLANK('Renseignements sur le locataire'!E1881),\"\",'Renseignements sur le locataire'!E1881)","v":""}]
[null,null,null,{"$f":"IF(ISBLANK('Renseignements sur le locataire'!E1882),\"\",'Renseignements sur le locataire'!E1882)","v":""}]
[null,null,null,{"$f":"IF(ISBLANK('Renseignements sur le locataire'!E1883),\"\",'Renseignements sur le locataire'!E1883)","v":""}]
[null,null,null,{"$f":"IF(ISBLANK('Renseignements sur le locataire'!E1884),\"\",'Renseignements sur le locataire'!E1884)","v":""}]
[null,null,null,{"$f":"IF(ISBLANK('Renseignements sur le locataire'!E1885),\"\",'Renseignements sur le locataire'!E1885)","v":""}]
[null,null,null,{"$f":"IF(ISBLANK('Renseignements sur le locataire'!E1886),\"\",'Renseignements sur le locataire'!E1886)","v":""}]
[null,null,null,{"$f":"IF(ISBLANK('Renseignements sur le locataire'!E1887),\"\",'Renseignements sur le locataire'!E1887)","v":""}]
[null,null,null,{"$f":"IF(ISBLANK('Renseignements sur le locataire'!E1888),\"\",'Renseignements sur le locataire'!E1888)","v":""}]
[null,null,null,{"$f":"IF(ISBLANK('Renseignements sur le locataire'!E1889),\"\",'Renseignements sur le locataire'!E1889)","v":""}]
[null,null,null,{"$f":"IF(ISBLANK('Renseignements sur le locataire'!E1890),\"\",'Renseignements sur le locataire'!E1890)","v":""}]
[null,null,null,{"$f":"IF(ISBLANK('Renseignements sur le locataire'!E1891),\"\",'Renseignements sur le locataire'!E1891)","v":""}]
[null,null,null,{"$f":"IF(ISBLANK('Renseignements sur le locataire'!E1892),\"\",'Renseignements sur le locataire'!E1892)","v":""}]
[null,null,null,{"$f":"IF(ISBLANK('Renseignements sur le locataire'!E1893),\"\",'Renseignements sur le locataire'!E1893)","v":""}]
[null,null,null,{"$f":"IF(ISBLANK('Renseignements sur le locataire'!E1894),\"\",'Renseignements sur le locataire'!E1894)","v":""}]
[null,null,null,{"$f":"IF(ISBLANK('Renseignements sur le locataire'!E1895),\"\",'Renseignements sur le locataire'!E1895)","v":""}]
[null,null,null,{"$f":"IF(ISBLANK('Renseignements sur le locataire'!E1896),\"\",'Renseignements sur le locataire'!E1896)","v":""}]
[null,null,null,{"$f":"IF(ISBLANK('Renseignements sur le locataire'!E1897),\"\",'Renseignements sur le locataire'!E1897)","v":""}]
[null,null,null,{"$f":"IF(ISBLANK('Renseignements sur le locataire'!E1898),\"\",'Renseignements sur le locataire'!E1898)","v":""}]
[null,null,null,{"$f":"IF(ISBLANK('Renseignements sur le locataire'!E1899),\"\",'Renseignements sur le locataire'!E1899)","v":""}]
[null,null,null,{"$f":"IF(ISBLANK('Renseignements sur le locataire'!E1900),\"\",'Renseignements sur le locataire'!E1900)","v":""}]
[null,null,null,{"$f":"IF(ISBLANK('Renseignements sur le locataire'!E1901),\"\",'Renseignements sur le locataire'!E1901)","v":""}]
[null,null,null,{"$f":"IF(ISBLANK('Renseignements sur le locataire'!E1902),\"\",'Renseignements sur le locataire'!E1902)","v":""}]
[null,null,null,{"$f":"IF(ISBLANK('Renseignements sur le locataire'!E1903),\"\",'Renseignements sur le locataire'!E1903)","v":""}]
[null,null,null,{"$f":"IF(ISBLANK('Renseignements sur le locataire'!E1904),\"\",'Renseignements sur le locataire'!E1904)","v":""}]
[null,null,null,{"$f":"IF(ISBLANK('Renseignements sur le locataire'!E1905),\"\",'Renseignements sur le locataire'!E1905)","v":""}]
[null,null,null,{"$f":"IF(ISBLANK('Renseignements sur le locataire'!E1906),\"\",'Renseignements sur le locataire'!E1906)","v":""}]
[null,null,null,{"$f":"IF(ISBLANK('Renseignements sur le locataire'!E1907),\"\",'Renseignements sur le locataire'!E1907)","v":""}]
[null,null,null,{"$f":"IF(ISBLANK('Renseignements sur le locataire'!E1908),\"\",'Renseignements sur le locataire'!E1908)","v":""}]
[null,null,null,{"$f":"IF(ISBLANK('Renseignements sur le locataire'!E1909),\"\",'Renseignements sur le locataire'!E1909)","v":""}]
[null,null,null,{"$f":"IF(ISBLANK('Renseignements sur le locataire'!E1910),\"\",'Renseignements sur le locataire'!E1910)","v":""}]
[null,null,null,{"$f":"IF(ISBLANK('Renseignements sur le locataire'!E1911),\"\",'Renseignements sur le locataire'!E1911)","v":""}]
[null,null,null,{"$f":"IF(ISBLANK('Renseignements sur le locataire'!E1912),\"\",'Renseignements sur le locataire'!E1912)","v":""}]
[null,null,null,{"$f":"IF(ISBLANK('Renseignements sur le locataire'!E1913),\"\",'Renseignements sur le locataire'!E1913)","v":""}]
[null,null,null,{"$f":"IF(ISBLANK('Renseignements sur le locataire'!E1914),\"\",'Renseignements sur le locataire'!E1914)","v":""}]
[null,null,null,{"$f":"IF(ISBLANK('Renseignements sur le locataire'!E1915),\"\",'Renseignements sur le locataire'!E1915)","v":""}]
[null,null,null,{"$f":"IF(ISBLANK('Renseignements sur le locataire'!E1916),\"\",'Renseignements sur le locataire'!E1916)","v":""}]
[null,null,null,{"$f":"IF(ISBLANK('Renseignements sur le locataire'!E1917),\"\",'Renseignements sur le locataire'!E1917)","v":""}]
[null,null,null,{"$f":"IF(ISBLANK('Renseignements sur le locataire'!E1918),\"\",'Renseignements sur le locataire'!E1918)","v":""}]
[null,null,null,{"$f":"IF(ISBLANK('Renseignements sur le locataire'!E1919),\"\",'Renseignements sur le locataire'!E1919)","v":""}]
[null,null,null,{"$f":"IF(ISBLANK('Renseignements sur le locataire'!E1920),\"\",'Renseignements sur le locataire'!E1920)","v":""}]
[null,null,null,{"$f":"IF(ISBLANK('Renseignements sur le locataire'!E1921),\"\",'Renseignements sur le locataire'!E1921)","v":""}]
[null,null,null,{"$f":"IF(ISBLANK('Renseignements sur le locataire'!E1922),\"\",'Renseignements sur le locataire'!E1922)","v":""}]
[null,null,null,{"$f":"IF(ISBLANK('Renseignements sur le locataire'!E1923),\"\",'Renseignements sur le locataire'!E1923)","v":""}]
[null,null,null,{"$f":"IF(ISBLANK('Renseignements sur le locataire'!E1924),\"\",'Renseignements sur le locataire'!E1924)","v":""}]
[null,null,null,{"$f":"IF(ISBLANK('Renseignements sur le locataire'!E1925),\"\",'Renseignements sur le locataire'!E1925)","v":""}]
[null,null,null,{"$f":"IF(ISBLANK('Renseignements sur le locataire'!E1926),\"\",'Renseignements sur le locataire'!E1926)","v":""}]
[null,null,null,{"$f":"IF(ISBLANK('Renseignements sur le locataire'!E1927),\"\",'Renseignements sur le locataire'!E1927)","v":""}]
[null,null,null,{"$f":"IF(ISBLANK('Renseignements sur le locataire'!E1928),\"\",'Renseignements sur le locataire'!E1928)","v":""}]
[null,null,null,{"$f":"IF(ISBLANK('Renseignements sur le locataire'!E1929),\"\",'Renseignements sur le locataire'!E1929)","v":""}]
[null,null,null,{"$f":"IF(ISBLANK('Renseignements sur le locataire'!E1930),\"\",'Renseignements sur le locataire'!E1930)","v":""}]
[null,null,null,{"$f":"IF(ISBLANK('Renseignements sur le locataire'!E1931),\"\",'Renseignements sur le locataire'!E1931)","v":""}]
[null,null,null,{"$f":"IF(ISBLANK('Renseignements sur le locataire'!E1932),\"\",'Renseignements sur le locataire'!E1932)","v":""}]
[null,null,null,{"$f":"IF(ISBLANK('Renseignements sur le locataire'!E1933),\"\",'Renseignements sur le locataire'!E1933)","v":""}]
[null,null,null,{"$f":"IF(ISBLANK('Renseignements sur le locataire'!E1934),\"\",'Renseignements sur le locataire'!E1934)","v":""}]
[null,null,null,{"$f":"IF(ISBLANK('Renseignements sur le locataire'!E1935),\"\",'Renseignements sur le locataire'!E1935)","v":""}]
[null,null,null,{"$f":"IF(ISBLANK('Renseignements sur le locataire'!E1936),\"\",'Renseignements sur le locataire'!E1936)","v":""}]
[null,null,null,{"$f":"IF(ISBLANK('Renseignements sur le locataire'!E1937),\"\",'Renseignements sur le locataire'!E1937)","v":""}]
[null,null,null,{"$f":"IF(ISBLANK('Renseignements sur le locataire'!E1938),\"\",'Renseignements sur le locataire'!E1938)","v":""}]
[null,null,null,{"$f":"IF(ISBLANK('Renseignements sur le locataire'!E1939),\"\",'Renseignements sur le locataire'!E1939)","v":""}]
[null,null,null,{"$f":"IF(ISBLANK('Renseignements sur le locataire'!E1940),\"\",'Renseignements sur le locataire'!E1940)","v":""}]
[null,null,null,{"$f":"IF(ISBLANK('Renseignements sur le locataire'!E1941),\"\",'Renseignements sur le locataire'!E1941)","v":""}]
[null,null,null,{"$f":"IF(ISBLANK('Renseignements sur le locataire'!E1942),\"\",'Renseignements sur le locataire'!E1942)","v":""}]
[null,null,null,{"$f":"IF(ISBLANK('Renseignements sur le locataire'!E1943),\"\",'Renseignements sur le locataire'!E1943)","v":""}]
[null,null,null,{"$f":"IF(ISBLANK('Renseignements sur le locataire'!E1944),\"\",'Renseignements sur le locataire'!E1944)","v":""}]
[null,null,null,{"$f":"IF(ISBLANK('Renseignements sur le locataire'!E1945),\"\",'Renseignements sur le locataire'!E1945)","v":""}]
[null,null,null,{"$f":"IF(ISBLANK('Renseignements sur le locataire'!E1946),\"\",'Renseignements sur le locataire'!E1946)","v":""}]
[null,null,null,{"$f":"IF(ISBLANK('Renseignements sur le locataire'!E1947),\"\",'Renseignements sur le locataire'!E1947)","v":""}]
[null,null,null,{"$f":"IF(ISBLANK('Renseignements sur le locataire'!E1948),\"\",'Renseignements sur le locataire'!E1948)","v":""}]
[null,null,null,{"$f":"IF(ISBLANK('Renseignements sur le locataire'!E1949),\"\",'Renseignements sur le locataire'!E1949)","v":""}]
[null,null,null,{"$f":"IF(ISBLANK('Renseignements sur le locataire'!E1950),\"\",'Renseignements sur le locataire'!E1950)","v":""}]
[null,null,null,{"$f":"IF(ISBLANK('Renseignements sur le locataire'!E1951),\"\",'Renseignements sur le locataire'!E1951)","v":""}]
[null,null,null,{"$f":"IF(ISBLANK('Renseignements sur le locataire'!E1952),\"\",'Renseignements sur le locataire'!E1952)","v":""}]
[null,null,null,{"$f":"IF(ISBLANK('Renseignements sur le locataire'!E1953),\"\",'Renseignements sur le locataire'!E1953)","v":""}]
[null,null,null,{"$f":"IF(ISBLANK('Renseignements sur le locataire'!E1954),\"\",'Renseignements sur le locataire'!E1954)","v":""}]
[null,null,null,{"$f":"IF(ISBLANK('Renseignements sur le locataire'!E1955),\"\",'Renseignements sur le locataire'!E1955)","v":""}]
[null,null,null,{"$f":"IF(ISBLANK('Renseignements sur le locataire'!E1956),\"\",'Renseignements sur le locataire'!E1956)","v":""}]
[null,null,null,{"$f":"IF(ISBLANK('Renseignements sur le locataire'!E1957),\"\",'Renseignements sur le locataire'!E1957)","v":""}]
[null,null,null,{"$f":"IF(ISBLANK('Renseignements sur le locataire'!E1958),\"\",'Renseignements sur le locataire'!E1958)","v":""}]
[null,null,null,{"$f":"IF(ISBLANK('Renseignements sur le locataire'!E1959),\"\",'Renseignements sur le locataire'!E1959)","v":""}]
[null,null,null,{"$f":"IF(ISBLANK('Renseignements sur le locataire'!E1960),\"\",'Renseignements sur le locataire'!E1960)","v":""}]
[null,null,null,{"$f":"IF(ISBLANK('Renseignements sur le locataire'!E1961),\"\",'Renseignements sur le locataire'!E1961)","v":""}]
[null,null,null,{"$f":"IF(ISBLANK('Renseignements sur le locataire'!E1962),\"\",'Renseignements sur le locataire'!E1962)","v":""}]
[null,null,null,{"$f":"IF(ISBLANK('Renseignements sur le locataire'!E1963),\"\",'Renseignements sur le locataire'!E1963)","v":""}]
[null,null,null,{"$f":"IF(ISBLANK('Renseignements sur le locataire'!E1964),\"\",'Renseignements sur le locataire'!E1964)","v":""}]
[null,null,null,{"$f":"IF(ISBLANK('Renseignements sur le locataire'!E1965),\"\",'Renseignements sur le locataire'!E1965)","v":""}]
[null,null,null,{"$f":"IF(ISBLANK('Renseignements sur le locataire'!E1966),\"\",'Renseignements sur le locataire'!E1966)","v":""}]
[null,null,null,{"$f":"IF(ISBLANK('Renseignements sur le locataire'!E1967),\"\",'Renseignements sur le locataire'!E1967)","v":""}]
[null,null,null,{"$f":"IF(ISBLANK('Renseignements sur le locataire'!E1968),\"\",'Renseignements sur le locataire'!E1968)","v":""}]
[null,null,null,{"$f":"IF(ISBLANK('Renseignements sur le locataire'!E1969),\"\",'Renseignements sur le locataire'!E1969)","v":""}]
[null,null,null,{"$f":"IF(ISBLANK('Renseignements sur le locataire'!E1970),\"\",'Renseignements sur le locataire'!E1970)","v":""}]
[null,null,null,{"$f":"IF(ISBLANK('Renseignements sur le locataire'!E1971),\"\",'Renseignements sur le locataire'!E1971)","v":""}]
[null,null,null,{"$f":"IF(ISBLANK('Renseignements sur le locataire'!E1972),\"\",'Renseignements sur le locataire'!E1972)","v":""}]
[null,null,null,{"$f":"IF(ISBLANK('Renseignements sur le locataire'!E1973),\"\",'Renseignements sur le locataire'!E1973)","v":""}]
[null,null,null,{"$f":"IF(ISBLANK('Renseignements sur le locataire'!E1974),\"\",'Renseignements sur le locataire'!E1974)","v":""}]
[null,null,null,{"$f":"IF(ISBLANK('Renseignements sur le locataire'!E1975),\"\",'Renseignements sur le locataire'!E1975)","v":""}]
[null,null,null,{"$f":"IF(ISBLANK('Renseignements sur le locataire'!E1976),\"\",'Renseignements sur le locataire'!E1976)","v":""}]
[null,null,null,{"$f":"IF(ISBLANK('Renseignements sur le locataire'!E1977),\"\",'Renseignements sur le locataire'!E1977)","v":""}]
[null,null,null,{"$f":"IF(ISBLANK('Renseignements sur le locataire'!E1978),\"\",'Renseignements sur le locataire'!E1978)","v":""}]
[null,null,null,{"$f":"IF(ISBLANK('Renseignements sur le locataire'!E1979),\"\",'Renseignements sur le locataire'!E1979)","v":""}]
[null,null,null,{"$f":"IF(ISBLANK('Renseignements sur le locataire'!E1980),\"\",'Renseignements sur le locataire'!E1980)","v":""}]
[null,null,null,{"$f":"IF(ISBLANK('Renseignements sur le locataire'!E1981),\"\",'Renseignements sur le locataire'!E1981)","v":""}]
[null,null,null,{"$f":"IF(ISBLANK('Renseignements sur le locataire'!E1982),\"\",'Renseignements sur le locataire'!E1982)","v":""}]
[null,null,null,{"$f":"IF(ISBLANK('Renseignements sur le locataire'!E1983),\"\",'Renseignements sur le locataire'!E1983)","v":""}]
[null,null,null,{"$f":"IF(ISBLANK('Renseignements sur le locataire'!E1984),\"\",'Renseignements sur le locataire'!E1984)","v":""}]
[null,null,null,{"$f":"IF(ISBLANK('Renseignements sur le locataire'!E1985),\"\",'Renseignements sur le locataire'!E1985)","v":""}]
[null,null,null,{"$f":"IF(ISBLANK('Renseignements sur le locataire'!E1986),\"\",'Renseignements sur le locataire'!E1986)","v":""}]
[null,null,null,{"$f":"IF(ISBLANK('Renseignements sur le locataire'!E1987),\"\",'Renseignements sur le locataire'!E1987)","v":""}]
[null,null,null,{"$f":"IF(ISBLANK('Renseignements sur le locataire'!E1988),\"\",'Renseignements sur le locataire'!E1988)","v":""}]
[null,null,null,{"$f":"IF(ISBLANK('Renseignements sur le locataire'!E1989),\"\",'Renseignements sur le locataire'!E1989)","v":""}]
[null,null,null,{"$f":"IF(ISBLANK('Renseignements sur le locataire'!E1990),\"\",'Renseignements sur le locataire'!E1990)","v":""}]
[null,null,null,{"$f":"IF(ISBLANK('Renseignements sur le locataire'!E1991),\"\",'Renseignements sur le locataire'!E1991)","v":""}]
[null,null,null,{"$f":"IF(ISBLANK('Renseignements sur le locataire'!E1992),\"\",'Renseignements sur le locataire'!E1992)","v":""}]
[null,null,null,{"$f":"IF(ISBLANK('Renseignements sur le locataire'!E1993),\"\",'Renseignements sur le locataire'!E1993)","v":""}]
[null,null,null,{"$f":"IF(ISBLANK('Renseignements sur le locataire'!E1994),\"\",'Renseignements sur le locataire'!E1994)","v":""}]
[null,null,null,{"$f":"IF(ISBLANK('Renseignements sur le locataire'!E1995),\"\",'Renseignements sur le locataire'!E1995)","v":""}]
[null,null,null,{"$f":"IF(ISBLANK('Renseignements sur le locataire'!E1996),\"\",'Renseignements sur le locataire'!E1996)","v":""}]
[null,null,null,{"$f":"IF(ISBLANK('Renseignements sur le locataire'!E1997),\"\",'Renseignements sur le locataire'!E1997)","v":""}]
[null,null,null,{"$f":"IF(ISBLANK('Renseignements sur le locataire'!E1998),\"\",'Renseignements sur le locataire'!E1998)","v":""}]
[null,null,null,{"$f":"IF(ISBLANK('Renseignements sur le locataire'!E1999),\"\",'Renseignements sur le locataire'!E1999)","v":""}]
[null,null,null,{"$f":"IF(ISBLANK('Renseignements sur le locataire'!E2000),\"\",'Renseignements sur le locataire'!E2000)","v":""}]
[null,null,null,{"$f":"IF(ISBLANK('Renseignements sur le locataire'!E2001),\"\",'Renseignements sur le locataire'!E2001)","v":""}]
[null,null,null,{"$f":"IF(ISBLANK('Renseignements sur le locataire'!E2002),\"\",'Renseignements sur le locataire'!E2002)","v":""}]
[null,null,null,{"$f":"IF(ISBLANK('Renseignements sur le locataire'!E2003),\"\",'Renseignements sur le locataire'!E2003)","v":""}]
[null,null,null,{"$f":"IF(ISBLANK('Renseignements sur le locataire'!E2004),\"\",'Renseignements sur le locataire'!E2004)","v":""}]
[null,null,null,{"$f":"IF(ISBLANK('Renseignements sur le locataire'!E2005),\"\",'Renseignements sur le locataire'!E2005)","v":""}]
[null,null,null,{"$f":"IF(ISBLANK('Renseignements sur le locataire'!E2006),\"\",'Renseignements sur le locataire'!E2006)","v":""}]
[null,null,null,{"$f":"IF(ISBLANK('Renseignements sur le locataire'!E2007),\"\",'Renseignements sur le locataire'!E2007)","v":""}]
[null,null,null,{"$f":"IF(ISBLANK('Renseignements sur le locataire'!E2008),\"\",'Renseignements sur le locataire'!E2008)","v":""}]
[null,null,null,{"$f":"IF(ISBLANK('Renseignements sur le locataire'!E2009),\"\",'Renseignements sur le locataire'!E2009)","v":""}]
[null,null,null,{"$f":"IF(ISBLANK('Renseignements sur le locataire'!E2010),\"\",'Renseignements sur le locataire'!E2010)","v":""}]
[null,null,null,{"$f":"IF(ISBLANK('Renseignements sur le locataire'!E2011),\"\",'Renseignements sur le locataire'!E2011)","v":""}]
[null,null,null,{"$f":"IF(ISBLANK('Renseignements sur le locataire'!E2012),\"\",'Renseignements sur le locataire'!E2012)","v":""}]
[null,null,null,{"$f":"IF(ISBLANK('Renseignements sur le locataire'!E2013),\"\",'Renseignements sur le locataire'!E2013)","v":""}]
[null,null,null,{"$f":"IF(ISBLANK('Renseignements sur le locataire'!E2014),\"\",'Renseignements sur le locataire'!E2014)","v":""}]
[null,null,null,{"$f":"IF(ISBLANK('Renseignements sur le locataire'!E2015),\"\",'Renseignements sur le locataire'!E2015)","v":""}]
[null,null,null,{"$f":"IF(ISBLANK('Renseignements sur le locataire'!E2016),\"\",'Renseignements sur le locataire'!E2016)","v":""}]
[null,null,null,{"$f":"IF(ISBLANK('Renseignements sur le locataire'!E2017),\"\",'Renseignements sur le locataire'!E2017)","v":""}]
[null,null,null,{"$f":"IF(ISBLANK('Renseignements sur le locataire'!E2018),\"\",'Renseignements sur le locataire'!E2018)","v":""}]
[null,null,null,{"$f":"IF(ISBLANK('Renseignements sur le locataire'!E2019),\"\",'Renseignements sur le locataire'!E2019)","v":""}]
[null,null,null,{"$f":"IF(ISBLANK('Renseignements sur le locataire'!E2020),\"\",'Renseignements sur le locataire'!E2020)","v":""}]
[null,null,null,{"$f":"IF(ISBLANK('Renseignements sur le locataire'!E2021),\"\",'Renseignements sur le locataire'!E2021)","v":""}]
[null,null,null,{"$f":"IF(ISBLANK('Renseignements sur le locataire'!E2022),\"\",'Renseignements sur le locataire'!E2022)","v":""}]
[null,null,null,{"$f":"IF(ISBLANK('Renseignements sur le locataire'!E2023),\"\",'Renseignements sur le locataire'!E2023)","v":""}]
[null,null,null,{"$f":"IF(ISBLANK('Renseignements sur le locataire'!E2024),\"\",'Renseignements sur le locataire'!E2024)","v":""}]
[null,null,null,{"$f":"IF(ISBLANK('Renseignements sur le locataire'!E2025),\"\",'Renseignements sur le locataire'!E2025)","v":""}]
[null,null,null,{"$f":"IF(ISBLANK('Renseignements sur le locataire'!E2026),\"\",'Renseignements sur le locataire'!E2026)","v":""}]
[null,null,null,{"$f":"IF(ISBLANK('Renseignements sur le locataire'!E2027),\"\",'Renseignements sur le locataire'!E2027)","v":""}]
[null,null,null,{"$f":"IF(ISBLANK('Renseignements sur le locataire'!E2028),\"\",'Renseignements sur le locataire'!E2028)","v":""}]
[null,null,null,{"$f":"IF(ISBLANK('Renseignements sur le locataire'!E2029),\"\",'Renseignements sur le locataire'!E2029)","v":""}]
[null,null,null,{"$f":"IF(ISBLANK('Renseignements sur le locataire'!E2030),\"\",'Renseignements sur le locataire'!E2030)","v":""}]
[null,null,null,{"$f":"IF(ISBLANK('Renseignements sur le locataire'!E2031),\"\",'Renseignements sur le locataire'!E2031)","v":""}]
[null,null,null,{"$f":"IF(ISBLANK('Renseignements sur le locataire'!E2032),\"\",'Renseignements sur le locataire'!E2032)","v":""}]
[null,null,null,{"$f":"IF(ISBLANK('Renseignements sur le locataire'!E2033),\"\",'Renseignements sur le locataire'!E2033)","v":""}]
[null,null,null,{"$f":"IF(ISBLANK('Renseignements sur le locataire'!E2034),\"\",'Renseignements sur le locataire'!E2034)","v":""}]
[null,null,null,{"$f":"IF(ISBLANK('Renseignements sur le locataire'!E2035),\"\",'Renseignements sur le locataire'!E2035)","v":""}]
[null,null,null,{"$f":"IF(ISBLANK('Renseignements sur le locataire'!E2036),\"\",'Renseignements sur le locataire'!E2036)","v":""}]
[null,null,null,{"$f":"IF(ISBLANK('Renseignements sur le locataire'!E2037),\"\",'Renseignements sur le locataire'!E2037)","v":""}]
[null,null,null,{"$f":"IF(ISBLANK('Renseignements sur le locataire'!E2038),\"\",'Renseignements sur le locataire'!E2038)","v":""}]
[null,null,null,{"$f":"IF(ISBLANK('Renseignements sur le locataire'!E2039),\"\",'Renseignements sur le locataire'!E2039)","v":""}]
[null,null,null,{"$f":"IF(ISBLANK('Renseignements sur le locataire'!E2040),\"\",'Renseignements sur le locataire'!E2040)","v":""}]
[null,null,null,{"$f":"IF(ISBLANK('Renseignements sur le locataire'!E2041),\"\",'Renseignements sur le locataire'!E2041)","v":""}]
[null,null,null,{"$f":"IF(ISBLANK('Renseignements sur le locataire'!E2042),\"\",'Renseignements sur le locataire'!E2042)","v":""}]
[null,null,null,{"$f":"IF(ISBLANK('Renseignements sur le locataire'!E2043),\"\",'Renseignements sur le locataire'!E2043)","v":""}]
[null,null,null,{"$f":"IF(ISBLANK('Renseignements sur le locataire'!E2044),\"\",'Renseignements sur le locataire'!E2044)","v":""}]
[null,null,null,{"$f":"IF(ISBLANK('Renseignements sur le locataire'!E2045),\"\",'Renseignements sur le locataire'!E2045)","v":""}]
[null,null,null,{"$f":"IF(ISBLANK('Renseignements sur le locataire'!E2046),\"\",'Renseignements sur le locataire'!E2046)","v":""}]
[null,null,null,{"$f":"IF(ISBLANK('Renseignements sur le locataire'!E2047),\"\",'Renseignements sur le locataire'!E2047)","v":""}]
[null,null,null,{"$f":"IF(ISBLANK('Renseignements sur le locataire'!E2048),\"\",'Renseignements sur le locataire'!E2048)","v":""}]
[null,null,null,{"$f":"IF(ISBLANK('Renseignements sur le locataire'!E2049),\"\",'Renseignements sur le locataire'!E2049)","v":""}]
[null,null,null,{"$f":"IF(ISBLANK('Renseignements sur le locataire'!E2050),\"\",'Renseignements sur le locataire'!E2050)","v":""}]
[null,null,null,{"$f":"IF(ISBLANK('Renseignements sur le locataire'!E2051),\"\",'Renseignements sur le locataire'!E2051)","v":""}]
[null,null,null,{"$f":"IF(ISBLANK('Renseignements sur le locataire'!E2052),\"\",'Renseignements sur le locataire'!E2052)","v":""}]
[null,null,null,{"$f":"IF(ISBLANK('Renseignements sur le locataire'!E2053),\"\",'Renseignements sur le locataire'!E2053)","v":""}]
[null,null,null,{"$f":"IF(ISBLANK('Renseignements sur le locataire'!E2054),\"\",'Renseignements sur le locataire'!E2054)","v":""}]
[null,null,null,{"$f":"IF(ISBLANK('Renseignements sur le locataire'!E2055),\"\",'Renseignements sur le locataire'!E2055)","v":""}]
[null,null,null,{"$f":"IF(ISBLANK('Renseignements sur le locataire'!E2056),\"\",'Renseignements sur le locataire'!E2056)","v":""}]
[null,null,null,{"$f":"IF(ISBLANK('Renseignements sur le locataire'!E2057),\"\",'Renseignements sur le locataire'!E2057)","v":""}]
[null,null,null,{"$f":"IF(ISBLANK('Renseignements sur le locataire'!E2058),\"\",'Renseignements sur le locataire'!E2058)","v":""}]
[null,null,null,{"$f":"IF(ISBLANK('Renseignements sur le locataire'!E2059),\"\",'Renseignements sur le locataire'!E2059)","v":""}]
[null,null,null,{"$f":"IF(ISBLANK('Renseignements sur le locataire'!E2060),\"\",'Renseignements sur le locataire'!E2060)","v":""}]
[null,null,null,{"$f":"IF(ISBLANK('Renseignements sur le locataire'!E2061),\"\",'Renseignements sur le locataire'!E2061)","v":""}]
[null,null,null,{"$f":"IF(ISBLANK('Renseignements sur le locataire'!E2062),\"\",'Renseignements sur le locataire'!E2062)","v":""}]
[null,null,null,{"$f":"IF(ISBLANK('Renseignements sur le locataire'!E2063),\"\",'Renseignements sur le locataire'!E2063)","v":""}]
[null,null,null,{"$f":"IF(ISBLANK('Renseignements sur le locataire'!E2064),\"\",'Renseignements sur le locataire'!E2064)","v":""}]
[null,null,null,{"$f":"IF(ISBLANK('Renseignements sur le locataire'!E2065),\"\",'Renseignements sur le locataire'!E2065)","v":""}]
[null,null,null,{"$f":"IF(ISBLANK('Renseignements sur le locataire'!E2066),\"\",'Renseignements sur le locataire'!E2066)","v":""}]
[null,null,null,{"$f":"IF(ISBLANK('Renseignements sur le locataire'!E2067),\"\",'Renseignements sur le locataire'!E2067)","v":""}]
[null,null,null,{"$f":"IF(ISBLANK('Renseignements sur le locataire'!E2068),\"\",'Renseignements sur le locataire'!E2068)","v":""}]
[null,null,null,{"$f":"IF(ISBLANK('Renseignements sur le locataire'!E2069),\"\",'Renseignements sur le locataire'!E2069)","v":""}]
[null,null,null,{"$f":"IF(ISBLANK('Renseignements sur le locataire'!E2070),\"\",'Renseignements sur le locataire'!E2070)","v":""}]
[null,null,null,{"$f":"IF(ISBLANK('Renseignements sur le locataire'!E2071),\"\",'Renseignements sur le locataire'!E2071)","v":""}]
[null,null,null,{"$f":"IF(ISBLANK('Renseignements sur le locataire'!E2072),\"\",'Renseignements sur le locataire'!E2072)","v":""}]
[null,null,null,{"$f":"IF(ISBLANK('Renseignements sur le locataire'!E2073),\"\",'Renseignements sur le locataire'!E2073)","v":""}]
[null,null,null,{"$f":"IF(ISBLANK('Renseignements sur le locataire'!E2074),\"\",'Renseignements sur le locataire'!E2074)","v":""}]
[null,null,null,{"$f":"IF(ISBLANK('Renseignements sur le locataire'!E2075),\"\",'Renseignements sur le locataire'!E2075)","v":""}]
[null,null,null,{"$f":"IF(ISBLANK('Renseignements sur le locataire'!E2076),\"\",'Renseignements sur le locataire'!E2076)","v":""}]
[null,null,null,{"$f":"IF(ISBLANK('Renseignements sur le locataire'!E2077),\"\",'Renseignements sur le locataire'!E2077)","v":""}]
[null,null,null,{"$f":"IF(ISBLANK('Renseignements sur le locataire'!E2078),\"\",'Renseignements sur le locataire'!E2078)","v":""}]
[null,null,null,{"$f":"IF(ISBLANK('Renseignements sur le locataire'!E2079),\"\",'Renseignements sur le locataire'!E2079)","v":""}]
[null,null,null,{"$f":"IF(ISBLANK('Renseignements sur le locataire'!E2080),\"\",'Renseignements sur le locataire'!E2080)","v":""}]
[null,null,null,{"$f":"IF(ISBLANK('Renseignements sur le locataire'!E2081),\"\",'Renseignements sur le locataire'!E2081)","v":""}]
[null,null,null,{"$f":"IF(ISBLANK('Renseignements sur le locataire'!E2082),\"\",'Renseignements sur le locataire'!E2082)","v":""}]
[null,null,null,{"$f":"IF(ISBLANK('Renseignements sur le locataire'!E2083),\"\",'Renseignements sur le locataire'!E2083)","v":""}]
[null,null,null,{"$f":"IF(ISBLANK('Renseignements sur le locataire'!E2084),\"\",'Renseignements sur le locataire'!E2084)","v":""}]
[null,null,null,{"$f":"IF(ISBLANK('Renseignements sur le locataire'!E2085),\"\",'Renseignements sur le locataire'!E2085)","v":""}]
[null,null,null,{"$f":"IF(ISBLANK('Renseignements sur le locataire'!E2086),\"\",'Renseignements sur le locataire'!E2086)","v":""}]
[null,null,null,{"$f":"IF(ISBLANK('Renseignements sur le locataire'!E2087),\"\",'Renseignements sur le locataire'!E2087)","v":""}]
[null,null,null,{"$f":"IF(ISBLANK('Renseignements sur le locataire'!E2088),\"\",'Renseignements sur le locataire'!E2088)","v":""}]
[null,null,null,{"$f":"IF(ISBLANK('Renseignements sur le locataire'!E2089),\"\",'Renseignements sur le locataire'!E2089)","v":""}]
[null,null,null,{"$f":"IF(ISBLANK('Renseignements sur le locataire'!E2090),\"\",'Renseignements sur le locataire'!E2090)","v":""}]
[null,null,null,{"$f":"IF(ISBLANK('Renseignements sur le locataire'!E2091),\"\",'Renseignements sur le locataire'!E2091)","v":""}]
[null,null,null,{"$f":"IF(ISBLANK('Renseignements sur le locataire'!E2092),\"\",'Renseignements sur le locataire'!E2092)","v":""}]
[null,null,null,{"$f":"IF(ISBLANK('Renseignements sur le locataire'!E2093),\"\",'Renseignements sur le locataire'!E2093)","v":""}]
[null,null,null,{"$f":"IF(ISBLANK('Renseignements sur le locataire'!E2094),\"\",'Renseignements sur le locataire'!E2094)","v":""}]
[null,null,null,{"$f":"IF(ISBLANK('Renseignements sur le locataire'!E2095),\"\",'Renseignements sur le locataire'!E2095)","v":""}]
[null,null,null,{"$f":"IF(ISBLANK('Renseignements sur le locataire'!E2096),\"\",'Renseignements sur le locataire'!E2096)","v":""}]
[null,null,null,{"$f":"IF(ISBLANK('Renseignements sur le locataire'!E2097),\"\",'Renseignements sur le locataire'!E2097)","v":""}]
[null,null,null,{"$f":"IF(ISBLANK('Renseignements sur le locataire'!E2098),\"\",'Renseignements sur le locataire'!E2098)","v":""}]
[null,null,null,{"$f":"IF(ISBLANK('Renseignements sur le locataire'!E2099),\"\",'Renseignements sur le locataire'!E2099)","v":""}]
[null,null,null,{"$f":"IF(ISBLANK('Renseignements sur le locataire'!E2100),\"\",'Renseignements sur le locataire'!E2100)","v":""}]
[null,null,null,{"$f":"IF(ISBLANK('Renseignements sur le locataire'!E2101),\"\",'Renseignements sur le locataire'!E2101)","v":""}]
[null,null,null,{"$f":"IF(ISBLANK('Renseignements sur le locataire'!E2102),\"\",'Renseignements sur le locataire'!E2102)","v":""}]
[null,null,null,{"$f":"IF(ISBLANK('Renseignements sur le locataire'!E2103),\"\",'Renseignements sur le locataire'!E2103)","v":""}]
[null,null,null,{"$f":"IF(ISBLANK('Renseignements sur le locataire'!E2104),\"\",'Renseignements sur le locataire'!E2104)","v":""}]
[null,null,null,{"$f":"IF(ISBLANK('Renseignements sur le locataire'!E2105),\"\",'Renseignements sur le locataire'!E2105)","v":""}]
[null,null,null,{"$f":"IF(ISBLANK('Renseignements sur le locataire'!E2106),\"\",'Renseignements sur le locataire'!E2106)","v":""}]
[null,null,null,{"$f":"IF(ISBLANK('Renseignements sur le locataire'!E2107),\"\",'Renseignements sur le locataire'!E2107)","v":""}]
[null,null,null,{"$f":"IF(ISBLANK('Renseignements sur le locataire'!E2108),\"\",'Renseignements sur le locataire'!E2108)","v":""}]
[null,null,null,{"$f":"IF(ISBLANK('Renseignements sur le locataire'!E2109),\"\",'Renseignements sur le locataire'!E2109)","v":""}]
[null,null,null,{"$f":"IF(ISBLANK('Renseignements sur le locataire'!E2110),\"\",'Renseignements sur le locataire'!E2110)","v":""}]
[null,null,null,{"$f":"IF(ISBLANK('Renseignements sur le locataire'!E2111),\"\",'Renseignements sur le locataire'!E2111)","v":""}]
[null,null,null,{"$f":"IF(ISBLANK('Renseignements sur le locataire'!E2112),\"\",'Renseignements sur le locataire'!E2112)","v":""}]
[null,null,null,{"$f":"IF(ISBLANK('Renseignements sur le locataire'!E2113),\"\",'Renseignements sur le locataire'!E2113)","v":""}]
[null,null,null,{"$f":"IF(ISBLANK('Renseignements sur le locataire'!E2114),\"\",'Renseignements sur le locataire'!E2114)","v":""}]
[null,null,null,{"$f":"IF(ISBLANK('Renseignements sur le locataire'!E2115),\"\",'Renseignements sur le locataire'!E2115)","v":""}]
[null,null,null,{"$f":"IF(ISBLANK('Renseignements sur le locataire'!E2116),\"\",'Renseignements sur le locataire'!E2116)","v":""}]
[null,null,null,{"$f":"IF(ISBLANK('Renseignements sur le locataire'!E2117),\"\",'Renseignements sur le locataire'!E2117)","v":""}]
[null,null,null,{"$f":"IF(ISBLANK('Renseignements sur le locataire'!E2118),\"\",'Renseignements sur le locataire'!E2118)","v":""}]
[null,null,null,{"$f":"IF(ISBLANK('Renseignements sur le locataire'!E2119),\"\",'Renseignements sur le locataire'!E2119)","v":""}]
[null,null,null,{"$f":"IF(ISBLANK('Renseignements sur le locataire'!E2120),\"\",'Renseignements sur le locataire'!E2120)","v":""}]
[null,null,null,{"$f":"IF(ISBLANK('Renseignements sur le locataire'!E2121),\"\",'Renseignements sur le locataire'!E2121)","v":""}]
[null,null,null,{"$f":"IF(ISBLANK('Renseignements sur le locataire'!E2122),\"\",'Renseignements sur le locataire'!E2122)","v":""}]
[null,null,null,{"$f":"IF(ISBLANK('Renseignements sur le locataire'!E2123),\"\",'Renseignements sur le locataire'!E2123)","v":""}]
[null,null,null,{"$f":"IF(ISBLANK('Renseignements sur le locataire'!E2124),\"\",'Renseignements sur le locataire'!E2124)","v":""}]
[null,null,null,{"$f":"IF(ISBLANK('Renseignements sur le locataire'!E2125),\"\",'Renseignements sur le locataire'!E2125)","v":""}]
[null,null,null,{"$f":"IF(ISBLANK('Renseignements sur le locataire'!E2126),\"\",'Renseignements sur le locataire'!E2126)","v":""}]
[null,null,null,{"$f":"IF(ISBLANK('Renseignements sur le locataire'!E2127),\"\",'Renseignements sur le locataire'!E2127)","v":""}]
[null,null,null,{"$f":"IF(ISBLANK('Renseignements sur le locataire'!E2128),\"\",'Renseignements sur le locataire'!E2128)","v":""}]
[null,null,null,{"$f":"IF(ISBLANK('Renseignements sur le locataire'!E2129),\"\",'Renseignements sur le locataire'!E2129)","v":""}]
[null,null,null,{"$f":"IF(ISBLANK('Renseignements sur le locataire'!E2130),\"\",'Renseignements sur le locataire'!E2130)","v":""}]
[null,null,null,{"$f":"IF(ISBLANK('Renseignements sur le locataire'!E2131),\"\",'Renseignements sur le locataire'!E2131)","v":""}]
[null,null,null,{"$f":"IF(ISBLANK('Renseignements sur le locataire'!E2132),\"\",'Renseignements sur le locataire'!E2132)","v":""}]
[null,null,null,{"$f":"IF(ISBLANK('Renseignements sur le locataire'!E2133),\"\",'Renseignements sur le locataire'!E2133)","v":""}]
[null,null,null,{"$f":"IF(ISBLANK('Renseignements sur le locataire'!E2134),\"\",'Renseignements sur le locataire'!E2134)","v":""}]
[null,null,null,{"$f":"IF(ISBLANK('Renseignements sur le locataire'!E2135),\"\",'Renseignements sur le locataire'!E2135)","v":""}]
[null,null,null,{"$f":"IF(ISBLANK('Renseignements sur le locataire'!E2136),\"\",'Renseignements sur le locataire'!E2136)","v":""}]
[null,null,null,{"$f":"IF(ISBLANK('Renseignements sur le locataire'!E2137),\"\",'Renseignements sur le locataire'!E2137)","v":""}]
[null,null,null,{"$f":"IF(ISBLANK('Renseignements sur le locataire'!E2138),\"\",'Renseignements sur le locataire'!E2138)","v":""}]
[null,null,null,{"$f":"IF(ISBLANK('Renseignements sur le locataire'!E2139),\"\",'Renseignements sur le locataire'!E2139)","v":""}]
[null,null,null,{"$f":"IF(ISBLANK('Renseignements sur le locataire'!E2140),\"\",'Renseignements sur le locataire'!E2140)","v":""}]
[null,null,null,{"$f":"IF(ISBLANK('Renseignements sur le locataire'!E2141),\"\",'Renseignements sur le locataire'!E2141)","v":""}]
[null,null,null,{"$f":"IF(ISBLANK('Renseignements sur le locataire'!E2142),\"\",'Renseignements sur le locataire'!E2142)","v":""}]
[null,null,null,{"$f":"IF(ISBLANK('Renseignements sur le locataire'!E2143),\"\",'Renseignements sur le locataire'!E2143)","v":""}]
[null,null,null,{"$f":"IF(ISBLANK('Renseignements sur le locataire'!E2144),\"\",'Renseignements sur le locataire'!E2144)","v":""}]
[null,null,null,{"$f":"IF(ISBLANK('Renseignements sur le locataire'!E2145),\"\",'Renseignements sur le locataire'!E2145)","v":""}]
[null,null,null,{"$f":"IF(ISBLANK('Renseignements sur le locataire'!E2146),\"\",'Renseignements sur le locataire'!E2146)","v":""}]
[null,null,null,{"$f":"IF(ISBLANK('Renseignements sur le locataire'!E2147),\"\",'Renseignements sur le locataire'!E2147)","v":""}]
[null,null,null,{"$f":"IF(ISBLANK('Renseignements sur le locataire'!E2148),\"\",'Renseignements sur le locataire'!E2148)","v":""}]
[null,null,null,{"$f":"IF(ISBLANK('Renseignements sur le locataire'!E2149),\"\",'Renseignements sur le locataire'!E2149)","v":""}]
[null,null,null,{"$f":"IF(ISBLANK('Renseignements sur le locataire'!E2150),\"\",'Renseignements sur le locataire'!E2150)","v":""}]
[null,null,null,{"$f":"IF(ISBLANK('Renseignements sur le locataire'!E2151),\"\",'Renseignements sur le locataire'!E2151)","v":""}]
[null,null,null,{"$f":"IF(ISBLANK('Renseignements sur le locataire'!E2152),\"\",'Renseignements sur le locataire'!E2152)","v":""}]
[null,null,null,{"$f":"IF(ISBLANK('Renseignements sur le locataire'!E2153),\"\",'Renseignements sur le locataire'!E2153)","v":""}]
[null,null,null,{"$f":"IF(ISBLANK('Renseignements sur le locataire'!E2154),\"\",'Renseignements sur le locataire'!E2154)","v":""}]
[null,null,null,{"$f":"IF(ISBLANK('Renseignements sur le locataire'!E2155),\"\",'Renseignements sur le locataire'!E2155)","v":""}]
[null,null,null,{"$f":"IF(ISBLANK('Renseignements sur le locataire'!E2156),\"\",'Renseignements sur le locataire'!E2156)","v":""}]
[null,null,null,{"$f":"IF(ISBLANK('Renseignements sur le locataire'!E2157),\"\",'Renseignements sur le locataire'!E2157)","v":""}]
[null,null,null,{"$f":"IF(ISBLANK('Renseignements sur le locataire'!E2158),\"\",'Renseignements sur le locataire'!E2158)","v":""}]
[null,null,null,{"$f":"IF(ISBLANK('Renseignements sur le locataire'!E2159),\"\",'Renseignements sur le locataire'!E2159)","v":""}]
[null,null,null,{"$f":"IF(ISBLANK('Renseignements sur le locataire'!E2160),\"\",'Renseignements sur le locataire'!E2160)","v":""}]
[null,null,null,{"$f":"IF(ISBLANK('Renseignements sur le locataire'!E2161),\"\",'Renseignements sur le locataire'!E2161)","v":""}]
[null,null,null,{"$f":"IF(ISBLANK('Renseignements sur le locataire'!E2162),\"\",'Renseignements sur le locataire'!E2162)","v":""}]
[null,null,null,{"$f":"IF(ISBLANK('Renseignements sur le locataire'!E2163),\"\",'Renseignements sur le locataire'!E2163)","v":""}]
[null,null,null,{"$f":"IF(ISBLANK('Renseignements sur le locataire'!E2164),\"\",'Renseignements sur le locataire'!E2164)","v":""}]
[null,null,null,{"$f":"IF(ISBLANK('Renseignements sur le locataire'!E2165),\"\",'Renseignements sur le locataire'!E2165)","v":""}]
[null,null,null,{"$f":"IF(ISBLANK('Renseignements sur le locataire'!E2166),\"\",'Renseignements sur le locataire'!E2166)","v":""}]
[null,null,null,{"$f":"IF(ISBLANK('Renseignements sur le locataire'!E2167),\"\",'Renseignements sur le locataire'!E2167)","v":""}]
[null,null,null,{"$f":"IF(ISBLANK('Renseignements sur le locataire'!E2168),\"\",'Renseignements sur le locataire'!E2168)","v":""}]
[null,null,null,{"$f":"IF(ISBLANK('Renseignements sur le locataire'!E2169),\"\",'Renseignements sur le locataire'!E2169)","v":""}]
[null,null,null,{"$f":"IF(ISBLANK('Renseignements sur le locataire'!E2170),\"\",'Renseignements sur le locataire'!E2170)","v":""}]
[null,null,null,{"$f":"IF(ISBLANK('Renseignements sur le locataire'!E2171),\"\",'Renseignements sur le locataire'!E2171)","v":""}]
[null,null,null,{"$f":"IF(ISBLANK('Renseignements sur le locataire'!E2172),\"\",'Renseignements sur le locataire'!E2172)","v":""}]
[null,null,null,{"$f":"IF(ISBLANK('Renseignements sur le locataire'!E2173),\"\",'Renseignements sur le locataire'!E2173)","v":""}]
[null,null,null,{"$f":"IF(ISBLANK('Renseignements sur le locataire'!E2174),\"\",'Renseignements sur le locataire'!E2174)","v":""}]
[null,null,null,{"$f":"IF(ISBLANK('Renseignements sur le locataire'!E2175),\"\",'Renseignements sur le locataire'!E2175)","v":""}]
[null,null,null,{"$f":"IF(ISBLANK('Renseignements sur le locataire'!E2176),\"\",'Renseignements sur le locataire'!E2176)","v":""}]
[null,null,null,{"$f":"IF(ISBLANK('Renseignements sur le locataire'!E2177),\"\",'Renseignements sur le locataire'!E2177)","v":""}]
[null,null,null,{"$f":"IF(ISBLANK('Renseignements sur le locataire'!E2178),\"\",'Renseignements sur le locataire'!E2178)","v":""}]
[null,null,null,{"$f":"IF(ISBLANK('Renseignements sur le locataire'!E2179),\"\",'Renseignements sur le locataire'!E2179)","v":""}]
[null,null,null,{"$f":"IF(ISBLANK('Renseignements sur le locataire'!E2180),\"\",'Renseignements sur le locataire'!E2180)","v":""}]
[null,null,null,{"$f":"IF(ISBLANK('Renseignements sur le locataire'!E2181),\"\",'Renseignements sur le locataire'!E2181)","v":""}]
[null,null,null,{"$f":"IF(ISBLANK('Renseignements sur le locataire'!E2182),\"\",'Renseignements sur le locataire'!E2182)","v":""}]
[null,null,null,{"$f":"IF(ISBLANK('Renseignements sur le locataire'!E2183),\"\",'Renseignements sur le locataire'!E2183)","v":""}]
[null,null,null,{"$f":"IF(ISBLANK('Renseignements sur le locataire'!E2184),\"\",'Renseignements sur le locataire'!E2184)","v":""}]
[null,null,null,{"$f":"IF(ISBLANK('Renseignements sur le locataire'!E2185),\"\",'Renseignements sur le locataire'!E2185)","v":""}]
[null,null,null,{"$f":"IF(ISBLANK('Renseignements sur le locataire'!E2186),\"\",'Renseignements sur le locataire'!E2186)","v":""}]
[null,null,null,{"$f":"IF(ISBLANK('Renseignements sur le locataire'!E2187),\"\",'Renseignements sur le locataire'!E2187)","v":""}]
[null,null,null,{"$f":"IF(ISBLANK('Renseignements sur le locataire'!E2188),\"\",'Renseignements sur le locataire'!E2188)","v":""}]
[null,null,null,{"$f":"IF(ISBLANK('Renseignements sur le locataire'!E2189),\"\",'Renseignements sur le locataire'!E2189)","v":""}]
[null,null,null,{"$f":"IF(ISBLANK('Renseignements sur le locataire'!E2190),\"\",'Renseignements sur le locataire'!E2190)","v":""}]
[null,null,null,{"$f":"IF(ISBLANK('Renseignements sur le locataire'!E2191),\"\",'Renseignements sur le locataire'!E2191)","v":""}]
[null,null,null,{"$f":"IF(ISBLANK('Renseignements sur le locataire'!E2192),\"\",'Renseignements sur le locataire'!E2192)","v":""}]
[null,null,null,{"$f":"IF(ISBLANK('Renseignements sur le locataire'!E2193),\"\",'Renseignements sur le locataire'!E2193)","v":""}]
[null,null,null,{"$f":"IF(ISBLANK('Renseignements sur le locataire'!E2194),\"\",'Renseignements sur le locataire'!E2194)","v":""}]
[null,null,null,{"$f":"IF(ISBLANK('Renseignements sur le locataire'!E2195),\"\",'Renseignements sur le locataire'!E2195)","v":""}]
[null,null,null,{"$f":"IF(ISBLANK('Renseignements sur le locataire'!E2196),\"\",'Renseignements sur le locataire'!E2196)","v":""}]
[null,null,null,{"$f":"IF(ISBLANK('Renseignements sur le locataire'!E2197),\"\",'Renseignements sur le locataire'!E2197)","v":""}]
[null,null,null,{"$f":"IF(ISBLANK('Renseignements sur le locataire'!E2198),\"\",'Renseignements sur le locataire'!E2198)","v":""}]
[null,null,null,{"$f":"IF(ISBLANK('Renseignements sur le locataire'!E2199),\"\",'Renseignements sur le locataire'!E2199)","v":""}]
[null,null,null,{"$f":"IF(ISBLANK('Renseignements sur le locataire'!E2200),\"\",'Renseignements sur le locataire'!E2200)","v":""}]
[null,null,null,{"$f":"IF(ISBLANK('Renseignements sur le locataire'!E2201),\"\",'Renseignements sur le locataire'!E2201)","v":""}]
[null,null,null,{"$f":"IF(ISBLANK('Renseignements sur le locataire'!E2202),\"\",'Renseignements sur le locataire'!E2202)","v":""}]
[null,null,null,{"$f":"IF(ISBLANK('Renseignements sur le locataire'!E2203),\"\",'Renseignements sur le locataire'!E2203)","v":""}]
[null,null,null,{"$f":"IF(ISBLANK('Renseignements sur le locataire'!E2204),\"\",'Renseignements sur le locataire'!E2204)","v":""}]
[null,null,null,{"$f":"IF(ISBLANK('Renseignements sur le locataire'!E2205),\"\",'Renseignements sur le locataire'!E2205)","v":""}]
[null,null,null,{"$f":"IF(ISBLANK('Renseignements sur le locataire'!E2206),\"\",'Renseignements sur le locataire'!E2206)","v":""}]
[null,null,null,{"$f":"IF(ISBLANK('Renseignements sur le locataire'!E2207),\"\",'Renseignements sur le locataire'!E2207)","v":""}]
[null,null,null,{"$f":"IF(ISBLANK('Renseignements sur le locataire'!E2208),\"\",'Renseignements sur le locataire'!E2208)","v":""}]
[null,null,null,{"$f":"IF(ISBLANK('Renseignements sur le locataire'!E2209),\"\",'Renseignements sur le locataire'!E2209)","v":""}]
[null,null,null,{"$f":"IF(ISBLANK('Renseignements sur le locataire'!E2210),\"\",'Renseignements sur le locataire'!E2210)","v":""}]
[null,null,null,{"$f":"IF(ISBLANK('Renseignements sur le locataire'!E2211),\"\",'Renseignements sur le locataire'!E2211)","v":""}]
[null,null,null,{"$f":"IF(ISBLANK('Renseignements sur le locataire'!E2212),\"\",'Renseignements sur le locataire'!E2212)","v":""}]
[null,null,null,{"$f":"IF(ISBLANK('Renseignements sur le locataire'!E2213),\"\",'Renseignements sur le locataire'!E2213)","v":""}]
[null,null,null,{"$f":"IF(ISBLANK('Renseignements sur le locataire'!E2214),\"\",'Renseignements sur le locataire'!E2214)","v":""}]
[null,null,null,{"$f":"IF(ISBLANK('Renseignements sur le locataire'!E2215),\"\",'Renseignements sur le locataire'!E2215)","v":""}]
[null,null,null,{"$f":"IF(ISBLANK('Renseignements sur le locataire'!E2216),\"\",'Renseignements sur le locataire'!E2216)","v":""}]
[null,null,null,{"$f":"IF(ISBLANK('Renseignements sur le locataire'!E2217),\"\",'Renseignements sur le locataire'!E2217)","v":""}]
[null,null,null,{"$f":"IF(ISBLANK('Renseignements sur le locataire'!E2218),\"\",'Renseignements sur le locataire'!E2218)","v":""}]
[null,null,null,{"$f":"IF(ISBLANK('Renseignements sur le locataire'!E2219),\"\",'Renseignements sur le locataire'!E2219)","v":""}]
[null,null,null,{"$f":"IF(ISBLANK('Renseignements sur le locataire'!E2220),\"\",'Renseignements sur le locataire'!E2220)","v":""}]
[null,null,null,{"$f":"IF(ISBLANK('Renseignements sur le locataire'!E2221),\"\",'Renseignements sur le locataire'!E2221)","v":""}]
[null,null,null,{"$f":"IF(ISBLANK('Renseignements sur le locataire'!E2222),\"\",'Renseignements sur le locataire'!E2222)","v":""}]
[null,null,null,{"$f":"IF(ISBLANK('Renseignements sur le locataire'!E2223),\"\",'Renseignements sur le locataire'!E2223)","v":""}]
[null,null,null,{"$f":"IF(ISBLANK('Renseignements sur le locataire'!E2224),\"\",'Renseignements sur le locataire'!E2224)","v":""}]
[null,null,null,{"$f":"IF(ISBLANK('Renseignements sur le locataire'!E2225),\"\",'Renseignements sur le locataire'!E2225)","v":""}]
[null,null,null,{"$f":"IF(ISBLANK('Renseignements sur le locataire'!E2226),\"\",'Renseignements sur le locataire'!E2226)","v":""}]
[null,null,null,{"$f":"IF(ISBLANK('Renseignements sur le locataire'!E2227),\"\",'Renseignements sur le locataire'!E2227)","v":""}]
[null,null,null,{"$f":"IF(ISBLANK('Renseignements sur le locataire'!E2228),\"\",'Renseignements sur le locataire'!E2228)","v":""}]
[null,null,null,{"$f":"IF(ISBLANK('Renseignements sur le locataire'!E2229),\"\",'Renseignements sur le locataire'!E2229)","v":""}]
[null,null,null,{"$f":"IF(ISBLANK('Renseignements sur le locataire'!E2230),\"\",'Renseignements sur le locataire'!E2230)","v":""}]
[null,null,null,{"$f":"IF(ISBLANK('Renseignements sur le locataire'!E2231),\"\",'Renseignements sur le locataire'!E2231)","v":""}]
[null,null,null,{"$f":"IF(ISBLANK('Renseignements sur le locataire'!E2232),\"\",'Renseignements sur le locataire'!E2232)","v":""}]
[null,null,null,{"$f":"IF(ISBLANK('Renseignements sur le locataire'!E2233),\"\",'Renseignements sur le locataire'!E2233)","v":""}]
[null,null,null,{"$f":"IF(ISBLANK('Renseignements sur le locataire'!E2234),\"\",'Renseignements sur le locataire'!E2234)","v":""}]
[null,null,null,{"$f":"IF(ISBLANK('Renseignements sur le locataire'!E2235),\"\",'Renseignements sur le locataire'!E2235)","v":""}]
[null,null,null,{"$f":"IF(ISBLANK('Renseignements sur le locataire'!E2236),\"\",'Renseignements sur le locataire'!E2236)","v":""}]
[null,null,null,{"$f":"IF(ISBLANK('Renseignements sur le locataire'!E2237),\"\",'Renseignements sur le locataire'!E2237)","v":""}]
[null,null,null,{"$f":"IF(ISBLANK('Renseignements sur le locataire'!E2238),\"\",'Renseignements sur le locataire'!E2238)","v":""}]
[null,null,null,{"$f":"IF(ISBLANK('Renseignements sur le locataire'!E2239),\"\",'Renseignements sur le locataire'!E2239)","v":""}]
[null,null,null,{"$f":"IF(ISBLANK('Renseignements sur le locataire'!E2240),\"\",'Renseignements sur le locataire'!E2240)","v":""}]
[null,null,null,{"$f":"IF(ISBLANK('Renseignements sur le locataire'!E2241),\"\",'Renseignements sur le locataire'!E2241)","v":""}]
[null,null,null,{"$f":"IF(ISBLANK('Renseignements sur le locataire'!E2242),\"\",'Renseignements sur le locataire'!E2242)","v":""}]
[null,null,null,{"$f":"IF(ISBLANK('Renseignements sur le locataire'!E2243),\"\",'Renseignements sur le locataire'!E2243)","v":""}]
[null,null,null,{"$f":"IF(ISBLANK('Renseignements sur le locataire'!E2244),\"\",'Renseignements sur le locataire'!E2244)","v":""}]
[null,null,null,{"$f":"IF(ISBLANK('Renseignements sur le locataire'!E2245),\"\",'Renseignements sur le locataire'!E2245)","v":""}]
[null,null,null,{"$f":"IF(ISBLANK('Renseignements sur le locataire'!E2246),\"\",'Renseignements sur le locataire'!E2246)","v":""}]
[null,null,null,{"$f":"IF(ISBLANK('Renseignements sur le locataire'!E2247),\"\",'Renseignements sur le locataire'!E2247)","v":""}]
[null,null,null,{"$f":"IF(ISBLANK('Renseignements sur le locataire'!E2248),\"\",'Renseignements sur le locataire'!E2248)","v":""}]
[null,null,null,{"$f":"IF(ISBLANK('Renseignements sur le locataire'!E2249),\"\",'Renseignements sur le locataire'!E2249)","v":""}]
[null,null,null,{"$f":"IF(ISBLANK('Renseignements sur le locataire'!E2250),\"\",'Renseignements sur le locataire'!E2250)","v":""}]
[null,null,null,{"$f":"IF(ISBLANK('Renseignements sur le locataire'!E2251),\"\",'Renseignements sur le locataire'!E2251)","v":""}]
[null,null,null,{"$f":"IF(ISBLANK('Renseignements sur le locataire'!E2252),\"\",'Renseignements sur le locataire'!E2252)","v":""}]
[null,null,null,{"$f":"IF(ISBLANK('Renseignements sur le locataire'!E2253),\"\",'Renseignements sur le locataire'!E2253)","v":""}]
[null,null,null,{"$f":"IF(ISBLANK('Renseignements sur le locataire'!E2254),\"\",'Renseignements sur le locataire'!E2254)","v":""}]
[null,null,null,{"$f":"IF(ISBLANK('Renseignements sur le locataire'!E2255),\"\",'Renseignements sur le locataire'!E2255)","v":""}]
[null,null,null,{"$f":"IF(ISBLANK('Renseignements sur le locataire'!E2256),\"\",'Renseignements sur le locataire'!E2256)","v":""}]
[null,null,null,{"$f":"IF(ISBLANK('Renseignements sur le locataire'!E2257),\"\",'Renseignements sur le locataire'!E2257)","v":""}]
[null,null,null,{"$f":"IF(ISBLANK('Renseignements sur le locataire'!E2258),\"\",'Renseignements sur le locataire'!E2258)","v":""}]
[null,null,null,{"$f":"IF(ISBLANK('Renseignements sur le locataire'!E2259),\"\",'Renseignements sur le locataire'!E2259)","v":""}]
[null,null,null,{"$f":"IF(ISBLANK('Renseignements sur le locataire'!E2260),\"\",'Renseignements sur le locataire'!E2260)","v":""}]
[null,null,null,{"$f":"IF(ISBLANK('Renseignements sur le locataire'!E2261),\"\",'Renseignements sur le locataire'!E2261)","v":""}]
[null,null,null,{"$f":"IF(ISBLANK('Renseignements sur le locataire'!E2262),\"\",'Renseignements sur le locataire'!E2262)","v":""}]
[null,null,null,{"$f":"IF(ISBLANK('Renseignements sur le locataire'!E2263),\"\",'Renseignements sur le locataire'!E2263)","v":""}]
[null,null,null,{"$f":"IF(ISBLANK('Renseignements sur le locataire'!E2264),\"\",'Renseignements sur le locataire'!E2264)","v":""}]
[null,null,null,{"$f":"IF(ISBLANK('Renseignements sur le locataire'!E2265),\"\",'Renseignements sur le locataire'!E2265)","v":""}]
[null,null,null,{"$f":"IF(ISBLANK('Renseignements sur le locataire'!E2266),\"\",'Renseignements sur le locataire'!E2266)","v":""}]
[null,null,null,{"$f":"IF(ISBLANK('Renseignements sur le locataire'!E2267),\"\",'Renseignements sur le locataire'!E2267)","v":""}]
[null,null,null,{"$f":"IF(ISBLANK('Renseignements sur le locataire'!E2268),\"\",'Renseignements sur le locataire'!E2268)","v":""}]
[null,null,null,{"$f":"IF(ISBLANK('Renseignements sur le locataire'!E2269),\"\",'Renseignements sur le locataire'!E2269)","v":""}]
[null,null,null,{"$f":"IF(ISBLANK('Renseignements sur le locataire'!E2270),\"\",'Renseignements sur le locataire'!E2270)","v":""}]
[null,null,null,{"$f":"IF(ISBLANK('Renseignements sur le locataire'!E2271),\"\",'Renseignements sur le locataire'!E2271)","v":""}]
[null,null,null,{"$f":"IF(ISBLANK('Renseignements sur le locataire'!E2272),\"\",'Renseignements sur le locataire'!E2272)","v":""}]
[null,null,null,{"$f":"IF(ISBLANK('Renseignements sur le locataire'!E2273),\"\",'Renseignements sur le locataire'!E2273)","v":""}]
[null,null,null,{"$f":"IF(ISBLANK('Renseignements sur le locataire'!E2274),\"\",'Renseignements sur le locataire'!E2274)","v":""}]
[null,null,null,{"$f":"IF(ISBLANK('Renseignements sur le locataire'!E2275),\"\",'Renseignements sur le locataire'!E2275)","v":""}]
[null,null,null,{"$f":"IF(ISBLANK('Renseignements sur le locataire'!E2276),\"\",'Renseignements sur le locataire'!E2276)","v":""}]
[null,null,null,{"$f":"IF(ISBLANK('Renseignements sur le locataire'!E2277),\"\",'Renseignements sur le locataire'!E2277)","v":""}]
[null,null,null,{"$f":"IF(ISBLANK('Renseignements sur le locataire'!E2278),\"\",'Renseignements sur le locataire'!E2278)","v":""}]
[null,null,null,{"$f":"IF(ISBLANK('Renseignements sur le locataire'!E2279),\"\",'Renseignements sur le locataire'!E2279)","v":""}]
[null,null,null,{"$f":"IF(ISBLANK('Renseignements sur le locataire'!E2280),\"\",'Renseignements sur le locataire'!E2280)","v":""}]
[null,null,null,{"$f":"IF(ISBLANK('Renseignements sur le locataire'!E2281),\"\",'Renseignements sur le locataire'!E2281)","v":""}]
[null,null,null,{"$f":"IF(ISBLANK('Renseignements sur le locataire'!E2282),\"\",'Renseignements sur le locataire'!E2282)","v":""}]
[null,null,null,{"$f":"IF(ISBLANK('Renseignements sur le locataire'!E2283),\"\",'Renseignements sur le locataire'!E2283)","v":""}]
[null,null,null,{"$f":"IF(ISBLANK('Renseignements sur le locataire'!E2284),\"\",'Renseignements sur le locataire'!E2284)","v":""}]
[null,null,null,{"$f":"IF(ISBLANK('Renseignements sur le locataire'!E2285),\"\",'Renseignements sur le locataire'!E2285)","v":""}]
[null,null,null,{"$f":"IF(ISBLANK('Renseignements sur le locataire'!E2286),\"\",'Renseignements sur le locataire'!E2286)","v":""}]
[null,null,null,{"$f":"IF(ISBLANK('Renseignements sur le locataire'!E2287),\"\",'Renseignements sur le locataire'!E2287)","v":""}]
[null,null,null,{"$f":"IF(ISBLANK('Renseignements sur le locataire'!E2288),\"\",'Renseignements sur le locataire'!E2288)","v":""}]
[null,null,null,{"$f":"IF(ISBLANK('Renseignements sur le locataire'!E2289),\"\",'Renseignements sur le locataire'!E2289)","v":""}]
[null,null,null,{"$f":"IF(ISBLANK('Renseignements sur le locataire'!E2290),\"\",'Renseignements sur le locataire'!E2290)","v":""}]
[null,null,null,{"$f":"IF(ISBLANK('Renseignements sur le locataire'!E2291),\"\",'Renseignements sur le locataire'!E2291)","v":""}]
[null,null,null,{"$f":"IF(ISBLANK('Renseignements sur le locataire'!E2292),\"\",'Renseignements sur le locataire'!E2292)","v":""}]
[null,null,null,{"$f":"IF(ISBLANK('Renseignements sur le locataire'!E2293),\"\",'Renseignements sur le locataire'!E2293)","v":""}]
[null,null,null,{"$f":"IF(ISBLANK('Renseignements sur le locataire'!E2294),\"\",'Renseignements sur le locataire'!E2294)","v":""}]
[null,null,null,{"$f":"IF(ISBLANK('Renseignements sur le locataire'!E2295),\"\",'Renseignements sur le locataire'!E2295)","v":""}]
[null,null,null,{"$f":"IF(ISBLANK('Renseignements sur le locataire'!E2296),\"\",'Renseignements sur le locataire'!E2296)","v":""}]
[null,null,null,{"$f":"IF(ISBLANK('Renseignements sur le locataire'!E2297),\"\",'Renseignements sur le locataire'!E2297)","v":""}]
[null,null,null,{"$f":"IF(ISBLANK('Renseignements sur le locataire'!E2298),\"\",'Renseignements sur le locataire'!E2298)","v":""}]
[null,null,null,{"$f":"IF(ISBLANK('Renseignements sur le locataire'!E2299),\"\",'Renseignements sur le locataire'!E2299)","v":""}]
[null,null,null,{"$f":"IF(ISBLANK('Renseignements sur le locataire'!E2300),\"\",'Renseignements sur le locataire'!E2300)","v":""}]
[null,null,null,{"$f":"IF(ISBLANK('Renseignements sur le locataire'!E2301),\"\",'Renseignements sur le locataire'!E2301)","v":""}]
[null,null,null,{"$f":"IF(ISBLANK('Renseignements sur le locataire'!E2302),\"\",'Renseignements sur le locataire'!E2302)","v":""}]
[null,null,null,{"$f":"IF(ISBLANK('Renseignements sur le locataire'!E2303),\"\",'Renseignements sur le locataire'!E2303)","v":""}]
[null,null,null,{"$f":"IF(ISBLANK('Renseignements sur le locataire'!E2304),\"\",'Renseignements sur le locataire'!E2304)","v":""}]
[null,null,null,{"$f":"IF(ISBLANK('Renseignements sur le locataire'!E2305),\"\",'Renseignements sur le locataire'!E2305)","v":""}]
[null,null,null,{"$f":"IF(ISBLANK('Renseignements sur le locataire'!E2306),\"\",'Renseignements sur le locataire'!E2306)","v":""}]
[null,null,null,{"$f":"IF(ISBLANK('Renseignements sur le locataire'!E2307),\"\",'Renseignements sur le locataire'!E2307)","v":""}]
[null,null,null,{"$f":"IF(ISBLANK('Renseignements sur le locataire'!E2308),\"\",'Renseignements sur le locataire'!E2308)","v":""}]
[null,null,null,{"$f":"IF(ISBLANK('Renseignements sur le locataire'!E2309),\"\",'Renseignements sur le locataire'!E2309)","v":""}]
[null,null,null,{"$f":"IF(ISBLANK('Renseignements sur le locataire'!E2310),\"\",'Renseignements sur le locataire'!E2310)","v":""}]
[null,null,null,{"$f":"IF(ISBLANK('Renseignements sur le locataire'!E2311),\"\",'Renseignements sur le locataire'!E2311)","v":""}]
[null,null,null,{"$f":"IF(ISBLANK('Renseignements sur le locataire'!E2312),\"\",'Renseignements sur le locataire'!E2312)","v":""}]
[null,null,null,{"$f":"IF(ISBLANK('Renseignements sur le locataire'!E2313),\"\",'Renseignements sur le locataire'!E2313)","v":""}]
[null,null,null,{"$f":"IF(ISBLANK('Renseignements sur le locataire'!E2314),\"\",'Renseignements sur le locataire'!E2314)","v":""}]
[null,null,null,{"$f":"IF(ISBLANK('Renseignements sur le locataire'!E2315),\"\",'Renseignements sur le locataire'!E2315)","v":""}]
[null,null,null,{"$f":"IF(ISBLANK('Renseignements sur le locataire'!E2316),\"\",'Renseignements sur le locataire'!E2316)","v":""}]
[null,null,null,{"$f":"IF(ISBLANK('Renseignements sur le locataire'!E2317),\"\",'Renseignements sur le locataire'!E2317)","v":""}]
[null,null,null,{"$f":"IF(ISBLANK('Renseignements sur le locataire'!E2318),\"\",'Renseignements sur le locataire'!E2318)","v":""}]
[null,null,null,{"$f":"IF(ISBLANK('Renseignements sur le locataire'!E2319),\"\",'Renseignements sur le locataire'!E2319)","v":""}]
[null,null,null,{"$f":"IF(ISBLANK('Renseignements sur le locataire'!E2320),\"\",'Renseignements sur le locataire'!E2320)","v":""}]
[null,null,null,{"$f":"IF(ISBLANK('Renseignements sur le locataire'!E2321),\"\",'Renseignements sur le locataire'!E2321)","v":""}]
[null,null,null,{"$f":"IF(ISBLANK('Renseignements sur le locataire'!E2322),\"\",'Renseignements sur le locataire'!E2322)","v":""}]
[null,null,null,{"$f":"IF(ISBLANK('Renseignements sur le locataire'!E2323),\"\",'Renseignements sur le locataire'!E2323)","v":""}]
[null,null,null,{"$f":"IF(ISBLANK('Renseignements sur le locataire'!E2324),\"\",'Renseignements sur le locataire'!E2324)","v":""}]
[null,null,null,{"$f":"IF(ISBLANK('Renseignements sur le locataire'!E2325),\"\",'Renseignements sur le locataire'!E2325)","v":""}]
[null,null,null,{"$f":"IF(ISBLANK('Renseignements sur le locataire'!E2326),\"\",'Renseignements sur le locataire'!E2326)","v":""}]
[null,null,null,{"$f":"IF(ISBLANK('Renseignements sur le locataire'!E2327),\"\",'Renseignements sur le locataire'!E2327)","v":""}]
[null,null,null,{"$f":"IF(ISBLANK('Renseignements sur le locataire'!E2328),\"\",'Renseignements sur le locataire'!E2328)","v":""}]
[null,null,null,{"$f":"IF(ISBLANK('Renseignements sur le locataire'!E2329),\"\",'Renseignements sur le locataire'!E2329)","v":""}]
[null,null,null,{"$f":"IF(ISBLANK('Renseignements sur le locataire'!E2330),\"\",'Renseignements sur le locataire'!E2330)","v":""}]
[null,null,null,{"$f":"IF(ISBLANK('Renseignements sur le locataire'!E2331),\"\",'Renseignements sur le locataire'!E2331)","v":""}]
[null,null,null,{"$f":"IF(ISBLANK('Renseignements sur le locataire'!E2332),\"\",'Renseignements sur le locataire'!E2332)","v":""}]
[null,null,null,{"$f":"IF(ISBLANK('Renseignements sur le locataire'!E2333),\"\",'Renseignements sur le locataire'!E2333)","v":""}]
[null,null,null,{"$f":"IF(ISBLANK('Renseignements sur le locataire'!E2334),\"\",'Renseignements sur le locataire'!E2334)","v":""}]
[null,null,null,{"$f":"IF(ISBLANK('Renseignements sur le locataire'!E2335),\"\",'Renseignements sur le locataire'!E2335)","v":""}]
[null,null,null,{"$f":"IF(ISBLANK('Renseignements sur le locataire'!E2336),\"\",'Renseignements sur le locataire'!E2336)","v":""}]
[null,null,null,{"$f":"IF(ISBLANK('Renseignements sur le locataire'!E2337),\"\",'Renseignements sur le locataire'!E2337)","v":""}]
[null,null,null,{"$f":"IF(ISBLANK('Renseignements sur le locataire'!E2338),\"\",'Renseignements sur le locataire'!E2338)","v":""}]
[null,null,null,{"$f":"IF(ISBLANK('Renseignements sur le locataire'!E2339),\"\",'Renseignements sur le locataire'!E2339)","v":""}]
[null,null,null,{"$f":"IF(ISBLANK('Renseignements sur le locataire'!E2340),\"\",'Renseignements sur le locataire'!E2340)","v":""}]
[null,null,null,{"$f":"IF(ISBLANK('Renseignements sur le locataire'!E2341),\"\",'Renseignements sur le locataire'!E2341)","v":""}]
[null,null,null,{"$f":"IF(ISBLANK('Renseignements sur le locataire'!E2342),\"\",'Renseignements sur le locataire'!E2342)","v":""}]
[null,null,null,{"$f":"IF(ISBLANK('Renseignements sur le locataire'!E2343),\"\",'Renseignements sur le locataire'!E2343)","v":""}]
[null,null,null,{"$f":"IF(ISBLANK('Renseignements sur le locataire'!E2344),\"\",'Renseignements sur le locataire'!E2344)","v":""}]
[null,null,null,{"$f":"IF(ISBLANK('Renseignements sur le locataire'!E2345),\"\",'Renseignements sur le locataire'!E2345)","v":""}]
[null,null,null,{"$f":"IF(ISBLANK('Renseignements sur le locataire'!E2346),\"\",'Renseignements sur le locataire'!E2346)","v":""}]
[null,null,null,{"$f":"IF(ISBLANK('Renseignements sur le locataire'!E2347),\"\",'Renseignements sur le locataire'!E2347)","v":""}]
[null,null,null,{"$f":"IF(ISBLANK('Renseignements sur le locataire'!E2348),\"\",'Renseignements sur le locataire'!E2348)","v":""}]
[null,null,null,{"$f":"IF(ISBLANK('Renseignements sur le locataire'!E2349),\"\",'Renseignements sur le locataire'!E2349)","v":""}]
[null,null,null,{"$f":"IF(ISBLANK('Renseignements sur le locataire'!E2350),\"\",'Renseignements sur le locataire'!E2350)","v":""}]
[null,null,null,{"$f":"IF(ISBLANK('Renseignements sur le locataire'!E2351),\"\",'Renseignements sur le locataire'!E2351)","v":""}]
[null,null,null,{"$f":"IF(ISBLANK('Renseignements sur le locataire'!E2352),\"\",'Renseignements sur le locataire'!E2352)","v":""}]
[null,null,null,{"$f":"IF(ISBLANK('Renseignements sur le locataire'!E2353),\"\",'Renseignements sur le locataire'!E2353)","v":""}]
[null,null,null,{"$f":"IF(ISBLANK('Renseignements sur le locataire'!E2354),\"\",'Renseignements sur le locataire'!E2354)","v":""}]
[null,null,null,{"$f":"IF(ISBLANK('Renseignements sur le locataire'!E2355),\"\",'Renseignements sur le locataire'!E2355)","v":""}]
[null,null,null,{"$f":"IF(ISBLANK('Renseignements sur le locataire'!E2356),\"\",'Renseignements sur le locataire'!E2356)","v":""}]
[null,null,null,{"$f":"IF(ISBLANK('Renseignements sur le locataire'!E2357),\"\",'Renseignements sur le locataire'!E2357)","v":""}]
[null,null,null,{"$f":"IF(ISBLANK('Renseignements sur le locataire'!E2358),\"\",'Renseignements sur le locataire'!E2358)","v":""}]
[null,null,null,{"$f":"IF(ISBLANK('Renseignements sur le locataire'!E2359),\"\",'Renseignements sur le locataire'!E2359)","v":""}]
[null,null,null,{"$f":"IF(ISBLANK('Renseignements sur le locataire'!E2360),\"\",'Renseignements sur le locataire'!E2360)","v":""}]
[null,null,null,{"$f":"IF(ISBLANK('Renseignements sur le locataire'!E2361),\"\",'Renseignements sur le locataire'!E2361)","v":""}]
[null,null,null,{"$f":"IF(ISBLANK('Renseignements sur le locataire'!E2362),\"\",'Renseignements sur le locataire'!E2362)","v":""}]
[null,null,null,{"$f":"IF(ISBLANK('Renseignements sur le locataire'!E2363),\"\",'Renseignements sur le locataire'!E2363)","v":""}]
[null,null,null,{"$f":"IF(ISBLANK('Renseignements sur le locataire'!E2364),\"\",'Renseignements sur le locataire'!E2364)","v":""}]
[null,null,null,{"$f":"IF(ISBLANK('Renseignements sur le locataire'!E2365),\"\",'Renseignements sur le locataire'!E2365)","v":""}]
[null,null,null,{"$f":"IF(ISBLANK('Renseignements sur le locataire'!E2366),\"\",'Renseignements sur le locataire'!E2366)","v":""}]
[null,null,null,{"$f":"IF(ISBLANK('Renseignements sur le locataire'!E2367),\"\",'Renseignements sur le locataire'!E2367)","v":""}]
[null,null,null,{"$f":"IF(ISBLANK('Renseignements sur le locataire'!E2368),\"\",'Renseignements sur le locataire'!E2368)","v":""}]
[null,null,null,{"$f":"IF(ISBLANK('Renseignements sur le locataire'!E2369),\"\",'Renseignements sur le locataire'!E2369)","v":""}]
[null,null,null,{"$f":"IF(ISBLANK('Renseignements sur le locataire'!E2370),\"\",'Renseignements sur le locataire'!E2370)","v":""}]
[null,null,null,{"$f":"IF(ISBLANK('Renseignements sur le locataire'!E2371),\"\",'Renseignements sur le locataire'!E2371)","v":""}]
[null,null,null,{"$f":"IF(ISBLANK('Renseignements sur le locataire'!E2372),\"\",'Renseignements sur le locataire'!E2372)","v":""}]
[null,null,null,{"$f":"IF(ISBLANK('Renseignements sur le locataire'!E2373),\"\",'Renseignements sur le locataire'!E2373)","v":""}]
[null,null,null,{"$f":"IF(ISBLANK('Renseignements sur le locataire'!E2374),\"\",'Renseignements sur le locataire'!E2374)","v":""}]
[null,null,null,{"$f":"IF(ISBLANK('Renseignements sur le locataire'!E2375),\"\",'Renseignements sur le locataire'!E2375)","v":""}]
[null,null,null,{"$f":"IF(ISBLANK('Renseignements sur le locataire'!E2376),\"\",'Renseignements sur le locataire'!E2376)","v":""}]
[null,null,null,{"$f":"IF(ISBLANK('Renseignements sur le locataire'!E2377),\"\",'Renseignements sur le locataire'!E2377)","v":""}]
[null,null,null,{"$f":"IF(ISBLANK('Renseignements sur le locataire'!E2378),\"\",'Renseignements sur le locataire'!E2378)","v":""}]
[null,null,null,{"$f":"IF(ISBLANK('Renseignements sur le locataire'!E2379),\"\",'Renseignements sur le locataire'!E2379)","v":""}]
[null,null,null,{"$f":"IF(ISBLANK('Renseignements sur le locataire'!E2380),\"\",'Renseignements sur le locataire'!E2380)","v":""}]
[null,null,null,{"$f":"IF(ISBLANK('Renseignements sur le locataire'!E2381),\"\",'Renseignements sur le locataire'!E2381)","v":""}]
[null,null,null,{"$f":"IF(ISBLANK('Renseignements sur le locataire'!E2382),\"\",'Renseignements sur le locataire'!E2382)","v":""}]
[null,null,null,{"$f":"IF(ISBLANK('Renseignements sur le locataire'!E2383),\"\",'Renseignements sur le locataire'!E2383)","v":""}]
[null,null,null,{"$f":"IF(ISBLANK('Renseignements sur le locataire'!E2384),\"\",'Renseignements sur le locataire'!E2384)","v":""}]
[null,null,null,{"$f":"IF(ISBLANK('Renseignements sur le locataire'!E2385),\"\",'Renseignements sur le locataire'!E2385)","v":""}]
[null,null,null,{"$f":"IF(ISBLANK('Renseignements sur le locataire'!E2386),\"\",'Renseignements sur le locataire'!E2386)","v":""}]
[null,null,null,{"$f":"IF(ISBLANK('Renseignements sur le locataire'!E2387),\"\",'Renseignements sur le locataire'!E2387)","v":""}]
[null,null,null,{"$f":"IF(ISBLANK('Renseignements sur le locataire'!E2388),\"\",'Renseignements sur le locataire'!E2388)","v":""}]
[null,null,null,{"$f":"IF(ISBLANK('Renseignements sur le locataire'!E2389),\"\",'Renseignements sur le locataire'!E2389)","v":""}]
[null,null,null,{"$f":"IF(ISBLANK('Renseignements sur le locataire'!E2390),\"\",'Renseignements sur le locataire'!E2390)","v":""}]
[null,null,null,{"$f":"IF(ISBLANK('Renseignements sur le locataire'!E2391),\"\",'Renseignements sur le locataire'!E2391)","v":""}]
[null,null,null,{"$f":"IF(ISBLANK('Renseignements sur le locataire'!E2392),\"\",'Renseignements sur le locataire'!E2392)","v":""}]
[null,null,null,{"$f":"IF(ISBLANK('Renseignements sur le locataire'!E2393),\"\",'Renseignements sur le locataire'!E2393)","v":""}]
[null,null,null,{"$f":"IF(ISBLANK('Renseignements sur le locataire'!E2394),\"\",'Renseignements sur le locataire'!E2394)","v":""}]
[null,null,null,{"$f":"IF(ISBLANK('Renseignements sur le locataire'!E2395),\"\",'Renseignements sur le locataire'!E2395)","v":""}]
[null,null,null,{"$f":"IF(ISBLANK('Renseignements sur le locataire'!E2396),\"\",'Renseignements sur le locataire'!E2396)","v":""}]
[null,null,null,{"$f":"IF(ISBLANK('Renseignements sur le locataire'!E2397),\"\",'Renseignements sur le locataire'!E2397)","v":""}]
[null,null,null,{"$f":"IF(ISBLANK('Renseignements sur le locataire'!E2398),\"\",'Renseignements sur le locataire'!E2398)","v":""}]
[null,null,null,{"$f":"IF(ISBLANK('Renseignements sur le locataire'!E2399),\"\",'Renseignements sur le locataire'!E2399)","v":""}]
[null,null,null,{"$f":"IF(ISBLANK('Renseignements sur le locataire'!E2400),\"\",'Renseignements sur le locataire'!E2400)","v":""}]
[null,null,null,{"$f":"IF(ISBLANK('Renseignements sur le locataire'!E2401),\"\",'Renseignements sur le locataire'!E2401)","v":""}]
[null,null,null,{"$f":"IF(ISBLANK('Renseignements sur le locataire'!E2402),\"\",'Renseignements sur le locataire'!E2402)","v":""}]
[null,null,null,{"$f":"IF(ISBLANK('Renseignements sur le locataire'!E2403),\"\",'Renseignements sur le locataire'!E2403)","v":""}]
[null,null,null,{"$f":"IF(ISBLANK('Renseignements sur le locataire'!E2404),\"\",'Renseignements sur le locataire'!E2404)","v":""}]
[null,null,null,{"$f":"IF(ISBLANK('Renseignements sur le locataire'!E2405),\"\",'Renseignements sur le locataire'!E2405)","v":""}]
[null,null,null,{"$f":"IF(ISBLANK('Renseignements sur le locataire'!E2406),\"\",'Renseignements sur le locataire'!E2406)","v":""}]
[null,null,null,{"$f":"IF(ISBLANK('Renseignements sur le locataire'!E2407),\"\",'Renseignements sur le locataire'!E2407)","v":""}]
[null,null,null,{"$f":"IF(ISBLANK('Renseignements sur le locataire'!E2408),\"\",'Renseignements sur le locataire'!E2408)","v":""}]
[null,null,null,{"$f":"IF(ISBLANK('Renseignements sur le locataire'!E2409),\"\",'Renseignements sur le locataire'!E2409)","v":""}]
[null,null,null,{"$f":"IF(ISBLANK('Renseignements sur le locataire'!E2410),\"\",'Renseignements sur le locataire'!E2410)","v":""}]
[null,null,null,{"$f":"IF(ISBLANK('Renseignements sur le locataire'!E2411),\"\",'Renseignements sur le locataire'!E2411)","v":""}]
[null,null,null,{"$f":"IF(ISBLANK('Renseignements sur le locataire'!E2412),\"\",'Renseignements sur le locataire'!E2412)","v":""}]
[null,null,null,{"$f":"IF(ISBLANK('Renseignements sur le locataire'!E2413),\"\",'Renseignements sur le locataire'!E2413)","v":""}]
[null,null,null,{"$f":"IF(ISBLANK('Renseignements sur le locataire'!E2414),\"\",'Renseignements sur le locataire'!E2414)","v":""}]
[null,null,null,{"$f":"IF(ISBLANK('Renseignements sur le locataire'!E2415),\"\",'Renseignements sur le locataire'!E2415)","v":""}]
[null,null,null,{"$f":"IF(ISBLANK('Renseignements sur le locataire'!E2416),\"\",'Renseignements sur le locataire'!E2416)","v":""}]
[null,null,null,{"$f":"IF(ISBLANK('Renseignements sur le locataire'!E2417),\"\",'Renseignements sur le locataire'!E2417)","v":""}]
[null,null,null,{"$f":"IF(ISBLANK('Renseignements sur le locataire'!E2418),\"\",'Renseignements sur le locataire'!E2418)","v":""}]
[null,null,null,{"$f":"IF(ISBLANK('Renseignements sur le locataire'!E2419),\"\",'Renseignements sur le locataire'!E2419)","v":""}]
[null,null,null,{"$f":"IF(ISBLANK('Renseignements sur le locataire'!E2420),\"\",'Renseignements sur le locataire'!E2420)","v":""}]
[null,null,null,{"$f":"IF(ISBLANK('Renseignements sur le locataire'!E2421),\"\",'Renseignements sur le locataire'!E2421)","v":""}]
[null,null,null,{"$f":"IF(ISBLANK('Renseignements sur le locataire'!E2422),\"\",'Renseignements sur le locataire'!E2422)","v":""}]
[null,null,null,{"$f":"IF(ISBLANK('Renseignements sur le locataire'!E2423),\"\",'Renseignements sur le locataire'!E2423)","v":""}]
[null,null,null,{"$f":"IF(ISBLANK('Renseignements sur le locataire'!E2424),\"\",'Renseignements sur le locataire'!E2424)","v":""}]
[null,null,null,{"$f":"IF(ISBLANK('Renseignements sur le locataire'!E2425),\"\",'Renseignements sur le locataire'!E2425)","v":""}]
[null,null,null,{"$f":"IF(ISBLANK('Renseignements sur le locataire'!E2426),\"\",'Renseignements sur le locataire'!E2426)","v":""}]
[null,null,null,{"$f":"IF(ISBLANK('Renseignements sur le locataire'!E2427),\"\",'Renseignements sur le locataire'!E2427)","v":""}]
[null,null,null,{"$f":"IF(ISBLANK('Renseignements sur le locataire'!E2428),\"\",'Renseignements sur le locataire'!E2428)","v":""}]
[null,null,null,{"$f":"IF(ISBLANK('Renseignements sur le locataire'!E2429),\"\",'Renseignements sur le locataire'!E2429)","v":""}]
[null,null,null,{"$f":"IF(ISBLANK('Renseignements sur le locataire'!E2430),\"\",'Renseignements sur le locataire'!E2430)","v":""}]
[null,null,null,{"$f":"IF(ISBLANK('Renseignements sur le locataire'!E2431),\"\",'Renseignements sur le locataire'!E2431)","v":""}]
[null,null,null,{"$f":"IF(ISBLANK('Renseignements sur le locataire'!E2432),\"\",'Renseignements sur le locataire'!E2432)","v":""}]
[null,null,null,{"$f":"IF(ISBLANK('Renseignements sur le locataire'!E2433),\"\",'Renseignements sur le locataire'!E2433)","v":""}]
[null,null,null,{"$f":"IF(ISBLANK('Renseignements sur le locataire'!E2434),\"\",'Renseignements sur le locataire'!E2434)","v":""}]
[null,null,null,{"$f":"IF(ISBLANK('Renseignements sur le locataire'!E2435),\"\",'Renseignements sur le locataire'!E2435)","v":""}]
[null,null,null,{"$f":"IF(ISBLANK('Renseignements sur le locataire'!E2436),\"\",'Renseignements sur le locataire'!E2436)","v":""}]
[null,null,null,{"$f":"IF(ISBLANK('Renseignements sur le locataire'!E2437),\"\",'Renseignements sur le locataire'!E2437)","v":""}]
[null,null,null,{"$f":"IF(ISBLANK('Renseignements sur le locataire'!E2438),\"\",'Renseignements sur le locataire'!E2438)","v":""}]
[null,null,null,{"$f":"IF(ISBLANK('Renseignements sur le locataire'!E2439),\"\",'Renseignements sur le locataire'!E2439)","v":""}]
[null,null,null,{"$f":"IF(ISBLANK('Renseignements sur le locataire'!E2440),\"\",'Renseignements sur le locataire'!E2440)","v":""}]
[null,null,null,{"$f":"IF(ISBLANK('Renseignements sur le locataire'!E2441),\"\",'Renseignements sur le locataire'!E2441)","v":""}]
[null,null,null,{"$f":"IF(ISBLANK('Renseignements sur le locataire'!E2442),\"\",'Renseignements sur le locataire'!E2442)","v":""}]
[null,null,null,{"$f":"IF(ISBLANK('Renseignements sur le locataire'!E2443),\"\",'Renseignements sur le locataire'!E2443)","v":""}]
[null,null,null,{"$f":"IF(ISBLANK('Renseignements sur le locataire'!E2444),\"\",'Renseignements sur le locataire'!E2444)","v":""}]
[null,null,null,{"$f":"IF(ISBLANK('Renseignements sur le locataire'!E2445),\"\",'Renseignements sur le locataire'!E2445)","v":""}]
[null,null,null,{"$f":"IF(ISBLANK('Renseignements sur le locataire'!E2446),\"\",'Renseignements sur le locataire'!E2446)","v":""}]
[null,null,null,{"$f":"IF(ISBLANK('Renseignements sur le locataire'!E2447),\"\",'Renseignements sur le locataire'!E2447)","v":""}]
[null,null,null,{"$f":"IF(ISBLANK('Renseignements sur le locataire'!E2448),\"\",'Renseignements sur le locataire'!E2448)","v":""}]
[null,null,null,{"$f":"IF(ISBLANK('Renseignements sur le locataire'!E2449),\"\",'Renseignements sur le locataire'!E2449)","v":""}]
[null,null,null,{"$f":"IF(ISBLANK('Renseignements sur le locataire'!E2450),\"\",'Renseignements sur le locataire'!E2450)","v":""}]
[null,null,null,{"$f":"IF(ISBLANK('Renseignements sur le locataire'!E2451),\"\",'Renseignements sur le locataire'!E2451)","v":""}]
[null,null,null,{"$f":"IF(ISBLANK('Renseignements sur le locataire'!E2452),\"\",'Renseignements sur le locataire'!E2452)","v":""}]
[null,null,null,{"$f":"IF(ISBLANK('Renseignements sur le locataire'!E2453),\"\",'Renseignements sur le locataire'!E2453)","v":""}]
[null,null,null,{"$f":"IF(ISBLANK('Renseignements sur le locataire'!E2454),\"\",'Renseignements sur le locataire'!E2454)","v":""}]
[null,null,null,{"$f":"IF(ISBLANK('Renseignements sur le locataire'!E2455),\"\",'Renseignements sur le locataire'!E2455)","v":""}]
[null,null,null,{"$f":"IF(ISBLANK('Renseignements sur le locataire'!E2456),\"\",'Renseignements sur le locataire'!E2456)","v":""}]
[null,null,null,{"$f":"IF(ISBLANK('Renseignements sur le locataire'!E2457),\"\",'Renseignements sur le locataire'!E2457)","v":""}]
[null,null,null,{"$f":"IF(ISBLANK('Renseignements sur le locataire'!E2458),\"\",'Renseignements sur le locataire'!E2458)","v":""}]
[null,null,null,{"$f":"IF(ISBLANK('Renseignements sur le locataire'!E2459),\"\",'Renseignements sur le locataire'!E2459)","v":""}]
[null,null,null,{"$f":"IF(ISBLANK('Renseignements sur le locataire'!E2460),\"\",'Renseignements sur le locataire'!E2460)","v":""}]
[null,null,null,{"$f":"IF(ISBLANK('Renseignements sur le locataire'!E2461),\"\",'Renseignements sur le locataire'!E2461)","v":""}]
[null,null,null,{"$f":"IF(ISBLANK('Renseignements sur le locataire'!E2462),\"\",'Renseignements sur le locataire'!E2462)","v":""}]
[null,null,null,{"$f":"IF(ISBLANK('Renseignements sur le locataire'!E2463),\"\",'Renseignements sur le locataire'!E2463)","v":""}]
[null,null,null,{"$f":"IF(ISBLANK('Renseignements sur le locataire'!E2464),\"\",'Renseignements sur le locataire'!E2464)","v":""}]
[null,null,null,{"$f":"IF(ISBLANK('Renseignements sur le locataire'!E2465),\"\",'Renseignements sur le locataire'!E2465)","v":""}]
[null,null,null,{"$f":"IF(ISBLANK('Renseignements sur le locataire'!E2466),\"\",'Renseignements sur le locataire'!E2466)","v":""}]
[null,null,null,{"$f":"IF(ISBLANK('Renseignements sur le locataire'!E2467),\"\",'Renseignements sur le locataire'!E2467)","v":""}]
[null,null,null,{"$f":"IF(ISBLANK('Renseignements sur le locataire'!E2468),\"\",'Renseignements sur le locataire'!E2468)","v":""}]
[null,null,null,{"$f":"IF(ISBLANK('Renseignements sur le locataire'!E2469),\"\",'Renseignements sur le locataire'!E2469)","v":""}]
[null,null,null,{"$f":"IF(ISBLANK('Renseignements sur le locataire'!E2470),\"\",'Renseignements sur le locataire'!E2470)","v":""}]
[null,null,null,{"$f":"IF(ISBLANK('Renseignements sur le locataire'!E2471),\"\",'Renseignements sur le locataire'!E2471)","v":""}]
[null,null,null,{"$f":"IF(ISBLANK('Renseignements sur le locataire'!E2472),\"\",'Renseignements sur le locataire'!E2472)","v":""}]
[null,null,null,{"$f":"IF(ISBLANK('Renseignements sur le locataire'!E2473),\"\",'Renseignements sur le locataire'!E2473)","v":""}]
[null,null,null,{"$f":"IF(ISBLANK('Renseignements sur le locataire'!E2474),\"\",'Renseignements sur le locataire'!E2474)","v":""}]
[null,null,null,{"$f":"IF(ISBLANK('Renseignements sur le locataire'!E2475),\"\",'Renseignements sur le locataire'!E2475)","v":""}]
[null,null,null,{"$f":"IF(ISBLANK('Renseignements sur le locataire'!E2476),\"\",'Renseignements sur le locataire'!E2476)","v":""}]
[null,null,null,{"$f":"IF(ISBLANK('Renseignements sur le locataire'!E2477),\"\",'Renseignements sur le locataire'!E2477)","v":""}]
[null,null,null,{"$f":"IF(ISBLANK('Renseignements sur le locataire'!E2478),\"\",'Renseignements sur le locataire'!E2478)","v":""}]
[null,null,null,{"$f":"IF(ISBLANK('Renseignements sur le locataire'!E2479),\"\",'Renseignements sur le locataire'!E2479)","v":""}]
[null,null,null,{"$f":"IF(ISBLANK('Renseignements sur le locataire'!E2480),\"\",'Renseignements sur le locataire'!E2480)","v":""}]
[null,null,null,{"$f":"IF(ISBLANK('Renseignements sur le locataire'!E2481),\"\",'Renseignements sur le locataire'!E2481)","v":""}]
[null,null,null,{"$f":"IF(ISBLANK('Renseignements sur le locataire'!E2482),\"\",'Renseignements sur le locataire'!E2482)","v":""}]
[null,null,null,{"$f":"IF(ISBLANK('Renseignements sur le locataire'!E2483),\"\",'Renseignements sur le locataire'!E2483)","v":""}]
[null,null,null,{"$f":"IF(ISBLANK('Renseignements sur le locataire'!E2484),\"\",'Renseignements sur le locataire'!E2484)","v":""}]
[null,null,null,{"$f":"IF(ISBLANK('Renseignements sur le locataire'!E2485),\"\",'Renseignements sur le locataire'!E2485)","v":""}]
[null,null,null,{"$f":"IF(ISBLANK('Renseignements sur le locataire'!E2486),\"\",'Renseignements sur le locataire'!E2486)","v":""}]
[null,null,null,{"$f":"IF(ISBLANK('Renseignements sur le locataire'!E2487),\"\",'Renseignements sur le locataire'!E2487)","v":""}]
[null,null,null,{"$f":"IF(ISBLANK('Renseignements sur le locataire'!E2488),\"\",'Renseignements sur le locataire'!E2488)","v":""}]
[null,null,null,{"$f":"IF(ISBLANK('Renseignements sur le locataire'!E2489),\"\",'Renseignements sur le locataire'!E2489)","v":""}]
[null,null,null,{"$f":"IF(ISBLANK('Renseignements sur le locataire'!E2490),\"\",'Renseignements sur le locataire'!E2490)","v":""}]
[null,null,null,{"$f":"IF(ISBLANK('Renseignements sur le locataire'!E2491),\"\",'Renseignements sur le locataire'!E2491)","v":""}]
[null,null,null,{"$f":"IF(ISBLANK('Renseignements sur le locataire'!E2492),\"\",'Renseignements sur le locataire'!E2492)","v":""}]
[null,null,null,{"$f":"IF(ISBLANK('Renseignements sur le locataire'!E2493),\"\",'Renseignements sur le locataire'!E2493)","v":""}]
[null,null,null,{"$f":"IF(ISBLANK('Renseignements sur le locataire'!E2494),\"\",'Renseignements sur le locataire'!E2494)","v":""}]
[null,null,null,{"$f":"IF(ISBLANK('Renseignements sur le locataire'!E2495),\"\",'Renseignements sur le locataire'!E2495)","v":""}]
[null,null,null,{"$f":"IF(ISBLANK('Renseignements sur le locataire'!E2496),\"\",'Renseignements sur le locataire'!E2496)","v":""}]
[null,null,null,{"$f":"IF(ISBLANK('Renseignements sur le locataire'!E2497),\"\",'Renseignements sur le locataire'!E2497)","v":""}]
[null,null,null,{"$f":"IF(ISBLANK('Renseignements sur le locataire'!E2498),\"\",'Renseignements sur le locataire'!E2498)","v":""}]
[null,null,null,{"$f":"IF(ISBLANK('Renseignements sur le locataire'!E2499),\"\",'Renseignements sur le locataire'!E2499)","v":""}]
[null,null,null,{"$f":"IF(ISBLANK('Renseignements sur le locataire'!E2500),\"\",'Renseignements sur le locataire'!E2500)","v":""}]
[null,null,null,{"$f":"IF(ISBLANK('Renseignements sur le locataire'!E2501),\"\",'Renseignements sur le locataire'!E2501)","v":""}]
[null,null,null,{"$f":"IF(ISBLANK('Renseignements sur le locataire'!E2502),\"\",'Renseignements sur le locataire'!E2502)","v":""}]
[null,null,null,{"$f":"IF(ISBLANK('Renseignements sur le locataire'!E2503),\"\",'Renseignements sur le locataire'!E2503)","v":""}]
[null,null,null,{"$f":"IF(ISBLANK('Renseignements sur le locataire'!E2504),\"\",'Renseignements sur le locataire'!E2504)","v":""}]
[null,null,null,{"$f":"IF(ISBLANK('Renseignements sur le locataire'!E2505),\"\",'Renseignements sur le locataire'!E2505)","v":""}]
[null,null,null,{"$f":"IF(ISBLANK('Renseignements sur le locataire'!E2506),\"\",'Renseignements sur le locataire'!E2506)","v":""}]
[null,null,null,{"$f":"IF(ISBLANK('Renseignements sur le locataire'!E2507),\"\",'Renseignements sur le locataire'!E2507)","v":""}]
[null,null,null,{"$f":"IF(ISBLANK('Renseignements sur le locataire'!E2508),\"\",'Renseignements sur le locataire'!E2508)","v":""}]
[null,null,null,{"$f":"IF(ISBLANK('Renseignements sur le locataire'!E2509),\"\",'Renseignements sur le locataire'!E2509)","v":""}]
[null,null,null,{"$f":"IF(ISBLANK('Renseignements sur le locataire'!E2510),\"\",'Renseignements sur le locataire'!E2510)","v":""}]
[null,null,null,{"$f":"IF(ISBLANK('Renseignements sur le locataire'!E2511),\"\",'Renseignements sur le locataire'!E2511)","v":""}]
[null,null,null,{"$f":"IF(ISBLANK('Renseignements sur le locataire'!E2512),\"\",'Renseignements sur le locataire'!E2512)","v":""}]
[null,null,null,{"$f":"IF(ISBLANK('Renseignements sur le locataire'!E2513),\"\",'Renseignements sur le locataire'!E2513)","v":""}]
[null,null,null,{"$f":"IF(ISBLANK('Renseignements sur le locataire'!E2514),\"\",'Renseignements sur le locataire'!E2514)","v":""}]
[null,null,null,{"$f":"IF(ISBLANK('Renseignements sur le locataire'!E2515),\"\",'Renseignements sur le locataire'!E2515)","v":""}]
[null,null,null,{"$f":"IF(ISBLANK('Renseignements sur le locataire'!E2516),\"\",'Renseignements sur le locataire'!E2516)","v":""}]
[null,null,null,{"$f":"IF(ISBLANK('Renseignements sur le locataire'!E2517),\"\",'Renseignements sur le locataire'!E2517)","v":""}]
[null,null,null,{"$f":"IF(ISBLANK('Renseignements sur le locataire'!E2518),\"\",'Renseignements sur le locataire'!E2518)","v":""}]
[null,null,null,{"$f":"IF(ISBLANK('Renseignements sur le locataire'!E2519),\"\",'Renseignements sur le locataire'!E2519)","v":""}]
[null,null,null,{"$f":"IF(ISBLANK('Renseignements sur le locataire'!E2520),\"\",'Renseignements sur le locataire'!E2520)","v":""}]
[null,null,null,{"$f":"IF(ISBLANK('Renseignements sur le locataire'!E2521),\"\",'Renseignements sur le locataire'!E2521)","v":""}]
[null,null,null,{"$f":"IF(ISBLANK('Renseignements sur le locataire'!E2522),\"\",'Renseignements sur le locataire'!E2522)","v":""}]
[null,null,null,{"$f":"IF(ISBLANK('Renseignements sur le locataire'!E2523),\"\",'Renseignements sur le locataire'!E2523)","v":""}]
[null,null,null,{"$f":"IF(ISBLANK('Renseignements sur le locataire'!E2524),\"\",'Renseignements sur le locataire'!E2524)","v":""}]
[null,null,null,{"$f":"IF(ISBLANK('Renseignements sur le locataire'!E2525),\"\",'Renseignements sur le locataire'!E2525)","v":""}]
[null,null,null,{"$f":"IF(ISBLANK('Renseignements sur le locataire'!E2526),\"\",'Renseignements sur le locataire'!E2526)","v":""}]
[null,null,null,{"$f":"IF(ISBLANK('Renseignements sur le locataire'!E2527),\"\",'Renseignements sur le locataire'!E2527)","v":""}]
[null,null,null,{"$f":"IF(ISBLANK('Renseignements sur le locataire'!E2528),\"\",'Renseignements sur le locataire'!E2528)","v":""}]
[null,null,null,{"$f":"IF(ISBLANK('Renseignements sur le locataire'!E2529),\"\",'Renseignements sur le locataire'!E2529)","v":""}]
[null,null,null,{"$f":"IF(ISBLANK('Renseignements sur le locataire'!E2530),\"\",'Renseignements sur le locataire'!E2530)","v":""}]
[null,null,null,{"$f":"IF(ISBLANK('Renseignements sur le locataire'!E2531),\"\",'Renseignements sur le locataire'!E2531)","v":""}]
[null,null,null,{"$f":"IF(ISBLANK('Renseignements sur le locataire'!E2532),\"\",'Renseignements sur le locataire'!E2532)","v":""}]
[null,null,null,{"$f":"IF(ISBLANK('Renseignements sur le locataire'!E2533),\"\",'Renseignements sur le locataire'!E2533)","v":""}]
[null,null,null,{"$f":"IF(ISBLANK('Renseignements sur le locataire'!E2534),\"\",'Renseignements sur le locataire'!E2534)","v":""}]
[null,null,null,{"$f":"IF(ISBLANK('Renseignements sur le locataire'!E2535),\"\",'Renseignements sur le locataire'!E2535)","v":""}]
[null,null,null,{"$f":"IF(ISBLANK('Renseignements sur le locataire'!E2536),\"\",'Renseignements sur le locataire'!E2536)","v":""}]
[null,null,null,{"$f":"IF(ISBLANK('Renseignements sur le locataire'!E2537),\"\",'Renseignements sur le locataire'!E2537)","v":""}]
[null,null,null,{"$f":"IF(ISBLANK('Renseignements sur le locataire'!E2538),\"\",'Renseignements sur le locataire'!E2538)","v":""}]
[null,null,null,{"$f":"IF(ISBLANK('Renseignements sur le locataire'!E2539),\"\",'Renseignements sur le locataire'!E2539)","v":""}]
[null,null,null,{"$f":"IF(ISBLANK('Renseignements sur le locataire'!E2540),\"\",'Renseignements sur le locataire'!E2540)","v":""}]
[null,null,null,{"$f":"IF(ISBLANK('Renseignements sur le locataire'!E2541),\"\",'Renseignements sur le locataire'!E2541)","v":""}]
[null,null,null,{"$f":"IF(ISBLANK('Renseignements sur le locataire'!E2542),\"\",'Renseignements sur le locataire'!E2542)","v":""}]
[null,null,null,{"$f":"IF(ISBLANK('Renseignements sur le locataire'!E2543),\"\",'Renseignements sur le locataire'!E2543)","v":""}]
[null,null,null,{"$f":"IF(ISBLANK('Renseignements sur le locataire'!E2544),\"\",'Renseignements sur le locataire'!E2544)","v":""}]
[null,null,null,{"$f":"IF(ISBLANK('Renseignements sur le locataire'!E2545),\"\",'Renseignements sur le locataire'!E2545)","v":""}]
[null,null,null,{"$f":"IF(ISBLANK('Renseignements sur le locataire'!E2546),\"\",'Renseignements sur le locataire'!E2546)","v":""}]
[null,null,null,{"$f":"IF(ISBLANK('Renseignements sur le locataire'!E2547),\"\",'Renseignements sur le locataire'!E2547)","v":""}]
[null,null,null,{"$f":"IF(ISBLANK('Renseignements sur le locataire'!E2548),\"\",'Renseignements sur le locataire'!E2548)","v":""}]
[null,null,null,{"$f":"IF(ISBLANK('Renseignements sur le locataire'!E2549),\"\",'Renseignements sur le locataire'!E2549)","v":""}]
[null,null,null,{"$f":"IF(ISBLANK('Renseignements sur le locataire'!E2550),\"\",'Renseignements sur le locataire'!E2550)","v":""}]
[null,null,null,{"$f":"IF(ISBLANK('Renseignements sur le locataire'!E2551),\"\",'Renseignements sur le locataire'!E2551)","v":""}]
[null,null,null,{"$f":"IF(ISBLANK('Renseignements sur le locataire'!E2552),\"\",'Renseignements sur le locataire'!E2552)","v":""}]
[null,null,null,{"$f":"IF(ISBLANK('Renseignements sur le locataire'!E2553),\"\",'Renseignements sur le locataire'!E2553)","v":""}]
[null,null,null,{"$f":"IF(ISBLANK('Renseignements sur le locataire'!E2554),\"\",'Renseignements sur le locataire'!E2554)","v":""}]
[null,null,null,{"$f":"IF(ISBLANK('Renseignements sur le locataire'!E2555),\"\",'Renseignements sur le locataire'!E2555)","v":""}]
[null,null,null,{"$f":"IF(ISBLANK('Renseignements sur le locataire'!E2556),\"\",'Renseignements sur le locataire'!E2556)","v":""}]
[null,null,null,{"$f":"IF(ISBLANK('Renseignements sur le locataire'!E2557),\"\",'Renseignements sur le locataire'!E2557)","v":""}]
[null,null,null,{"$f":"IF(ISBLANK('Renseignements sur le locataire'!E2558),\"\",'Renseignements sur le locataire'!E2558)","v":""}]
[null,null,null,{"$f":"IF(ISBLANK('Renseignements sur le locataire'!E2559),\"\",'Renseignements sur le locataire'!E2559)","v":""}]
[null,null,null,{"$f":"IF(ISBLANK('Renseignements sur le locataire'!E2560),\"\",'Renseignements sur le locataire'!E2560)","v":""}]
[null,null,null,{"$f":"IF(ISBLANK('Renseignements sur le locataire'!E2561),\"\",'Renseignements sur le locataire'!E2561)","v":""}]
[null,null,null,{"$f":"IF(ISBLANK('Renseignements sur le locataire'!E2562),\"\",'Renseignements sur le locataire'!E2562)","v":""}]
[null,null,null,{"$f":"IF(ISBLANK('Renseignements sur le locataire'!E2563),\"\",'Renseignements sur le locataire'!E2563)","v":""}]
[null,null,null,{"$f":"IF(ISBLANK('Renseignements sur le locataire'!E2564),\"\",'Renseignements sur le locataire'!E2564)","v":""}]
[null,null,null,{"$f":"IF(ISBLANK('Renseignements sur le locataire'!E2565),\"\",'Renseignements sur le locataire'!E2565)","v":""}]
[null,null,null,{"$f":"IF(ISBLANK('Renseignements sur le locataire'!E2566),\"\",'Renseignements sur le locataire'!E2566)","v":""}]
[null,null,null,{"$f":"IF(ISBLANK('Renseignements sur le locataire'!E2567),\"\",'Renseignements sur le locataire'!E2567)","v":""}]
[null,null,null,{"$f":"IF(ISBLANK('Renseignements sur le locataire'!E2568),\"\",'Renseignements sur le locataire'!E2568)","v":""}]
[null,null,null,{"$f":"IF(ISBLANK('Renseignements sur le locataire'!E2569),\"\",'Renseignements sur le locataire'!E2569)","v":""}]
[null,null,null,{"$f":"IF(ISBLANK('Renseignements sur le locataire'!E2570),\"\",'Renseignements sur le locataire'!E2570)","v":""}]
[null,null,null,{"$f":"IF(ISBLANK('Renseignements sur le locataire'!E2571),\"\",'Renseignements sur le locataire'!E2571)","v":""}]
[null,null,null,{"$f":"IF(ISBLANK('Renseignements sur le locataire'!E2572),\"\",'Renseignements sur le locataire'!E2572)","v":""}]
[null,null,null,{"$f":"IF(ISBLANK('Renseignements sur le locataire'!E2573),\"\",'Renseignements sur le locataire'!E2573)","v":""}]
[null,null,null,{"$f":"IF(ISBLANK('Renseignements sur le locataire'!E2574),\"\",'Renseignements sur le locataire'!E2574)","v":""}]
[null,null,null,{"$f":"IF(ISBLANK('Renseignements sur le locataire'!E2575),\"\",'Renseignements sur le locataire'!E2575)","v":""}]
[null,null,null,{"$f":"IF(ISBLANK('Renseignements sur le locataire'!E2576),\"\",'Renseignements sur le locataire'!E2576)","v":""}]
[null,null,null,{"$f":"IF(ISBLANK('Renseignements sur le locataire'!E2577),\"\",'Renseignements sur le locataire'!E2577)","v":""}]
[null,null,null,{"$f":"IF(ISBLANK('Renseignements sur le locataire'!E2578),\"\",'Renseignements sur le locataire'!E2578)","v":""}]
[null,null,null,{"$f":"IF(ISBLANK('Renseignements sur le locataire'!E2579),\"\",'Renseignements sur le locataire'!E2579)","v":""}]
[null,null,null,{"$f":"IF(ISBLANK('Renseignements sur le locataire'!E2580),\"\",'Renseignements sur le locataire'!E2580)","v":""}]
[null,null,null,{"$f":"IF(ISBLANK('Renseignements sur le locataire'!E2581),\"\",'Renseignements sur le locataire'!E2581)","v":""}]
[null,null,null,{"$f":"IF(ISBLANK('Renseignements sur le locataire'!E2582),\"\",'Renseignements sur le locataire'!E2582)","v":""}]
[null,null,null,{"$f":"IF(ISBLANK('Renseignements sur le locataire'!E2583),\"\",'Renseignements sur le locataire'!E2583)","v":""}]
[null,null,null,{"$f":"IF(ISBLANK('Renseignements sur le locataire'!E2584),\"\",'Renseignements sur le locataire'!E2584)","v":""}]
[null,null,null,{"$f":"IF(ISBLANK('Renseignements sur le locataire'!E2585),\"\",'Renseignements sur le locataire'!E2585)","v":""}]
[null,null,null,{"$f":"IF(ISBLANK('Renseignements sur le locataire'!E2586),\"\",'Renseignements sur le locataire'!E2586)","v":""}]
[null,null,null,{"$f":"IF(ISBLANK('Renseignements sur le locataire'!E2587),\"\",'Renseignements sur le locataire'!E2587)","v":""}]
[null,null,null,{"$f":"IF(ISBLANK('Renseignements sur le locataire'!E2588),\"\",'Renseignements sur le locataire'!E2588)","v":""}]
[null,null,null,{"$f":"IF(ISBLANK('Renseignements sur le locataire'!E2589),\"\",'Renseignements sur le locataire'!E2589)","v":""}]
[null,null,null,{"$f":"IF(ISBLANK('Renseignements sur le locataire'!E2590),\"\",'Renseignements sur le locataire'!E2590)","v":""}]
[null,null,null,{"$f":"IF(ISBLANK('Renseignements sur le locataire'!E2591),\"\",'Renseignements sur le locataire'!E2591)","v":""}]
[null,null,null,{"$f":"IF(ISBLANK('Renseignements sur le locataire'!E2592),\"\",'Renseignements sur le locataire'!E2592)","v":""}]
[null,null,null,{"$f":"IF(ISBLANK('Renseignements sur le locataire'!E2593),\"\",'Renseignements sur le locataire'!E2593)","v":""}]
[null,null,null,{"$f":"IF(ISBLANK('Renseignements sur le locataire'!E2594),\"\",'Renseignements sur le locataire'!E2594)","v":""}]
[null,null,null,{"$f":"IF(ISBLANK('Renseignements sur le locataire'!E2595),\"\",'Renseignements sur le locataire'!E2595)","v":""}]
[null,null,null,{"$f":"IF(ISBLANK('Renseignements sur le locataire'!E2596),\"\",'Renseignements sur le locataire'!E2596)","v":""}]
[null,null,null,{"$f":"IF(ISBLANK('Renseignements sur le locataire'!E2597),\"\",'Renseignements sur le locataire'!E2597)","v":""}]
[null,null,null,{"$f":"IF(ISBLANK('Renseignements sur le locataire'!E2598),\"\",'Renseignements sur le locataire'!E2598)","v":""}]
[null,null,null,{"$f":"IF(ISBLANK('Renseignements sur le locataire'!E2599),\"\",'Renseignements sur le locataire'!E2599)","v":""}]
[null,null,null,{"$f":"IF(ISBLANK('Renseignements sur le locataire'!E2600),\"\",'Renseignements sur le locataire'!E2600)","v":""}]
[null,null,null,{"$f":"IF(ISBLANK('Renseignements sur le locataire'!E2601),\"\",'Renseignements sur le locataire'!E2601)","v":""}]
[null,null,null,{"$f":"IF(ISBLANK('Renseignements sur le locataire'!E2602),\"\",'Renseignements sur le locataire'!E2602)","v":""}]
[null,null,null,{"$f":"IF(ISBLANK('Renseignements sur le locataire'!E2603),\"\",'Renseignements sur le locataire'!E2603)","v":""}]
[null,null,null,{"$f":"IF(ISBLANK('Renseignements sur le locataire'!E2604),\"\",'Renseignements sur le locataire'!E2604)","v":""}]
[null,null,null,{"$f":"IF(ISBLANK('Renseignements sur le locataire'!E2605),\"\",'Renseignements sur le locataire'!E2605)","v":""}]
[null,null,null,{"$f":"IF(ISBLANK('Renseignements sur le locataire'!E2606),\"\",'Renseignements sur le locataire'!E2606)","v":""}]
[null,null,null,{"$f":"IF(ISBLANK('Renseignements sur le locataire'!E2607),\"\",'Renseignements sur le locataire'!E2607)","v":""}]
[null,null,null,{"$f":"IF(ISBLANK('Renseignements sur le locataire'!E2608),\"\",'Renseignements sur le locataire'!E2608)","v":""}]
[null,null,null,{"$f":"IF(ISBLANK('Renseignements sur le locataire'!E2609),\"\",'Renseignements sur le locataire'!E2609)","v":""}]
[null,null,null,{"$f":"IF(ISBLANK('Renseignements sur le locataire'!E2610),\"\",'Renseignements sur le locataire'!E2610)","v":""}]
[null,null,null,{"$f":"IF(ISBLANK('Renseignements sur le locataire'!E2611),\"\",'Renseignements sur le locataire'!E2611)","v":""}]
[null,null,null,{"$f":"IF(ISBLANK('Renseignements sur le locataire'!E2612),\"\",'Renseignements sur le locataire'!E2612)","v":""}]
[null,null,null,{"$f":"IF(ISBLANK('Renseignements sur le locataire'!E2613),\"\",'Renseignements sur le locataire'!E2613)","v":""}]
[null,null,null,{"$f":"IF(ISBLANK('Renseignements sur le locataire'!E2614),\"\",'Renseignements sur le locataire'!E2614)","v":""}]
[null,null,null,{"$f":"IF(ISBLANK('Renseignements sur le locataire'!E2615),\"\",'Renseignements sur le locataire'!E2615)","v":""}]
[null,null,null,{"$f":"IF(ISBLANK('Renseignements sur le locataire'!E2616),\"\",'Renseignements sur le locataire'!E2616)","v":""}]
[null,null,null,{"$f":"IF(ISBLANK('Renseignements sur le locataire'!E2617),\"\",'Renseignements sur le locataire'!E2617)","v":""}]
[null,null,null,{"$f":"IF(ISBLANK('Renseignements sur le locataire'!E2618),\"\",'Renseignements sur le locataire'!E2618)","v":""}]
[null,null,null,{"$f":"IF(ISBLANK('Renseignements sur le locataire'!E2619),\"\",'Renseignements sur le locataire'!E2619)","v":""}]
[null,null,null,{"$f":"IF(ISBLANK('Renseignements sur le locataire'!E2620),\"\",'Renseignements sur le locataire'!E2620)","v":""}]
[null,null,null,{"$f":"IF(ISBLANK('Renseignements sur le locataire'!E2621),\"\",'Renseignements sur le locataire'!E2621)","v":""}]
[null,null,null,{"$f":"IF(ISBLANK('Renseignements sur le locataire'!E2622),\"\",'Renseignements sur le locataire'!E2622)","v":""}]
[null,null,null,{"$f":"IF(ISBLANK('Renseignements sur le locataire'!E2623),\"\",'Renseignements sur le locataire'!E2623)","v":""}]
[null,null,null,{"$f":"IF(ISBLANK('Renseignements sur le locataire'!E2624),\"\",'Renseignements sur le locataire'!E2624)","v":""}]
[null,null,null,{"$f":"IF(ISBLANK('Renseignements sur le locataire'!E2625),\"\",'Renseignements sur le locataire'!E2625)","v":""}]
[null,null,null,{"$f":"IF(ISBLANK('Renseignements sur le locataire'!E2626),\"\",'Renseignements sur le locataire'!E2626)","v":""}]
[null,null,null,{"$f":"IF(ISBLANK('Renseignements sur le locataire'!E2627),\"\",'Renseignements sur le locataire'!E2627)","v":""}]
[null,null,null,{"$f":"IF(ISBLANK('Renseignements sur le locataire'!E2628),\"\",'Renseignements sur le locataire'!E2628)","v":""}]
[null,null,null,{"$f":"IF(ISBLANK('Renseignements sur le locataire'!E2629),\"\",'Renseignements sur le locataire'!E2629)","v":""}]
[null,null,null,{"$f":"IF(ISBLANK('Renseignements sur le locataire'!E2630),\"\",'Renseignements sur le locataire'!E2630)","v":""}]
[null,null,null,{"$f":"IF(ISBLANK('Renseignements sur le locataire'!E2631),\"\",'Renseignements sur le locataire'!E2631)","v":""}]
[null,null,null,{"$f":"IF(ISBLANK('Renseignements sur le locataire'!E2632),\"\",'Renseignements sur le locataire'!E2632)","v":""}]
[null,null,null,{"$f":"IF(ISBLANK('Renseignements sur le locataire'!E2633),\"\",'Renseignements sur le locataire'!E2633)","v":""}]
[null,null,null,{"$f":"IF(ISBLANK('Renseignements sur le locataire'!E2634),\"\",'Renseignements sur le locataire'!E2634)","v":""}]
[null,null,null,{"$f":"IF(ISBLANK('Renseignements sur le locataire'!E2635),\"\",'Renseignements sur le locataire'!E2635)","v":""}]
[null,null,null,{"$f":"IF(ISBLANK('Renseignements sur le locataire'!E2636),\"\",'Renseignements sur le locataire'!E2636)","v":""}]
[null,null,null,{"$f":"IF(ISBLANK('Renseignements sur le locataire'!E2637),\"\",'Renseignements sur le locataire'!E2637)","v":""}]
[null,null,null,{"$f":"IF(ISBLANK('Renseignements sur le locataire'!E2638),\"\",'Renseignements sur le locataire'!E2638)","v":""}]
[null,null,null,{"$f":"IF(ISBLANK('Renseignements sur le locataire'!E2639),\"\",'Renseignements sur le locataire'!E2639)","v":""}]
[null,null,null,{"$f":"IF(ISBLANK('Renseignements sur le locataire'!E2640),\"\",'Renseignements sur le locataire'!E2640)","v":""}]
[null,null,null,{"$f":"IF(ISBLANK('Renseignements sur le locataire'!E2641),\"\",'Renseignements sur le locataire'!E2641)","v":""}]
[null,null,null,{"$f":"IF(ISBLANK('Renseignements sur le locataire'!E2642),\"\",'Renseignements sur le locataire'!E2642)","v":""}]
[null,null,null,{"$f":"IF(ISBLANK('Renseignements sur le locataire'!E2643),\"\",'Renseignements sur le locataire'!E2643)","v":""}]
[null,null,null,{"$f":"IF(ISBLANK('Renseignements sur le locataire'!E2644),\"\",'Renseignements sur le locataire'!E2644)","v":""}]
[null,null,null,{"$f":"IF(ISBLANK('Renseignements sur le locataire'!E2645),\"\",'Renseignements sur le locataire'!E2645)","v":""}]
[null,null,null,{"$f":"IF(ISBLANK('Renseignements sur le locataire'!E2646),\"\",'Renseignements sur le locataire'!E2646)","v":""}]
[null,null,null,{"$f":"IF(ISBLANK('Renseignements sur le locataire'!E2647),\"\",'Renseignements sur le locataire'!E2647)","v":""}]
[null,null,null,{"$f":"IF(ISBLANK('Renseignements sur le locataire'!E2648),\"\",'Renseignements sur le locataire'!E2648)","v":""}]
[null,null,null,{"$f":"IF(ISBLANK('Renseignements sur le locataire'!E2649),\"\",'Renseignements sur le locataire'!E2649)","v":""}]
[null,null,null,{"$f":"IF(ISBLANK('Renseignements sur le locataire'!E2650),\"\",'Renseignements sur le locataire'!E2650)","v":""}]
[null,null,null,{"$f":"IF(ISBLANK('Renseignements sur le locataire'!E2651),\"\",'Renseignements sur le locataire'!E2651)","v":""}]
[null,null,null,{"$f":"IF(ISBLANK('Renseignements sur le locataire'!E2652),\"\",'Renseignements sur le locataire'!E2652)","v":""}]
[null,null,null,{"$f":"IF(ISBLANK('Renseignements sur le locataire'!E2653),\"\",'Renseignements sur le locataire'!E2653)","v":""}]
[null,null,null,{"$f":"IF(ISBLANK('Renseignements sur le locataire'!E2654),\"\",'Renseignements sur le locataire'!E2654)","v":""}]
[null,null,null,{"$f":"IF(ISBLANK('Renseignements sur le locataire'!E2655),\"\",'Renseignements sur le locataire'!E2655)","v":""}]
[null,null,null,{"$f":"IF(ISBLANK('Renseignements sur le locataire'!E2656),\"\",'Renseignements sur le locataire'!E2656)","v":""}]
[null,null,null,{"$f":"IF(ISBLANK('Renseignements sur le locataire'!E2657),\"\",'Renseignements sur le locataire'!E2657)","v":""}]
[null,null,null,{"$f":"IF(ISBLANK('Renseignements sur le locataire'!E2658),\"\",'Renseignements sur le locataire'!E2658)","v":""}]
[null,null,null,{"$f":"IF(ISBLANK('Renseignements sur le locataire'!E2659),\"\",'Renseignements sur le locataire'!E2659)","v":""}]
[null,null,null,{"$f":"IF(ISBLANK('Renseignements sur le locataire'!E2660),\"\",'Renseignements sur le locataire'!E2660)","v":""}]
[null,null,null,{"$f":"IF(ISBLANK('Renseignements sur le locataire'!E2661),\"\",'Renseignements sur le locataire'!E2661)","v":""}]
[null,null,null,{"$f":"IF(ISBLANK('Renseignements sur le locataire'!E2662),\"\",'Renseignements sur le locataire'!E2662)","v":""}]
[null,null,null,{"$f":"IF(ISBLANK('Renseignements sur le locataire'!E2663),\"\",'Renseignements sur le locataire'!E2663)","v":""}]
[null,null,null,{"$f":"IF(ISBLANK('Renseignements sur le locataire'!E2664),\"\",'Renseignements sur le locataire'!E2664)","v":""}]
[null,null,null,{"$f":"IF(ISBLANK('Renseignements sur le locataire'!E2665),\"\",'Renseignements sur le locataire'!E2665)","v":""}]
[null,null,null,{"$f":"IF(ISBLANK('Renseignements sur le locataire'!E2666),\"\",'Renseignements sur le locataire'!E2666)","v":""}]
[null,null,null,{"$f":"IF(ISBLANK('Renseignements sur le locataire'!E2667),\"\",'Renseignements sur le locataire'!E2667)","v":""}]
[null,null,null,{"$f":"IF(ISBLANK('Renseignements sur le locataire'!E2668),\"\",'Renseignements sur le locataire'!E2668)","v":""}]
[null,null,null,{"$f":"IF(ISBLANK('Renseignements sur le locataire'!E2669),\"\",'Renseignements sur le locataire'!E2669)","v":""}]
[null,null,null,{"$f":"IF(ISBLANK('Renseignements sur le locataire'!E2670),\"\",'Renseignements sur le locataire'!E2670)","v":""}]
[null,null,null,{"$f":"IF(ISBLANK('Renseignements sur le locataire'!E2671),\"\",'Renseignements sur le locataire'!E2671)","v":""}]
[null,null,null,{"$f":"IF(ISBLANK('Renseignements sur le locataire'!E2672),\"\",'Renseignements sur le locataire'!E2672)","v":""}]
[null,null,null,{"$f":"IF(ISBLANK('Renseignements sur le locataire'!E2673),\"\",'Renseignements sur le locataire'!E2673)","v":""}]
[null,null,null,{"$f":"IF(ISBLANK('Renseignements sur le locataire'!E2674),\"\",'Renseignements sur le locataire'!E2674)","v":""}]
[null,null,null,{"$f":"IF(ISBLANK('Renseignements sur le locataire'!E2675),\"\",'Renseignements sur le locataire'!E2675)","v":""}]
[null,null,null,{"$f":"IF(ISBLANK('Renseignements sur le locataire'!E2676),\"\",'Renseignements sur le locataire'!E2676)","v":""}]
[null,null,null,{"$f":"IF(ISBLANK('Renseignements sur le locataire'!E2677),\"\",'Renseignements sur le locataire'!E2677)","v":""}]
[null,null,null,{"$f":"IF(ISBLANK('Renseignements sur le locataire'!E2678),\"\",'Renseignements sur le locataire'!E2678)","v":""}]
[null,null,null,{"$f":"IF(ISBLANK('Renseignements sur le locataire'!E2679),\"\",'Renseignements sur le locataire'!E2679)","v":""}]
[null,null,null,{"$f":"IF(ISBLANK('Renseignements sur le locataire'!E2680),\"\",'Renseignements sur le locataire'!E2680)","v":""}]
[null,null,null,{"$f":"IF(ISBLANK('Renseignements sur le locataire'!E2681),\"\",'Renseignements sur le locataire'!E2681)","v":""}]
[null,null,null,{"$f":"IF(ISBLANK('Renseignements sur le locataire'!E2682),\"\",'Renseignements sur le locataire'!E2682)","v":""}]
[null,null,null,{"$f":"IF(ISBLANK('Renseignements sur le locataire'!E2683),\"\",'Renseignements sur le locataire'!E2683)","v":""}]
[null,null,null,{"$f":"IF(ISBLANK('Renseignements sur le locataire'!E2684),\"\",'Renseignements sur le locataire'!E2684)","v":""}]
[null,null,null,{"$f":"IF(ISBLANK('Renseignements sur le locataire'!E2685),\"\",'Renseignements sur le locataire'!E2685)","v":""}]
[null,null,null,{"$f":"IF(ISBLANK('Renseignements sur le locataire'!E2686),\"\",'Renseignements sur le locataire'!E2686)","v":""}]
[null,null,null,{"$f":"IF(ISBLANK('Renseignements sur le locataire'!E2687),\"\",'Renseignements sur le locataire'!E2687)","v":""}]
[null,null,null,{"$f":"IF(ISBLANK('Renseignements sur le locataire'!E2688),\"\",'Renseignements sur le locataire'!E2688)","v":""}]
[null,null,null,{"$f":"IF(ISBLANK('Renseignements sur le locataire'!E2689),\"\",'Renseignements sur le locataire'!E2689)","v":""}]
[null,null,null,{"$f":"IF(ISBLANK('Renseignements sur le locataire'!E2690),\"\",'Renseignements sur le locataire'!E2690)","v":""}]
[null,null,null,{"$f":"IF(ISBLANK('Renseignements sur le locataire'!E2691),\"\",'Renseignements sur le locataire'!E2691)","v":""}]
[null,null,null,{"$f":"IF(ISBLANK('Renseignements sur le locataire'!E2692),\"\",'Renseignements sur le locataire'!E2692)","v":""}]
[null,null,null,{"$f":"IF(ISBLANK('Renseignements sur le locataire'!E2693),\"\",'Renseignements sur le locataire'!E2693)","v":""}]
[null,null,null,{"$f":"IF(ISBLANK('Renseignements sur le locataire'!E2694),\"\",'Renseignements sur le locataire'!E2694)","v":""}]
[null,null,null,{"$f":"IF(ISBLANK('Renseignements sur le locataire'!E2695),\"\",'Renseignements sur le locataire'!E2695)","v":""}]
[null,null,null,{"$f":"IF(ISBLANK('Renseignements sur le locataire'!E2696),\"\",'Renseignements sur le locataire'!E2696)","v":""}]
[null,null,null,{"$f":"IF(ISBLANK('Renseignements sur le locataire'!E2697),\"\",'Renseignements sur le locataire'!E2697)","v":""}]
[null,null,null,{"$f":"IF(ISBLANK('Renseignements sur le locataire'!E2698),\"\",'Renseignements sur le locataire'!E2698)","v":""}]
[null,null,null,{"$f":"IF(ISBLANK('Renseignements sur le locataire'!E2699),\"\",'Renseignements sur le locataire'!E2699)","v":""}]
[null,null,null,{"$f":"IF(ISBLANK('Renseignements sur le locataire'!E2700),\"\",'Renseignements sur le locataire'!E2700)","v":""}]
[null,null,null,{"$f":"IF(ISBLANK('Renseignements sur le locataire'!E2701),\"\",'Renseignements sur le locataire'!E2701)","v":""}]
[null,null,null,{"$f":"IF(ISBLANK('Renseignements sur le locataire'!E2702),\"\",'Renseignements sur le locataire'!E2702)","v":""}]
[null,null,null,{"$f":"IF(ISBLANK('Renseignements sur le locataire'!E2703),\"\",'Renseignements sur le locataire'!E2703)","v":""}]
[null,null,null,{"$f":"IF(ISBLANK('Renseignements sur le locataire'!E2704),\"\",'Renseignements sur le locataire'!E2704)","v":""}]
[null,null,null,{"$f":"IF(ISBLANK('Renseignements sur le locataire'!E2705),\"\",'Renseignements sur le locataire'!E2705)","v":""}]
[null,null,null,{"$f":"IF(ISBLANK('Renseignements sur le locataire'!E2706),\"\",'Renseignements sur le locataire'!E2706)","v":""}]
[null,null,null,{"$f":"IF(ISBLANK('Renseignements sur le locataire'!E2707),\"\",'Renseignements sur le locataire'!E2707)","v":""}]
[null,null,null,{"$f":"IF(ISBLANK('Renseignements sur le locataire'!E2708),\"\",'Renseignements sur le locataire'!E2708)","v":""}]
[null,null,null,{"$f":"IF(ISBLANK('Renseignements sur le locataire'!E2709),\"\",'Renseignements sur le locataire'!E2709)","v":""}]
[null,null,null,{"$f":"IF(ISBLANK('Renseignements sur le locataire'!E2710),\"\",'Renseignements sur le locataire'!E2710)","v":""}]
[null,null,null,{"$f":"IF(ISBLANK('Renseignements sur le locataire'!E2711),\"\",'Renseignements sur le locataire'!E2711)","v":""}]
[null,null,null,{"$f":"IF(ISBLANK('Renseignements sur le locataire'!E2712),\"\",'Renseignements sur le locataire'!E2712)","v":""}]
[null,null,null,{"$f":"IF(ISBLANK('Renseignements sur le locataire'!E2713),\"\",'Renseignements sur le locataire'!E2713)","v":""}]
[null,null,null,{"$f":"IF(ISBLANK('Renseignements sur le locataire'!E2714),\"\",'Renseignements sur le locataire'!E2714)","v":""}]
[null,null,null,{"$f":"IF(ISBLANK('Renseignements sur le locataire'!E2715),\"\",'Renseignements sur le locataire'!E2715)","v":""}]
[null,null,null,{"$f":"IF(ISBLANK('Renseignements sur le locataire'!E2716),\"\",'Renseignements sur le locataire'!E2716)","v":""}]
[null,null,null,{"$f":"IF(ISBLANK('Renseignements sur le locataire'!E2717),\"\",'Renseignements sur le locataire'!E2717)","v":""}]
[null,null,null,{"$f":"IF(ISBLANK('Renseignements sur le locataire'!E2718),\"\",'Renseignements sur le locataire'!E2718)","v":""}]
[null,null,null,{"$f":"IF(ISBLANK('Renseignements sur le locataire'!E2719),\"\",'Renseignements sur le locataire'!E2719)","v":""}]
[null,null,null,{"$f":"IF(ISBLANK('Renseignements sur le locataire'!E2720),\"\",'Renseignements sur le locataire'!E2720)","v":""}]
[null,null,null,{"$f":"IF(ISBLANK('Renseignements sur le locataire'!E2721),\"\",'Renseignements sur le locataire'!E2721)","v":""}]
[null,null,null,{"$f":"IF(ISBLANK('Renseignements sur le locataire'!E2722),\"\",'Renseignements sur le locataire'!E2722)","v":""}]
[null,null,null,{"$f":"IF(ISBLANK('Renseignements sur le locataire'!E2723),\"\",'Renseignements sur le locataire'!E2723)","v":""}]
[null,null,null,{"$f":"IF(ISBLANK('Renseignements sur le locataire'!E2724),\"\",'Renseignements sur le locataire'!E2724)","v":""}]
[null,null,null,{"$f":"IF(ISBLANK('Renseignements sur le locataire'!E2725),\"\",'Renseignements sur le locataire'!E2725)","v":""}]
[null,null,null,{"$f":"IF(ISBLANK('Renseignements sur le locataire'!E2726),\"\",'Renseignements sur le locataire'!E2726)","v":""}]
[null,null,null,{"$f":"IF(ISBLANK('Renseignements sur le locataire'!E2727),\"\",'Renseignements sur le locataire'!E2727)","v":""}]
[null,null,null,{"$f":"IF(ISBLANK('Renseignements sur le locataire'!E2728),\"\",'Renseignements sur le locataire'!E2728)","v":""}]
[null,null,null,{"$f":"IF(ISBLANK('Renseignements sur le locataire'!E2729),\"\",'Renseignements sur le locataire'!E2729)","v":""}]
[null,null,null,{"$f":"IF(ISBLANK('Renseignements sur le locataire'!E2730),\"\",'Renseignements sur le locataire'!E2730)","v":""}]
[null,null,null,{"$f":"IF(ISBLANK('Renseignements sur le locataire'!E2731),\"\",'Renseignements sur le locataire'!E2731)","v":""}]
[null,null,null,{"$f":"IF(ISBLANK('Renseignements sur le locataire'!E2732),\"\",'Renseignements sur le locataire'!E2732)","v":""}]
[null,null,null,{"$f":"IF(ISBLANK('Renseignements sur le locataire'!E2733),\"\",'Renseignements sur le locataire'!E2733)","v":""}]
[null,null,null,{"$f":"IF(ISBLANK('Renseignements sur le locataire'!E2734),\"\",'Renseignements sur le locataire'!E2734)","v":""}]
[null,null,null,{"$f":"IF(ISBLANK('Renseignements sur le locataire'!E2735),\"\",'Renseignements sur le locataire'!E2735)","v":""}]
[null,null,null,{"$f":"IF(ISBLANK('Renseignements sur le locataire'!E2736),\"\",'Renseignements sur le locataire'!E2736)","v":""}]
[null,null,null,{"$f":"IF(ISBLANK('Renseignements sur le locataire'!E2737),\"\",'Renseignements sur le locataire'!E2737)","v":""}]
[null,null,null,{"$f":"IF(ISBLANK('Renseignements sur le locataire'!E2738),\"\",'Renseignements sur le locataire'!E2738)","v":""}]
[null,null,null,{"$f":"IF(ISBLANK('Renseignements sur le locataire'!E2739),\"\",'Renseignements sur le locataire'!E2739)","v":""}]
[null,null,null,{"$f":"IF(ISBLANK('Renseignements sur le locataire'!E2740),\"\",'Renseignements sur le locataire'!E2740)","v":""}]
[null,null,null,{"$f":"IF(ISBLANK('Renseignements sur le locataire'!E2741),\"\",'Renseignements sur le locataire'!E2741)","v":""}]
[null,null,null,{"$f":"IF(ISBLANK('Renseignements sur le locataire'!E2742),\"\",'Renseignements sur le locataire'!E2742)","v":""}]
[null,null,null,{"$f":"IF(ISBLANK('Renseignements sur le locataire'!E2743),\"\",'Renseignements sur le locataire'!E2743)","v":""}]
[null,null,null,{"$f":"IF(ISBLANK('Renseignements sur le locataire'!E2744),\"\",'Renseignements sur le locataire'!E2744)","v":""}]
[null,null,null,{"$f":"IF(ISBLANK('Renseignements sur le locataire'!E2745),\"\",'Renseignements sur le locataire'!E2745)","v":""}]
[null,null,null,{"$f":"IF(ISBLANK('Renseignements sur le locataire'!E2746),\"\",'Renseignements sur le locataire'!E2746)","v":""}]
[null,null,null,{"$f":"IF(ISBLANK('Renseignements sur le locataire'!E2747),\"\",'Renseignements sur le locataire'!E2747)","v":""}]
[null,null,null,{"$f":"IF(ISBLANK('Renseignements sur le locataire'!E2748),\"\",'Renseignements sur le locataire'!E2748)","v":""}]
[null,null,null,{"$f":"IF(ISBLANK('Renseignements sur le locataire'!E2749),\"\",'Renseignements sur le locataire'!E2749)","v":""}]
[null,null,null,{"$f":"IF(ISBLANK('Renseignements sur le locataire'!E2750),\"\",'Renseignements sur le locataire'!E2750)","v":""}]
[null,null,null,{"$f":"IF(ISBLANK('Renseignements sur le locataire'!E2751),\"\",'Renseignements sur le locataire'!E2751)","v":""}]
[null,null,null,{"$f":"IF(ISBLANK('Renseignements sur le locataire'!E2752),\"\",'Renseignements sur le locataire'!E2752)","v":""}]
[null,null,null,{"$f":"IF(ISBLANK('Renseignements sur le locataire'!E2753),\"\",'Renseignements sur le locataire'!E2753)","v":""}]
[null,null,null,{"$f":"IF(ISBLANK('Renseignements sur le locataire'!E2754),\"\",'Renseignements sur le locataire'!E2754)","v":""}]
[null,null,null,{"$f":"IF(ISBLANK('Renseignements sur le locataire'!E2755),\"\",'Renseignements sur le locataire'!E2755)","v":""}]
[null,null,null,{"$f":"IF(ISBLANK('Renseignements sur le locataire'!E2756),\"\",'Renseignements sur le locataire'!E2756)","v":""}]
[null,null,null,{"$f":"IF(ISBLANK('Renseignements sur le locataire'!E2757),\"\",'Renseignements sur le locataire'!E2757)","v":""}]
[null,null,null,{"$f":"IF(ISBLANK('Renseignements sur le locataire'!E2758),\"\",'Renseignements sur le locataire'!E2758)","v":""}]
[null,null,null,{"$f":"IF(ISBLANK('Renseignements sur le locataire'!E2759),\"\",'Renseignements sur le locataire'!E2759)","v":""}]
[null,null,null,{"$f":"IF(ISBLANK('Renseignements sur le locataire'!E2760),\"\",'Renseignements sur le locataire'!E2760)","v":""}]
[null,null,null,{"$f":"IF(ISBLANK('Renseignements sur le locataire'!E2761),\"\",'Renseignements sur le locataire'!E2761)","v":""}]
[null,null,null,{"$f":"IF(ISBLANK('Renseignements sur le locataire'!E2762),\"\",'Renseignements sur le locataire'!E2762)","v":""}]
[null,null,null,{"$f":"IF(ISBLANK('Renseignements sur le locataire'!E2763),\"\",'Renseignements sur le locataire'!E2763)","v":""}]
[null,null,null,{"$f":"IF(ISBLANK('Renseignements sur le locataire'!E2764),\"\",'Renseignements sur le locataire'!E2764)","v":""}]
[null,null,null,{"$f":"IF(ISBLANK('Renseignements sur le locataire'!E2765),\"\",'Renseignements sur le locataire'!E2765)","v":""}]
[null,null,null,{"$f":"IF(ISBLANK('Renseignements sur le locataire'!E2766),\"\",'Renseignements sur le locataire'!E2766)","v":""}]
[null,null,null,{"$f":"IF(ISBLANK('Renseignements sur le locataire'!E2767),\"\",'Renseignements sur le locataire'!E2767)","v":""}]
[null,null,null,{"$f":"IF(ISBLANK('Renseignements sur le locataire'!E2768),\"\",'Renseignements sur le locataire'!E2768)","v":""}]
[null,null,null,{"$f":"IF(ISBLANK('Renseignements sur le locataire'!E2769),\"\",'Renseignements sur le locataire'!E2769)","v":""}]
[null,null,null,{"$f":"IF(ISBLANK('Renseignements sur le locataire'!E2770),\"\",'Renseignements sur le locataire'!E2770)","v":""}]
[null,null,null,{"$f":"IF(ISBLANK('Renseignements sur le locataire'!E2771),\"\",'Renseignements sur le locataire'!E2771)","v":""}]
[null,null,null,{"$f":"IF(ISBLANK('Renseignements sur le locataire'!E2772),\"\",'Renseignements sur le locataire'!E2772)","v":""}]
[null,null,null,{"$f":"IF(ISBLANK('Renseignements sur le locataire'!E2773),\"\",'Renseignements sur le locataire'!E2773)","v":""}]
[null,null,null,{"$f":"IF(ISBLANK('Renseignements sur le locataire'!E2774),\"\",'Renseignements sur le locataire'!E2774)","v":""}]
[null,null,null,{"$f":"IF(ISBLANK('Renseignements sur le locataire'!E2775),\"\",'Renseignements sur le locataire'!E2775)","v":""}]
[null,null,null,{"$f":"IF(ISBLANK('Renseignements sur le locataire'!E2776),\"\",'Renseignements sur le locataire'!E2776)","v":""}]
[null,null,null,{"$f":"IF(ISBLANK('Renseignements sur le locataire'!E2777),\"\",'Renseignements sur le locataire'!E2777)","v":""}]
[null,null,null,{"$f":"IF(ISBLANK('Renseignements sur le locataire'!E2778),\"\",'Renseignements sur le locataire'!E2778)","v":""}]
[null,null,null,{"$f":"IF(ISBLANK('Renseignements sur le locataire'!E2779),\"\",'Renseignements sur le locataire'!E2779)","v":""}]
[null,null,null,{"$f":"IF(ISBLANK('Renseignements sur le locataire'!E2780),\"\",'Renseignements sur le locataire'!E2780)","v":""}]
[null,null,null,{"$f":"IF(ISBLANK('Renseignements sur le locataire'!E2781),\"\",'Renseignements sur le locataire'!E2781)","v":""}]
[null,null,null,{"$f":"IF(ISBLANK('Renseignements sur le locataire'!E2782),\"\",'Renseignements sur le locataire'!E2782)","v":""}]
[null,null,null,{"$f":"IF(ISBLANK('Renseignements sur le locataire'!E2783),\"\",'Renseignements sur le locataire'!E2783)","v":""}]
[null,null,null,{"$f":"IF(ISBLANK('Renseignements sur le locataire'!E2784),\"\",'Renseignements sur le locataire'!E2784)","v":""}]
[null,null,null,{"$f":"IF(ISBLANK('Renseignements sur le locataire'!E2785),\"\",'Renseignements sur le locataire'!E2785)","v":""}]
[null,null,null,{"$f":"IF(ISBLANK('Renseignements sur le locataire'!E2786),\"\",'Renseignements sur le locataire'!E2786)","v":""}]
[null,null,null,{"$f":"IF(ISBLANK('Renseignements sur le locataire'!E2787),\"\",'Renseignements sur le locataire'!E2787)","v":""}]
[null,null,null,{"$f":"IF(ISBLANK('Renseignements sur le locataire'!E2788),\"\",'Renseignements sur le locataire'!E2788)","v":""}]
[null,null,null,{"$f":"IF(ISBLANK('Renseignements sur le locataire'!E2789),\"\",'Renseignements sur le locataire'!E2789)","v":""}]
[null,null,null,{"$f":"IF(ISBLANK('Renseignements sur le locataire'!E2790),\"\",'Renseignements sur le locataire'!E2790)","v":""}]
[null,null,null,{"$f":"IF(ISBLANK('Renseignements sur le locataire'!E2791),\"\",'Renseignements sur le locataire'!E2791)","v":""}]
[null,null,null,{"$f":"IF(ISBLANK('Renseignements sur le locataire'!E2792),\"\",'Renseignements sur le locataire'!E2792)","v":""}]
[null,null,null,{"$f":"IF(ISBLANK('Renseignements sur le locataire'!E2793),\"\",'Renseignements sur le locataire'!E2793)","v":""}]
[null,null,null,{"$f":"IF(ISBLANK('Renseignements sur le locataire'!E2794),\"\",'Renseignements sur le locataire'!E2794)","v":""}]
[null,null,null,{"$f":"IF(ISBLANK('Renseignements sur le locataire'!E2795),\"\",'Renseignements sur le locataire'!E2795)","v":""}]
[null,null,null,{"$f":"IF(ISBLANK('Renseignements sur le locataire'!E2796),\"\",'Renseignements sur le locataire'!E2796)","v":""}]
[null,null,null,{"$f":"IF(ISBLANK('Renseignements sur le locataire'!E2797),\"\",'Renseignements sur le locataire'!E2797)","v":""}]
[null,null,null,{"$f":"IF(ISBLANK('Renseignements sur le locataire'!E2798),\"\",'Renseignements sur le locataire'!E2798)","v":""}]
[null,null,null,{"$f":"IF(ISBLANK('Renseignements sur le locataire'!E2799),\"\",'Renseignements sur le locataire'!E2799)","v":""}]
[null,null,null,{"$f":"IF(ISBLANK('Renseignements sur le locataire'!E2800),\"\",'Renseignements sur le locataire'!E2800)","v":""}]
[null,null,null,{"$f":"IF(ISBLANK('Renseignements sur le locataire'!E2801),\"\",'Renseignements sur le locataire'!E2801)","v":""}]
[null,null,null,{"$f":"IF(ISBLANK('Renseignements sur le locataire'!E2802),\"\",'Renseignements sur le locataire'!E2802)","v":""}]
[null,null,null,{"$f":"IF(ISBLANK('Renseignements sur le locataire'!E2803),\"\",'Renseignements sur le locataire'!E2803)","v":""}]
[null,null,null,{"$f":"IF(ISBLANK('Renseignements sur le locataire'!E2804),\"\",'Renseignements sur le locataire'!E2804)","v":""}]
[null,null,null,{"$f":"IF(ISBLANK('Renseignements sur le locataire'!E2805),\"\",'Renseignements sur le locataire'!E2805)","v":""}]
[null,null,null,{"$f":"IF(ISBLANK('Renseignements sur le locataire'!E2806),\"\",'Renseignements sur le locataire'!E2806)","v":""}]
[null,null,null,{"$f":"IF(ISBLANK('Renseignements sur le locataire'!E2807),\"\",'Renseignements sur le locataire'!E2807)","v":""}]
[null,null,null,{"$f":"IF(ISBLANK('Renseignements sur le locataire'!E2808),\"\",'Renseignements sur le locataire'!E2808)","v":""}]
[null,null,null,{"$f":"IF(ISBLANK('Renseignements sur le locataire'!E2809),\"\",'Renseignements sur le locataire'!E2809)","v":""}]
[null,null,null,{"$f":"IF(ISBLANK('Renseignements sur le locataire'!E2810),\"\",'Renseignements sur le locataire'!E2810)","v":""}]
[null,null,null,{"$f":"IF(ISBLANK('Renseignements sur le locataire'!E2811),\"\",'Renseignements sur le locataire'!E2811)","v":""}]
[null,null,null,{"$f":"IF(ISBLANK('Renseignements sur le locataire'!E2812),\"\",'Renseignements sur le locataire'!E2812)","v":""}]
[null,null,null,{"$f":"IF(ISBLANK('Renseignements sur le locataire'!E2813),\"\",'Renseignements sur le locataire'!E2813)","v":""}]
[null,null,null,{"$f":"IF(ISBLANK('Renseignements sur le locataire'!E2814),\"\",'Renseignements sur le locataire'!E2814)","v":""}]
[null,null,null,{"$f":"IF(ISBLANK('Renseignements sur le locataire'!E2815),\"\",'Renseignements sur le locataire'!E2815)","v":""}]
[null,null,null,{"$f":"IF(ISBLANK('Renseignements sur le locataire'!E2816),\"\",'Renseignements sur le locataire'!E2816)","v":""}]
[null,null,null,{"$f":"IF(ISBLANK('Renseignements sur le locataire'!E2817),\"\",'Renseignements sur le locataire'!E2817)","v":""}]
[null,null,null,{"$f":"IF(ISBLANK('Renseignements sur le locataire'!E2818),\"\",'Renseignements sur le locataire'!E2818)","v":""}]
[null,null,null,{"$f":"IF(ISBLANK('Renseignements sur le locataire'!E2819),\"\",'Renseignements sur le locataire'!E2819)","v":""}]
[null,null,null,{"$f":"IF(ISBLANK('Renseignements sur le locataire'!E2820),\"\",'Renseignements sur le locataire'!E2820)","v":""}]
[null,null,null,{"$f":"IF(ISBLANK('Renseignements sur le locataire'!E2821),\"\",'Renseignements sur le locataire'!E2821)","v":""}]
[null,null,null,{"$f":"IF(ISBLANK('Renseignements sur le locataire'!E2822),\"\",'Renseignements sur le locataire'!E2822)","v":""}]
[null,null,null,{"$f":"IF(ISBLANK('Renseignements sur le locataire'!E2823),\"\",'Renseignements sur le locataire'!E2823)","v":""}]
[null,null,null,{"$f":"IF(ISBLANK('Renseignements sur le locataire'!E2824),\"\",'Renseignements sur le locataire'!E2824)","v":""}]
[null,null,null,{"$f":"IF(ISBLANK('Renseignements sur le locataire'!E2825),\"\",'Renseignements sur le locataire'!E2825)","v":""}]
[null,null,null,{"$f":"IF(ISBLANK('Renseignements sur le locataire'!E2826),\"\",'Renseignements sur le locataire'!E2826)","v":""}]
[null,null,null,{"$f":"IF(ISBLANK('Renseignements sur le locataire'!E2827),\"\",'Renseignements sur le locataire'!E2827)","v":""}]
[null,null,null,{"$f":"IF(ISBLANK('Renseignements sur le locataire'!E2828),\"\",'Renseignements sur le locataire'!E2828)","v":""}]
[null,null,null,{"$f":"IF(ISBLANK('Renseignements sur le locataire'!E2829),\"\",'Renseignements sur le locataire'!E2829)","v":""}]
[null,null,null,{"$f":"IF(ISBLANK('Renseignements sur le locataire'!E2830),\"\",'Renseignements sur le locataire'!E2830)","v":""}]
[null,null,null,{"$f":"IF(ISBLANK('Renseignements sur le locataire'!E2831),\"\",'Renseignements sur le locataire'!E2831)","v":""}]
[null,null,null,{"$f":"IF(ISBLANK('Renseignements sur le locataire'!E2832),\"\",'Renseignements sur le locataire'!E2832)","v":""}]
[null,null,null,{"$f":"IF(ISBLANK('Renseignements sur le locataire'!E2833),\"\",'Renseignements sur le locataire'!E2833)","v":""}]
[null,null,null,{"$f":"IF(ISBLANK('Renseignements sur le locataire'!E2834),\"\",'Renseignements sur le locataire'!E2834)","v":""}]
[null,null,null,{"$f":"IF(ISBLANK('Renseignements sur le locataire'!E2835),\"\",'Renseignements sur le locataire'!E2835)","v":""}]
[null,null,null,{"$f":"IF(ISBLANK('Renseignements sur le locataire'!E2836),\"\",'Renseignements sur le locataire'!E2836)","v":""}]
[null,null,null,{"$f":"IF(ISBLANK('Renseignements sur le locataire'!E2837),\"\",'Renseignements sur le locataire'!E2837)","v":""}]
[null,null,null,{"$f":"IF(ISBLANK('Renseignements sur le locataire'!E2838),\"\",'Renseignements sur le locataire'!E2838)","v":""}]
[null,null,null,{"$f":"IF(ISBLANK('Renseignements sur le locataire'!E2839),\"\",'Renseignements sur le locataire'!E2839)","v":""}]
[null,null,null,{"$f":"IF(ISBLANK('Renseignements sur le locataire'!E2840),\"\",'Renseignements sur le locataire'!E2840)","v":""}]
[null,null,null,{"$f":"IF(ISBLANK('Renseignements sur le locataire'!E2841),\"\",'Renseignements sur le locataire'!E2841)","v":""}]
[null,null,null,{"$f":"IF(ISBLANK('Renseignements sur le locataire'!E2842),\"\",'Renseignements sur le locataire'!E2842)","v":""}]
[null,null,null,{"$f":"IF(ISBLANK('Renseignements sur le locataire'!E2843),\"\",'Renseignements sur le locataire'!E2843)","v":""}]
[null,null,null,{"$f":"IF(ISBLANK('Renseignements sur le locataire'!E2844),\"\",'Renseignements sur le locataire'!E2844)","v":""}]
[null,null,null,{"$f":"IF(ISBLANK('Renseignements sur le locataire'!E2845),\"\",'Renseignements sur le locataire'!E2845)","v":""}]
[null,null,null,{"$f":"IF(ISBLANK('Renseignements sur le locataire'!E2846),\"\",'Renseignements sur le locataire'!E2846)","v":""}]
[null,null,null,{"$f":"IF(ISBLANK('Renseignements sur le locataire'!E2847),\"\",'Renseignements sur le locataire'!E2847)","v":""}]
[null,null,null,{"$f":"IF(ISBLANK('Renseignements sur le locataire'!E2848),\"\",'Renseignements sur le locataire'!E2848)","v":""}]
[null,null,null,{"$f":"IF(ISBLANK('Renseignements sur le locataire'!E2849),\"\",'Renseignements sur le locataire'!E2849)","v":""}]
[null,null,null,{"$f":"IF(ISBLANK('Renseignements sur le locataire'!E2850),\"\",'Renseignements sur le locataire'!E2850)","v":""}]
[null,null,null,{"$f":"IF(ISBLANK('Renseignements sur le locataire'!E2851),\"\",'Renseignements sur le locataire'!E2851)","v":""}]
[null,null,null,{"$f":"IF(ISBLANK('Renseignements sur le locataire'!E2852),\"\",'Renseignements sur le locataire'!E2852)","v":""}]
[null,null,null,{"$f":"IF(ISBLANK('Renseignements sur le locataire'!E2853),\"\",'Renseignements sur le locataire'!E2853)","v":""}]
[null,null,null,{"$f":"IF(ISBLANK('Renseignements sur le locataire'!E2854),\"\",'Renseignements sur le locataire'!E2854)","v":""}]
[null,null,null,{"$f":"IF(ISBLANK('Renseignements sur le locataire'!E2855),\"\",'Renseignements sur le locataire'!E2855)","v":""}]
[null,null,null,{"$f":"IF(ISBLANK('Renseignements sur le locataire'!E2856),\"\",'Renseignements sur le locataire'!E2856)","v":""}]
[null,null,null,{"$f":"IF(ISBLANK('Renseignements sur le locataire'!E2857),\"\",'Renseignements sur le locataire'!E2857)","v":""}]
[null,null,null,{"$f":"IF(ISBLANK('Renseignements sur le locataire'!E2858),\"\",'Renseignements sur le locataire'!E2858)","v":""}]
[null,null,null,{"$f":"IF(ISBLANK('Renseignements sur le locataire'!E2859),\"\",'Renseignements sur le locataire'!E2859)","v":""}]
[null,null,null,{"$f":"IF(ISBLANK('Renseignements sur le locataire'!E2860),\"\",'Renseignements sur le locataire'!E2860)","v":""}]
[null,null,null,{"$f":"IF(ISBLANK('Renseignements sur le locataire'!E2861),\"\",'Renseignements sur le locataire'!E2861)","v":""}]
[null,null,null,{"$f":"IF(ISBLANK('Renseignements sur le locataire'!E2862),\"\",'Renseignements sur le locataire'!E2862)","v":""}]
[null,null,null,{"$f":"IF(ISBLANK('Renseignements sur le locataire'!E2863),\"\",'Renseignements sur le locataire'!E2863)","v":""}]
[null,null,null,{"$f":"IF(ISBLANK('Renseignements sur le locataire'!E2864),\"\",'Renseignements sur le locataire'!E2864)","v":""}]
[null,null,null,{"$f":"IF(ISBLANK('Renseignements sur le locataire'!E2865),\"\",'Renseignements sur le locataire'!E2865)","v":""}]
[null,null,null,{"$f":"IF(ISBLANK('Renseignements sur le locataire'!E2866),\"\",'Renseignements sur le locataire'!E2866)","v":""}]
[null,null,null,{"$f":"IF(ISBLANK('Renseignements sur le locataire'!E2867),\"\",'Renseignements sur le locataire'!E2867)","v":""}]
[null,null,null,{"$f":"IF(ISBLANK('Renseignements sur le locataire'!E2868),\"\",'Renseignements sur le locataire'!E2868)","v":""}]
[null,null,null,{"$f":"IF(ISBLANK('Renseignements sur le locataire'!E2869),\"\",'Renseignements sur le locataire'!E2869)","v":""}]
[null,null,null,{"$f":"IF(ISBLANK('Renseignements sur le locataire'!E2870),\"\",'Renseignements sur le locataire'!E2870)","v":""}]
[null,null,null,{"$f":"IF(ISBLANK('Renseignements sur le locataire'!E2871),\"\",'Renseignements sur le locataire'!E2871)","v":""}]
[null,null,null,{"$f":"IF(ISBLANK('Renseignements sur le locataire'!E2872),\"\",'Renseignements sur le locataire'!E2872)","v":""}]
[null,null,null,{"$f":"IF(ISBLANK('Renseignements sur le locataire'!E2873),\"\",'Renseignements sur le locataire'!E2873)","v":""}]
[null,null,null,{"$f":"IF(ISBLANK('Renseignements sur le locataire'!E2874),\"\",'Renseignements sur le locataire'!E2874)","v":""}]
[null,null,null,{"$f":"IF(ISBLANK('Renseignements sur le locataire'!E2875),\"\",'Renseignements sur le locataire'!E2875)","v":""}]
[null,null,null,{"$f":"IF(ISBLANK('Renseignements sur le locataire'!E2876),\"\",'Renseignements sur le locataire'!E2876)","v":""}]
[null,null,null,{"$f":"IF(ISBLANK('Renseignements sur le locataire'!E2877),\"\",'Renseignements sur le locataire'!E2877)","v":""}]
[null,null,null,{"$f":"IF(ISBLANK('Renseignements sur le locataire'!E2878),\"\",'Renseignements sur le locataire'!E2878)","v":""}]
[null,null,null,{"$f":"IF(ISBLANK('Renseignements sur le locataire'!E2879),\"\",'Renseignements sur le locataire'!E2879)","v":""}]
[null,null,null,{"$f":"IF(ISBLANK('Renseignements sur le locataire'!E2880),\"\",'Renseignements sur le locataire'!E2880)","v":""}]
[null,null,null,{"$f":"IF(ISBLANK('Renseignements sur le locataire'!E2881),\"\",'Renseignements sur le locataire'!E2881)","v":""}]
[null,null,null,{"$f":"IF(ISBLANK('Renseignements sur le locataire'!E2882),\"\",'Renseignements sur le locataire'!E2882)","v":""}]
[null,null,null,{"$f":"IF(ISBLANK('Renseignements sur le locataire'!E2883),\"\",'Renseignements sur le locataire'!E2883)","v":""}]
[null,null,null,{"$f":"IF(ISBLANK('Renseignements sur le locataire'!E2884),\"\",'Renseignements sur le locataire'!E2884)","v":""}]
[null,null,null,{"$f":"IF(ISBLANK('Renseignements sur le locataire'!E2885),\"\",'Renseignements sur le locataire'!E2885)","v":""}]
[null,null,null,{"$f":"IF(ISBLANK('Renseignements sur le locataire'!E2886),\"\",'Renseignements sur le locataire'!E2886)","v":""}]
[null,null,null,{"$f":"IF(ISBLANK('Renseignements sur le locataire'!E2887),\"\",'Renseignements sur le locataire'!E2887)","v":""}]
[null,null,null,{"$f":"IF(ISBLANK('Renseignements sur le locataire'!E2888),\"\",'Renseignements sur le locataire'!E2888)","v":""}]
[null,null,null,{"$f":"IF(ISBLANK('Renseignements sur le locataire'!E2889),\"\",'Renseignements sur le locataire'!E2889)","v":""}]
[null,null,null,{"$f":"IF(ISBLANK('Renseignements sur le locataire'!E2890),\"\",'Renseignements sur le locataire'!E2890)","v":""}]
[null,null,null,{"$f":"IF(ISBLANK('Renseignements sur le locataire'!E2891),\"\",'Renseignements sur le locataire'!E2891)","v":""}]
[null,null,null,{"$f":"IF(ISBLANK('Renseignements sur le locataire'!E2892),\"\",'Renseignements sur le locataire'!E2892)","v":""}]
[null,null,null,{"$f":"IF(ISBLANK('Renseignements sur le locataire'!E2893),\"\",'Renseignements sur le locataire'!E2893)","v":""}]
[null,null,null,{"$f":"IF(ISBLANK('Renseignements sur le locataire'!E2894),\"\",'Renseignements sur le locataire'!E2894)","v":""}]
[null,null,null,{"$f":"IF(ISBLANK('Renseignements sur le locataire'!E2895),\"\",'Renseignements sur le locataire'!E2895)","v":""}]
[null,null,null,{"$f":"IF(ISBLANK('Renseignements sur le locataire'!E2896),\"\",'Renseignements sur le locataire'!E2896)","v":""}]
[null,null,null,{"$f":"IF(ISBLANK('Renseignements sur le locataire'!E2897),\"\",'Renseignements sur le locataire'!E2897)","v":""}]
[null,null,null,{"$f":"IF(ISBLANK('Renseignements sur le locataire'!E2898),\"\",'Renseignements sur le locataire'!E2898)","v":""}]
[null,null,null,{"$f":"IF(ISBLANK('Renseignements sur le locataire'!E2899),\"\",'Renseignements sur le locataire'!E2899)","v":""}]
[null,null,null,{"$f":"IF(ISBLANK('Renseignements sur le locataire'!E2900),\"\",'Renseignements sur le locataire'!E2900)","v":""}]
[null,null,null,{"$f":"IF(ISBLANK('Renseignements sur le locataire'!E2901),\"\",'Renseignements sur le locataire'!E2901)","v":""}]
[null,null,null,{"$f":"IF(ISBLANK('Renseignements sur le locataire'!E2902),\"\",'Renseignements sur le locataire'!E2902)","v":""}]
[null,null,null,{"$f":"IF(ISBLANK('Renseignements sur le locataire'!E2903),\"\",'Renseignements sur le locataire'!E2903)","v":""}]
[null,null,null,{"$f":"IF(ISBLANK('Renseignements sur le locataire'!E2904),\"\",'Renseignements sur le locataire'!E2904)","v":""}]
[null,null,null,{"$f":"IF(ISBLANK('Renseignements sur le locataire'!E2905),\"\",'Renseignements sur le locataire'!E2905)","v":""}]
[null,null,null,{"$f":"IF(ISBLANK('Renseignements sur le locataire'!E2906),\"\",'Renseignements sur le locataire'!E2906)","v":""}]
[null,null,null,{"$f":"IF(ISBLANK('Renseignements sur le locataire'!E2907),\"\",'Renseignements sur le locataire'!E2907)","v":""}]
[null,null,null,{"$f":"IF(ISBLANK('Renseignements sur le locataire'!E2908),\"\",'Renseignements sur le locataire'!E2908)","v":""}]
[null,null,null,{"$f":"IF(ISBLANK('Renseignements sur le locataire'!E2909),\"\",'Renseignements sur le locataire'!E2909)","v":""}]
[null,null,null,{"$f":"IF(ISBLANK('Renseignements sur le locataire'!E2910),\"\",'Renseignements sur le locataire'!E2910)","v":""}]
[null,null,null,{"$f":"IF(ISBLANK('Renseignements sur le locataire'!E2911),\"\",'Renseignements sur le locataire'!E2911)","v":""}]
[null,null,null,{"$f":"IF(ISBLANK('Renseignements sur le locataire'!E2912),\"\",'Renseignements sur le locataire'!E2912)","v":""}]
[null,null,null,{"$f":"IF(ISBLANK('Renseignements sur le locataire'!E2913),\"\",'Renseignements sur le locataire'!E2913)","v":""}]
[null,null,null,{"$f":"IF(ISBLANK('Renseignements sur le locataire'!E2914),\"\",'Renseignements sur le locataire'!E2914)","v":""}]
[null,null,null,{"$f":"IF(ISBLANK('Renseignements sur le locataire'!E2915),\"\",'Renseignements sur le locataire'!E2915)","v":""}]
[null,null,null,{"$f":"IF(ISBLANK('Renseignements sur le locataire'!E2916),\"\",'Renseignements sur le locataire'!E2916)","v":""}]
[null,null,null,{"$f":"IF(ISBLANK('Renseignements sur le locataire'!E2917),\"\",'Renseignements sur le locataire'!E2917)","v":""}]
[null,null,null,{"$f":"IF(ISBLANK('Renseignements sur le locataire'!E2918),\"\",'Renseignements sur le locataire'!E2918)","v":""}]
[null,null,null,{"$f":"IF(ISBLANK('Renseignements sur le locataire'!E2919),\"\",'Renseignements sur le locataire'!E2919)","v":""}]
[null,null,null,{"$f":"IF(ISBLANK('Renseignements sur le locataire'!E2920),\"\",'Renseignements sur le locataire'!E2920)","v":""}]
[null,null,null,{"$f":"IF(ISBLANK('Renseignements sur le locataire'!E2921),\"\",'Renseignements sur le locataire'!E2921)","v":""}]
[null,null,null,{"$f":"IF(ISBLANK('Renseignements sur le locataire'!E2922),\"\",'Renseignements sur le locataire'!E2922)","v":""}]
[null,null,null,{"$f":"IF(ISBLANK('Renseignements sur le locataire'!E2923),\"\",'Renseignements sur le locataire'!E2923)","v":""}]
[null,null,null,{"$f":"IF(ISBLANK('Renseignements sur le locataire'!E2924),\"\",'Renseignements sur le locataire'!E2924)","v":""}]
[null,null,null,{"$f":"IF(ISBLANK('Renseignements sur le locataire'!E2925),\"\",'Renseignements sur le locataire'!E2925)","v":""}]
[null,null,null,{"$f":"IF(ISBLANK('Renseignements sur le locataire'!E2926),\"\",'Renseignements sur le locataire'!E2926)","v":""}]
[null,null,null,{"$f":"IF(ISBLANK('Renseignements sur le locataire'!E2927),\"\",'Renseignements sur le locataire'!E2927)","v":""}]
[null,null,null,{"$f":"IF(ISBLANK('Renseignements sur le locataire'!E2928),\"\",'Renseignements sur le locataire'!E2928)","v":""}]
[null,null,null,{"$f":"IF(ISBLANK('Renseignements sur le locataire'!E2929),\"\",'Renseignements sur le locataire'!E2929)","v":""}]
[null,null,null,{"$f":"IF(ISBLANK('Renseignements sur le locataire'!E2930),\"\",'Renseignements sur le locataire'!E2930)","v":""}]
[null,null,null,{"$f":"IF(ISBLANK('Renseignements sur le locataire'!E2931),\"\",'Renseignements sur le locataire'!E2931)","v":""}]
[null,null,null,{"$f":"IF(ISBLANK('Renseignements sur le locataire'!E2932),\"\",'Renseignements sur le locataire'!E2932)","v":""}]
[null,null,null,{"$f":"IF(ISBLANK('Renseignements sur le locataire'!E2933),\"\",'Renseignements sur le locataire'!E2933)","v":""}]
[null,null,null,{"$f":"IF(ISBLANK('Renseignements sur le locataire'!E2934),\"\",'Renseignements sur le locataire'!E2934)","v":""}]
[null,null,null,{"$f":"IF(ISBLANK('Renseignements sur le locataire'!E2935),\"\",'Renseignements sur le locataire'!E2935)","v":""}]
[null,null,null,{"$f":"IF(ISBLANK('Renseignements sur le locataire'!E2936),\"\",'Renseignements sur le locataire'!E2936)","v":""}]
[null,null,null,{"$f":"IF(ISBLANK('Renseignements sur le locataire'!E2937),\"\",'Renseignements sur le locataire'!E2937)","v":""}]
[null,null,null,{"$f":"IF(ISBLANK('Renseignements sur le locataire'!E2938),\"\",'Renseignements sur le locataire'!E2938)","v":""}]
[null,null,null,{"$f":"IF(ISBLANK('Renseignements sur le locataire'!E2939),\"\",'Renseignements sur le locataire'!E2939)","v":""}]
[null,null,null,{"$f":"IF(ISBLANK('Renseignements sur le locataire'!E2940),\"\",'Renseignements sur le locataire'!E2940)","v":""}]
[null,null,null,{"$f":"IF(ISBLANK('Renseignements sur le locataire'!E2941),\"\",'Renseignements sur le locataire'!E2941)","v":""}]
[null,null,null,{"$f":"IF(ISBLANK('Renseignements sur le locataire'!E2942),\"\",'Renseignements sur le locataire'!E2942)","v":""}]
[null,null,null,{"$f":"IF(ISBLANK('Renseignements sur le locataire'!E2943),\"\",'Renseignements sur le locataire'!E2943)","v":""}]
[null,null,null,{"$f":"IF(ISBLANK('Renseignements sur le locataire'!E2944),\"\",'Renseignements sur le locataire'!E2944)","v":""}]
[null,null,null,{"$f":"IF(ISBLANK('Renseignements sur le locataire'!E2945),\"\",'Renseignements sur le locataire'!E2945)","v":""}]
[null,null,null,{"$f":"IF(ISBLANK('Renseignements sur le locataire'!E2946),\"\",'Renseignements sur le locataire'!E2946)","v":""}]
[null,null,null,{"$f":"IF(ISBLANK('Renseignements sur le locataire'!E2947),\"\",'Renseignements sur le locataire'!E2947)","v":""}]
[null,null,null,{"$f":"IF(ISBLANK('Renseignements sur le locataire'!E2948),\"\",'Renseignements sur le locataire'!E2948)","v":""}]
[null,null,null,{"$f":"IF(ISBLANK('Renseignements sur le locataire'!E2949),\"\",'Renseignements sur le locataire'!E2949)","v":""}]
[null,null,null,{"$f":"IF(ISBLANK('Renseignements sur le locataire'!E2950),\"\",'Renseignements sur le locataire'!E2950)","v":""}]
[null,null,null,{"$f":"IF(ISBLANK('Renseignements sur le locataire'!E2951),\"\",'Renseignements sur le locataire'!E2951)","v":""}]
[null,null,null,{"$f":"IF(ISBLANK('Renseignements sur le locataire'!E2952),\"\",'Renseignements sur le locataire'!E2952)","v":""}]
[null,null,null,{"$f":"IF(ISBLANK('Renseignements sur le locataire'!E2953),\"\",'Renseignements sur le locataire'!E2953)","v":""}]
[null,null,null,{"$f":"IF(ISBLANK('Renseignements sur le locataire'!E2954),\"\",'Renseignements sur le locataire'!E2954)","v":""}]
[null,null,null,{"$f":"IF(ISBLANK('Renseignements sur le locataire'!E2955),\"\",'Renseignements sur le locataire'!E2955)","v":""}]
[null,null,null,{"$f":"IF(ISBLANK('Renseignements sur le locataire'!E2956),\"\",'Renseignements sur le locataire'!E2956)","v":""}]
[null,null,null,{"$f":"IF(ISBLANK('Renseignements sur le locataire'!E2957),\"\",'Renseignements sur le locataire'!E2957)","v":""}]
[null,null,null,{"$f":"IF(ISBLANK('Renseignements sur le locataire'!E2958),\"\",'Renseignements sur le locataire'!E2958)","v":""}]
[null,null,null,{"$f":"IF(ISBLANK('Renseignements sur le locataire'!E2959),\"\",'Renseignements sur le locataire'!E2959)","v":""}]
[null,null,null,{"$f":"IF(ISBLANK('Renseignements sur le locataire'!E2960),\"\",'Renseignements sur le locataire'!E2960)","v":""}]
[null,null,null,{"$f":"IF(ISBLANK('Renseignements sur le locataire'!E2961),\"\",'Renseignements sur le locataire'!E2961)","v":""}]
[null,null,null,{"$f":"IF(ISBLANK('Renseignements sur le locataire'!E2962),\"\",'Renseignements sur le locataire'!E2962)","v":""}]
[null,null,null,{"$f":"IF(ISBLANK('Renseignements sur le locataire'!E2963),\"\",'Renseignements sur le locataire'!E2963)","v":""}]
[null,null,null,{"$f":"IF(ISBLANK('Renseignements sur le locataire'!E2964),\"\",'Renseignements sur le locataire'!E2964)","v":""}]
[null,null,null,{"$f":"IF(ISBLANK('Renseignements sur le locataire'!E2965),\"\",'Renseignements sur le locataire'!E2965)","v":""}]
[null,null,null,{"$f":"IF(ISBLANK('Renseignements sur le locataire'!E2966),\"\",'Renseignements sur le locataire'!E2966)","v":""}]
[null,null,null,{"$f":"IF(ISBLANK('Renseignements sur le locataire'!E2967),\"\",'Renseignements sur le locataire'!E2967)","v":""}]
[null,null,null,{"$f":"IF(ISBLANK('Renseignements sur le locataire'!E2968),\"\",'Renseignements sur le locataire'!E2968)","v":""}]
[null,null,null,{"$f":"IF(ISBLANK('Renseignements sur le locataire'!E2969),\"\",'Renseignements sur le locataire'!E2969)","v":""}]
[null,null,null,{"$f":"IF(ISBLANK('Renseignements sur le locataire'!E2970),\"\",'Renseignements sur le locataire'!E2970)","v":""}]
[null,null,null,{"$f":"IF(ISBLANK('Renseignements sur le locataire'!E2971),\"\",'Renseignements sur le locataire'!E2971)","v":""}]
[null,null,null,{"$f":"IF(ISBLANK('Renseignements sur le locataire'!E2972),\"\",'Renseignements sur le locataire'!E2972)","v":""}]
[null,null,null,{"$f":"IF(ISBLANK('Renseignements sur le locataire'!E2973),\"\",'Renseignements sur le locataire'!E2973)","v":""}]
[null,null,null,{"$f":"IF(ISBLANK('Renseignements sur le locataire'!E2974),\"\",'Renseignements sur le locataire'!E2974)","v":""}]
[null,null,null,{"$f":"IF(ISBLANK('Renseignements sur le locataire'!E2975),\"\",'Renseignements sur le locataire'!E2975)","v":""}]
[null,null,null,{"$f":"IF(ISBLANK('Renseignements sur le locataire'!E2976),\"\",'Renseignements sur le locataire'!E2976)","v":""}]
[null,null,null,{"$f":"IF(ISBLANK('Renseignements sur le locataire'!E2977),\"\",'Renseignements sur le locataire'!E2977)","v":""}]
[null,null,null,{"$f":"IF(ISBLANK('Renseignements sur le locataire'!E2978),\"\",'Renseignements sur le locataire'!E2978)","v":""}]
[null,null,null,{"$f":"IF(ISBLANK('Renseignements sur le locataire'!E2979),\"\",'Renseignements sur le locataire'!E2979)","v":""}]
[null,null,null,{"$f":"IF(ISBLANK('Renseignements sur le locataire'!E2980),\"\",'Renseignements sur le locataire'!E2980)","v":""}]
[null,null,null,{"$f":"IF(ISBLANK('Renseignements sur le locataire'!E2981),\"\",'Renseignements sur le locataire'!E2981)","v":""}]
[null,null,null,{"$f":"IF(ISBLANK('Renseignements sur le locataire'!E2982),\"\",'Renseignements sur le locataire'!E2982)","v":""}]
[null,null,null,{"$f":"IF(ISBLANK('Renseignements sur le locataire'!E2983),\"\",'Renseignements sur le locataire'!E2983)","v":""}]
[null,null,null,{"$f":"IF(ISBLANK('Renseignements sur le locataire'!E2984),\"\",'Renseignements sur le locataire'!E2984)","v":""}]
[null,null,null,{"$f":"IF(ISBLANK('Renseignements sur le locataire'!E2985),\"\",'Renseignements sur le locataire'!E2985)","v":""}]
[null,null,null,{"$f":"IF(ISBLANK('Renseignements sur le locataire'!E2986),\"\",'Renseignements sur le locataire'!E2986)","v":""}]
[null,null,null,{"$f":"IF(ISBLANK('Renseignements sur le locataire'!E2987),\"\",'Renseignements sur le locataire'!E2987)","v":""}]
[null,null,null,{"$f":"IF(ISBLANK('Renseignements sur le locataire'!E2988),\"\",'Renseignements sur le locataire'!E2988)","v":""}]
[null,null,null,{"$f":"IF(ISBLANK('Renseignements sur le locataire'!E2989),\"\",'Renseignements sur le locataire'!E2989)","v":""}]
[null,null,null,{"$f":"IF(ISBLANK('Renseignements sur le locataire'!E2990),\"\",'Renseignements sur le locataire'!E2990)","v":""}]
[null,null,null,{"$f":"IF(ISBLANK('Renseignements sur le locataire'!E2991),\"\",'Renseignements sur le locataire'!E2991)","v":""}]
[null,null,null,{"$f":"IF(ISBLANK('Renseignements sur le locataire'!E2992),\"\",'Renseignements sur le locataire'!E2992)","v":""}]
[null,null,null,{"$f":"IF(ISBLANK('Renseignements sur le locataire'!E2993),\"\",'Renseignements sur le locataire'!E2993)","v":""}]
[null,null,null,{"$f":"IF(ISBLANK('Renseignements sur le locataire'!E2994),\"\",'Renseignements sur le locataire'!E2994)","v":""}]
[null,null,null,{"$f":"IF(ISBLANK('Renseignements sur le locataire'!E2995),\"\",'Renseignements sur le locataire'!E2995)","v":""}]
[null,null,null,{"$f":"IF(ISBLANK('Renseignements sur le locataire'!E2996),\"\",'Renseignements sur le locataire'!E2996)","v":""}]
[null,null,null,{"$f":"IF(ISBLANK('Renseignements sur le locataire'!E2997),\"\",'Renseignements sur le locataire'!E2997)","v":""}]
[null,null,null,{"$f":"IF(ISBLANK('Renseignements sur le locataire'!E2998),\"\",'Renseignements sur le locataire'!E2998)","v":""}]
[null,null,null,{"$f":"IF(ISBLANK('Renseignements sur le locataire'!E2999),\"\",'Renseignements sur le locataire'!E2999)","v":""}]
[null,null,null,{"$f":"IF(ISBLANK('Renseignements sur le locataire'!E3000),\"\",'Renseignements sur le locataire'!E3000)","v":""}]
[null,null,null,{"$f":"IF(ISBLANK('Renseignements sur le locataire'!E3001),\"\",'Renseignements sur le locataire'!E3001)","v":""}]
[null,null,null,{"$f":"IF(ISBLANK('Renseignements sur le locataire'!E3002),\"\",'Renseignements sur le locataire'!E3002)","v":""}]
[null,null,null,{"$f":"IF(ISBLANK('Renseignements sur le locataire'!E3003),\"\",'Renseignements sur le locataire'!E3003)","v":""}]
[null,null,null,{"$f":"IF(ISBLANK('Renseignements sur le locataire'!E3004),\"\",'Renseignements sur le locataire'!E3004)","v":""}]
[null,null,null,{"$f":"IF(ISBLANK('Renseignements sur le locataire'!E3005),\"\",'Renseignements sur le locataire'!E3005)","v":""}]
[null,null,null,{"$f":"IF(ISBLANK('Renseignements sur le locataire'!E3006),\"\",'Renseignements sur le locataire'!E3006)","v":""}]
[null,null,null,{"$f":"IF(ISBLANK('Renseignements sur le locataire'!E3007),\"\",'Renseignements sur le locataire'!E3007)","v":""}]
[null,null,null,{"$f":"IF(ISBLANK('Renseignements sur le locataire'!E3008),\"\",'Renseignements sur le locataire'!E3008)","v":""}]
[null,null,null,{"$f":"IF(ISBLANK('Renseignements sur le locataire'!E3009),\"\",'Renseignements sur le locataire'!E3009)","v":""}]
[null,null,null,{"$f":"IF(ISBLANK('Renseignements sur le locataire'!E3010),\"\",'Renseignements sur le locataire'!E3010)","v":""}]
[null,null,null,{"$f":"IF(ISBLANK('Renseignements sur le locataire'!E3011),\"\",'Renseignements sur le locataire'!E3011)","v":""}]
[null,null,null,{"$f":"IF(ISBLANK('Renseignements sur le locataire'!E3012),\"\",'Renseignements sur le locataire'!E3012)","v":""}]
[null,null,null,{"$f":"IF(ISBLANK('Renseignements sur le locataire'!E3013),\"\",'Renseignements sur le locataire'!E3013)","v":""}]
[null,null,null,{"$f":"IF(ISBLANK('Renseignements sur le locataire'!E3014),\"\",'Renseignements sur le locataire'!E3014)","v":""}]
[null,null,null,{"$f":"IF(ISBLANK('Renseignements sur le locataire'!E3015),\"\",'Renseignements sur le locataire'!E3015)","v":""}]
[null,null,null,{"$f":"IF(ISBLANK('Renseignements sur le locataire'!E3016),\"\",'Renseignements sur le locataire'!E3016)","v":""}]
[null,null,null,{"$f":"IF(ISBLANK('Renseignements sur le locataire'!E3017),\"\",'Renseignements sur le locataire'!E3017)","v":""}]
[null,null,null,{"$f":"IF(ISBLANK('Renseignements sur le locataire'!E3018),\"\",'Renseignements sur le locataire'!E3018)","v":""}]
[null,null,null,{"$f":"IF(ISBLANK('Renseignements sur le locataire'!E3019),\"\",'Renseignements sur le locataire'!E3019)","v":""}]
[null,null,null,{"$f":"IF(ISBLANK('Renseignements sur le locataire'!E3020),\"\",'Renseignements sur le locataire'!E3020)","v":""}]
[null,null,null,{"$f":"IF(ISBLANK('Renseignements sur le locataire'!E3021),\"\",'Renseignements sur le locataire'!E3021)","v":""}]
[null,null,null,{"$f":"IF(ISBLANK('Renseignements sur le locataire'!E3022),\"\",'Renseignements sur le locataire'!E3022)","v":""}]
[null,null,null,{"$f":"IF(ISBLANK('Renseignements sur le locataire'!E3023),\"\",'Renseignements sur le locataire'!E3023)","v":""}]
[null,null,null,{"$f":"IF(ISBLANK('Renseignements sur le locataire'!E3024),\"\",'Renseignements sur le locataire'!E3024)","v":""}]
[null,null,null,{"$f":"IF(ISBLANK('Renseignements sur le locataire'!E3025),\"\",'Renseignements sur le locataire'!E3025)","v":""}]
[null,null,null,{"$f":"IF(ISBLANK('Renseignements sur le locataire'!E3026),\"\",'Renseignements sur le locataire'!E3026)","v":""}]
[null,null,null,{"$f":"IF(ISBLANK('Renseignements sur le locataire'!E3027),\"\",'Renseignements sur le locataire'!E3027)","v":""}]
[null,null,null,{"$f":"IF(ISBLANK('Renseignements sur le locataire'!E3028),\"\",'Renseignements sur le locataire'!E3028)","v":""}]
[null,null,null,{"$f":"IF(ISBLANK('Renseignements sur le locataire'!E3029),\"\",'Renseignements sur le locataire'!E3029)","v":""}]
[null,null,null,{"$f":"IF(ISBLANK('Renseignements sur le locataire'!E3030),\"\",'Renseignements sur le locataire'!E3030)","v":""}]
[null,null,null,{"$f":"IF(ISBLANK('Renseignements sur le locataire'!E3031),\"\",'Renseignements sur le locataire'!E3031)","v":""}]
[null,null,null,{"$f":"IF(ISBLANK('Renseignements sur le locataire'!E3032),\"\",'Renseignements sur le locataire'!E3032)","v":""}]
[null,null,null,{"$f":"IF(ISBLANK('Renseignements sur le locataire'!E3033),\"\",'Renseignements sur le locataire'!E3033)","v":""}]
[null,null,null,{"$f":"IF(ISBLANK('Renseignements sur le locataire'!E3034),\"\",'Renseignements sur le locataire'!E3034)","v":""}]
[null,null,null,{"$f":"IF(ISBLANK('Renseignements sur le locataire'!E3035),\"\",'Renseignements sur le locataire'!E3035)","v":""}]
[null,null,null,{"$f":"IF(ISBLANK('Renseignements sur le locataire'!E3036),\"\",'Renseignements sur le locataire'!E3036)","v":""}]
[null,null,null,{"$f":"IF(ISBLANK('Renseignements sur le locataire'!E3037),\"\",'Renseignements sur le locataire'!E3037)","v":""}]
[null,null,null,{"$f":"IF(ISBLANK('Renseignements sur le locataire'!E3038),\"\",'Renseignements sur le locataire'!E3038)","v":""}]
[null,null,null,{"$f":"IF(ISBLANK('Renseignements sur le locataire'!E3039),\"\",'Renseignements sur le locataire'!E3039)","v":""}]
[null,null,null,{"$f":"IF(ISBLANK('Renseignements sur le locataire'!E3040),\"\",'Renseignements sur le locataire'!E3040)","v":""}]
[null,null,null,{"$f":"IF(ISBLANK('Renseignements sur le locataire'!E3041),\"\",'Renseignements sur le locataire'!E3041)","v":""}]
[null,null,null,{"$f":"IF(ISBLANK('Renseignements sur le locataire'!E3042),\"\",'Renseignements sur le locataire'!E3042)","v":""}]
[null,null,null,{"$f":"IF(ISBLANK('Renseignements sur le locataire'!E3043),\"\",'Renseignements sur le locataire'!E3043)","v":""}]
[null,null,null,{"$f":"IF(ISBLANK('Renseignements sur le locataire'!E3044),\"\",'Renseignements sur le locataire'!E3044)","v":""}]
[null,null,null,{"$f":"IF(ISBLANK('Renseignements sur le locataire'!E3045),\"\",'Renseignements sur le locataire'!E3045)","v":""}]
[null,null,null,{"$f":"IF(ISBLANK('Renseignements sur le locataire'!E3046),\"\",'Renseignements sur le locataire'!E3046)","v":""}]
[null,null,null,{"$f":"IF(ISBLANK('Renseignements sur le locataire'!E3047),\"\",'Renseignements sur le locataire'!E3047)","v":""}]
[null,null,null,{"$f":"IF(ISBLANK('Renseignements sur le locataire'!E3048),\"\",'Renseignements sur le locataire'!E3048)","v":""}]
[null,null,null,{"$f":"IF(ISBLANK('Renseignements sur le locataire'!E3049),\"\",'Renseignements sur le locataire'!E3049)","v":""}]
[null,null,null,{"$f":"IF(ISBLANK('Renseignements sur le locataire'!E3050),\"\",'Renseignements sur le locataire'!E3050)","v":""}]
[null,null,null,{"$f":"IF(ISBLANK('Renseignements sur le locataire'!E3051),\"\",'Renseignements sur le locataire'!E3051)","v":""}]
[null,null,null,{"$f":"IF(ISBLANK('Renseignements sur le locataire'!E3052),\"\",'Renseignements sur le locataire'!E3052)","v":""}]
[null,null,null,{"$f":"IF(ISBLANK('Renseignements sur le locataire'!E3053),\"\",'Renseignements sur le locataire'!E3053)","v":""}]
[null,null,null,{"$f":"IF(ISBLANK('Renseignements sur le locataire'!E3054),\"\",'Renseignements sur le locataire'!E3054)","v":""}]
[null,null,null,{"$f":"IF(ISBLANK('Renseignements sur le locataire'!E3055),\"\",'Renseignements sur le locataire'!E3055)","v":""}]
[null,null,null,{"$f":"IF(ISBLANK('Renseignements sur le locataire'!E3056),\"\",'Renseignements sur le locataire'!E3056)","v":""}]
[null,null,null,{"$f":"IF(ISBLANK('Renseignements sur le locataire'!E3057),\"\",'Renseignements sur le locataire'!E3057)","v":""}]
[null,null,null,{"$f":"IF(ISBLANK('Renseignements sur le locataire'!E3058),\"\",'Renseignements sur le locataire'!E3058)","v":""}]
[null,null,null,{"$f":"IF(ISBLANK('Renseignements sur le locataire'!E3059),\"\",'Renseignements sur le locataire'!E3059)","v":""}]
[null,null,null,{"$f":"IF(ISBLANK('Renseignements sur le locataire'!E3060),\"\",'Renseignements sur le locataire'!E3060)","v":""}]
[null,null,null,{"$f":"IF(ISBLANK('Renseignements sur le locataire'!E3061),\"\",'Renseignements sur le locataire'!E3061)","v":""}]
[null,null,null,{"$f":"IF(ISBLANK('Renseignements sur le locataire'!E3062),\"\",'Renseignements sur le locataire'!E3062)","v":""}]
[null,null,null,{"$f":"IF(ISBLANK('Renseignements sur le locataire'!E3063),\"\",'Renseignements sur le locataire'!E3063)","v":""}]
[null,null,null,{"$f":"IF(ISBLANK('Renseignements sur le locataire'!E3064),\"\",'Renseignements sur le locataire'!E3064)","v":""}]
[null,null,null,{"$f":"IF(ISBLANK('Renseignements sur le locataire'!E3065),\"\",'Renseignements sur le locataire'!E3065)","v":""}]
[null,null,null,{"$f":"IF(ISBLANK('Renseignements sur le locataire'!E3066),\"\",'Renseignements sur le locataire'!E3066)","v":""}]
[null,null,null,{"$f":"IF(ISBLANK('Renseignements sur le locataire'!E3067),\"\",'Renseignements sur le locataire'!E3067)","v":""}]
[null,null,null,{"$f":"IF(ISBLANK('Renseignements sur le locataire'!E3068),\"\",'Renseignements sur le locataire'!E3068)","v":""}]
[null,null,null,{"$f":"IF(ISBLANK('Renseignements sur le locataire'!E3069),\"\",'Renseignements sur le locataire'!E3069)","v":""}]
[null,null,null,{"$f":"IF(ISBLANK('Renseignements sur le locataire'!E3070),\"\",'Renseignements sur le locataire'!E3070)","v":""}]
[null,null,null,{"$f":"IF(ISBLANK('Renseignements sur le locataire'!E3071),\"\",'Renseignements sur le locataire'!E3071)","v":""}]
[null,null,null,{"$f":"IF(ISBLANK('Renseignements sur le locataire'!E3072),\"\",'Renseignements sur le locataire'!E3072)","v":""}]
[null,null,null,{"$f":"IF(ISBLANK('Renseignements sur le locataire'!E3073),\"\",'Renseignements sur le locataire'!E3073)","v":""}]
[null,null,null,{"$f":"IF(ISBLANK('Renseignements sur le locataire'!E3074),\"\",'Renseignements sur le locataire'!E3074)","v":""}]
[null,null,null,{"$f":"IF(ISBLANK('Renseignements sur le locataire'!E3075),\"\",'Renseignements sur le locataire'!E3075)","v":""}]
[null,null,null,{"$f":"IF(ISBLANK('Renseignements sur le locataire'!E3076),\"\",'Renseignements sur le locataire'!E3076)","v":""}]
[null,null,null,{"$f":"IF(ISBLANK('Renseignements sur le locataire'!E3077),\"\",'Renseignements sur le locataire'!E3077)","v":""}]
[null,null,null,{"$f":"IF(ISBLANK('Renseignements sur le locataire'!E3078),\"\",'Renseignements sur le locataire'!E3078)","v":""}]
[null,null,null,{"$f":"IF(ISBLANK('Renseignements sur le locataire'!E3079),\"\",'Renseignements sur le locataire'!E3079)","v":""}]
[null,null,null,{"$f":"IF(ISBLANK('Renseignements sur le locataire'!E3080),\"\",'Renseignements sur le locataire'!E3080)","v":""}]
[null,null,null,{"$f":"IF(ISBLANK('Renseignements sur le locataire'!E3081),\"\",'Renseignements sur le locataire'!E3081)","v":""}]
[null,null,null,{"$f":"IF(ISBLANK('Renseignements sur le locataire'!E3082),\"\",'Renseignements sur le locataire'!E3082)","v":""}]
[null,null,null,{"$f":"IF(ISBLANK('Renseignements sur le locataire'!E3083),\"\",'Renseignements sur le locataire'!E3083)","v":""}]
[null,null,null,{"$f":"IF(ISBLANK('Renseignements sur le locataire'!E3084),\"\",'Renseignements sur le locataire'!E3084)","v":""}]
[null,null,null,{"$f":"IF(ISBLANK('Renseignements sur le locataire'!E3085),\"\",'Renseignements sur le locataire'!E3085)","v":""}]
[null,null,null,{"$f":"IF(ISBLANK('Renseignements sur le locataire'!E3086),\"\",'Renseignements sur le locataire'!E3086)","v":""}]
[null,null,null,{"$f":"IF(ISBLANK('Renseignements sur le locataire'!E3087),\"\",'Renseignements sur le locataire'!E3087)","v":""}]
[null,null,null,{"$f":"IF(ISBLANK('Renseignements sur le locataire'!E3088),\"\",'Renseignements sur le locataire'!E3088)","v":""}]
[null,null,null,{"$f":"IF(ISBLANK('Renseignements sur le locataire'!E3089),\"\",'Renseignements sur le locataire'!E3089)","v":""}]
[null,null,null,{"$f":"IF(ISBLANK('Renseignements sur le locataire'!E3090),\"\",'Renseignements sur le locataire'!E3090)","v":""}]
[null,null,null,{"$f":"IF(ISBLANK('Renseignements sur le locataire'!E3091),\"\",'Renseignements sur le locataire'!E3091)","v":""}]
[null,null,null,{"$f":"IF(ISBLANK('Renseignements sur le locataire'!E3092),\"\",'Renseignements sur le locataire'!E3092)","v":""}]
[null,null,null,{"$f":"IF(ISBLANK('Renseignements sur le locataire'!E3093),\"\",'Renseignements sur le locataire'!E3093)","v":""}]
[null,null,null,{"$f":"IF(ISBLANK('Renseignements sur le locataire'!E3094),\"\",'Renseignements sur le locataire'!E3094)","v":""}]
[null,null,null,{"$f":"IF(ISBLANK('Renseignements sur le locataire'!E3095),\"\",'Renseignements sur le locataire'!E3095)","v":""}]
[null,null,null,{"$f":"IF(ISBLANK('Renseignements sur le locataire'!E3096),\"\",'Renseignements sur le locataire'!E3096)","v":""}]
[null,null,null,{"$f":"IF(ISBLANK('Renseignements sur le locataire'!E3097),\"\",'Renseignements sur le locataire'!E3097)","v":""}]
[null,null,null,{"$f":"IF(ISBLANK('Renseignements sur le locataire'!E3098),\"\",'Renseignements sur le locataire'!E3098)","v":""}]
[null,null,null,{"$f":"IF(ISBLANK('Renseignements sur le locataire'!E3099),\"\",'Renseignements sur le locataire'!E3099)","v":""}]
[null,null,null,{"$f":"IF(ISBLANK('Renseignements sur le locataire'!E3100),\"\",'Renseignements sur le locataire'!E3100)","v":""}]
[null,null,null,{"$f":"IF(ISBLANK('Renseignements sur le locataire'!E3101),\"\",'Renseignements sur le locataire'!E3101)","v":""}]
[null,null,null,{"$f":"IF(ISBLANK('Renseignements sur le locataire'!E3102),\"\",'Renseignements sur le locataire'!E3102)","v":""}]
[null,null,null,{"$f":"IF(ISBLANK('Renseignements sur le locataire'!E3103),\"\",'Renseignements sur le locataire'!E3103)","v":""}]
[null,null,null,{"$f":"IF(ISBLANK('Renseignements sur le locataire'!E3104),\"\",'Renseignements sur le locataire'!E3104)","v":""}]
[null,null,null,{"$f":"IF(ISBLANK('Renseignements sur le locataire'!E3105),\"\",'Renseignements sur le locataire'!E3105)","v":""}]
[null,null,null,{"$f":"IF(ISBLANK('Renseignements sur le locataire'!E3106),\"\",'Renseignements sur le locataire'!E3106)","v":""}]
[null,null,null,{"$f":"IF(ISBLANK('Renseignements sur le locataire'!E3107),\"\",'Renseignements sur le locataire'!E3107)","v":""}]
[null,null,null,{"$f":"IF(ISBLANK('Renseignements sur le locataire'!E3108),\"\",'Renseignements sur le locataire'!E3108)","v":""}]
[null,null,null,{"$f":"IF(ISBLANK('Renseignements sur le locataire'!E3109),\"\",'Renseignements sur le locataire'!E3109)","v":""}]
[null,null,null,{"$f":"IF(ISBLANK('Renseignements sur le locataire'!E3110),\"\",'Renseignements sur le locataire'!E3110)","v":""}]
[null,null,null,{"$f":"IF(ISBLANK('Renseignements sur le locataire'!E3111),\"\",'Renseignements sur le locataire'!E3111)","v":""}]
[null,null,null,{"$f":"IF(ISBLANK('Renseignements sur le locataire'!E3112),\"\",'Renseignements sur le locataire'!E3112)","v":""}]
[null,null,null,{"$f":"IF(ISBLANK('Renseignements sur le locataire'!E3113),\"\",'Renseignements sur le locataire'!E3113)","v":""}]
[null,null,null,{"$f":"IF(ISBLANK('Renseignements sur le locataire'!E3114),\"\",'Renseignements sur le locataire'!E3114)","v":""}]
[null,null,null,{"$f":"IF(ISBLANK('Renseignements sur le locataire'!E3115),\"\",'Renseignements sur le locataire'!E3115)","v":""}]
[null,null,null,{"$f":"IF(ISBLANK('Renseignements sur le locataire'!E3116),\"\",'Renseignements sur le locataire'!E3116)","v":""}]
[null,null,null,{"$f":"IF(ISBLANK('Renseignements sur le locataire'!E3117),\"\",'Renseignements sur le locataire'!E3117)","v":""}]
[null,null,null,{"$f":"IF(ISBLANK('Renseignements sur le locataire'!E3118),\"\",'Renseignements sur le locataire'!E3118)","v":""}]
[null,null,null,{"$f":"IF(ISBLANK('Renseignements sur le locataire'!E3119),\"\",'Renseignements sur le locataire'!E3119)","v":""}]
[null,null,null,{"$f":"IF(ISBLANK('Renseignements sur le locataire'!E3120),\"\",'Renseignements sur le locataire'!E3120)","v":""}]
[null,null,null,{"$f":"IF(ISBLANK('Renseignements sur le locataire'!E3121),\"\",'Renseignements sur le locataire'!E3121)","v":""}]
[null,null,null,{"$f":"IF(ISBLANK('Renseignements sur le locataire'!E3122),\"\",'Renseignements sur le locataire'!E3122)","v":""}]
[null,null,null,{"$f":"IF(ISBLANK('Renseignements sur le locataire'!E3123),\"\",'Renseignements sur le locataire'!E3123)","v":""}]
[null,null,null,{"$f":"IF(ISBLANK('Renseignements sur le locataire'!E3124),\"\",'Renseignements sur le locataire'!E3124)","v":""}]
[null,null,null,{"$f":"IF(ISBLANK('Renseignements sur le locataire'!E3125),\"\",'Renseignements sur le locataire'!E3125)","v":""}]
[null,null,null,{"$f":"IF(ISBLANK('Renseignements sur le locataire'!E3126),\"\",'Renseignements sur le locataire'!E3126)","v":""}]
[null,null,null,{"$f":"IF(ISBLANK('Renseignements sur le locataire'!E3127),\"\",'Renseignements sur le locataire'!E3127)","v":""}]
[null,null,null,{"$f":"IF(ISBLANK('Renseignements sur le locataire'!E3128),\"\",'Renseignements sur le locataire'!E3128)","v":""}]
[null,null,null,{"$f":"IF(ISBLANK('Renseignements sur le locataire'!E3129),\"\",'Renseignements sur le locataire'!E3129)","v":""}]
[null,null,null,{"$f":"IF(ISBLANK('Renseignements sur le locataire'!E3130),\"\",'Renseignements sur le locataire'!E3130)","v":""}]
[null,null,null,{"$f":"IF(ISBLANK('Renseignements sur le locataire'!E3131),\"\",'Renseignements sur le locataire'!E3131)","v":""}]
[null,null,null,{"$f":"IF(ISBLANK('Renseignements sur le locataire'!E3132),\"\",'Renseignements sur le locataire'!E3132)","v":""}]
[null,null,null,{"$f":"IF(ISBLANK('Renseignements sur le locataire'!E3133),\"\",'Renseignements sur le locataire'!E3133)","v":""}]
[null,null,null,{"$f":"IF(ISBLANK('Renseignements sur le locataire'!E3134),\"\",'Renseignements sur le locataire'!E3134)","v":""}]
[null,null,null,{"$f":"IF(ISBLANK('Renseignements sur le locataire'!E3135),\"\",'Renseignements sur le locataire'!E3135)","v":""}]
[null,null,null,{"$f":"IF(ISBLANK('Renseignements sur le locataire'!E3136),\"\",'Renseignements sur le locataire'!E3136)","v":""}]
[null,null,null,{"$f":"IF(ISBLANK('Renseignements sur le locataire'!E3137),\"\",'Renseignements sur le locataire'!E3137)","v":""}]
[null,null,null,{"$f":"IF(ISBLANK('Renseignements sur le locataire'!E3138),\"\",'Renseignements sur le locataire'!E3138)","v":""}]
[null,null,null,{"$f":"IF(ISBLANK('Renseignements sur le locataire'!E3139),\"\",'Renseignements sur le locataire'!E3139)","v":""}]
[null,null,null,{"$f":"IF(ISBLANK('Renseignements sur le locataire'!E3140),\"\",'Renseignements sur le locataire'!E3140)","v":""}]
[null,null,null,{"$f":"IF(ISBLANK('Renseignements sur le locataire'!E3141),\"\",'Renseignements sur le locataire'!E3141)","v":""}]
[null,null,null,{"$f":"IF(ISBLANK('Renseignements sur le locataire'!E3142),\"\",'Renseignements sur le locataire'!E3142)","v":""}]
[null,null,null,{"$f":"IF(ISBLANK('Renseignements sur le locataire'!E3143),\"\",'Renseignements sur le locataire'!E3143)","v":""}]
[null,null,null,{"$f":"IF(ISBLANK('Renseignements sur le locataire'!E3144),\"\",'Renseignements sur le locataire'!E3144)","v":""}]
[null,null,null,{"$f":"IF(ISBLANK('Renseignements sur le locataire'!E3145),\"\",'Renseignements sur le locataire'!E3145)","v":""}]
[null,null,null,{"$f":"IF(ISBLANK('Renseignements sur le locataire'!E3146),\"\",'Renseignements sur le locataire'!E3146)","v":""}]
[null,null,null,{"$f":"IF(ISBLANK('Renseignements sur le locataire'!E3147),\"\",'Renseignements sur le locataire'!E3147)","v":""}]
[null,null,null,{"$f":"IF(ISBLANK('Renseignements sur le locataire'!E3148),\"\",'Renseignements sur le locataire'!E3148)","v":""}]
[null,null,null,{"$f":"IF(ISBLANK('Renseignements sur le locataire'!E3149),\"\",'Renseignements sur le locataire'!E3149)","v":""}]
[null,null,null,{"$f":"IF(ISBLANK('Renseignements sur le locataire'!E3150),\"\",'Renseignements sur le locataire'!E3150)","v":""}]
[null,null,null,{"$f":"IF(ISBLANK('Renseignements sur le locataire'!E3151),\"\",'Renseignements sur le locataire'!E3151)","v":""}]
[null,null,null,{"$f":"IF(ISBLANK('Renseignements sur le locataire'!E3152),\"\",'Renseignements sur le locataire'!E3152)","v":""}]
[null,null,null,{"$f":"IF(ISBLANK('Renseignements sur le locataire'!E3153),\"\",'Renseignements sur le locataire'!E3153)","v":""}]
[null,null,null,{"$f":"IF(ISBLANK('Renseignements sur le locataire'!E3154),\"\",'Renseignements sur le locataire'!E3154)","v":""}]
[null,null,null,{"$f":"IF(ISBLANK('Renseignements sur le locataire'!E3155),\"\",'Renseignements sur le locataire'!E3155)","v":""}]
[null,null,null,{"$f":"IF(ISBLANK('Renseignements sur le locataire'!E3156),\"\",'Renseignements sur le locataire'!E3156)","v":""}]
[null,null,null,{"$f":"IF(ISBLANK('Renseignements sur le locataire'!E3157),\"\",'Renseignements sur le locataire'!E3157)","v":""}]
[null,null,null,{"$f":"IF(ISBLANK('Renseignements sur le locataire'!E3158),\"\",'Renseignements sur le locataire'!E3158)","v":""}]
[null,null,null,{"$f":"IF(ISBLANK('Renseignements sur le locataire'!E3159),\"\",'Renseignements sur le locataire'!E3159)","v":""}]
[null,null,null,{"$f":"IF(ISBLANK('Renseignements sur le locataire'!E3160),\"\",'Renseignements sur le locataire'!E3160)","v":""}]
[null,null,null,{"$f":"IF(ISBLANK('Renseignements sur le locataire'!E3161),\"\",'Renseignements sur le locataire'!E3161)","v":""}]
[null,null,null,{"$f":"IF(ISBLANK('Renseignements sur le locataire'!E3162),\"\",'Renseignements sur le locataire'!E3162)","v":""}]
[null,null,null,{"$f":"IF(ISBLANK('Renseignements sur le locataire'!E3163),\"\",'Renseignements sur le locataire'!E3163)","v":""}]
[null,null,null,{"$f":"IF(ISBLANK('Renseignements sur le locataire'!E3164),\"\",'Renseignements sur le locataire'!E3164)","v":""}]
[null,null,null,{"$f":"IF(ISBLANK('Renseignements sur le locataire'!E3165),\"\",'Renseignements sur le locataire'!E3165)","v":""}]
[null,null,null,{"$f":"IF(ISBLANK('Renseignements sur le locataire'!E3166),\"\",'Renseignements sur le locataire'!E3166)","v":""}]
[null,null,null,{"$f":"IF(ISBLANK('Renseignements sur le locataire'!E3167),\"\",'Renseignements sur le locataire'!E3167)","v":""}]
[null,null,null,{"$f":"IF(ISBLANK('Renseignements sur le locataire'!E3168),\"\",'Renseignements sur le locataire'!E3168)","v":""}]
[null,null,null,{"$f":"IF(ISBLANK('Renseignements sur le locataire'!E3169),\"\",'Renseignements sur le locataire'!E3169)","v":""}]
[null,null,null,{"$f":"IF(ISBLANK('Renseignements sur le locataire'!E3170),\"\",'Renseignements sur le locataire'!E3170)","v":""}]
[null,null,null,{"$f":"IF(ISBLANK('Renseignements sur le locataire'!E3171),\"\",'Renseignements sur le locataire'!E3171)","v":""}]
[null,null,null,{"$f":"IF(ISBLANK('Renseignements sur le locataire'!E3172),\"\",'Renseignements sur le locataire'!E3172)","v":""}]
[null,null,null,{"$f":"IF(ISBLANK('Renseignements sur le locataire'!E3173),\"\",'Renseignements sur le locataire'!E3173)","v":""}]
[null,null,null,{"$f":"IF(ISBLANK('Renseignements sur le locataire'!E3174),\"\",'Renseignements sur le locataire'!E3174)","v":""}]
[null,null,null,{"$f":"IF(ISBLANK('Renseignements sur le locataire'!E3175),\"\",'Renseignements sur le locataire'!E3175)","v":""}]
[null,null,null,{"$f":"IF(ISBLANK('Renseignements sur le locataire'!E3176),\"\",'Renseignements sur le locataire'!E3176)","v":""}]
[null,null,null,{"$f":"IF(ISBLANK('Renseignements sur le locataire'!E3177),\"\",'Renseignements sur le locataire'!E3177)","v":""}]
[null,null,null,{"$f":"IF(ISBLANK('Renseignements sur le locataire'!E3178),\"\",'Renseignements sur le locataire'!E3178)","v":""}]
[null,null,null,{"$f":"IF(ISBLANK('Renseignements sur le locataire'!E3179),\"\",'Renseignements sur le locataire'!E3179)","v":""}]
[null,null,null,{"$f":"IF(ISBLANK('Renseignements sur le locataire'!E3180),\"\",'Renseignements sur le locataire'!E3180)","v":""}]
[null,null,null,{"$f":"IF(ISBLANK('Renseignements sur le locataire'!E3181),\"\",'Renseignements sur le locataire'!E3181)","v":""}]
[null,null,null,{"$f":"IF(ISBLANK('Renseignements sur le locataire'!E3182),\"\",'Renseignements sur le locataire'!E3182)","v":""}]
[null,null,null,{"$f":"IF(ISBLANK('Renseignements sur le locataire'!E3183),\"\",'Renseignements sur le locataire'!E3183)","v":""}]
[null,null,null,{"$f":"IF(ISBLANK('Renseignements sur le locataire'!E3184),\"\",'Renseignements sur le locataire'!E3184)","v":""}]
[null,null,null,{"$f":"IF(ISBLANK('Renseignements sur le locataire'!E3185),\"\",'Renseignements sur le locataire'!E3185)","v":""}]
[null,null,null,{"$f":"IF(ISBLANK('Renseignements sur le locataire'!E3186),\"\",'Renseignements sur le locataire'!E3186)","v":""}]
[null,null,null,{"$f":"IF(ISBLANK('Renseignements sur le locataire'!E3187),\"\",'Renseignements sur le locataire'!E3187)","v":""}]
[null,null,null,{"$f":"IF(ISBLANK('Renseignements sur le locataire'!E3188),\"\",'Renseignements sur le locataire'!E3188)","v":""}]
[null,null,null,{"$f":"IF(ISBLANK('Renseignements sur le locataire'!E3189),\"\",'Renseignements sur le locataire'!E3189)","v":""}]
[null,null,null,{"$f":"IF(ISBLANK('Renseignements sur le locataire'!E3190),\"\",'Renseignements sur le locataire'!E3190)","v":""}]
[null,null,null,{"$f":"IF(ISBLANK('Renseignements sur le locataire'!E3191),\"\",'Renseignements sur le locataire'!E3191)","v":""}]
[null,null,null,{"$f":"IF(ISBLANK('Renseignements sur le locataire'!E3192),\"\",'Renseignements sur le locataire'!E3192)","v":""}]
[null,null,null,{"$f":"IF(ISBLANK('Renseignements sur le locataire'!E3193),\"\",'Renseignements sur le locataire'!E3193)","v":""}]
[null,null,null,{"$f":"IF(ISBLANK('Renseignements sur le locataire'!E3194),\"\",'Renseignements sur le locataire'!E3194)","v":""}]
[null,null,null,{"$f":"IF(ISBLANK('Renseignements sur le locataire'!E3195),\"\",'Renseignements sur le locataire'!E3195)","v":""}]
[null,null,null,{"$f":"IF(ISBLANK('Renseignements sur le locataire'!E3196),\"\",'Renseignements sur le locataire'!E3196)","v":""}]
[null,null,null,{"$f":"IF(ISBLANK('Renseignements sur le locataire'!E3197),\"\",'Renseignements sur le locataire'!E3197)","v":""}]
[null,null,null,{"$f":"IF(ISBLANK('Renseignements sur le locataire'!E3198),\"\",'Renseignements sur le locataire'!E3198)","v":""}]
[null,null,null,{"$f":"IF(ISBLANK('Renseignements sur le locataire'!E3199),\"\",'Renseignements sur le locataire'!E3199)","v":""}]
[null,null,null,{"$f":"IF(ISBLANK('Renseignements sur le locataire'!E3200),\"\",'Renseignements sur le locataire'!E3200)","v":""}]
[null,null,null,{"$f":"IF(ISBLANK('Renseignements sur le locataire'!E3201),\"\",'Renseignements sur le locataire'!E3201)","v":""}]
[null,null,null,{"$f":"IF(ISBLANK('Renseignements sur le locataire'!E3202),\"\",'Renseignements sur le locataire'!E3202)","v":""}]
[null,null,null,{"$f":"IF(ISBLANK('Renseignements sur le locataire'!E3203),\"\",'Renseignements sur le locataire'!E3203)","v":""}]
[null,null,null,{"$f":"IF(ISBLANK('Renseignements sur le locataire'!E3204),\"\",'Renseignements sur le locataire'!E3204)","v":""}]
[null,null,null,{"$f":"IF(ISBLANK('Renseignements sur le locataire'!E3205),\"\",'Renseignements sur le locataire'!E3205)","v":""}]
[null,null,null,{"$f":"IF(ISBLANK('Renseignements sur le locataire'!E3206),\"\",'Renseignements sur le locataire'!E3206)","v":""}]
[null,null,null,{"$f":"IF(ISBLANK('Renseignements sur le locataire'!E3207),\"\",'Renseignements sur le locataire'!E3207)","v":""}]
[null,null,null,{"$f":"IF(ISBLANK('Renseignements sur le locataire'!E3208),\"\",'Renseignements sur le locataire'!E3208)","v":""}]
[null,null,null,{"$f":"IF(ISBLANK('Renseignements sur le locataire'!E3209),\"\",'Renseignements sur le locataire'!E3209)","v":""}]
[null,null,null,{"$f":"IF(ISBLANK('Renseignements sur le locataire'!E3210),\"\",'Renseignements sur le locataire'!E3210)","v":""}]
[null,null,null,{"$f":"IF(ISBLANK('Renseignements sur le locataire'!E3211),\"\",'Renseignements sur le locataire'!E3211)","v":""}]
[null,null,null,{"$f":"IF(ISBLANK('Renseignements sur le locataire'!E3212),\"\",'Renseignements sur le locataire'!E3212)","v":""}]
[null,null,null,{"$f":"IF(ISBLANK('Renseignements sur le locataire'!E3213),\"\",'Renseignements sur le locataire'!E3213)","v":""}]
[null,null,null,{"$f":"IF(ISBLANK('Renseignements sur le locataire'!E3214),\"\",'Renseignements sur le locataire'!E3214)","v":""}]
[null,null,null,{"$f":"IF(ISBLANK('Renseignements sur le locataire'!E3215),\"\",'Renseignements sur le locataire'!E3215)","v":""}]
[null,null,null,{"$f":"IF(ISBLANK('Renseignements sur le locataire'!E3216),\"\",'Renseignements sur le locataire'!E3216)","v":""}]
[null,null,null,{"$f":"IF(ISBLANK('Renseignements sur le locataire'!E3217),\"\",'Renseignements sur le locataire'!E3217)","v":""}]
[null,null,null,{"$f":"IF(ISBLANK('Renseignements sur le locataire'!E3218),\"\",'Renseignements sur le locataire'!E3218)","v":""}]
[null,null,null,{"$f":"IF(ISBLANK('Renseignements sur le locataire'!E3219),\"\",'Renseignements sur le locataire'!E3219)","v":""}]
[null,null,null,{"$f":"IF(ISBLANK('Renseignements sur le locataire'!E3220),\"\",'Renseignements sur le locataire'!E3220)","v":""}]
[null,null,null,{"$f":"IF(ISBLANK('Renseignements sur le locataire'!E3221),\"\",'Renseignements sur le locataire'!E3221)","v":""}]
[null,null,null,{"$f":"IF(ISBLANK('Renseignements sur le locataire'!E3222),\"\",'Renseignements sur le locataire'!E3222)","v":""}]
[null,null,null,{"$f":"IF(ISBLANK('Renseignements sur le locataire'!E3223),\"\",'Renseignements sur le locataire'!E3223)","v":""}]
[null,null,null,{"$f":"IF(ISBLANK('Renseignements sur le locataire'!E3224),\"\",'Renseignements sur le locataire'!E3224)","v":""}]
[null,null,null,{"$f":"IF(ISBLANK('Renseignements sur le locataire'!E3225),\"\",'Renseignements sur le locataire'!E3225)","v":""}]
[null,null,null,{"$f":"IF(ISBLANK('Renseignements sur le locataire'!E3226),\"\",'Renseignements sur le locataire'!E3226)","v":""}]
[null,null,null,{"$f":"IF(ISBLANK('Renseignements sur le locataire'!E3227),\"\",'Renseignements sur le locataire'!E3227)","v":""}]
[null,null,null,{"$f":"IF(ISBLANK('Renseignements sur le locataire'!E3228),\"\",'Renseignements sur le locataire'!E3228)","v":""}]
[null,null,null,{"$f":"IF(ISBLANK('Renseignements sur le locataire'!E3229),\"\",'Renseignements sur le locataire'!E3229)","v":""}]
[null,null,null,{"$f":"IF(ISBLANK('Renseignements sur le locataire'!E3230),\"\",'Renseignements sur le locataire'!E3230)","v":""}]
[null,null,null,{"$f":"IF(ISBLANK('Renseignements sur le locataire'!E3231),\"\",'Renseignements sur le locataire'!E3231)","v":""}]
[null,null,null,{"$f":"IF(ISBLANK('Renseignements sur le locataire'!E3232),\"\",'Renseignements sur le locataire'!E3232)","v":""}]
[null,null,null,{"$f":"IF(ISBLANK('Renseignements sur le locataire'!E3233),\"\",'Renseignements sur le locataire'!E3233)","v":""}]
[null,null,null,{"$f":"IF(ISBLANK('Renseignements sur le locataire'!E3234),\"\",'Renseignements sur le locataire'!E3234)","v":""}]
[null,null,null,{"$f":"IF(ISBLANK('Renseignements sur le locataire'!E3235),\"\",'Renseignements sur le locataire'!E3235)","v":""}]
[null,null,null,{"$f":"IF(ISBLANK('Renseignements sur le locataire'!E3236),\"\",'Renseignements sur le locataire'!E3236)","v":""}]
[null,null,null,{"$f":"IF(ISBLANK('Renseignements sur le locataire'!E3237),\"\",'Renseignements sur le locataire'!E3237)","v":""}]
[null,null,null,{"$f":"IF(ISBLANK('Renseignements sur le locataire'!E3238),\"\",'Renseignements sur le locataire'!E3238)","v":""}]
[null,null,null,{"$f":"IF(ISBLANK('Renseignements sur le locataire'!E3239),\"\",'Renseignements sur le locataire'!E3239)","v":""}]
[null,null,null,{"$f":"IF(ISBLANK('Renseignements sur le locataire'!E3240),\"\",'Renseignements sur le locataire'!E3240)","v":""}]
[null,null,null,{"$f":"IF(ISBLANK('Renseignements sur le locataire'!E3241),\"\",'Renseignements sur le locataire'!E3241)","v":""}]
[null,null,null,{"$f":"IF(ISBLANK('Renseignements sur le locataire'!E3242),\"\",'Renseignements sur le locataire'!E3242)","v":""}]
[null,null,null,{"$f":"IF(ISBLANK('Renseignements sur le locataire'!E3243),\"\",'Renseignements sur le locataire'!E3243)","v":""}]
[null,null,null,{"$f":"IF(ISBLANK('Renseignements sur le locataire'!E3244),\"\",'Renseignements sur le locataire'!E3244)","v":""}]
[null,null,null,{"$f":"IF(ISBLANK('Renseignements sur le locataire'!E3245),\"\",'Renseignements sur le locataire'!E3245)","v":""}]
[null,null,null,{"$f":"IF(ISBLANK('Renseignements sur le locataire'!E3246),\"\",'Renseignements sur le locataire'!E3246)","v":""}]
[null,null,null,{"$f":"IF(ISBLANK('Renseignements sur le locataire'!E3247),\"\",'Renseignements sur le locataire'!E3247)","v":""}]
[null,null,null,{"$f":"IF(ISBLANK('Renseignements sur le locataire'!E3248),\"\",'Renseignements sur le locataire'!E3248)","v":""}]
[null,null,null,{"$f":"IF(ISBLANK('Renseignements sur le locataire'!E3249),\"\",'Renseignements sur le locataire'!E3249)","v":""}]
[null,null,null,{"$f":"IF(ISBLANK('Renseignements sur le locataire'!E3250),\"\",'Renseignements sur le locataire'!E3250)","v":""}]
[null,null,null,{"$f":"IF(ISBLANK('Renseignements sur le locataire'!E3251),\"\",'Renseignements sur le locataire'!E3251)","v":""}]
[null,null,null,{"$f":"IF(ISBLANK('Renseignements sur le locataire'!E3252),\"\",'Renseignements sur le locataire'!E3252)","v":""}]
[null,null,null,{"$f":"IF(ISBLANK('Renseignements sur le locataire'!E3253),\"\",'Renseignements sur le locataire'!E3253)","v":""}]
[null,null,null,{"$f":"IF(ISBLANK('Renseignements sur le locataire'!E3254),\"\",'Renseignements sur le locataire'!E3254)","v":""}]
[null,null,null,{"$f":"IF(ISBLANK('Renseignements sur le locataire'!E3255),\"\",'Renseignements sur le locataire'!E3255)","v":""}]
[null,null,null,{"$f":"IF(ISBLANK('Renseignements sur le locataire'!E3256),\"\",'Renseignements sur le locataire'!E3256)","v":""}]
[null,null,null,{"$f":"IF(ISBLANK('Renseignements sur le locataire'!E3257),\"\",'Renseignements sur le locataire'!E3257)","v":""}]
[null,null,null,{"$f":"IF(ISBLANK('Renseignements sur le locataire'!E3258),\"\",'Renseignements sur le locataire'!E3258)","v":""}]
[null,null,null,{"$f":"IF(ISBLANK('Renseignements sur le locataire'!E3259),\"\",'Renseignements sur le locataire'!E3259)","v":""}]
[null,null,null,{"$f":"IF(ISBLANK('Renseignements sur le locataire'!E3260),\"\",'Renseignements sur le locataire'!E3260)","v":""}]
[null,null,null,{"$f":"IF(ISBLANK('Renseignements sur le locataire'!E3261),\"\",'Renseignements sur le locataire'!E3261)","v":""}]
[null,null,null,{"$f":"IF(ISBLANK('Renseignements sur le locataire'!E3262),\"\",'Renseignements sur le locataire'!E3262)","v":""}]
[null,null,null,{"$f":"IF(ISBLANK('Renseignements sur le locataire'!E3263),\"\",'Renseignements sur le locataire'!E3263)","v":""}]
[null,null,null,{"$f":"IF(ISBLANK('Renseignements sur le locataire'!E3264),\"\",'Renseignements sur le locataire'!E3264)","v":""}]
[null,null,null,{"$f":"IF(ISBLANK('Renseignements sur le locataire'!E3265),\"\",'Renseignements sur le locataire'!E3265)","v":""}]
[null,null,null,{"$f":"IF(ISBLANK('Renseignements sur le locataire'!E3266),\"\",'Renseignements sur le locataire'!E3266)","v":""}]
[null,null,null,{"$f":"IF(ISBLANK('Renseignements sur le locataire'!E3267),\"\",'Renseignements sur le locataire'!E3267)","v":""}]
[null,null,null,{"$f":"IF(ISBLANK('Renseignements sur le locataire'!E3268),\"\",'Renseignements sur le locataire'!E3268)","v":""}]
[null,null,null,{"$f":"IF(ISBLANK('Renseignements sur le locataire'!E3269),\"\",'Renseignements sur le locataire'!E3269)","v":""}]
[null,null,null,{"$f":"IF(ISBLANK('Renseignements sur le locataire'!E3270),\"\",'Renseignements sur le locataire'!E3270)","v":""}]
[null,null,null,{"$f":"IF(ISBLANK('Renseignements sur le locataire'!E3271),\"\",'Renseignements sur le locataire'!E3271)","v":""}]
[null,null,null,{"$f":"IF(ISBLANK('Renseignements sur le locataire'!E3272),\"\",'Renseignements sur le locataire'!E3272)","v":""}]
[null,null,null,{"$f":"IF(ISBLANK('Renseignements sur le locataire'!E3273),\"\",'Renseignements sur le locataire'!E3273)","v":""}]
[null,null,null,{"$f":"IF(ISBLANK('Renseignements sur le locataire'!E3274),\"\",'Renseignements sur le locataire'!E3274)","v":""}]
[null,null,null,{"$f":"IF(ISBLANK('Renseignements sur le locataire'!E3275),\"\",'Renseignements sur le locataire'!E3275)","v":""}]
[null,null,null,{"$f":"IF(ISBLANK('Renseignements sur le locataire'!E3276),\"\",'Renseignements sur le locataire'!E3276)","v":""}]
[null,null,null,{"$f":"IF(ISBLANK('Renseignements sur le locataire'!E3277),\"\",'Renseignements sur le locataire'!E3277)","v":""}]
[null,null,null,{"$f":"IF(ISBLANK('Renseignements sur le locataire'!E3278),\"\",'Renseignements sur le locataire'!E3278)","v":""}]
[null,null,null,{"$f":"IF(ISBLANK('Renseignements sur le locataire'!E3279),\"\",'Renseignements sur le locataire'!E3279)","v":""}]
[null,null,null,{"$f":"IF(ISBLANK('Renseignements sur le locataire'!E3280),\"\",'Renseignements sur le locataire'!E3280)","v":""}]
[null,null,null,{"$f":"IF(ISBLANK('Renseignements sur le locataire'!E3281),\"\",'Renseignements sur le locataire'!E3281)","v":""}]
[null,null,null,{"$f":"IF(ISBLANK('Renseignements sur le locataire'!E3282),\"\",'Renseignements sur le locataire'!E3282)","v":""}]
[null,null,null,{"$f":"IF(ISBLANK('Renseignements sur le locataire'!E3283),\"\",'Renseignements sur le locataire'!E3283)","v":""}]
[null,null,null,{"$f":"IF(ISBLANK('Renseignements sur le locataire'!E3284),\"\",'Renseignements sur le locataire'!E3284)","v":""}]
[null,null,null,{"$f":"IF(ISBLANK('Renseignements sur le locataire'!E3285),\"\",'Renseignements sur le locataire'!E3285)","v":""}]
[null,null,null,{"$f":"IF(ISBLANK('Renseignements sur le locataire'!E3286),\"\",'Renseignements sur le locataire'!E3286)","v":""}]
[null,null,null,{"$f":"IF(ISBLANK('Renseignements sur le locataire'!E3287),\"\",'Renseignements sur le locataire'!E3287)","v":""}]
[null,null,null,{"$f":"IF(ISBLANK('Renseignements sur le locataire'!E3288),\"\",'Renseignements sur le locataire'!E3288)","v":""}]
[null,null,null,{"$f":"IF(ISBLANK('Renseignements sur le locataire'!E3289),\"\",'Renseignements sur le locataire'!E3289)","v":""}]
[null,null,null,{"$f":"IF(ISBLANK('Renseignements sur le locataire'!E3290),\"\",'Renseignements sur le locataire'!E3290)","v":""}]
[null,null,null,{"$f":"IF(ISBLANK('Renseignements sur le locataire'!E3291),\"\",'Renseignements sur le locataire'!E3291)","v":""}]
[null,null,null,{"$f":"IF(ISBLANK('Renseignements sur le locataire'!E3292),\"\",'Renseignements sur le locataire'!E3292)","v":""}]
[null,null,null,{"$f":"IF(ISBLANK('Renseignements sur le locataire'!E3293),\"\",'Renseignements sur le locataire'!E3293)","v":""}]
[null,null,null,{"$f":"IF(ISBLANK('Renseignements sur le locataire'!E3294),\"\",'Renseignements sur le locataire'!E3294)","v":""}]
[null,null,null,{"$f":"IF(ISBLANK('Renseignements sur le locataire'!E3295),\"\",'Renseignements sur le locataire'!E3295)","v":""}]
[null,null,null,{"$f":"IF(ISBLANK('Renseignements sur le locataire'!E3296),\"\",'Renseignements sur le locataire'!E3296)","v":""}]
[null,null,null,{"$f":"IF(ISBLANK('Renseignements sur le locataire'!E3297),\"\",'Renseignements sur le locataire'!E3297)","v":""}]
[null,null,null,{"$f":"IF(ISBLANK('Renseignements sur le locataire'!E3298),\"\",'Renseignements sur le locataire'!E3298)","v":""}]
[null,null,null,{"$f":"IF(ISBLANK('Renseignements sur le locataire'!E3299),\"\",'Renseignements sur le locataire'!E3299)","v":""}]
[null,null,null,{"$f":"IF(ISBLANK('Renseignements sur le locataire'!E3300),\"\",'Renseignements sur le locataire'!E3300)","v":""}]
[null,null,null,{"$f":"IF(ISBLANK('Renseignements sur le locataire'!E3301),\"\",'Renseignements sur le locataire'!E3301)","v":""}]
[null,null,null,{"$f":"IF(ISBLANK('Renseignements sur le locataire'!E3302),\"\",'Renseignements sur le locataire'!E3302)","v":""}]
[null,null,null,{"$f":"IF(ISBLANK('Renseignements sur le locataire'!E3303),\"\",'Renseignements sur le locataire'!E3303)","v":""}]
[null,null,null,{"$f":"IF(ISBLANK('Renseignements sur le locataire'!E3304),\"\",'Renseignements sur le locataire'!E3304)","v":""}]
[null,null,null,{"$f":"IF(ISBLANK('Renseignements sur le locataire'!E3305),\"\",'Renseignements sur le locataire'!E3305)","v":""}]
[null,null,null,{"$f":"IF(ISBLANK('Renseignements sur le locataire'!E3306),\"\",'Renseignements sur le locataire'!E3306)","v":""}]
[null,null,null,{"$f":"IF(ISBLANK('Renseignements sur le locataire'!E3307),\"\",'Renseignements sur le locataire'!E3307)","v":""}]
[null,null,null,{"$f":"IF(ISBLANK('Renseignements sur le locataire'!E3308),\"\",'Renseignements sur le locataire'!E3308)","v":""}]
[null,null,null,{"$f":"IF(ISBLANK('Renseignements sur le locataire'!E3309),\"\",'Renseignements sur le locataire'!E3309)","v":""}]
[null,null,null,{"$f":"IF(ISBLANK('Renseignements sur le locataire'!E3310),\"\",'Renseignements sur le locataire'!E3310)","v":""}]
[null,null,null,{"$f":"IF(ISBLANK('Renseignements sur le locataire'!E3311),\"\",'Renseignements sur le locataire'!E3311)","v":""}]
[null,null,null,{"$f":"IF(ISBLANK('Renseignements sur le locataire'!E3312),\"\",'Renseignements sur le locataire'!E3312)","v":""}]
[null,null,null,{"$f":"IF(ISBLANK('Renseignements sur le locataire'!E3313),\"\",'Renseignements sur le locataire'!E3313)","v":""}]
[null,null,null,{"$f":"IF(ISBLANK('Renseignements sur le locataire'!E3314),\"\",'Renseignements sur le locataire'!E3314)","v":""}]
[null,null,null,{"$f":"IF(ISBLANK('Renseignements sur le locataire'!E3315),\"\",'Renseignements sur le locataire'!E3315)","v":""}]
[null,null,null,{"$f":"IF(ISBLANK('Renseignements sur le locataire'!E3316),\"\",'Renseignements sur le locataire'!E3316)","v":""}]
[null,null,null,{"$f":"IF(ISBLANK('Renseignements sur le locataire'!E3317),\"\",'Renseignements sur le locataire'!E3317)","v":""}]
[null,null,null,{"$f":"IF(ISBLANK('Renseignements sur le locataire'!E3318),\"\",'Renseignements sur le locataire'!E3318)","v":""}]
[null,null,null,{"$f":"IF(ISBLANK('Renseignements sur le locataire'!E3319),\"\",'Renseignements sur le locataire'!E3319)","v":""}]
[null,null,null,{"$f":"IF(ISBLANK('Renseignements sur le locataire'!E3320),\"\",'Renseignements sur le locataire'!E3320)","v":""}]
[null,null,null,{"$f":"IF(ISBLANK('Renseignements sur le locataire'!E3321),\"\",'Renseignements sur le locataire'!E3321)","v":""}]
[null,null,null,{"$f":"IF(ISBLANK('Renseignements sur le locataire'!E3322),\"\",'Renseignements sur le locataire'!E3322)","v":""}]
[null,null,null,{"$f":"IF(ISBLANK('Renseignements sur le locataire'!E3323),\"\",'Renseignements sur le locataire'!E3323)","v":""}]
[null,null,null,{"$f":"IF(ISBLANK('Renseignements sur le locataire'!E3324),\"\",'Renseignements sur le locataire'!E3324)","v":""}]
[null,null,null,{"$f":"IF(ISBLANK('Renseignements sur le locataire'!E3325),\"\",'Renseignements sur le locataire'!E3325)","v":""}]
[null,null,null,{"$f":"IF(ISBLANK('Renseignements sur le locataire'!E3326),\"\",'Renseignements sur le locataire'!E3326)","v":""}]
[null,null,null,{"$f":"IF(ISBLANK('Renseignements sur le locataire'!E3327),\"\",'Renseignements sur le locataire'!E3327)","v":""}]
[null,null,null,{"$f":"IF(ISBLANK('Renseignements sur le locataire'!E3328),\"\",'Renseignements sur le locataire'!E3328)","v":""}]
[null,null,null,{"$f":"IF(ISBLANK('Renseignements sur le locataire'!E3329),\"\",'Renseignements sur le locataire'!E3329)","v":""}]
[null,null,null,{"$f":"IF(ISBLANK('Renseignements sur le locataire'!E3330),\"\",'Renseignements sur le locataire'!E3330)","v":""}]
[null,null,null,{"$f":"IF(ISBLANK('Renseignements sur le locataire'!E3331),\"\",'Renseignements sur le locataire'!E3331)","v":""}]
[null,null,null,{"$f":"IF(ISBLANK('Renseignements sur le locataire'!E3332),\"\",'Renseignements sur le locataire'!E3332)","v":""}]
[null,null,null,{"$f":"IF(ISBLANK('Renseignements sur le locataire'!E3333),\"\",'Renseignements sur le locataire'!E3333)","v":""}]
[null,null,null,{"$f":"IF(ISBLANK('Renseignements sur le locataire'!E3334),\"\",'Renseignements sur le locataire'!E3334)","v":""}]
[null,null,null,{"$f":"IF(ISBLANK('Renseignements sur le locataire'!E3335),\"\",'Renseignements sur le locataire'!E3335)","v":""}]
[null,null,null,{"$f":"IF(ISBLANK('Renseignements sur le locataire'!E3336),\"\",'Renseignements sur le locataire'!E3336)","v":""}]
[null,null,null,{"$f":"IF(ISBLANK('Renseignements sur le locataire'!E3337),\"\",'Renseignements sur le locataire'!E3337)","v":""}]
[null,null,null,{"$f":"IF(ISBLANK('Renseignements sur le locataire'!E3338),\"\",'Renseignements sur le locataire'!E3338)","v":""}]
[null,null,null,{"$f":"IF(ISBLANK('Renseignements sur le locataire'!E3339),\"\",'Renseignements sur le locataire'!E3339)","v":""}]
[null,null,null,{"$f":"IF(ISBLANK('Renseignements sur le locataire'!E3340),\"\",'Renseignements sur le locataire'!E3340)","v":""}]
[null,null,null,{"$f":"IF(ISBLANK('Renseignements sur le locataire'!E3341),\"\",'Renseignements sur le locataire'!E3341)","v":""}]
[null,null,null,{"$f":"IF(ISBLANK('Renseignements sur le locataire'!E3342),\"\",'Renseignements sur le locataire'!E3342)","v":""}]
[null,null,null,{"$f":"IF(ISBLANK('Renseignements sur le locataire'!E3343),\"\",'Renseignements sur le locataire'!E3343)","v":""}]
[null,null,null,{"$f":"IF(ISBLANK('Renseignements sur le locataire'!E3344),\"\",'Renseignements sur le locataire'!E3344)","v":""}]
[null,null,null,{"$f":"IF(ISBLANK('Renseignements sur le locataire'!E3345),\"\",'Renseignements sur le locataire'!E3345)","v":""}]
[null,null,null,{"$f":"IF(ISBLANK('Renseignements sur le locataire'!E3346),\"\",'Renseignements sur le locataire'!E3346)","v":""}]
[null,null,null,{"$f":"IF(ISBLANK('Renseignements sur le locataire'!E3347),\"\",'Renseignements sur le locataire'!E3347)","v":""}]
[null,null,null,{"$f":"IF(ISBLANK('Renseignements sur le locataire'!E3348),\"\",'Renseignements sur le locataire'!E3348)","v":""}]
[null,null,null,{"$f":"IF(ISBLANK('Renseignements sur le locataire'!E3349),\"\",'Renseignements sur le locataire'!E3349)","v":""}]
[null,null,null,{"$f":"IF(ISBLANK('Renseignements sur le locataire'!E3350),\"\",'Renseignements sur le locataire'!E3350)","v":""}]
[null,null,null,{"$f":"IF(ISBLANK('Renseignements sur le locataire'!E3351),\"\",'Renseignements sur le locataire'!E3351)","v":""}]
[null,null,null,{"$f":"IF(ISBLANK('Renseignements sur le locataire'!E3352),\"\",'Renseignements sur le locataire'!E3352)","v":""}]
[null,null,null,{"$f":"IF(ISBLANK('Renseignements sur le locataire'!E3353),\"\",'Renseignements sur le locataire'!E3353)","v":""}]
[null,null,null,{"$f":"IF(ISBLANK('Renseignements sur le locataire'!E3354),\"\",'Renseignements sur le locataire'!E3354)","v":""}]
[null,null,null,{"$f":"IF(ISBLANK('Renseignements sur le locataire'!E3355),\"\",'Renseignements sur le locataire'!E3355)","v":""}]
[null,null,null,{"$f":"IF(ISBLANK('Renseignements sur le locataire'!E3356),\"\",'Renseignements sur le locataire'!E3356)","v":""}]
[null,null,null,{"$f":"IF(ISBLANK('Renseignements sur le locataire'!E3357),\"\",'Renseignements sur le locataire'!E3357)","v":""}]
[null,null,null,{"$f":"IF(ISBLANK('Renseignements sur le locataire'!E3358),\"\",'Renseignements sur le locataire'!E3358)","v":""}]
[null,null,null,{"$f":"IF(ISBLANK('Renseignements sur le locataire'!E3359),\"\",'Renseignements sur le locataire'!E3359)","v":""}]
[null,null,null,{"$f":"IF(ISBLANK('Renseignements sur le locataire'!E3360),\"\",'Renseignements sur le locataire'!E3360)","v":""}]
[null,null,null,{"$f":"IF(ISBLANK('Renseignements sur le locataire'!E3361),\"\",'Renseignements sur le locataire'!E3361)","v":""}]
[null,null,null,{"$f":"IF(ISBLANK('Renseignements sur le locataire'!E3362),\"\",'Renseignements sur le locataire'!E3362)","v":""}]
[null,null,null,{"$f":"IF(ISBLANK('Renseignements sur le locataire'!E3363),\"\",'Renseignements sur le locataire'!E3363)","v":""}]
[null,null,null,{"$f":"IF(ISBLANK('Renseignements sur le locataire'!E3364),\"\",'Renseignements sur le locataire'!E3364)","v":""}]
[null,null,null,{"$f":"IF(ISBLANK('Renseignements sur le locataire'!E3365),\"\",'Renseignements sur le locataire'!E3365)","v":""}]
[null,null,null,{"$f":"IF(ISBLANK('Renseignements sur le locataire'!E3366),\"\",'Renseignements sur le locataire'!E3366)","v":""}]
[null,null,null,{"$f":"IF(ISBLANK('Renseignements sur le locataire'!E3367),\"\",'Renseignements sur le locataire'!E3367)","v":""}]
[null,null,null,{"$f":"IF(ISBLANK('Renseignements sur le locataire'!E3368),\"\",'Renseignements sur le locataire'!E3368)","v":""}]
[null,null,null,{"$f":"IF(ISBLANK('Renseignements sur le locataire'!E3369),\"\",'Renseignements sur le locataire'!E3369)","v":""}]
[null,null,null,{"$f":"IF(ISBLANK('Renseignements sur le locataire'!E3370),\"\",'Renseignements sur le locataire'!E3370)","v":""}]
[null,null,null,{"$f":"IF(ISBLANK('Renseignements sur le locataire'!E3371),\"\",'Renseignements sur le locataire'!E3371)","v":""}]
[null,null,null,{"$f":"IF(ISBLANK('Renseignements sur le locataire'!E3372),\"\",'Renseignements sur le locataire'!E3372)","v":""}]
[null,null,null,{"$f":"IF(ISBLANK('Renseignements sur le locataire'!E3373),\"\",'Renseignements sur le locataire'!E3373)","v":""}]
[null,null,null,{"$f":"IF(ISBLANK('Renseignements sur le locataire'!E3374),\"\",'Renseignements sur le locataire'!E3374)","v":""}]
[null,null,null,{"$f":"IF(ISBLANK('Renseignements sur le locataire'!E3375),\"\",'Renseignements sur le locataire'!E3375)","v":""}]
[null,null,null,{"$f":"IF(ISBLANK('Renseignements sur le locataire'!E3376),\"\",'Renseignements sur le locataire'!E3376)","v":""}]
[null,null,null,{"$f":"IF(ISBLANK('Renseignements sur le locataire'!E3377),\"\",'Renseignements sur le locataire'!E3377)","v":""}]
[null,null,null,{"$f":"IF(ISBLANK('Renseignements sur le locataire'!E3378),\"\",'Renseignements sur le locataire'!E3378)","v":""}]
[null,null,null,{"$f":"IF(ISBLANK('Renseignements sur le locataire'!E3379),\"\",'Renseignements sur le locataire'!E3379)","v":""}]
[null,null,null,{"$f":"IF(ISBLANK('Renseignements sur le locataire'!E3380),\"\",'Renseignements sur le locataire'!E3380)","v":""}]
[null,null,null,{"$f":"IF(ISBLANK('Renseignements sur le locataire'!E3381),\"\",'Renseignements sur le locataire'!E3381)","v":""}]
[null,null,null,{"$f":"IF(ISBLANK('Renseignements sur le locataire'!E3382),\"\",'Renseignements sur le locataire'!E3382)","v":""}]
[null,null,null,{"$f":"IF(ISBLANK('Renseignements sur le locataire'!E3383),\"\",'Renseignements sur le locataire'!E3383)","v":""}]
[null,null,null,{"$f":"IF(ISBLANK('Renseignements sur le locataire'!E3384),\"\",'Renseignements sur le locataire'!E3384)","v":""}]
[null,null,null,{"$f":"IF(ISBLANK('Renseignements sur le locataire'!E3385),\"\",'Renseignements sur le locataire'!E3385)","v":""}]
[null,null,null,{"$f":"IF(ISBLANK('Renseignements sur le locataire'!E3386),\"\",'Renseignements sur le locataire'!E3386)","v":""}]
[null,null,null,{"$f":"IF(ISBLANK('Renseignements sur le locataire'!E3387),\"\",'Renseignements sur le locataire'!E3387)","v":""}]
[null,null,null,{"$f":"IF(ISBLANK('Renseignements sur le locataire'!E3388),\"\",'Renseignements sur le locataire'!E3388)","v":""}]
[null,null,null,{"$f":"IF(ISBLANK('Renseignements sur le locataire'!E3389),\"\",'Renseignements sur le locataire'!E3389)","v":""}]
[null,null,null,{"$f":"IF(ISBLANK('Renseignements sur le locataire'!E3390),\"\",'Renseignements sur le locataire'!E3390)","v":""}]
[null,null,null,{"$f":"IF(ISBLANK('Renseignements sur le locataire'!E3391),\"\",'Renseignements sur le locataire'!E3391)","v":""}]
[null,null,null,{"$f":"IF(ISBLANK('Renseignements sur le locataire'!E3392),\"\",'Renseignements sur le locataire'!E3392)","v":""}]
[null,null,null,{"$f":"IF(ISBLANK('Renseignements sur le locataire'!E3393),\"\",'Renseignements sur le locataire'!E3393)","v":""}]
[null,null,null,{"$f":"IF(ISBLANK('Renseignements sur le locataire'!E3394),\"\",'Renseignements sur le locataire'!E3394)","v":""}]
[null,null,null,{"$f":"IF(ISBLANK('Renseignements sur le locataire'!E3395),\"\",'Renseignements sur le locataire'!E3395)","v":""}]
[null,null,null,{"$f":"IF(ISBLANK('Renseignements sur le locataire'!E3396),\"\",'Renseignements sur le locataire'!E3396)","v":""}]
[null,null,null,{"$f":"IF(ISBLANK('Renseignements sur le locataire'!E3397),\"\",'Renseignements sur le locataire'!E3397)","v":""}]
[null,null,null,{"$f":"IF(ISBLANK('Renseignements sur le locataire'!E3398),\"\",'Renseignements sur le locataire'!E3398)","v":""}]
[null,null,null,{"$f":"IF(ISBLANK('Renseignements sur le locataire'!E3399),\"\",'Renseignements sur le locataire'!E3399)","v":""}]
[null,null,null,{"$f":"IF(ISBLANK('Renseignements sur le locataire'!E3400),\"\",'Renseignements sur le locataire'!E3400)","v":""}]
[null,null,null,{"$f":"IF(ISBLANK('Renseignements sur le locataire'!E3401),\"\",'Renseignements sur le locataire'!E3401)","v":""}]
[null,null,null,{"$f":"IF(ISBLANK('Renseignements sur le locataire'!E3402),\"\",'Renseignements sur le locataire'!E3402)","v":""}]
[null,null,null,{"$f":"IF(ISBLANK('Renseignements sur le locataire'!E3403),\"\",'Renseignements sur le locataire'!E3403)","v":""}]
[null,null,null,{"$f":"IF(ISBLANK('Renseignements sur le locataire'!E3404),\"\",'Renseignements sur le locataire'!E3404)","v":""}]
[null,null,null,{"$f":"IF(ISBLANK('Renseignements sur le locataire'!E3405),\"\",'Renseignements sur le locataire'!E3405)","v":""}]
[null,null,null,{"$f":"IF(ISBLANK('Renseignements sur le locataire'!E3406),\"\",'Renseignements sur le locataire'!E3406)","v":""}]
[null,null,null,{"$f":"IF(ISBLANK('Renseignements sur le locataire'!E3407),\"\",'Renseignements sur le locataire'!E3407)","v":""}]
[null,null,null,{"$f":"IF(ISBLANK('Renseignements sur le locataire'!E3408),\"\",'Renseignements sur le locataire'!E3408)","v":""}]
[null,null,null,{"$f":"IF(ISBLANK('Renseignements sur le locataire'!E3409),\"\",'Renseignements sur le locataire'!E3409)","v":""}]
[null,null,null,{"$f":"IF(ISBLANK('Renseignements sur le locataire'!E3410),\"\",'Renseignements sur le locataire'!E3410)","v":""}]
[null,null,null,{"$f":"IF(ISBLANK('Renseignements sur le locataire'!E3411),\"\",'Renseignements sur le locataire'!E3411)","v":""}]
[null,null,null,{"$f":"IF(ISBLANK('Renseignements sur le locataire'!E3412),\"\",'Renseignements sur le locataire'!E3412)","v":""}]
[null,null,null,{"$f":"IF(ISBLANK('Renseignements sur le locataire'!E3413),\"\",'Renseignements sur le locataire'!E3413)","v":""}]
[null,null,null,{"$f":"IF(ISBLANK('Renseignements sur le locataire'!E3414),\"\",'Renseignements sur le locataire'!E3414)","v":""}]
[null,null,null,{"$f":"IF(ISBLANK('Renseignements sur le locataire'!E3415),\"\",'Renseignements sur le locataire'!E3415)","v":""}]
[null,null,null,{"$f":"IF(ISBLANK('Renseignements sur le locataire'!E3416),\"\",'Renseignements sur le locataire'!E3416)","v":""}]
[null,null,null,{"$f":"IF(ISBLANK('Renseignements sur le locataire'!E3417),\"\",'Renseignements sur le locataire'!E3417)","v":""}]
[null,null,null,{"$f":"IF(ISBLANK('Renseignements sur le locataire'!E3418),\"\",'Renseignements sur le locataire'!E3418)","v":""}]
[null,null,null,{"$f":"IF(ISBLANK('Renseignements sur le locataire'!E3419),\"\",'Renseignements sur le locataire'!E3419)","v":""}]
[null,null,null,{"$f":"IF(ISBLANK('Renseignements sur le locataire'!E3420),\"\",'Renseignements sur le locataire'!E3420)","v":""}]
[null,null,null,{"$f":"IF(ISBLANK('Renseignements sur le locataire'!E3421),\"\",'Renseignements sur le locataire'!E3421)","v":""}]
[null,null,null,{"$f":"IF(ISBLANK('Renseignements sur le locataire'!E3422),\"\",'Renseignements sur le locataire'!E3422)","v":""}]
[null,null,null,{"$f":"IF(ISBLANK('Renseignements sur le locataire'!E3423),\"\",'Renseignements sur le locataire'!E3423)","v":""}]
[null,null,null,{"$f":"IF(ISBLANK('Renseignements sur le locataire'!E3424),\"\",'Renseignements sur le locataire'!E3424)","v":""}]
[null,null,null,{"$f":"IF(ISBLANK('Renseignements sur le locataire'!E3425),\"\",'Renseignements sur le locataire'!E3425)","v":""}]
[null,null,null,{"$f":"IF(ISBLANK('Renseignements sur le locataire'!E3426),\"\",'Renseignements sur le locataire'!E3426)","v":""}]
[null,null,null,{"$f":"IF(ISBLANK('Renseignements sur le locataire'!E3427),\"\",'Renseignements sur le locataire'!E3427)","v":""}]
[null,null,null,{"$f":"IF(ISBLANK('Renseignements sur le locataire'!E3428),\"\",'Renseignements sur le locataire'!E3428)","v":""}]
[null,null,null,{"$f":"IF(ISBLANK('Renseignements sur le locataire'!E3429),\"\",'Renseignements sur le locataire'!E3429)","v":""}]
[null,null,null,{"$f":"IF(ISBLANK('Renseignements sur le locataire'!E3430),\"\",'Renseignements sur le locataire'!E3430)","v":""}]
[null,null,null,{"$f":"IF(ISBLANK('Renseignements sur le locataire'!E3431),\"\",'Renseignements sur le locataire'!E3431)","v":""}]
[null,null,null,{"$f":"IF(ISBLANK('Renseignements sur le locataire'!E3432),\"\",'Renseignements sur le locataire'!E3432)","v":""}]
[null,null,null,{"$f":"IF(ISBLANK('Renseignements sur le locataire'!E3433),\"\",'Renseignements sur le locataire'!E3433)","v":""}]
[null,null,null,{"$f":"IF(ISBLANK('Renseignements sur le locataire'!E3434),\"\",'Renseignements sur le locataire'!E3434)","v":""}]
[null,null,null,{"$f":"IF(ISBLANK('Renseignements sur le locataire'!E3435),\"\",'Renseignements sur le locataire'!E3435)","v":""}]
[null,null,null,{"$f":"IF(ISBLANK('Renseignements sur le locataire'!E3436),\"\",'Renseignements sur le locataire'!E3436)","v":""}]
[null,null,null,{"$f":"IF(ISBLANK('Renseignements sur le locataire'!E3437),\"\",'Renseignements sur le locataire'!E3437)","v":""}]
[null,null,null,{"$f":"IF(ISBLANK('Renseignements sur le locataire'!E3438),\"\",'Renseignements sur le locataire'!E3438)","v":""}]
[null,null,null,{"$f":"IF(ISBLANK('Renseignements sur le locataire'!E3439),\"\",'Renseignements sur le locataire'!E3439)","v":""}]
[null,null,null,{"$f":"IF(ISBLANK('Renseignements sur le locataire'!E3440),\"\",'Renseignements sur le locataire'!E3440)","v":""}]
[null,null,null,{"$f":"IF(ISBLANK('Renseignements sur le locataire'!E3441),\"\",'Renseignements sur le locataire'!E3441)","v":""}]
[null,null,null,{"$f":"IF(ISBLANK('Renseignements sur le locataire'!E3442),\"\",'Renseignements sur le locataire'!E3442)","v":""}]
[null,null,null,{"$f":"IF(ISBLANK('Renseignements sur le locataire'!E3443),\"\",'Renseignements sur le locataire'!E3443)","v":""}]
[null,null,null,{"$f":"IF(ISBLANK('Renseignements sur le locataire'!E3444),\"\",'Renseignements sur le locataire'!E3444)","v":""}]
[null,null,null,{"$f":"IF(ISBLANK('Renseignements sur le locataire'!E3445),\"\",'Renseignements sur le locataire'!E3445)","v":""}]
[null,null,null,{"$f":"IF(ISBLANK('Renseignements sur le locataire'!E3446),\"\",'Renseignements sur le locataire'!E3446)","v":""}]
[null,null,null,{"$f":"IF(ISBLANK('Renseignements sur le locataire'!E3447),\"\",'Renseignements sur le locataire'!E3447)","v":""}]
[null,null,null,{"$f":"IF(ISBLANK('Renseignements sur le locataire'!E3448),\"\",'Renseignements sur le locataire'!E3448)","v":""}]
[null,null,null,{"$f":"IF(ISBLANK('Renseignements sur le locataire'!E3449),\"\",'Renseignements sur le locataire'!E3449)","v":""}]
[null,null,null,{"$f":"IF(ISBLANK('Renseignements sur le locataire'!E3450),\"\",'Renseignements sur le locataire'!E3450)","v":""}]
[null,null,null,{"$f":"IF(ISBLANK('Renseignements sur le locataire'!E3451),\"\",'Renseignements sur le locataire'!E3451)","v":""}]
[null,null,null,{"$f":"IF(ISBLANK('Renseignements sur le locataire'!E3452),\"\",'Renseignements sur le locataire'!E3452)","v":""}]
[null,null,null,{"$f":"IF(ISBLANK('Renseignements sur le locataire'!E3453),\"\",'Renseignements sur le locataire'!E3453)","v":""}]
[null,null,null,{"$f":"IF(ISBLANK('Renseignements sur le locataire'!E3454),\"\",'Renseignements sur le locataire'!E3454)","v":""}]
[null,null,null,{"$f":"IF(ISBLANK('Renseignements sur le locataire'!E3455),\"\",'Renseignements sur le locataire'!E3455)","v":""}]
[null,null,null,{"$f":"IF(ISBLANK('Renseignements sur le locataire'!E3456),\"\",'Renseignements sur le locataire'!E3456)","v":""}]
[null,null,null,{"$f":"IF(ISBLANK('Renseignements sur le locataire'!E3457),\"\",'Renseignements sur le locataire'!E3457)","v":""}]
[null,null,null,{"$f":"IF(ISBLANK('Renseignements sur le locataire'!E3458),\"\",'Renseignements sur le locataire'!E3458)","v":""}]
[null,null,null,{"$f":"IF(ISBLANK('Renseignements sur le locataire'!E3459),\"\",'Renseignements sur le locataire'!E3459)","v":""}]
[null,null,null,{"$f":"IF(ISBLANK('Renseignements sur le locataire'!E3460),\"\",'Renseignements sur le locataire'!E3460)","v":""}]
[null,null,null,{"$f":"IF(ISBLANK('Renseignements sur le locataire'!E3461),\"\",'Renseignements sur le locataire'!E3461)","v":""}]
[null,null,null,{"$f":"IF(ISBLANK('Renseignements sur le locataire'!E3462),\"\",'Renseignements sur le locataire'!E3462)","v":""}]
[null,null,null,{"$f":"IF(ISBLANK('Renseignements sur le locataire'!E3463),\"\",'Renseignements sur le locataire'!E3463)","v":""}]
[null,null,null,{"$f":"IF(ISBLANK('Renseignements sur le locataire'!E3464),\"\",'Renseignements sur le locataire'!E3464)","v":""}]
[null,null,null,{"$f":"IF(ISBLANK('Renseignements sur le locataire'!E3465),\"\",'Renseignements sur le locataire'!E3465)","v":""}]
[null,null,null,{"$f":"IF(ISBLANK('Renseignements sur le locataire'!E3466),\"\",'Renseignements sur le locataire'!E3466)","v":""}]
[null,null,null,{"$f":"IF(ISBLANK('Renseignements sur le locataire'!E3467),\"\",'Renseignements sur le locataire'!E3467)","v":""}]
[null,null,null,{"$f":"IF(ISBLANK('Renseignements sur le locataire'!E3468),\"\",'Renseignements sur le locataire'!E3468)","v":""}]
[null,null,null,{"$f":"IF(ISBLANK('Renseignements sur le locataire'!E3469),\"\",'Renseignements sur le locataire'!E3469)","v":""}]
[null,null,null,{"$f":"IF(ISBLANK('Renseignements sur le locataire'!E3470),\"\",'Renseignements sur le locataire'!E3470)","v":""}]
[null,null,null,{"$f":"IF(ISBLANK('Renseignements sur le locataire'!E3471),\"\",'Renseignements sur le locataire'!E3471)","v":""}]
[null,null,null,{"$f":"IF(ISBLANK('Renseignements sur le locataire'!E3472),\"\",'Renseignements sur le locataire'!E3472)","v":""}]
[null,null,null,{"$f":"IF(ISBLANK('Renseignements sur le locataire'!E3473),\"\",'Renseignements sur le locataire'!E3473)","v":""}]
[null,null,null,{"$f":"IF(ISBLANK('Renseignements sur le locataire'!E3474),\"\",'Renseignements sur le locataire'!E3474)","v":""}]
[null,null,null,{"$f":"IF(ISBLANK('Renseignements sur le locataire'!E3475),\"\",'Renseignements sur le locataire'!E3475)","v":""}]
[null,null,null,{"$f":"IF(ISBLANK('Renseignements sur le locataire'!E3476),\"\",'Renseignements sur le locataire'!E3476)","v":""}]
[null,null,null,{"$f":"IF(ISBLANK('Renseignements sur le locataire'!E3477),\"\",'Renseignements sur le locataire'!E3477)","v":""}]
[null,null,null,{"$f":"IF(ISBLANK('Renseignements sur le locataire'!E3478),\"\",'Renseignements sur le locataire'!E3478)","v":""}]
[null,null,null,{"$f":"IF(ISBLANK('Renseignements sur le locataire'!E3479),\"\",'Renseignements sur le locataire'!E3479)","v":""}]
[null,null,null,{"$f":"IF(ISBLANK('Renseignements sur le locataire'!E3480),\"\",'Renseignements sur le locataire'!E3480)","v":""}]
[null,null,null,{"$f":"IF(ISBLANK('Renseignements sur le locataire'!E3481),\"\",'Renseignements sur le locataire'!E3481)","v":""}]
[null,null,null,{"$f":"IF(ISBLANK('Renseignements sur le locataire'!E3482),\"\",'Renseignements sur le locataire'!E3482)","v":""}]
[null,null,null,{"$f":"IF(ISBLANK('Renseignements sur le locataire'!E3483),\"\",'Renseignements sur le locataire'!E3483)","v":""}]
[null,null,null,{"$f":"IF(ISBLANK('Renseignements sur le locataire'!E3484),\"\",'Renseignements sur le locataire'!E3484)","v":""}]
[null,null,null,{"$f":"IF(ISBLANK('Renseignements sur le locataire'!E3485),\"\",'Renseignements sur le locataire'!E3485)","v":""}]
[null,null,null,{"$f":"IF(ISBLANK('Renseignements sur le locataire'!E3486),\"\",'Renseignements sur le locataire'!E3486)","v":""}]
[null,null,null,{"$f":"IF(ISBLANK('Renseignements sur le locataire'!E3487),\"\",'Renseignements sur le locataire'!E3487)","v":""}]
[null,null,null,{"$f":"IF(ISBLANK('Renseignements sur le locataire'!E3488),\"\",'Renseignements sur le locataire'!E3488)","v":""}]
[null,null,null,{"$f":"IF(ISBLANK('Renseignements sur le locataire'!E3489),\"\",'Renseignements sur le locataire'!E3489)","v":""}]
[null,null,null,{"$f":"IF(ISBLANK('Renseignements sur le locataire'!E3490),\"\",'Renseignements sur le locataire'!E3490)","v":""}]
[null,null,null,{"$f":"IF(ISBLANK('Renseignements sur le locataire'!E3491),\"\",'Renseignements sur le locataire'!E3491)","v":""}]
[null,null,null,{"$f":"IF(ISBLANK('Renseignements sur le locataire'!E3492),\"\",'Renseignements sur le locataire'!E3492)","v":""}]
[null,null,null,{"$f":"IF(ISBLANK('Renseignements sur le locataire'!E3493),\"\",'Renseignements sur le locataire'!E3493)","v":""}]
[null,null,null,{"$f":"IF(ISBLANK('Renseignements sur le locataire'!E3494),\"\",'Renseignements sur le locataire'!E3494)","v":""}]
[null,null,null,{"$f":"IF(ISBLANK('Renseignements sur le locataire'!E3495),\"\",'Renseignements sur le locataire'!E3495)","v":""}]
[null,null,null,{"$f":"IF(ISBLANK('Renseignements sur le locataire'!E3496),\"\",'Renseignements sur le locataire'!E3496)","v":""}]
[null,null,null,{"$f":"IF(ISBLANK('Renseignements sur le locataire'!E3497),\"\",'Renseignements sur le locataire'!E3497)","v":""}]
[null,null,null,{"$f":"IF(ISBLANK('Renseignements sur le locataire'!E3498),\"\",'Renseignements sur le locataire'!E3498)","v":""}]
[null,null,null,{"$f":"IF(ISBLANK('Renseignements sur le locataire'!E3499),\"\",'Renseignements sur le locataire'!E3499)","v":""}]
[null,null,null,{"$f":"IF(ISBLANK('Renseignements sur le locataire'!E3500),\"\",'Renseignements sur le locataire'!E3500)","v":""}]
[null,null,null,{"$f":"IF(ISBLANK('Renseignements sur le locataire'!E3501),\"\",'Renseignements sur le locataire'!E3501)","v":""}]
[null,null,null,{"$f":"IF(ISBLANK('Renseignements sur le locataire'!E3502),\"\",'Renseignements sur le locataire'!E3502)","v":""}]
[null,null,null,{"$f":"IF(ISBLANK('Renseignements sur le locataire'!E3503),\"\",'Renseignements sur le locataire'!E3503)","v":""}]
[null,null,null,{"$f":"IF(ISBLANK('Renseignements sur le locataire'!E3504),\"\",'Renseignements sur le locataire'!E3504)","v":""}]
[null,null,null,{"$f":"IF(ISBLANK('Renseignements sur le locataire'!E3505),\"\",'Renseignements sur le locataire'!E3505)","v":""}]
[null,null,null,{"$f":"IF(ISBLANK('Renseignements sur le locataire'!E3506),\"\",'Renseignements sur le locataire'!E3506)","v":""}]
[null,null,null,{"$f":"IF(ISBLANK('Renseignements sur le locataire'!E3507),\"\",'Renseignements sur le locataire'!E3507)","v":""}]
[null,null,null,{"$f":"IF(ISBLANK('Renseignements sur le locataire'!E3508),\"\",'Renseignements sur le locataire'!E3508)","v":""}]
[null,null,null,{"$f":"IF(ISBLANK('Renseignements sur le locataire'!E3509),\"\",'Renseignements sur le locataire'!E3509)","v":""}]
[null,null,null,{"$f":"IF(ISBLANK('Renseignements sur le locataire'!E3510),\"\",'Renseignements sur le locataire'!E3510)","v":""}]
[null,null,null,{"$f":"IF(ISBLANK('Renseignements sur le locataire'!E3511),\"\",'Renseignements sur le locataire'!E3511)","v":""}]
[null,null,null,{"$f":"IF(ISBLANK('Renseignements sur le locataire'!E3512),\"\",'Renseignements sur le locataire'!E3512)","v":""}]
[null,null,null,{"$f":"IF(ISBLANK('Renseignements sur le locataire'!E3513),\"\",'Renseignements sur le locataire'!E3513)","v":""}]
[null,null,null,{"$f":"IF(ISBLANK('Renseignements sur le locataire'!E3514),\"\",'Renseignements sur le locataire'!E3514)","v":""}]
[null,null,null,{"$f":"IF(ISBLANK('Renseignements sur le locataire'!E3515),\"\",'Renseignements sur le locataire'!E3515)","v":""}]
[null,null,null,{"$f":"IF(ISBLANK('Renseignements sur le locataire'!E3516),\"\",'Renseignements sur le locataire'!E3516)","v":""}]
[null,null,null,{"$f":"IF(ISBLANK('Renseignements sur le locataire'!E3517),\"\",'Renseignements sur le locataire'!E3517)","v":""}]
[null,null,null,{"$f":"IF(ISBLANK('Renseignements sur le locataire'!E3518),\"\",'Renseignements sur le locataire'!E3518)","v":""}]
[null,null,null,{"$f":"IF(ISBLANK('Renseignements sur le locataire'!E3519),\"\",'Renseignements sur le locataire'!E3519)","v":""}]
[null,null,null,{"$f":"IF(ISBLANK('Renseignements sur le locataire'!E3520),\"\",'Renseignements sur le locataire'!E3520)","v":""}]
[null,null,null,{"$f":"IF(ISBLANK('Renseignements sur le locataire'!E3521),\"\",'Renseignements sur le locataire'!E3521)","v":""}]
[null,null,null,{"$f":"IF(ISBLANK('Renseignements sur le locataire'!E3522),\"\",'Renseignements sur le locataire'!E3522)","v":""}]
[null,null,null,{"$f":"IF(ISBLANK('Renseignements sur le locataire'!E3523),\"\",'Renseignements sur le locataire'!E3523)","v":""}]
[null,null,null,{"$f":"IF(ISBLANK('Renseignements sur le locataire'!E3524),\"\",'Renseignements sur le locataire'!E3524)","v":""}]
[null,null,null,{"$f":"IF(ISBLANK('Renseignements sur le locataire'!E3525),\"\",'Renseignements sur le locataire'!E3525)","v":""}]
[null,null,null,{"$f":"IF(ISBLANK('Renseignements sur le locataire'!E3526),\"\",'Renseignements sur le locataire'!E3526)","v":""}]
[null,null,null,{"$f":"IF(ISBLANK('Renseignements sur le locataire'!E3527),\"\",'Renseignements sur le locataire'!E3527)","v":""}]
[null,null,null,{"$f":"IF(ISBLANK('Renseignements sur le locataire'!E3528),\"\",'Renseignements sur le locataire'!E3528)","v":""}]
[null,null,null,{"$f":"IF(ISBLANK('Renseignements sur le locataire'!E3529),\"\",'Renseignements sur le locataire'!E3529)","v":""}]
[null,null,null,{"$f":"IF(ISBLANK('Renseignements sur le locataire'!E3530),\"\",'Renseignements sur le locataire'!E3530)","v":""}]
[null,null,null,{"$f":"IF(ISBLANK('Renseignements sur le locataire'!E3531),\"\",'Renseignements sur le locataire'!E3531)","v":""}]
[null,null,null,{"$f":"IF(ISBLANK('Renseignements sur le locataire'!E3532),\"\",'Renseignements sur le locataire'!E3532)","v":""}]
[null,null,null,{"$f":"IF(ISBLANK('Renseignements sur le locataire'!E3533),\"\",'Renseignements sur le locataire'!E3533)","v":""}]
[null,null,null,{"$f":"IF(ISBLANK('Renseignements sur le locataire'!E3534),\"\",'Renseignements sur le locataire'!E3534)","v":""}]
[null,null,null,{"$f":"IF(ISBLANK('Renseignements sur le locataire'!E3535),\"\",'Renseignements sur le locataire'!E3535)","v":""}]
[null,null,null,{"$f":"IF(ISBLANK('Renseignements sur le locataire'!E3536),\"\",'Renseignements sur le locataire'!E3536)","v":""}]
[null,null,null,{"$f":"IF(ISBLANK('Renseignements sur le locataire'!E3537),\"\",'Renseignements sur le locataire'!E3537)","v":""}]
[null,null,null,{"$f":"IF(ISBLANK('Renseignements sur le locataire'!E3538),\"\",'Renseignements sur le locataire'!E3538)","v":""}]
[null,null,null,{"$f":"IF(ISBLANK('Renseignements sur le locataire'!E3539),\"\",'Renseignements sur le locataire'!E3539)","v":""}]
[null,null,null,{"$f":"IF(ISBLANK('Renseignements sur le locataire'!E3540),\"\",'Renseignements sur le locataire'!E3540)","v":""}]
[null,null,null,{"$f":"IF(ISBLANK('Renseignements sur le locataire'!E3541),\"\",'Renseignements sur le locataire'!E3541)","v":""}]
[null,null,null,{"$f":"IF(ISBLANK('Renseignements sur le locataire'!E3542),\"\",'Renseignements sur le locataire'!E3542)","v":""}]
[null,null,null,{"$f":"IF(ISBLANK('Renseignements sur le locataire'!E3543),\"\",'Renseignements sur le locataire'!E3543)","v":""}]
[null,null,null,{"$f":"IF(ISBLANK('Renseignements sur le locataire'!E3544),\"\",'Renseignements sur le locataire'!E3544)","v":""}]
[null,null,null,{"$f":"IF(ISBLANK('Renseignements sur le locataire'!E3545),\"\",'Renseignements sur le locataire'!E3545)","v":""}]
[null,null,null,{"$f":"IF(ISBLANK('Renseignements sur le locataire'!E3546),\"\",'Renseignements sur le locataire'!E3546)","v":""}]
[null,null,null,{"$f":"IF(ISBLANK('Renseignements sur le locataire'!E3547),\"\",'Renseignements sur le locataire'!E3547)","v":""}]
[null,null,null,{"$f":"IF(ISBLANK('Renseignements sur le locataire'!E3548),\"\",'Renseignements sur le locataire'!E3548)","v":""}]
[null,null,null,{"$f":"IF(ISBLANK('Renseignements sur le locataire'!E3549),\"\",'Renseignements sur le locataire'!E3549)","v":""}]
[null,null,null,{"$f":"IF(ISBLANK('Renseignements sur le locataire'!E3550),\"\",'Renseignements sur le locataire'!E3550)","v":""}]
[null,null,null,{"$f":"IF(ISBLANK('Renseignements sur le locataire'!E3551),\"\",'Renseignements sur le locataire'!E3551)","v":""}]
[null,null,null,{"$f":"IF(ISBLANK('Renseignements sur le locataire'!E3552),\"\",'Renseignements sur le locataire'!E3552)","v":""}]
[null,null,null,{"$f":"IF(ISBLANK('Renseignements sur le locataire'!E3553),\"\",'Renseignements sur le locataire'!E3553)","v":""}]
[null,null,null,{"$f":"IF(ISBLANK('Renseignements sur le locataire'!E3554),\"\",'Renseignements sur le locataire'!E3554)","v":""}]
[null,null,null,{"$f":"IF(ISBLANK('Renseignements sur le locataire'!E3555),\"\",'Renseignements sur le locataire'!E3555)","v":""}]
[null,null,null,{"$f":"IF(ISBLANK('Renseignements sur le locataire'!E3556),\"\",'Renseignements sur le locataire'!E3556)","v":""}]
[null,null,null,{"$f":"IF(ISBLANK('Renseignements sur le locataire'!E3557),\"\",'Renseignements sur le locataire'!E3557)","v":""}]
[null,null,null,{"$f":"IF(ISBLANK('Renseignements sur le locataire'!E3558),\"\",'Renseignements sur le locataire'!E3558)","v":""}]
[null,null,null,{"$f":"IF(ISBLANK('Renseignements sur le locataire'!E3559),\"\",'Renseignements sur le locataire'!E3559)","v":""}]
[null,null,null,{"$f":"IF(ISBLANK('Renseignements sur le locataire'!E3560),\"\",'Renseignements sur le locataire'!E3560)","v":""}]
[null,null,null,{"$f":"IF(ISBLANK('Renseignements sur le locataire'!E3561),\"\",'Renseignements sur le locataire'!E3561)","v":""}]
[null,null,null,{"$f":"IF(ISBLANK('Renseignements sur le locataire'!E3562),\"\",'Renseignements sur le locataire'!E3562)","v":""}]
[null,null,null,{"$f":"IF(ISBLANK('Renseignements sur le locataire'!E3563),\"\",'Renseignements sur le locataire'!E3563)","v":""}]
[null,null,null,{"$f":"IF(ISBLANK('Renseignements sur le locataire'!E3564),\"\",'Renseignements sur le locataire'!E3564)","v":""}]
[null,null,null,{"$f":"IF(ISBLANK('Renseignements sur le locataire'!E3565),\"\",'Renseignements sur le locataire'!E3565)","v":""}]
[null,null,null,{"$f":"IF(ISBLANK('Renseignements sur le locataire'!E3566),\"\",'Renseignements sur le locataire'!E3566)","v":""}]
[null,null,null,{"$f":"IF(ISBLANK('Renseignements sur le locataire'!E3567),\"\",'Renseignements sur le locataire'!E3567)","v":""}]
[null,null,null,{"$f":"IF(ISBLANK('Renseignements sur le locataire'!E3568),\"\",'Renseignements sur le locataire'!E3568)","v":""}]
[null,null,null,{"$f":"IF(ISBLANK('Renseignements sur le locataire'!E3569),\"\",'Renseignements sur le locataire'!E3569)","v":""}]
[null,null,null,{"$f":"IF(ISBLANK('Renseignements sur le locataire'!E3570),\"\",'Renseignements sur le locataire'!E3570)","v":""}]
[null,null,null,{"$f":"IF(ISBLANK('Renseignements sur le locataire'!E3571),\"\",'Renseignements sur le locataire'!E3571)","v":""}]
[null,null,null,{"$f":"IF(ISBLANK('Renseignements sur le locataire'!E3572),\"\",'Renseignements sur le locataire'!E3572)","v":""}]
[null,null,null,{"$f":"IF(ISBLANK('Renseignements sur le locataire'!E3573),\"\",'Renseignements sur le locataire'!E3573)","v":""}]
[null,null,null,{"$f":"IF(ISBLANK('Renseignements sur le locataire'!E3574),\"\",'Renseignements sur le locataire'!E3574)","v":""}]
[null,null,null,{"$f":"IF(ISBLANK('Renseignements sur le locataire'!E3575),\"\",'Renseignements sur le locataire'!E3575)","v":""}]
[null,null,null,{"$f":"IF(ISBLANK('Renseignements sur le locataire'!E3576),\"\",'Renseignements sur le locataire'!E3576)","v":""}]
[null,null,null,{"$f":"IF(ISBLANK('Renseignements sur le locataire'!E3577),\"\",'Renseignements sur le locataire'!E3577)","v":""}]
[null,null,null,{"$f":"IF(ISBLANK('Renseignements sur le locataire'!E3578),\"\",'Renseignements sur le locataire'!E3578)","v":""}]
[null,null,null,{"$f":"IF(ISBLANK('Renseignements sur le locataire'!E3579),\"\",'Renseignements sur le locataire'!E3579)","v":""}]
[null,null,null,{"$f":"IF(ISBLANK('Renseignements sur le locataire'!E3580),\"\",'Renseignements sur le locataire'!E3580)","v":""}]
[null,null,null,{"$f":"IF(ISBLANK('Renseignements sur le locataire'!E3581),\"\",'Renseignements sur le locataire'!E3581)","v":""}]
[null,null,null,{"$f":"IF(ISBLANK('Renseignements sur le locataire'!E3582),\"\",'Renseignements sur le locataire'!E3582)","v":""}]
[null,null,null,{"$f":"IF(ISBLANK('Renseignements sur le locataire'!E3583),\"\",'Renseignements sur le locataire'!E3583)","v":""}]
[null,null,null,{"$f":"IF(ISBLANK('Renseignements sur le locataire'!E3584),\"\",'Renseignements sur le locataire'!E3584)","v":""}]
[null,null,null,{"$f":"IF(ISBLANK('Renseignements sur le locataire'!E3585),\"\",'Renseignements sur le locataire'!E3585)","v":""}]
[null,null,null,{"$f":"IF(ISBLANK('Renseignements sur le locataire'!E3586),\"\",'Renseignements sur le locataire'!E3586)","v":""}]
[null,null,null,{"$f":"IF(ISBLANK('Renseignements sur le locataire'!E3587),\"\",'Renseignements sur le locataire'!E3587)","v":""}]
[null,null,null,{"$f":"IF(ISBLANK('Renseignements sur le locataire'!E3588),\"\",'Renseignements sur le locataire'!E3588)","v":""}]
[null,null,null,{"$f":"IF(ISBLANK('Renseignements sur le locataire'!E3589),\"\",'Renseignements sur le locataire'!E3589)","v":""}]
[null,null,null,{"$f":"IF(ISBLANK('Renseignements sur le locataire'!E3590),\"\",'Renseignements sur le locataire'!E3590)","v":""}]
[null,null,null,{"$f":"IF(ISBLANK('Renseignements sur le locataire'!E3591),\"\",'Renseignements sur le locataire'!E3591)","v":""}]
[null,null,null,{"$f":"IF(ISBLANK('Renseignements sur le locataire'!E3592),\"\",'Renseignements sur le locataire'!E3592)","v":""}]
[null,null,null,{"$f":"IF(ISBLANK('Renseignements sur le locataire'!E3593),\"\",'Renseignements sur le locataire'!E3593)","v":""}]
[null,null,null,{"$f":"IF(ISBLANK('Renseignements sur le locataire'!E3594),\"\",'Renseignements sur le locataire'!E3594)","v":""}]
[null,null,null,{"$f":"IF(ISBLANK('Renseignements sur le locataire'!E3595),\"\",'Renseignements sur le locataire'!E3595)","v":""}]
[null,null,null,{"$f":"IF(ISBLANK('Renseignements sur le locataire'!E3596),\"\",'Renseignements sur le locataire'!E3596)","v":""}]
[null,null,null,{"$f":"IF(ISBLANK('Renseignements sur le locataire'!E3597),\"\",'Renseignements sur le locataire'!E3597)","v":""}]
[null,null,null,{"$f":"IF(ISBLANK('Renseignements sur le locataire'!E3598),\"\",'Renseignements sur le locataire'!E3598)","v":""}]
[null,null,null,{"$f":"IF(ISBLANK('Renseignements sur le locataire'!E3599),\"\",'Renseignements sur le locataire'!E3599)","v":""}]
[null,null,null,{"$f":"IF(ISBLANK('Renseignements sur le locataire'!E3600),\"\",'Renseignements sur le locataire'!E3600)","v":""}]
[null,null,null,{"$f":"IF(ISBLANK('Renseignements sur le locataire'!E3601),\"\",'Renseignements sur le locataire'!E3601)","v":""}]
[null,null,null,{"$f":"IF(ISBLANK('Renseignements sur le locataire'!E3602),\"\",'Renseignements sur le locataire'!E3602)","v":""}]
[null,null,null,{"$f":"IF(ISBLANK('Renseignements sur le locataire'!E3603),\"\",'Renseignements sur le locataire'!E3603)","v":""}]
[null,null,null,{"$f":"IF(ISBLANK('Renseignements sur le locataire'!E3604),\"\",'Renseignements sur le locataire'!E3604)","v":""}]
[null,null,null,{"$f":"IF(ISBLANK('Renseignements sur le locataire'!E3605),\"\",'Renseignements sur le locataire'!E3605)","v":""}]
[null,null,null,{"$f":"IF(ISBLANK('Renseignements sur le locataire'!E3606),\"\",'Renseignements sur le locataire'!E3606)","v":""}]
[null,null,null,{"$f":"IF(ISBLANK('Renseignements sur le locataire'!E3607),\"\",'Renseignements sur le locataire'!E3607)","v":""}]
[null,null,null,{"$f":"IF(ISBLANK('Renseignements sur le locataire'!E3608),\"\",'Renseignements sur le locataire'!E3608)","v":""}]
[null,null,null,{"$f":"IF(ISBLANK('Renseignements sur le locataire'!E3609),\"\",'Renseignements sur le locataire'!E3609)","v":""}]
[null,null,null,{"$f":"IF(ISBLANK('Renseignements sur le locataire'!E3610),\"\",'Renseignements sur le locataire'!E3610)","v":""}]
[null,null,null,{"$f":"IF(ISBLANK('Renseignements sur le locataire'!E3611),\"\",'Renseignements sur le locataire'!E3611)","v":""}]
[null,null,null,{"$f":"IF(ISBLANK('Renseignements sur le locataire'!E3612),\"\",'Renseignements sur le locataire'!E3612)","v":""}]
[null,null,null,{"$f":"IF(ISBLANK('Renseignements sur le locataire'!E3613),\"\",'Renseignements sur le locataire'!E3613)","v":""}]
[null,null,null,{"$f":"IF(ISBLANK('Renseignements sur le locataire'!E3614),\"\",'Renseignements sur le locataire'!E3614)","v":""}]
[null,null,null,{"$f":"IF(ISBLANK('Renseignements sur le locataire'!E3615),\"\",'Renseignements sur le locataire'!E3615)","v":""}]
[null,null,null,{"$f":"IF(ISBLANK('Renseignements sur le locataire'!E3616),\"\",'Renseignements sur le locataire'!E3616)","v":""}]
[null,null,null,{"$f":"IF(ISBLANK('Renseignements sur le locataire'!E3617),\"\",'Renseignements sur le locataire'!E3617)","v":""}]
[null,null,null,{"$f":"IF(ISBLANK('Renseignements sur le locataire'!E3618),\"\",'Renseignements sur le locataire'!E3618)","v":""}]
[null,null,null,{"$f":"IF(ISBLANK('Renseignements sur le locataire'!E3619),\"\",'Renseignements sur le locataire'!E3619)","v":""}]
[null,null,null,{"$f":"IF(ISBLANK('Renseignements sur le locataire'!E3620),\"\",'Renseignements sur le locataire'!E3620)","v":""}]
[null,null,null,{"$f":"IF(ISBLANK('Renseignements sur le locataire'!E3621),\"\",'Renseignements sur le locataire'!E3621)","v":""}]
[null,null,null,{"$f":"IF(ISBLANK('Renseignements sur le locataire'!E3622),\"\",'Renseignements sur le locataire'!E3622)","v":""}]
[null,null,null,{"$f":"IF(ISBLANK('Renseignements sur le locataire'!E3623),\"\",'Renseignements sur le locataire'!E3623)","v":""}]
[null,null,null,{"$f":"IF(ISBLANK('Renseignements sur le locataire'!E3624),\"\",'Renseignements sur le locataire'!E3624)","v":""}]
[null,null,null,{"$f":"IF(ISBLANK('Renseignements sur le locataire'!E3625),\"\",'Renseignements sur le locataire'!E3625)","v":""}]
[null,null,null,{"$f":"IF(ISBLANK('Renseignements sur le locataire'!E3626),\"\",'Renseignements sur le locataire'!E3626)","v":""}]
[null,null,null,{"$f":"IF(ISBLANK('Renseignements sur le locataire'!E3627),\"\",'Renseignements sur le locataire'!E3627)","v":""}]
[null,null,null,{"$f":"IF(ISBLANK('Renseignements sur le locataire'!E3628),\"\",'Renseignements sur le locataire'!E3628)","v":""}]
[null,null,null,{"$f":"IF(ISBLANK('Renseignements sur le locataire'!E3629),\"\",'Renseignements sur le locataire'!E3629)","v":""}]
[null,null,null,{"$f":"IF(ISBLANK('Renseignements sur le locataire'!E3630),\"\",'Renseignements sur le locataire'!E3630)","v":""}]
[null,null,null,{"$f":"IF(ISBLANK('Renseignements sur le locataire'!E3631),\"\",'Renseignements sur le locataire'!E3631)","v":""}]
[null,null,null,{"$f":"IF(ISBLANK('Renseignements sur le locataire'!E3632),\"\",'Renseignements sur le locataire'!E3632)","v":""}]
[null,null,null,{"$f":"IF(ISBLANK('Renseignements sur le locataire'!E3633),\"\",'Renseignements sur le locataire'!E3633)","v":""}]
[null,null,null,{"$f":"IF(ISBLANK('Renseignements sur le locataire'!E3634),\"\",'Renseignements sur le locataire'!E3634)","v":""}]
[null,null,null,{"$f":"IF(ISBLANK('Renseignements sur le locataire'!E3635),\"\",'Renseignements sur le locataire'!E3635)","v":""}]
[null,null,null,{"$f":"IF(ISBLANK('Renseignements sur le locataire'!E3636),\"\",'Renseignements sur le locataire'!E3636)","v":""}]
[null,null,null,{"$f":"IF(ISBLANK('Renseignements sur le locataire'!E3637),\"\",'Renseignements sur le locataire'!E3637)","v":""}]
[null,null,null,{"$f":"IF(ISBLANK('Renseignements sur le locataire'!E3638),\"\",'Renseignements sur le locataire'!E3638)","v":""}]
[null,null,null,{"$f":"IF(ISBLANK('Renseignements sur le locataire'!E3639),\"\",'Renseignements sur le locataire'!E3639)","v":""}]
[null,null,null,{"$f":"IF(ISBLANK('Renseignements sur le locataire'!E3640),\"\",'Renseignements sur le locataire'!E3640)","v":""}]
[null,null,null,{"$f":"IF(ISBLANK('Renseignements sur le locataire'!E3641),\"\",'Renseignements sur le locataire'!E3641)","v":""}]
[null,null,null,{"$f":"IF(ISBLANK('Renseignements sur le locataire'!E3642),\"\",'Renseignements sur le locataire'!E3642)","v":""}]
[null,null,null,{"$f":"IF(ISBLANK('Renseignements sur le locataire'!E3643),\"\",'Renseignements sur le locataire'!E3643)","v":""}]
[null,null,null,{"$f":"IF(ISBLANK('Renseignements sur le locataire'!E3644),\"\",'Renseignements sur le locataire'!E3644)","v":""}]
[null,null,null,{"$f":"IF(ISBLANK('Renseignements sur le locataire'!E3645),\"\",'Renseignements sur le locataire'!E3645)","v":""}]
[null,null,null,{"$f":"IF(ISBLANK('Renseignements sur le locataire'!E3646),\"\",'Renseignements sur le locataire'!E3646)","v":""}]
[null,null,null,{"$f":"IF(ISBLANK('Renseignements sur le locataire'!E3647),\"\",'Renseignements sur le locataire'!E3647)","v":""}]
[null,null,null,{"$f":"IF(ISBLANK('Renseignements sur le locataire'!E3648),\"\",'Renseignements sur le locataire'!E3648)","v":""}]
[null,null,null,{"$f":"IF(ISBLANK('Renseignements sur le locataire'!E3649),\"\",'Renseignements sur le locataire'!E3649)","v":""}]
[null,null,null,{"$f":"IF(ISBLANK('Renseignements sur le locataire'!E3650),\"\",'Renseignements sur le locataire'!E3650)","v":""}]
[null,null,null,{"$f":"IF(ISBLANK('Renseignements sur le locataire'!E3651),\"\",'Renseignements sur le locataire'!E3651)","v":""}]
[null,null,null,{"$f":"IF(ISBLANK('Renseignements sur le locataire'!E3652),\"\",'Renseignements sur le locataire'!E3652)","v":""}]
[null,null,null,{"$f":"IF(ISBLANK('Renseignements sur le locataire'!E3653),\"\",'Renseignements sur le locataire'!E3653)","v":""}]
[null,null,null,{"$f":"IF(ISBLANK('Renseignements sur le locataire'!E3654),\"\",'Renseignements sur le locataire'!E3654)","v":""}]
[null,null,null,{"$f":"IF(ISBLANK('Renseignements sur le locataire'!E3655),\"\",'Renseignements sur le locataire'!E3655)","v":""}]
[null,null,null,{"$f":"IF(ISBLANK('Renseignements sur le locataire'!E3656),\"\",'Renseignements sur le locataire'!E3656)","v":""}]
[null,null,null,{"$f":"IF(ISBLANK('Renseignements sur le locataire'!E3657),\"\",'Renseignements sur le locataire'!E3657)","v":""}]
[null,null,null,{"$f":"IF(ISBLANK('Renseignements sur le locataire'!E3658),\"\",'Renseignements sur le locataire'!E3658)","v":""}]
[null,null,null,{"$f":"IF(ISBLANK('Renseignements sur le locataire'!E3659),\"\",'Renseignements sur le locataire'!E3659)","v":""}]
[null,null,null,{"$f":"IF(ISBLANK('Renseignements sur le locataire'!E3660),\"\",'Renseignements sur le locataire'!E3660)","v":""}]
[null,null,null,{"$f":"IF(ISBLANK('Renseignements sur le locataire'!E3661),\"\",'Renseignements sur le locataire'!E3661)","v":""}]
[null,null,null,{"$f":"IF(ISBLANK('Renseignements sur le locataire'!E3662),\"\",'Renseignements sur le locataire'!E3662)","v":""}]
[null,null,null,{"$f":"IF(ISBLANK('Renseignements sur le locataire'!E3663),\"\",'Renseignements sur le locataire'!E3663)","v":""}]
[null,null,null,{"$f":"IF(ISBLANK('Renseignements sur le locataire'!E3664),\"\",'Renseignements sur le locataire'!E3664)","v":""}]
[null,null,null,{"$f":"IF(ISBLANK('Renseignements sur le locataire'!E3665),\"\",'Renseignements sur le locataire'!E3665)","v":""}]
[null,null,null,{"$f":"IF(ISBLANK('Renseignements sur le locataire'!E3666),\"\",'Renseignements sur le locataire'!E3666)","v":""}]
[null,null,null,{"$f":"IF(ISBLANK('Renseignements sur le locataire'!E3667),\"\",'Renseignements sur le locataire'!E3667)","v":""}]
[null,null,null,{"$f":"IF(ISBLANK('Renseignements sur le locataire'!E3668),\"\",'Renseignements sur le locataire'!E3668)","v":""}]
[null,null,null,{"$f":"IF(ISBLANK('Renseignements sur le locataire'!E3669),\"\",'Renseignements sur le locataire'!E3669)","v":""}]
[null,null,null,{"$f":"IF(ISBLANK('Renseignements sur le locataire'!E3670),\"\",'Renseignements sur le locataire'!E3670)","v":""}]
[null,null,null,{"$f":"IF(ISBLANK('Renseignements sur le locataire'!E3671),\"\",'Renseignements sur le locataire'!E3671)","v":""}]
[null,null,null,{"$f":"IF(ISBLANK('Renseignements sur le locataire'!E3672),\"\",'Renseignements sur le locataire'!E3672)","v":""}]
[null,null,null,{"$f":"IF(ISBLANK('Renseignements sur le locataire'!E3673),\"\",'Renseignements sur le locataire'!E3673)","v":""}]
[null,null,null,{"$f":"IF(ISBLANK('Renseignements sur le locataire'!E3674),\"\",'Renseignements sur le locataire'!E3674)","v":""}]
[null,null,null,{"$f":"IF(ISBLANK('Renseignements sur le locataire'!E3675),\"\",'Renseignements sur le locataire'!E3675)","v":""}]
[null,null,null,{"$f":"IF(ISBLANK('Renseignements sur le locataire'!E3676),\"\",'Renseignements sur le locataire'!E3676)","v":""}]
[null,null,null,{"$f":"IF(ISBLANK('Renseignements sur le locataire'!E3677),\"\",'Renseignements sur le locataire'!E3677)","v":""}]
[null,null,null,{"$f":"IF(ISBLANK('Renseignements sur le locataire'!E3678),\"\",'Renseignements sur le locataire'!E3678)","v":""}]
[null,null,null,{"$f":"IF(ISBLANK('Renseignements sur le locataire'!E3679),\"\",'Renseignements sur le locataire'!E3679)","v":""}]
[null,null,null,{"$f":"IF(ISBLANK('Renseignements sur le locataire'!E3680),\"\",'Renseignements sur le locataire'!E3680)","v":""}]
[null,null,null,{"$f":"IF(ISBLANK('Renseignements sur le locataire'!E3681),\"\",'Renseignements sur le locataire'!E3681)","v":""}]
[null,null,null,{"$f":"IF(ISBLANK('Renseignements sur le locataire'!E3682),\"\",'Renseignements sur le locataire'!E3682)","v":""}]
[null,null,null,{"$f":"IF(ISBLANK('Renseignements sur le locataire'!E3683),\"\",'Renseignements sur le locataire'!E3683)","v":""}]
[null,null,null,{"$f":"IF(ISBLANK('Renseignements sur le locataire'!E3684),\"\",'Renseignements sur le locataire'!E3684)","v":""}]
[null,null,null,{"$f":"IF(ISBLANK('Renseignements sur le locataire'!E3685),\"\",'Renseignements sur le locataire'!E3685)","v":""}]
[null,null,null,{"$f":"IF(ISBLANK('Renseignements sur le locataire'!E3686),\"\",'Renseignements sur le locataire'!E3686)","v":""}]
[null,null,null,{"$f":"IF(ISBLANK('Renseignements sur le locataire'!E3687),\"\",'Renseignements sur le locataire'!E3687)","v":""}]
[null,null,null,{"$f":"IF(ISBLANK('Renseignements sur le locataire'!E3688),\"\",'Renseignements sur le locataire'!E3688)","v":""}]
[null,null,null,{"$f":"IF(ISBLANK('Renseignements sur le locataire'!E3689),\"\",'Renseignements sur le locataire'!E3689)","v":""}]
[null,null,null,{"$f":"IF(ISBLANK('Renseignements sur le locataire'!E3690),\"\",'Renseignements sur le locataire'!E3690)","v":""}]
[null,null,null,{"$f":"IF(ISBLANK('Renseignements sur le locataire'!E3691),\"\",'Renseignements sur le locataire'!E3691)","v":""}]
[null,null,null,{"$f":"IF(ISBLANK('Renseignements sur le locataire'!E3692),\"\",'Renseignements sur le locataire'!E3692)","v":""}]
[null,null,null,{"$f":"IF(ISBLANK('Renseignements sur le locataire'!E3693),\"\",'Renseignements sur le locataire'!E3693)","v":""}]
[null,null,null,{"$f":"IF(ISBLANK('Renseignements sur le locataire'!E3694),\"\",'Renseignements sur le locataire'!E3694)","v":""}]
[null,null,null,{"$f":"IF(ISBLANK('Renseignements sur le locataire'!E3695),\"\",'Renseignements sur le locataire'!E3695)","v":""}]
[null,null,null,{"$f":"IF(ISBLANK('Renseignements sur le locataire'!E3696),\"\",'Renseignements sur le locataire'!E3696)","v":""}]
[null,null,null,{"$f":"IF(ISBLANK('Renseignements sur le locataire'!E3697),\"\",'Renseignements sur le locataire'!E3697)","v":""}]
[null,null,null,{"$f":"IF(ISBLANK('Renseignements sur le locataire'!E3698),\"\",'Renseignements sur le locataire'!E3698)","v":""}]
[null,null,null,{"$f":"IF(ISBLANK('Renseignements sur le locataire'!E3699),\"\",'Renseignements sur le locataire'!E3699)","v":""}]
[null,null,null,{"$f":"IF(ISBLANK('Renseignements sur le locataire'!E3700),\"\",'Renseignements sur le locataire'!E3700)","v":""}]
[null,null,null,{"$f":"IF(ISBLANK('Renseignements sur le locataire'!E3701),\"\",'Renseignements sur le locataire'!E3701)","v":""}]
[null,null,null,{"$f":"IF(ISBLANK('Renseignements sur le locataire'!E3702),\"\",'Renseignements sur le locataire'!E3702)","v":""}]
[null,null,null,{"$f":"IF(ISBLANK('Renseignements sur le locataire'!E3703),\"\",'Renseignements sur le locataire'!E3703)","v":""}]
[null,null,null,{"$f":"IF(ISBLANK('Renseignements sur le locataire'!E3704),\"\",'Renseignements sur le locataire'!E3704)","v":""}]
[null,null,null,{"$f":"IF(ISBLANK('Renseignements sur le locataire'!E3705),\"\",'Renseignements sur le locataire'!E3705)","v":""}]
[null,null,null,{"$f":"IF(ISBLANK('Renseignements sur le locataire'!E3706),\"\",'Renseignements sur le locataire'!E3706)","v":""}]
[null,null,null,{"$f":"IF(ISBLANK('Renseignements sur le locataire'!E3707),\"\",'Renseignements sur le locataire'!E3707)","v":""}]
[null,null,null,{"$f":"IF(ISBLANK('Renseignements sur le locataire'!E3708),\"\",'Renseignements sur le locataire'!E3708)","v":""}]
[null,null,null,{"$f":"IF(ISBLANK('Renseignements sur le locataire'!E3709),\"\",'Renseignements sur le locataire'!E3709)","v":""}]
[null,null,null,{"$f":"IF(ISBLANK('Renseignements sur le locataire'!E3710),\"\",'Renseignements sur le locataire'!E3710)","v":""}]
[null,null,null,{"$f":"IF(ISBLANK('Renseignements sur le locataire'!E3711),\"\",'Renseignements sur le locataire'!E3711)","v":""}]
[null,null,null,{"$f":"IF(ISBLANK('Renseignements sur le locataire'!E3712),\"\",'Renseignements sur le locataire'!E3712)","v":""}]
[null,null,null,{"$f":"IF(ISBLANK('Renseignements sur le locataire'!E3713),\"\",'Renseignements sur le locataire'!E3713)","v":""}]
[null,null,null,{"$f":"IF(ISBLANK('Renseignements sur le locataire'!E3714),\"\",'Renseignements sur le locataire'!E3714)","v":""}]
[null,null,null,{"$f":"IF(ISBLANK('Renseignements sur le locataire'!E3715),\"\",'Renseignements sur le locataire'!E3715)","v":""}]
[null,null,null,{"$f":"IF(ISBLANK('Renseignements sur le locataire'!E3716),\"\",'Renseignements sur le locataire'!E3716)","v":""}]
[null,null,null,{"$f":"IF(ISBLANK('Renseignements sur le locataire'!E3717),\"\",'Renseignements sur le locataire'!E3717)","v":""}]
[null,null,null,{"$f":"IF(ISBLANK('Renseignements sur le locataire'!E3718),\"\",'Renseignements sur le locataire'!E3718)","v":""}]
[null,null,null,{"$f":"IF(ISBLANK('Renseignements sur le locataire'!E3719),\"\",'Renseignements sur le locataire'!E3719)","v":""}]
[null,null,null,{"$f":"IF(ISBLANK('Renseignements sur le locataire'!E3720),\"\",'Renseignements sur le locataire'!E3720)","v":""}]
[null,null,null,{"$f":"IF(ISBLANK('Renseignements sur le locataire'!E3721),\"\",'Renseignements sur le locataire'!E3721)","v":""}]
[null,null,null,{"$f":"IF(ISBLANK('Renseignements sur le locataire'!E3722),\"\",'Renseignements sur le locataire'!E3722)","v":""}]
[null,null,null,{"$f":"IF(ISBLANK('Renseignements sur le locataire'!E3723),\"\",'Renseignements sur le locataire'!E3723)","v":""}]
[null,null,null,{"$f":"IF(ISBLANK('Renseignements sur le locataire'!E3724),\"\",'Renseignements sur le locataire'!E3724)","v":""}]
[null,null,null,{"$f":"IF(ISBLANK('Renseignements sur le locataire'!E3725),\"\",'Renseignements sur le locataire'!E3725)","v":""}]
[null,null,null,{"$f":"IF(ISBLANK('Renseignements sur le locataire'!E3726),\"\",'Renseignements sur le locataire'!E3726)","v":""}]
[null,null,null,{"$f":"IF(ISBLANK('Renseignements sur le locataire'!E3727),\"\",'Renseignements sur le locataire'!E3727)","v":""}]
[null,null,null,{"$f":"IF(ISBLANK('Renseignements sur le locataire'!E3728),\"\",'Renseignements sur le locataire'!E3728)","v":""}]
[null,null,null,{"$f":"IF(ISBLANK('Renseignements sur le locataire'!E3729),\"\",'Renseignements sur le locataire'!E3729)","v":""}]
[null,null,null,{"$f":"IF(ISBLANK('Renseignements sur le locataire'!E3730),\"\",'Renseignements sur le locataire'!E3730)","v":""}]
[null,null,null,{"$f":"IF(ISBLANK('Renseignements sur le locataire'!E3731),\"\",'Renseignements sur le locataire'!E3731)","v":""}]
[null,null,null,{"$f":"IF(ISBLANK('Renseignements sur le locataire'!E3732),\"\",'Renseignements sur le locataire'!E3732)","v":""}]
[null,null,null,{"$f":"IF(ISBLANK('Renseignements sur le locataire'!E3733),\"\",'Renseignements sur le locataire'!E3733)","v":""}]
[null,null,null,{"$f":"IF(ISBLANK('Renseignements sur le locataire'!E3734),\"\",'Renseignements sur le locataire'!E3734)","v":""}]
[null,null,null,{"$f":"IF(ISBLANK('Renseignements sur le locataire'!E3735),\"\",'Renseignements sur le locataire'!E3735)","v":""}]
[null,null,null,{"$f":"IF(ISBLANK('Renseignements sur le locataire'!E3736),\"\",'Renseignements sur le locataire'!E3736)","v":""}]
[null,null,null,{"$f":"IF(ISBLANK('Renseignements sur le locataire'!E3737),\"\",'Renseignements sur le locataire'!E3737)","v":""}]
[null,null,null,{"$f":"IF(ISBLANK('Renseignements sur le locataire'!E3738),\"\",'Renseignements sur le locataire'!E3738)","v":""}]
[null,null,null,{"$f":"IF(ISBLANK('Renseignements sur le locataire'!E3739),\"\",'Renseignements sur le locataire'!E3739)","v":""}]
[null,null,null,{"$f":"IF(ISBLANK('Renseignements sur le locataire'!E3740),\"\",'Renseignements sur le locataire'!E3740)","v":""}]
[null,null,null,{"$f":"IF(ISBLANK('Renseignements sur le locataire'!E3741),\"\",'Renseignements sur le locataire'!E3741)","v":""}]
[null,null,null,{"$f":"IF(ISBLANK('Renseignements sur le locataire'!E3742),\"\",'Renseignements sur le locataire'!E3742)","v":""}]
[null,null,null,{"$f":"IF(ISBLANK('Renseignements sur le locataire'!E3743),\"\",'Renseignements sur le locataire'!E3743)","v":""}]
[null,null,null,{"$f":"IF(ISBLANK('Renseignements sur le locataire'!E3744),\"\",'Renseignements sur le locataire'!E3744)","v":""}]
[null,null,null,{"$f":"IF(ISBLANK('Renseignements sur le locataire'!E3745),\"\",'Renseignements sur le locataire'!E3745)","v":""}]
[null,null,null,{"$f":"IF(ISBLANK('Renseignements sur le locataire'!E3746),\"\",'Renseignements sur le locataire'!E3746)","v":""}]
[null,null,null,{"$f":"IF(ISBLANK('Renseignements sur le locataire'!E3747),\"\",'Renseignements sur le locataire'!E3747)","v":""}]
[null,null,null,{"$f":"IF(ISBLANK('Renseignements sur le locataire'!E3748),\"\",'Renseignements sur le locataire'!E3748)","v":""}]
[null,null,null,{"$f":"IF(ISBLANK('Renseignements sur le locataire'!E3749),\"\",'Renseignements sur le locataire'!E3749)","v":""}]
[null,null,null,{"$f":"IF(ISBLANK('Renseignements sur le locataire'!E3750),\"\",'Renseignements sur le locataire'!E3750)","v":""}]
[null,null,null,{"$f":"IF(ISBLANK('Renseignements sur le locataire'!E3751),\"\",'Renseignements sur le locataire'!E3751)","v":""}]
[null,null,null,{"$f":"IF(ISBLANK('Renseignements sur le locataire'!E3752),\"\",'Renseignements sur le locataire'!E3752)","v":""}]
[null,null,null,{"$f":"IF(ISBLANK('Renseignements sur le locataire'!E3753),\"\",'Renseignements sur le locataire'!E3753)","v":""}]
[null,null,null,{"$f":"IF(ISBLANK('Renseignements sur le locataire'!E3754),\"\",'Renseignements sur le locataire'!E3754)","v":""}]
[null,null,null,{"$f":"IF(ISBLANK('Renseignements sur le locataire'!E3755),\"\",'Renseignements sur le locataire'!E3755)","v":""}]
[null,null,null,{"$f":"IF(ISBLANK('Renseignements sur le locataire'!E3756),\"\",'Renseignements sur le locataire'!E3756)","v":""}]
[null,null,null,{"$f":"IF(ISBLANK('Renseignements sur le locataire'!E3757),\"\",'Renseignements sur le locataire'!E3757)","v":""}]
[null,null,null,{"$f":"IF(ISBLANK('Renseignements sur le locataire'!E3758),\"\",'Renseignements sur le locataire'!E3758)","v":""}]
[null,null,null,{"$f":"IF(ISBLANK('Renseignements sur le locataire'!E3759),\"\",'Renseignements sur le locataire'!E3759)","v":""}]
[null,null,null,{"$f":"IF(ISBLANK('Renseignements sur le locataire'!E3760),\"\",'Renseignements sur le locataire'!E3760)","v":""}]
[null,null,null,{"$f":"IF(ISBLANK('Renseignements sur le locataire'!E3761),\"\",'Renseignements sur le locataire'!E3761)","v":""}]
[null,null,null,{"$f":"IF(ISBLANK('Renseignements sur le locataire'!E3762),\"\",'Renseignements sur le locataire'!E3762)","v":""}]
[null,null,null,{"$f":"IF(ISBLANK('Renseignements sur le locataire'!E3763),\"\",'Renseignements sur le locataire'!E3763)","v":""}]
[null,null,null,{"$f":"IF(ISBLANK('Renseignements sur le locataire'!E3764),\"\",'Renseignements sur le locataire'!E3764)","v":""}]
[null,null,null,{"$f":"IF(ISBLANK('Renseignements sur le locataire'!E3765),\"\",'Renseignements sur le locataire'!E3765)","v":""}]
[null,null,null,{"$f":"IF(ISBLANK('Renseignements sur le locataire'!E3766),\"\",'Renseignements sur le locataire'!E3766)","v":""}]
[null,null,null,{"$f":"IF(ISBLANK('Renseignements sur le locataire'!E3767),\"\",'Renseignements sur le locataire'!E3767)","v":""}]
[null,null,null,{"$f":"IF(ISBLANK('Renseignements sur le locataire'!E3768),\"\",'Renseignements sur le locataire'!E3768)","v":""}]
[null,null,null,{"$f":"IF(ISBLANK('Renseignements sur le locataire'!E3769),\"\",'Renseignements sur le locataire'!E3769)","v":""}]
[null,null,null,{"$f":"IF(ISBLANK('Renseignements sur le locataire'!E3770),\"\",'Renseignements sur le locataire'!E3770)","v":""}]
[null,null,null,{"$f":"IF(ISBLANK('Renseignements sur le locataire'!E3771),\"\",'Renseignements sur le locataire'!E3771)","v":""}]
[null,null,null,{"$f":"IF(ISBLANK('Renseignements sur le locataire'!E3772),\"\",'Renseignements sur le locataire'!E3772)","v":""}]
[null,null,null,{"$f":"IF(ISBLANK('Renseignements sur le locataire'!E3773),\"\",'Renseignements sur le locataire'!E3773)","v":""}]
[null,null,null,{"$f":"IF(ISBLANK('Renseignements sur le locataire'!E3774),\"\",'Renseignements sur le locataire'!E3774)","v":""}]
[null,null,null,{"$f":"IF(ISBLANK('Renseignements sur le locataire'!E3775),\"\",'Renseignements sur le locataire'!E3775)","v":""}]
[null,null,null,{"$f":"IF(ISBLANK('Renseignements sur le locataire'!E3776),\"\",'Renseignements sur le locataire'!E3776)","v":""}]
[null,null,null,{"$f":"IF(ISBLANK('Renseignements sur le locataire'!E3777),\"\",'Renseignements sur le locataire'!E3777)","v":""}]
[null,null,null,{"$f":"IF(ISBLANK('Renseignements sur le locataire'!E3778),\"\",'Renseignements sur le locataire'!E3778)","v":""}]
[null,null,null,{"$f":"IF(ISBLANK('Renseignements sur le locataire'!E3779),\"\",'Renseignements sur le locataire'!E3779)","v":""}]
[null,null,null,{"$f":"IF(ISBLANK('Renseignements sur le locataire'!E3780),\"\",'Renseignements sur le locataire'!E3780)","v":""}]
[null,null,null,{"$f":"IF(ISBLANK('Renseignements sur le locataire'!E3781),\"\",'Renseignements sur le locataire'!E3781)","v":""}]
[null,null,null,{"$f":"IF(ISBLANK('Renseignements sur le locataire'!E3782),\"\",'Renseignements sur le locataire'!E3782)","v":""}]
[null,null,null,{"$f":"IF(ISBLANK('Renseignements sur le locataire'!E3783),\"\",'Renseignements sur le locataire'!E3783)","v":""}]
[null,null,null,{"$f":"IF(ISBLANK('Renseignements sur le locataire'!E3784),\"\",'Renseignements sur le locataire'!E3784)","v":""}]
[null,null,null,{"$f":"IF(ISBLANK('Renseignements sur le locataire'!E3785),\"\",'Renseignements sur le locataire'!E3785)","v":""}]
[null,null,null,{"$f":"IF(ISBLANK('Renseignements sur le locataire'!E3786),\"\",'Renseignements sur le locataire'!E3786)","v":""}]
[null,null,null,{"$f":"IF(ISBLANK('Renseignements sur le locataire'!E3787),\"\",'Renseignements sur le locataire'!E3787)","v":""}]
[null,null,null,{"$f":"IF(ISBLANK('Renseignements sur le locataire'!E3788),\"\",'Renseignements sur le locataire'!E3788)","v":""}]
[null,null,null,{"$f":"IF(ISBLANK('Renseignements sur le locataire'!E3789),\"\",'Renseignements sur le locataire'!E3789)","v":""}]
[null,null,null,{"$f":"IF(ISBLANK('Renseignements sur le locataire'!E3790),\"\",'Renseignements sur le locataire'!E3790)","v":""}]
[null,null,null,{"$f":"IF(ISBLANK('Renseignements sur le locataire'!E3791),\"\",'Renseignements sur le locataire'!E3791)","v":""}]
[null,null,null,{"$f":"IF(ISBLANK('Renseignements sur le locataire'!E3792),\"\",'Renseignements sur le locataire'!E3792)","v":""}]
[null,null,null,{"$f":"IF(ISBLANK('Renseignements sur le locataire'!E3793),\"\",'Renseignements sur le locataire'!E3793)","v":""}]
[null,null,null,{"$f":"IF(ISBLANK('Renseignements sur le locataire'!E3794),\"\",'Renseignements sur le locataire'!E3794)","v":""}]
[null,null,null,{"$f":"IF(ISBLANK('Renseignements sur le locataire'!E3795),\"\",'Renseignements sur le locataire'!E3795)","v":""}]
[null,null,null,{"$f":"IF(ISBLANK('Renseignements sur le locataire'!E3796),\"\",'Renseignements sur le locataire'!E3796)","v":""}]
[null,null,null,{"$f":"IF(ISBLANK('Renseignements sur le locataire'!E3797),\"\",'Renseignements sur le locataire'!E3797)","v":""}]
[null,null,null,{"$f":"IF(ISBLANK('Renseignements sur le locataire'!E3798),\"\",'Renseignements sur le locataire'!E3798)","v":""}]
[null,null,null,{"$f":"IF(ISBLANK('Renseignements sur le locataire'!E3799),\"\",'Renseignements sur le locataire'!E3799)","v":""}]
[null,null,null,{"$f":"IF(ISBLANK('Renseignements sur le locataire'!E3800),\"\",'Renseignements sur le locataire'!E3800)","v":""}]
[null,null,null,{"$f":"IF(ISBLANK('Renseignements sur le locataire'!E3801),\"\",'Renseignements sur le locataire'!E3801)","v":""}]
[null,null,null,{"$f":"IF(ISBLANK('Renseignements sur le locataire'!E3802),\"\",'Renseignements sur le locataire'!E3802)","v":""}]
[null,null,null,{"$f":"IF(ISBLANK('Renseignements sur le locataire'!E3803),\"\",'Renseignements sur le locataire'!E3803)","v":""}]
[null,null,null,{"$f":"IF(ISBLANK('Renseignements sur le locataire'!E3804),\"\",'Renseignements sur le locataire'!E3804)","v":""}]
[null,null,null,{"$f":"IF(ISBLANK('Renseignements sur le locataire'!E3805),\"\",'Renseignements sur le locataire'!E3805)","v":""}]
[null,null,null,{"$f":"IF(ISBLANK('Renseignements sur le locataire'!E3806),\"\",'Renseignements sur le locataire'!E3806)","v":""}]
[null,null,null,{"$f":"IF(ISBLANK('Renseignements sur le locataire'!E3807),\"\",'Renseignements sur le locataire'!E3807)","v":""}]
[null,null,null,{"$f":"IF(ISBLANK('Renseignements sur le locataire'!E3808),\"\",'Renseignements sur le locataire'!E3808)","v":""}]
[null,null,null,{"$f":"IF(ISBLANK('Renseignements sur le locataire'!E3809),\"\",'Renseignements sur le locataire'!E3809)","v":""}]
[null,null,null,{"$f":"IF(ISBLANK('Renseignements sur le locataire'!E3810),\"\",'Renseignements sur le locataire'!E3810)","v":""}]
[null,null,null,{"$f":"IF(ISBLANK('Renseignements sur le locataire'!E3811),\"\",'Renseignements sur le locataire'!E3811)","v":""}]
[null,null,null,{"$f":"IF(ISBLANK('Renseignements sur le locataire'!E3812),\"\",'Renseignements sur le locataire'!E3812)","v":""}]
[null,null,null,{"$f":"IF(ISBLANK('Renseignements sur le locataire'!E3813),\"\",'Renseignements sur le locataire'!E3813)","v":""}]
[null,null,null,{"$f":"IF(ISBLANK('Renseignements sur le locataire'!E3814),\"\",'Renseignements sur le locataire'!E3814)","v":""}]
[null,null,null,{"$f":"IF(ISBLANK('Renseignements sur le locataire'!E3815),\"\",'Renseignements sur le locataire'!E3815)","v":""}]
[null,null,null,{"$f":"IF(ISBLANK('Renseignements sur le locataire'!E3816),\"\",'Renseignements sur le locataire'!E3816)","v":""}]
[null,null,null,{"$f":"IF(ISBLANK('Renseignements sur le locataire'!E3817),\"\",'Renseignements sur le locataire'!E3817)","v":""}]
[null,null,null,{"$f":"IF(ISBLANK('Renseignements sur le locataire'!E3818),\"\",'Renseignements sur le locataire'!E3818)","v":""}]
[null,null,null,{"$f":"IF(ISBLANK('Renseignements sur le locataire'!E3819),\"\",'Renseignements sur le locataire'!E3819)","v":""}]
[null,null,null,{"$f":"IF(ISBLANK('Renseignements sur le locataire'!E3820),\"\",'Renseignements sur le locataire'!E3820)","v":""}]
[null,null,null,{"$f":"IF(ISBLANK('Renseignements sur le locataire'!E3821),\"\",'Renseignements sur le locataire'!E3821)","v":""}]
[null,null,null,{"$f":"IF(ISBLANK('Renseignements sur le locataire'!E3822),\"\",'Renseignements sur le locataire'!E3822)","v":""}]
[null,null,null,{"$f":"IF(ISBLANK('Renseignements sur le locataire'!E3823),\"\",'Renseignements sur le locataire'!E3823)","v":""}]
[null,null,null,{"$f":"IF(ISBLANK('Renseignements sur le locataire'!E3824),\"\",'Renseignements sur le locataire'!E3824)","v":""}]
[null,null,null,{"$f":"IF(ISBLANK('Renseignements sur le locataire'!E3825),\"\",'Renseignements sur le locataire'!E3825)","v":""}]
[null,null,null,{"$f":"IF(ISBLANK('Renseignements sur le locataire'!E3826),\"\",'Renseignements sur le locataire'!E3826)","v":""}]
[null,null,null,{"$f":"IF(ISBLANK('Renseignements sur le locataire'!E3827),\"\",'Renseignements sur le locataire'!E3827)","v":""}]
[null,null,null,{"$f":"IF(ISBLANK('Renseignements sur le locataire'!E3828),\"\",'Renseignements sur le locataire'!E3828)","v":""}]
[null,null,null,{"$f":"IF(ISBLANK('Renseignements sur le locataire'!E3829),\"\",'Renseignements sur le locataire'!E3829)","v":""}]
[null,null,null,{"$f":"IF(ISBLANK('Renseignements sur le locataire'!E3830),\"\",'Renseignements sur le locataire'!E3830)","v":""}]
[null,null,null,{"$f":"IF(ISBLANK('Renseignements sur le locataire'!E3831),\"\",'Renseignements sur le locataire'!E3831)","v":""}]
[null,null,null,{"$f":"IF(ISBLANK('Renseignements sur le locataire'!E3832),\"\",'Renseignements sur le locataire'!E3832)","v":""}]
[null,null,null,{"$f":"IF(ISBLANK('Renseignements sur le locataire'!E3833),\"\",'Renseignements sur le locataire'!E3833)","v":""}]
[null,null,null,{"$f":"IF(ISBLANK('Renseignements sur le locataire'!E3834),\"\",'Renseignements sur le locataire'!E3834)","v":""}]
[null,null,null,{"$f":"IF(ISBLANK('Renseignements sur le locataire'!E3835),\"\",'Renseignements sur le locataire'!E3835)","v":""}]
[null,null,null,{"$f":"IF(ISBLANK('Renseignements sur le locataire'!E3836),\"\",'Renseignements sur le locataire'!E3836)","v":""}]
[null,null,null,{"$f":"IF(ISBLANK('Renseignements sur le locataire'!E3837),\"\",'Renseignements sur le locataire'!E3837)","v":""}]
[null,null,null,{"$f":"IF(ISBLANK('Renseignements sur le locataire'!E3838),\"\",'Renseignements sur le locataire'!E3838)","v":""}]
[null,null,null,{"$f":"IF(ISBLANK('Renseignements sur le locataire'!E3839),\"\",'Renseignements sur le locataire'!E3839)","v":""}]
[null,null,null,{"$f":"IF(ISBLANK('Renseignements sur le locataire'!E3840),\"\",'Renseignements sur le locataire'!E3840)","v":""}]
[null,null,null,{"$f":"IF(ISBLANK('Renseignements sur le locataire'!E3841),\"\",'Renseignements sur le locataire'!E3841)","v":""}]
[null,null,null,{"$f":"IF(ISBLANK('Renseignements sur le locataire'!E3842),\"\",'Renseignements sur le locataire'!E3842)","v":""}]
[null,null,null,{"$f":"IF(ISBLANK('Renseignements sur le locataire'!E3843),\"\",'Renseignements sur le locataire'!E3843)","v":""}]
[null,null,null,{"$f":"IF(ISBLANK('Renseignements sur le locataire'!E3844),\"\",'Renseignements sur le locataire'!E3844)","v":""}]
[null,null,null,{"$f":"IF(ISBLANK('Renseignements sur le locataire'!E3845),\"\",'Renseignements sur le locataire'!E3845)","v":""}]
[null,null,null,{"$f":"IF(ISBLANK('Renseignements sur le locataire'!E3846),\"\",'Renseignements sur le locataire'!E3846)","v":""}]
[null,null,null,{"$f":"IF(ISBLANK('Renseignements sur le locataire'!E3847),\"\",'Renseignements sur le locataire'!E3847)","v":""}]
[null,null,null,{"$f":"IF(ISBLANK('Renseignements sur le locataire'!E3848),\"\",'Renseignements sur le locataire'!E3848)","v":""}]
[null,null,null,{"$f":"IF(ISBLANK('Renseignements sur le locataire'!E3849),\"\",'Renseignements sur le locataire'!E3849)","v":""}]
[null,null,null,{"$f":"IF(ISBLANK('Renseignements sur le locataire'!E3850),\"\",'Renseignements sur le locataire'!E3850)","v":""}]
[null,null,null,{"$f":"IF(ISBLANK('Renseignements sur le locataire'!E3851),\"\",'Renseignements sur le locataire'!E3851)","v":""}]
[null,null,null,{"$f":"IF(ISBLANK('Renseignements sur le locataire'!E3852),\"\",'Renseignements sur le locataire'!E3852)","v":""}]
[null,null,null,{"$f":"IF(ISBLANK('Renseignements sur le locataire'!E3853),\"\",'Renseignements sur le locataire'!E3853)","v":""}]
[null,null,null,{"$f":"IF(ISBLANK('Renseignements sur le locataire'!E3854),\"\",'Renseignements sur le locataire'!E3854)","v":""}]
[null,null,null,{"$f":"IF(ISBLANK('Renseignements sur le locataire'!E3855),\"\",'Renseignements sur le locataire'!E3855)","v":""}]
[null,null,null,{"$f":"IF(ISBLANK('Renseignements sur le locataire'!E3856),\"\",'Renseignements sur le locataire'!E3856)","v":""}]
[null,null,null,{"$f":"IF(ISBLANK('Renseignements sur le locataire'!E3857),\"\",'Renseignements sur le locataire'!E3857)","v":""}]
[null,null,null,{"$f":"IF(ISBLANK('Renseignements sur le locataire'!E3858),\"\",'Renseignements sur le locataire'!E3858)","v":""}]
[null,null,null,{"$f":"IF(ISBLANK('Renseignements sur le locataire'!E3859),\"\",'Renseignements sur le locataire'!E3859)","v":""}]
[null,null,null,{"$f":"IF(ISBLANK('Renseignements sur le locataire'!E3860),\"\",'Renseignements sur le locataire'!E3860)","v":""}]
[null,null,null,{"$f":"IF(ISBLANK('Renseignements sur le locataire'!E3861),\"\",'Renseignements sur le locataire'!E3861)","v":""}]
[null,null,null,{"$f":"IF(ISBLANK('Renseignements sur le locataire'!E3862),\"\",'Renseignements sur le locataire'!E3862)","v":""}]
[null,null,null,{"$f":"IF(ISBLANK('Renseignements sur le locataire'!E3863),\"\",'Renseignements sur le locataire'!E3863)","v":""}]
[null,null,null,{"$f":"IF(ISBLANK('Renseignements sur le locataire'!E3864),\"\",'Renseignements sur le locataire'!E3864)","v":""}]
[null,null,null,{"$f":"IF(ISBLANK('Renseignements sur le locataire'!E3865),\"\",'Renseignements sur le locataire'!E3865)","v":""}]
[null,null,null,{"$f":"IF(ISBLANK('Renseignements sur le locataire'!E3866),\"\",'Renseignements sur le locataire'!E3866)","v":""}]
[null,null,null,{"$f":"IF(ISBLANK('Renseignements sur le locataire'!E3867),\"\",'Renseignements sur le locataire'!E3867)","v":""}]
[null,null,null,{"$f":"IF(ISBLANK('Renseignements sur le locataire'!E3868),\"\",'Renseignements sur le locataire'!E3868)","v":""}]
[null,null,null,{"$f":"IF(ISBLANK('Renseignements sur le locataire'!E3869),\"\",'Renseignements sur le locataire'!E3869)","v":""}]
[null,null,null,{"$f":"IF(ISBLANK('Renseignements sur le locataire'!E3870),\"\",'Renseignements sur le locataire'!E3870)","v":""}]
[null,null,null,{"$f":"IF(ISBLANK('Renseignements sur le locataire'!E3871),\"\",'Renseignements sur le locataire'!E3871)","v":""}]
[null,null,null,{"$f":"IF(ISBLANK('Renseignements sur le locataire'!E3872),\"\",'Renseignements sur le locataire'!E3872)","v":""}]
[null,null,null,{"$f":"IF(ISBLANK('Renseignements sur le locataire'!E3873),\"\",'Renseignements sur le locataire'!E3873)","v":""}]
[null,null,null,{"$f":"IF(ISBLANK('Renseignements sur le locataire'!E3874),\"\",'Renseignements sur le locataire'!E3874)","v":""}]
[null,null,null,{"$f":"IF(ISBLANK('Renseignements sur le locataire'!E3875),\"\",'Renseignements sur le locataire'!E3875)","v":""}]
[null,null,null,{"$f":"IF(ISBLANK('Renseignements sur le locataire'!E3876),\"\",'Renseignements sur le locataire'!E3876)","v":""}]
[null,null,null,{"$f":"IF(ISBLANK('Renseignements sur le locataire'!E3877),\"\",'Renseignements sur le locataire'!E3877)","v":""}]
[null,null,null,{"$f":"IF(ISBLANK('Renseignements sur le locataire'!E3878),\"\",'Renseignements sur le locataire'!E3878)","v":""}]
[null,null,null,{"$f":"IF(ISBLANK('Renseignements sur le locataire'!E3879),\"\",'Renseignements sur le locataire'!E3879)","v":""}]
[null,null,null,{"$f":"IF(ISBLANK('Renseignements sur le locataire'!E3880),\"\",'Renseignements sur le locataire'!E3880)","v":""}]
[null,null,null,{"$f":"IF(ISBLANK('Renseignements sur le locataire'!E3881),\"\",'Renseignements sur le locataire'!E3881)","v":""}]
[null,null,null,{"$f":"IF(ISBLANK('Renseignements sur le locataire'!E3882),\"\",'Renseignements sur le locataire'!E3882)","v":""}]
[null,null,null,{"$f":"IF(ISBLANK('Renseignements sur le locataire'!E3883),\"\",'Renseignements sur le locataire'!E3883)","v":""}]
[null,null,null,{"$f":"IF(ISBLANK('Renseignements sur le locataire'!E3884),\"\",'Renseignements sur le locataire'!E3884)","v":""}]
[null,null,null,{"$f":"IF(ISBLANK('Renseignements sur le locataire'!E3885),\"\",'Renseignements sur le locataire'!E3885)","v":""}]
[null,null,null,{"$f":"IF(ISBLANK('Renseignements sur le locataire'!E3886),\"\",'Renseignements sur le locataire'!E3886)","v":""}]
[null,null,null,{"$f":"IF(ISBLANK('Renseignements sur le locataire'!E3887),\"\",'Renseignements sur le locataire'!E3887)","v":""}]
[null,null,null,{"$f":"IF(ISBLANK('Renseignements sur le locataire'!E3888),\"\",'Renseignements sur le locataire'!E3888)","v":""}]
[null,null,null,{"$f":"IF(ISBLANK('Renseignements sur le locataire'!E3889),\"\",'Renseignements sur le locataire'!E3889)","v":""}]
[null,null,null,{"$f":"IF(ISBLANK('Renseignements sur le locataire'!E3890),\"\",'Renseignements sur le locataire'!E3890)","v":""}]
[null,null,null,{"$f":"IF(ISBLANK('Renseignements sur le locataire'!E3891),\"\",'Renseignements sur le locataire'!E3891)","v":""}]
[null,null,null,{"$f":"IF(ISBLANK('Renseignements sur le locataire'!E3892),\"\",'Renseignements sur le locataire'!E3892)","v":""}]
[null,null,null,{"$f":"IF(ISBLANK('Renseignements sur le locataire'!E3893),\"\",'Renseignements sur le locataire'!E3893)","v":""}]
[null,null,null,{"$f":"IF(ISBLANK('Renseignements sur le locataire'!E3894),\"\",'Renseignements sur le locataire'!E3894)","v":""}]
[null,null,null,{"$f":"IF(ISBLANK('Renseignements sur le locataire'!E3895),\"\",'Renseignements sur le locataire'!E3895)","v":""}]
[null,null,null,{"$f":"IF(ISBLANK('Renseignements sur le locataire'!E3896),\"\",'Renseignements sur le locataire'!E3896)","v":""}]
[null,null,null,{"$f":"IF(ISBLANK('Renseignements sur le locataire'!E3897),\"\",'Renseignements sur le locataire'!E3897)","v":""}]
[null,null,null,{"$f":"IF(ISBLANK('Renseignements sur le locataire'!E3898),\"\",'Renseignements sur le locataire'!E3898)","v":""}]
[null,null,null,{"$f":"IF(ISBLANK('Renseignements sur le locataire'!E3899),\"\",'Renseignements sur le locataire'!E3899)","v":""}]
[null,null,null,{"$f":"IF(ISBLANK('Renseignements sur le locataire'!E3900),\"\",'Renseignements sur le locataire'!E3900)","v":""}]
[null,null,null,{"$f":"IF(ISBLANK('Renseignements sur le locataire'!E3901),\"\",'Renseignements sur le locataire'!E3901)","v":""}]
[null,null,null,{"$f":"IF(ISBLANK('Renseignements sur le locataire'!E3902),\"\",'Renseignements sur le locataire'!E3902)","v":""}]
[null,null,null,{"$f":"IF(ISBLANK('Renseignements sur le locataire'!E3903),\"\",'Renseignements sur le locataire'!E3903)","v":""}]
[null,null,null,{"$f":"IF(ISBLANK('Renseignements sur le locataire'!E3904),\"\",'Renseignements sur le locataire'!E3904)","v":""}]
[null,null,null,{"$f":"IF(ISBLANK('Renseignements sur le locataire'!E3905),\"\",'Renseignements sur le locataire'!E3905)","v":""}]
[null,null,null,{"$f":"IF(ISBLANK('Renseignements sur le locataire'!E3906),\"\",'Renseignements sur le locataire'!E3906)","v":""}]
[null,null,null,{"$f":"IF(ISBLANK('Renseignements sur le locataire'!E3907),\"\",'Renseignements sur le locataire'!E3907)","v":""}]
[null,null,null,{"$f":"IF(ISBLANK('Renseignements sur le locataire'!E3908),\"\",'Renseignements sur le locataire'!E3908)","v":""}]
[null,null,null,{"$f":"IF(ISBLANK('Renseignements sur le locataire'!E3909),\"\",'Renseignements sur le locataire'!E3909)","v":""}]
[null,null,null,{"$f":"IF(ISBLANK('Renseignements sur le locataire'!E3910),\"\",'Renseignements sur le locataire'!E3910)","v":""}]
[null,null,null,{"$f":"IF(ISBLANK('Renseignements sur le locataire'!E3911),\"\",'Renseignements sur le locataire'!E3911)","v":""}]
[null,null,null,{"$f":"IF(ISBLANK('Renseignements sur le locataire'!E3912),\"\",'Renseignements sur le locataire'!E3912)","v":""}]
[null,null,null,{"$f":"IF(ISBLANK('Renseignements sur le locataire'!E3913),\"\",'Renseignements sur le locataire'!E3913)","v":""}]
[null,null,null,{"$f":"IF(ISBLANK('Renseignements sur le locataire'!E3914),\"\",'Renseignements sur le locataire'!E3914)","v":""}]
[null,null,null,{"$f":"IF(ISBLANK('Renseignements sur le locataire'!E3915),\"\",'Renseignements sur le locataire'!E3915)","v":""}]
[null,null,null,{"$f":"IF(ISBLANK('Renseignements sur le locataire'!E3916),\"\",'Renseignements sur le locataire'!E3916)","v":""}]
[null,null,null,{"$f":"IF(ISBLANK('Renseignements sur le locataire'!E3917),\"\",'Renseignements sur le locataire'!E3917)","v":""}]
[null,null,null,{"$f":"IF(ISBLANK('Renseignements sur le locataire'!E3918),\"\",'Renseignements sur le locataire'!E3918)","v":""}]
[null,null,null,{"$f":"IF(ISBLANK('Renseignements sur le locataire'!E3919),\"\",'Renseignements sur le locataire'!E3919)","v":""}]
[null,null,null,{"$f":"IF(ISBLANK('Renseignements sur le locataire'!E3920),\"\",'Renseignements sur le locataire'!E3920)","v":""}]
[null,null,null,{"$f":"IF(ISBLANK('Renseignements sur le locataire'!E3921),\"\",'Renseignements sur le locataire'!E3921)","v":""}]
[null,null,null,{"$f":"IF(ISBLANK('Renseignements sur le locataire'!E3922),\"\",'Renseignements sur le locataire'!E3922)","v":""}]
[null,null,null,{"$f":"IF(ISBLANK('Renseignements sur le locataire'!E3923),\"\",'Renseignements sur le locataire'!E3923)","v":""}]
[null,null,null,{"$f":"IF(ISBLANK('Renseignements sur le locataire'!E3924),\"\",'Renseignements sur le locataire'!E3924)","v":""}]
[null,null,null,{"$f":"IF(ISBLANK('Renseignements sur le locataire'!E3925),\"\",'Renseignements sur le locataire'!E3925)","v":""}]
[null,null,null,{"$f":"IF(ISBLANK('Renseignements sur le locataire'!E3926),\"\",'Renseignements sur le locataire'!E3926)","v":""}]
[null,null,null,{"$f":"IF(ISBLANK('Renseignements sur le locataire'!E3927),\"\",'Renseignements sur le locataire'!E3927)","v":""}]
[null,null,null,{"$f":"IF(ISBLANK('Renseignements sur le locataire'!E3928),\"\",'Renseignements sur le locataire'!E3928)","v":""}]
[null,null,null,{"$f":"IF(ISBLANK('Renseignements sur le locataire'!E3929),\"\",'Renseignements sur le locataire'!E3929)","v":""}]
[null,null,null,{"$f":"IF(ISBLANK('Renseignements sur le locataire'!E3930),\"\",'Renseignements sur le locataire'!E3930)","v":""}]
[null,null,null,{"$f":"IF(ISBLANK('Renseignements sur le locataire'!E3931),\"\",'Renseignements sur le locataire'!E3931)","v":""}]
[null,null,null,{"$f":"IF(ISBLANK('Renseignements sur le locataire'!E3932),\"\",'Renseignements sur le locataire'!E3932)","v":""}]
[null,null,null,{"$f":"IF(ISBLANK('Renseignements sur le locataire'!E3933),\"\",'Renseignements sur le locataire'!E3933)","v":""}]
[null,null,null,{"$f":"IF(ISBLANK('Renseignements sur le locataire'!E3934),\"\",'Renseignements sur le locataire'!E3934)","v":""}]
[null,null,null,{"$f":"IF(ISBLANK('Renseignements sur le locataire'!E3935),\"\",'Renseignements sur le locataire'!E3935)","v":""}]
[null,null,null,{"$f":"IF(ISBLANK('Renseignements sur le locataire'!E3936),\"\",'Renseignements sur le locataire'!E3936)","v":""}]
[null,null,null,{"$f":"IF(ISBLANK('Renseignements sur le locataire'!E3937),\"\",'Renseignements sur le locataire'!E3937)","v":""}]
[null,null,null,{"$f":"IF(ISBLANK('Renseignements sur le locataire'!E3938),\"\",'Renseignements sur le locataire'!E3938)","v":""}]
[null,null,null,{"$f":"IF(ISBLANK('Renseignements sur le locataire'!E3939),\"\",'Renseignements sur le locataire'!E3939)","v":""}]
[null,null,null,{"$f":"IF(ISBLANK('Renseignements sur le locataire'!E3940),\"\",'Renseignements sur le locataire'!E3940)","v":""}]
[null,null,null,{"$f":"IF(ISBLANK('Renseignements sur le locataire'!E3941),\"\",'Renseignements sur le locataire'!E3941)","v":""}]
[null,null,null,{"$f":"IF(ISBLANK('Renseignements sur le locataire'!E3942),\"\",'Renseignements sur le locataire'!E3942)","v":""}]
[null,null,null,{"$f":"IF(ISBLANK('Renseignements sur le locataire'!E3943),\"\",'Renseignements sur le locataire'!E3943)","v":""}]
[null,null,null,{"$f":"IF(ISBLANK('Renseignements sur le locataire'!E3944),\"\",'Renseignements sur le locataire'!E3944)","v":""}]
[null,null,null,{"$f":"IF(ISBLANK('Renseignements sur le locataire'!E3945),\"\",'Renseignements sur le locataire'!E3945)","v":""}]
[null,null,null,{"$f":"IF(ISBLANK('Renseignements sur le locataire'!E3946),\"\",'Renseignements sur le locataire'!E3946)","v":""}]
[null,null,null,{"$f":"IF(ISBLANK('Renseignements sur le locataire'!E3947),\"\",'Renseignements sur le locataire'!E3947)","v":""}]
[null,null,null,{"$f":"IF(ISBLANK('Renseignements sur le locataire'!E3948),\"\",'Renseignements sur le locataire'!E3948)","v":""}]
[null,null,null,{"$f":"IF(ISBLANK('Renseignements sur le locataire'!E3949),\"\",'Renseignements sur le locataire'!E3949)","v":""}]
[null,null,null,{"$f":"IF(ISBLANK('Renseignements sur le locataire'!E3950),\"\",'Renseignements sur le locataire'!E3950)","v":""}]
[null,null,null,{"$f":"IF(ISBLANK('Renseignements sur le locataire'!E3951),\"\",'Renseignements sur le locataire'!E3951)","v":""}]
[null,null,null,{"$f":"IF(ISBLANK('Renseignements sur le locataire'!E3952),\"\",'Renseignements sur le locataire'!E3952)","v":""}]
[null,null,null,{"$f":"IF(ISBLANK('Renseignements sur le locataire'!E3953),\"\",'Renseignements sur le locataire'!E3953)","v":""}]
[null,null,null,{"$f":"IF(ISBLANK('Renseignements sur le locataire'!E3954),\"\",'Renseignements sur le locataire'!E3954)","v":""}]
[null,null,null,{"$f":"IF(ISBLANK('Renseignements sur le locataire'!E3955),\"\",'Renseignements sur le locataire'!E3955)","v":""}]
[null,null,null,{"$f":"IF(ISBLANK('Renseignements sur le locataire'!E3956),\"\",'Renseignements sur le locataire'!E3956)","v":""}]
[null,null,null,{"$f":"IF(ISBLANK('Renseignements sur le locataire'!E3957),\"\",'Renseignements sur le locataire'!E3957)","v":""}]
[null,null,null,{"$f":"IF(ISBLANK('Renseignements sur le locataire'!E3958),\"\",'Renseignements sur le locataire'!E3958)","v":""}]
[null,null,null,{"$f":"IF(ISBLANK('Renseignements sur le locataire'!E3959),\"\",'Renseignements sur le locataire'!E3959)","v":""}]
[null,null,null,{"$f":"IF(ISBLANK('Renseignements sur le locataire'!E3960),\"\",'Renseignements sur le locataire'!E3960)","v":""}]
[null,null,null,{"$f":"IF(ISBLANK('Renseignements sur le locataire'!E3961),\"\",'Renseignements sur le locataire'!E3961)","v":""}]
[null,null,null,{"$f":"IF(ISBLANK('Renseignements sur le locataire'!E3962),\"\",'Renseignements sur le locataire'!E3962)","v":""}]
[null,null,null,{"$f":"IF(ISBLANK('Renseignements sur le locataire'!E3963),\"\",'Renseignements sur le locataire'!E3963)","v":""}]
[null,null,null,{"$f":"IF(ISBLANK('Renseignements sur le locataire'!E3964),\"\",'Renseignements sur le locataire'!E3964)","v":""}]
[null,null,null,{"$f":"IF(ISBLANK('Renseignements sur le locataire'!E3965),\"\",'Renseignements sur le locataire'!E3965)","v":""}]
[null,null,null,{"$f":"IF(ISBLANK('Renseignements sur le locataire'!E3966),\"\",'Renseignements sur le locataire'!E3966)","v":""}]
[null,null,null,{"$f":"IF(ISBLANK('Renseignements sur le locataire'!E3967),\"\",'Renseignements sur le locataire'!E3967)","v":""}]
[null,null,null,{"$f":"IF(ISBLANK('Renseignements sur le locataire'!E3968),\"\",'Renseignements sur le locataire'!E3968)","v":""}]
[null,null,null,{"$f":"IF(ISBLANK('Renseignements sur le locataire'!E3969),\"\",'Renseignements sur le locataire'!E3969)","v":""}]
[null,null,null,{"$f":"IF(ISBLANK('Renseignements sur le locataire'!E3970),\"\",'Renseignements sur le locataire'!E3970)","v":""}]
[null,null,null,{"$f":"IF(ISBLANK('Renseignements sur le locataire'!E3971),\"\",'Renseignements sur le locataire'!E3971)","v":""}]
[null,null,null,{"$f":"IF(ISBLANK('Renseignements sur le locataire'!E3972),\"\",'Renseignements sur le locataire'!E3972)","v":""}]
[null,null,null,{"$f":"IF(ISBLANK('Renseignements sur le locataire'!E3973),\"\",'Renseignements sur le locataire'!E3973)","v":""}]
[null,null,null,{"$f":"IF(ISBLANK('Renseignements sur le locataire'!E3974),\"\",'Renseignements sur le locataire'!E3974)","v":""}]
[null,null,null,{"$f":"IF(ISBLANK('Renseignements sur le locataire'!E3975),\"\",'Renseignements sur le locataire'!E3975)","v":""}]
[null,null,null,{"$f":"IF(ISBLANK('Renseignements sur le locataire'!E3976),\"\",'Renseignements sur le locataire'!E3976)","v":""}]
[null,null,null,{"$f":"IF(ISBLANK('Renseignements sur le locataire'!E3977),\"\",'Renseignements sur le locataire'!E3977)","v":""}]
[null,null,null,{"$f":"IF(ISBLANK('Renseignements sur le locataire'!E3978),\"\",'Renseignements sur le locataire'!E3978)","v":""}]
[null,null,null,{"$f":"IF(ISBLANK('Renseignements sur le locataire'!E3979),\"\",'Renseignements sur le locataire'!E3979)","v":""}]
[null,null,null,{"$f":"IF(ISBLANK('Renseignements sur le locataire'!E3980),\"\",'Renseignements sur le locataire'!E3980)","v":""}]
[null,null,null,{"$f":"IF(ISBLANK('Renseignements sur le locataire'!E3981),\"\",'Renseignements sur le locataire'!E3981)","v":""}]
[null,null,null,{"$f":"IF(ISBLANK('Renseignements sur le locataire'!E3982),\"\",'Renseignements sur le locataire'!E3982)","v":""}]
[null,null,null,{"$f":"IF(ISBLANK('Renseignements sur le locataire'!E3983),\"\",'Renseignements sur le locataire'!E3983)","v":""}]
[null,null,null,{"$f":"IF(ISBLANK('Renseignements sur le locataire'!E3984),\"\",'Renseignements sur le locataire'!E3984)","v":""}]
[null,null,null,{"$f":"IF(ISBLANK('Renseignements sur le locataire'!E3985),\"\",'Renseignements sur le locataire'!E3985)","v":""}]
[null,null,null,{"$f":"IF(ISBLANK('Renseignements sur le locataire'!E3986),\"\",'Renseignements sur le locataire'!E3986)","v":""}]
[null,null,null,{"$f":"IF(ISBLANK('Renseignements sur le locataire'!E3987),\"\",'Renseignements sur le locataire'!E3987)","v":""}]
[null,null,null,{"$f":"IF(ISBLANK('Renseignements sur le locataire'!E3988),\"\",'Renseignements sur le locataire'!E3988)","v":""}]
[null,null,null,{"$f":"IF(ISBLANK('Renseignements sur le locataire'!E3989),\"\",'Renseignements sur le locataire'!E3989)","v":""}]
[null,null,null,{"$f":"IF(ISBLANK('Renseignements sur le locataire'!E3990),\"\",'Renseignements sur le locataire'!E3990)","v":""}]
[null,null,null,{"$f":"IF(ISBLANK('Renseignements sur le locataire'!E3991),\"\",'Renseignements sur le locataire'!E3991)","v":""}]
[null,null,null,{"$f":"IF(ISBLANK('Renseignements sur le locataire'!E3992),\"\",'Renseignements sur le locataire'!E3992)","v":""}]
[null,null,null,{"$f":"IF(ISBLANK('Renseignements sur le locataire'!E3993),\"\",'Renseignements sur le locataire'!E3993)","v":""}]
[null,null,null,{"$f":"IF(ISBLANK('Renseignements sur le locataire'!E3994),\"\",'Renseignements sur le locataire'!E3994)","v":""}]
[null,null,null,{"$f":"IF(ISBLANK('Renseignements sur le locataire'!E3995),\"\",'Renseignements sur le locataire'!E3995)","v":""}]
[null,null,null,{"$f":"IF(ISBLANK('Renseignements sur le locataire'!E3996),\"\",'Renseignements sur le locataire'!E3996)","v":""}]
[null,null,null,{"$f":"IF(ISBLANK('Renseignements sur le locataire'!E3997),\"\",'Renseignements sur le locataire'!E3997)","v":""}]
[null,null,null,{"$f":"IF(ISBLANK('Renseignements sur le locataire'!E3998),\"\",'Renseignements sur le locataire'!E3998)","v":""}]
[null,null,null,{"$f":"IF(ISBLANK('Renseignements sur le locataire'!E3999),\"\",'Renseignements sur le locataire'!E3999)","v":""}]
[null,null,null,{"$f":"IF(ISBLANK('Renseignements sur le locataire'!E4000),\"\",'Renseignements sur le locataire'!E4000)","v":""}]
[null,null,null,{"$f":"IF(ISBLANK('Renseignements sur le locataire'!E4001),\"\",'Renseignements sur le locataire'!E4001)","v":""}]
[null,null,null,{"$f":"IF(ISBLANK('Renseignements sur le locataire'!E4002),\"\",'Renseignements sur le locataire'!E4002)","v":""}]
[null,null,null,{"$f":"IF(ISBLANK('Renseignements sur le locataire'!E4003),\"\",'Renseignements sur le locataire'!E4003)","v":""}]
[null,null,null,{"$f":"IF(ISBLANK('Renseignements sur le locataire'!E4004),\"\",'Renseignements sur le locataire'!E4004)","v":""}]
[null,null,null,{"$f":"IF(ISBLANK('Renseignements sur le locataire'!E4005),\"\",'Renseignements sur le locataire'!E4005)","v":""}]
[null,null,null,{"$f":"IF(ISBLANK('Renseignements sur le locataire'!E4006),\"\",'Renseignements sur le locataire'!E4006)","v":""}]
[null,null,null,{"$f":"IF(ISBLANK('Renseignements sur le locataire'!E4007),\"\",'Renseignements sur le locataire'!E4007)","v":""}]
[null,null,null,{"$f":"IF(ISBLANK('Renseignements sur le locataire'!E4008),\"\",'Renseignements sur le locataire'!E4008)","v":""}]
[null,null,null,{"$f":"IF(ISBLANK('Renseignements sur le locataire'!E4009),\"\",'Renseignements sur le locataire'!E4009)","v":""}]
[null,null,null,{"$f":"IF(ISBLANK('Renseignements sur le locataire'!E4010),\"\",'Renseignements sur le locataire'!E4010)","v":""}]
[null,null,null,{"$f":"IF(ISBLANK('Renseignements sur le locataire'!E4011),\"\",'Renseignements sur le locataire'!E4011)","v":""}]
[null,null,null,{"$f":"IF(ISBLANK('Renseignements sur le locataire'!E4012),\"\",'Renseignements sur le locataire'!E4012)","v":""}]
[null,null,null,{"$f":"IF(ISBLANK('Renseignements sur le locataire'!E4013),\"\",'Renseignements sur le locataire'!E4013)","v":""}]
[null,null,null,{"$f":"IF(ISBLANK('Renseignements sur le locataire'!E4014),\"\",'Renseignements sur le locataire'!E4014)","v":""}]
[null,null,null,{"$f":"IF(ISBLANK('Renseignements sur le locataire'!E4015),\"\",'Renseignements sur le locataire'!E4015)","v":""}]
[null,null,null,{"$f":"IF(ISBLANK('Renseignements sur le locataire'!E4016),\"\",'Renseignements sur le locataire'!E4016)","v":""}]
[null,null,null,{"$f":"IF(ISBLANK('Renseignements sur le locataire'!E4017),\"\",'Renseignements sur le locataire'!E4017)","v":""}]
[null,null,null,{"$f":"IF(ISBLANK('Renseignements sur le locataire'!E4018),\"\",'Renseignements sur le locataire'!E4018)","v":""}]
[null,null,null,{"$f":"IF(ISBLANK('Renseignements sur le locataire'!E4019),\"\",'Renseignements sur le locataire'!E4019)","v":""}]
[null,null,null,{"$f":"IF(ISBLANK('Renseignements sur le locataire'!E4020),\"\",'Renseignements sur le locataire'!E4020)","v":""}]
[null,null,null,{"$f":"IF(ISBLANK('Renseignements sur le locataire'!E4021),\"\",'Renseignements sur le locataire'!E4021)","v":""}]
[null,null,null,{"$f":"IF(ISBLANK('Renseignements sur le locataire'!E4022),\"\",'Renseignements sur le locataire'!E4022)","v":""}]
[null,null,null,{"$f":"IF(ISBLANK('Renseignements sur le locataire'!E4023),\"\",'Renseignements sur le locataire'!E4023)","v":""}]
[null,null,null,{"$f":"IF(ISBLANK('Renseignements sur le locataire'!E4024),\"\",'Renseignements sur le locataire'!E4024)","v":""}]
[null,null,null,{"$f":"IF(ISBLANK('Renseignements sur le locataire'!E4025),\"\",'Renseignements sur le locataire'!E4025)","v":""}]
[null,null,null,{"$f":"IF(ISBLANK('Renseignements sur le locataire'!E4026),\"\",'Renseignements sur le locataire'!E4026)","v":""}]
[null,null,null,{"$f":"IF(ISBLANK('Renseignements sur le locataire'!E4027),\"\",'Renseignements sur le locataire'!E4027)","v":""}]
[null,null,null,{"$f":"IF(ISBLANK('Renseignements sur le locataire'!E4028),\"\",'Renseignements sur le locataire'!E4028)","v":""}]
[null,null,null,{"$f":"IF(ISBLANK('Renseignements sur le locataire'!E4029),\"\",'Renseignements sur le locataire'!E4029)","v":""}]
[null,null,null,{"$f":"IF(ISBLANK('Renseignements sur le locataire'!E4030),\"\",'Renseignements sur le locataire'!E4030)","v":""}]
[null,null,null,{"$f":"IF(ISBLANK('Renseignements sur le locataire'!E4031),\"\",'Renseignements sur le locataire'!E4031)","v":""}]
[null,null,null,{"$f":"IF(ISBLANK('Renseignements sur le locataire'!E4032),\"\",'Renseignements sur le locataire'!E4032)","v":""}]
[null,null,null,{"$f":"IF(ISBLANK('Renseignements sur le locataire'!E4033),\"\",'Renseignements sur le locataire'!E4033)","v":""}]
[null,null,null,{"$f":"IF(ISBLANK('Renseignements sur le locataire'!E4034),\"\",'Renseignements sur le locataire'!E4034)","v":""}]
[null,null,null,{"$f":"IF(ISBLANK('Renseignements sur le locataire'!E4035),\"\",'Renseignements sur le locataire'!E4035)","v":""}]
[null,null,null,{"$f":"IF(ISBLANK('Renseignements sur le locataire'!E4036),\"\",'Renseignements sur le locataire'!E4036)","v":""}]
[null,null,null,{"$f":"IF(ISBLANK('Renseignements sur le locataire'!E4037),\"\",'Renseignements sur le locataire'!E4037)","v":""}]
[null,null,null,{"$f":"IF(ISBLANK('Renseignements sur le locataire'!E4038),\"\",'Renseignements sur le locataire'!E4038)","v":""}]
[null,null,null,{"$f":"IF(ISBLANK('Renseignements sur le locataire'!E4039),\"\",'Renseignements sur le locataire'!E4039)","v":""}]
[null,null,null,{"$f":"IF(ISBLANK('Renseignements sur le locataire'!E4040),\"\",'Renseignements sur le locataire'!E4040)","v":""}]
[null,null,null,{"$f":"IF(ISBLANK('Renseignements sur le locataire'!E4041),\"\",'Renseignements sur le locataire'!E4041)","v":""}]
[null,null,null,{"$f":"IF(ISBLANK('Renseignements sur le locataire'!E4042),\"\",'Renseignements sur le locataire'!E4042)","v":""}]
[null,null,null,{"$f":"IF(ISBLANK('Renseignements sur le locataire'!E4043),\"\",'Renseignements sur le locataire'!E4043)","v":""}]
[null,null,null,{"$f":"IF(ISBLANK('Renseignements sur le locataire'!E4044),\"\",'Renseignements sur le locataire'!E4044)","v":""}]
[null,null,null,{"$f":"IF(ISBLANK('Renseignements sur le locataire'!E4045),\"\",'Renseignements sur le locataire'!E4045)","v":""}]
[null,null,null,{"$f":"IF(ISBLANK('Renseignements sur le locataire'!E4046),\"\",'Renseignements sur le locataire'!E4046)","v":""}]
[null,null,null,{"$f":"IF(ISBLANK('Renseignements sur le locataire'!E4047),\"\",'Renseignements sur le locataire'!E4047)","v":""}]
[null,null,null,{"$f":"IF(ISBLANK('Renseignements sur le locataire'!E4048),\"\",'Renseignements sur le locataire'!E4048)","v":""}]
[null,null,null,{"$f":"IF(ISBLANK('Renseignements sur le locataire'!E4049),\"\",'Renseignements sur le locataire'!E4049)","v":""}]
[null,null,null,{"$f":"IF(ISBLANK('Renseignements sur le locataire'!E4050),\"\",'Renseignements sur le locataire'!E4050)","v":""}]
[null,null,null,{"$f":"IF(ISBLANK('Renseignements sur le locataire'!E4051),\"\",'Renseignements sur le locataire'!E4051)","v":""}]
[null,null,null,{"$f":"IF(ISBLANK('Renseignements sur le locataire'!E4052),\"\",'Renseignements sur le locataire'!E4052)","v":""}]
[null,null,null,{"$f":"IF(ISBLANK('Renseignements sur le locataire'!E4053),\"\",'Renseignements sur le locataire'!E4053)","v":""}]
[null,null,null,{"$f":"IF(ISBLANK('Renseignements sur le locataire'!E4054),\"\",'Renseignements sur le locataire'!E4054)","v":""}]
[null,null,null,{"$f":"IF(ISBLANK('Renseignements sur le locataire'!E4055),\"\",'Renseignements sur le locataire'!E4055)","v":""}]
[null,null,null,{"$f":"IF(ISBLANK('Renseignements sur le locataire'!E4056),\"\",'Renseignements sur le locataire'!E4056)","v":""}]
[null,null,null,{"$f":"IF(ISBLANK('Renseignements sur le locataire'!E4057),\"\",'Renseignements sur le locataire'!E4057)","v":""}]
[null,null,null,{"$f":"IF(ISBLANK('Renseignements sur le locataire'!E4058),\"\",'Renseignements sur le locataire'!E4058)","v":""}]
[null,null,null,{"$f":"IF(ISBLANK('Renseignements sur le locataire'!E4059),\"\",'Renseignements sur le locataire'!E4059)","v":""}]
[null,null,null,{"$f":"IF(ISBLANK('Renseignements sur le locataire'!E4060),\"\",'Renseignements sur le locataire'!E4060)","v":""}]
[null,null,null,{"$f":"IF(ISBLANK('Renseignements sur le locataire'!E4061),\"\",'Renseignements sur le locataire'!E4061)","v":""}]
[null,null,null,{"$f":"IF(ISBLANK('Renseignements sur le locataire'!E4062),\"\",'Renseignements sur le locataire'!E4062)","v":""}]
[null,null,null,{"$f":"IF(ISBLANK('Renseignements sur le locataire'!E4063),\"\",'Renseignements sur le locataire'!E4063)","v":""}]
[null,null,null,{"$f":"IF(ISBLANK('Renseignements sur le locataire'!E4064),\"\",'Renseignements sur le locataire'!E4064)","v":""}]
[null,null,null,{"$f":"IF(ISBLANK('Renseignements sur le locataire'!E4065),\"\",'Renseignements sur le locataire'!E4065)","v":""}]
[null,null,null,{"$f":"IF(ISBLANK('Renseignements sur le locataire'!E4066),\"\",'Renseignements sur le locataire'!E4066)","v":""}]
[null,null,null,{"$f":"IF(ISBLANK('Renseignements sur le locataire'!E4067),\"\",'Renseignements sur le locataire'!E4067)","v":""}]
[null,null,null,{"$f":"IF(ISBLANK('Renseignements sur le locataire'!E4068),\"\",'Renseignements sur le locataire'!E4068)","v":""}]
[null,null,null,{"$f":"IF(ISBLANK('Renseignements sur le locataire'!E4069),\"\",'Renseignements sur le locataire'!E4069)","v":""}]
[null,null,null,{"$f":"IF(ISBLANK('Renseignements sur le locataire'!E4070),\"\",'Renseignements sur le locataire'!E4070)","v":""}]
[null,null,null,{"$f":"IF(ISBLANK('Renseignements sur le locataire'!E4071),\"\",'Renseignements sur le locataire'!E4071)","v":""}]
[null,null,null,{"$f":"IF(ISBLANK('Renseignements sur le locataire'!E4072),\"\",'Renseignements sur le locataire'!E4072)","v":""}]
[null,null,null,{"$f":"IF(ISBLANK('Renseignements sur le locataire'!E4073),\"\",'Renseignements sur le locataire'!E4073)","v":""}]
[null,null,null,{"$f":"IF(ISBLANK('Renseignements sur le locataire'!E4074),\"\",'Renseignements sur le locataire'!E4074)","v":""}]
[null,null,null,{"$f":"IF(ISBLANK('Renseignements sur le locataire'!E4075),\"\",'Renseignements sur le locataire'!E4075)","v":""}]
[null,null,null,{"$f":"IF(ISBLANK('Renseignements sur le locataire'!E4076),\"\",'Renseignements sur le locataire'!E4076)","v":""}]
[null,null,null,{"$f":"IF(ISBLANK('Renseignements sur le locataire'!E4077),\"\",'Renseignements sur le locataire'!E4077)","v":""}]
[null,null,null,{"$f":"IF(ISBLANK('Renseignements sur le locataire'!E4078),\"\",'Renseignements sur le locataire'!E4078)","v":""}]
[null,null,null,{"$f":"IF(ISBLANK('Renseignements sur le locataire'!E4079),\"\",'Renseignements sur le locataire'!E4079)","v":""}]
[null,null,null,{"$f":"IF(ISBLANK('Renseignements sur le locataire'!E4080),\"\",'Renseignements sur le locataire'!E4080)","v":""}]
[null,null,null,{"$f":"IF(ISBLANK('Renseignements sur le locataire'!E4081),\"\",'Renseignements sur le locataire'!E4081)","v":""}]
[null,null,null,{"$f":"IF(ISBLANK('Renseignements sur le locataire'!E4082),\"\",'Renseignements sur le locataire'!E4082)","v":""}]
[null,null,null,{"$f":"IF(ISBLANK('Renseignements sur le locataire'!E4083),\"\",'Renseignements sur le locataire'!E4083)","v":""}]
[null,null,null,{"$f":"IF(ISBLANK('Renseignements sur le locataire'!E4084),\"\",'Renseignements sur le locataire'!E4084)","v":""}]
[null,null,null,{"$f":"IF(ISBLANK('Renseignements sur le locataire'!E4085),\"\",'Renseignements sur le locataire'!E4085)","v":""}]
[null,null,null,{"$f":"IF(ISBLANK('Renseignements sur le locataire'!E4086),\"\",'Renseignements sur le locataire'!E4086)","v":""}]
[null,null,null,{"$f":"IF(ISBLANK('Renseignements sur le locataire'!E4087),\"\",'Renseignements sur le locataire'!E4087)","v":""}]
[null,null,null,{"$f":"IF(ISBLANK('Renseignements sur le locataire'!E4088),\"\",'Renseignements sur le locataire'!E4088)","v":""}]
[null,null,null,{"$f":"IF(ISBLANK('Renseignements sur le locataire'!E4089),\"\",'Renseignements sur le locataire'!E4089)","v":""}]
[null,null,null,{"$f":"IF(ISBLANK('Renseignements sur le locataire'!E4090),\"\",'Renseignements sur le locataire'!E4090)","v":""}]
[null,null,null,{"$f":"IF(ISBLANK('Renseignements sur le locataire'!E4091),\"\",'Renseignements sur le locataire'!E4091)","v":""}]
[null,null,null,{"$f":"IF(ISBLANK('Renseignements sur le locataire'!E4092),\"\",'Renseignements sur le locataire'!E4092)","v":""}]
[null,null,null,{"$f":"IF(ISBLANK('Renseignements sur le locataire'!E4093),\"\",'Renseignements sur le locataire'!E4093)","v":""}]
[null,null,null,{"$f":"IF(ISBLANK('Renseignements sur le locataire'!E4094),\"\",'Renseignements sur le locataire'!E4094)","v":""}]
[null,null,null,{"$f":"IF(ISBLANK('Renseignements sur le locataire'!E4095),\"\",'Renseignements sur le locataire'!E4095)","v":""}]
[null,null,null,{"$f":"IF(ISBLANK('Renseignements sur le locataire'!E4096),\"\",'Renseignements sur le locataire'!E4096)","v":""}]
[null,null,null,{"$f":"IF(ISBLANK('Renseignements sur le locataire'!E4097),\"\",'Renseignements sur le locataire'!E4097)","v":""}]
[null,null,null,{"$f":"IF(ISBLANK('Renseignements sur le locataire'!E4098),\"\",'Renseignements sur le locataire'!E4098)","v":""}]
[null,null,null,{"$f":"IF(ISBLANK('Renseignements sur le locataire'!E4099),\"\",'Renseignements sur le locataire'!E4099)","v":""}]
[null,null,null,{"$f":"IF(ISBLANK('Renseignements sur le locataire'!E4100),\"\",'Renseignements sur le locataire'!E4100)","v":""}]
[null,null,null,{"$f":"IF(ISBLANK('Renseignements sur le locataire'!E4101),\"\",'Renseignements sur le locataire'!E4101)","v":""}]
[null,null,null,{"$f":"IF(ISBLANK('Renseignements sur le locataire'!E4102),\"\",'Renseignements sur le locataire'!E4102)","v":""}]
[null,null,null,{"$f":"IF(ISBLANK('Renseignements sur le locataire'!E4103),\"\",'Renseignements sur le locataire'!E4103)","v":""}]
[null,null,null,{"$f":"IF(ISBLANK('Renseignements sur le locataire'!E4104),\"\",'Renseignements sur le locataire'!E4104)","v":""}]
[null,null,null,{"$f":"IF(ISBLANK('Renseignements sur le locataire'!E4105),\"\",'Renseignements sur le locataire'!E4105)","v":""}]
[null,null,null,{"$f":"IF(ISBLANK('Renseignements sur le locataire'!E4106),\"\",'Renseignements sur le locataire'!E4106)","v":""}]
[null,null,null,{"$f":"IF(ISBLANK('Renseignements sur le locataire'!E4107),\"\",'Renseignements sur le locataire'!E4107)","v":""}]
[null,null,null,{"$f":"IF(ISBLANK('Renseignements sur le locataire'!E4108),\"\",'Renseignements sur le locataire'!E4108)","v":""}]
[null,null,null,{"$f":"IF(ISBLANK('Renseignements sur le locataire'!E4109),\"\",'Renseignements sur le locataire'!E4109)","v":""}]
[null,null,null,{"$f":"IF(ISBLANK('Renseignements sur le locataire'!E4110),\"\",'Renseignements sur le locataire'!E4110)","v":""}]
[null,null,null,{"$f":"IF(ISBLANK('Renseignements sur le locataire'!E4111),\"\",'Renseignements sur le locataire'!E4111)","v":""}]
[null,null,null,{"$f":"IF(ISBLANK('Renseignements sur le locataire'!E4112),\"\",'Renseignements sur le locataire'!E4112)","v":""}]
[null,null,null,{"$f":"IF(ISBLANK('Renseignements sur le locataire'!E4113),\"\",'Renseignements sur le locataire'!E4113)","v":""}]
[null,null,null,{"$f":"IF(ISBLANK('Renseignements sur le locataire'!E4114),\"\",'Renseignements sur le locataire'!E4114)","v":""}]
[null,null,null,{"$f":"IF(ISBLANK('Renseignements sur le locataire'!E4115),\"\",'Renseignements sur le locataire'!E4115)","v":""}]
[null,null,null,{"$f":"IF(ISBLANK('Renseignements sur le locataire'!E4116),\"\",'Renseignements sur le locataire'!E4116)","v":""}]
[null,null,null,{"$f":"IF(ISBLANK('Renseignements sur le locataire'!E4117),\"\",'Renseignements sur le locataire'!E4117)","v":""}]
[null,null,null,{"$f":"IF(ISBLANK('Renseignements sur le locataire'!E4118),\"\",'Renseignements sur le locataire'!E4118)","v":""}]
[null,null,null,{"$f":"IF(ISBLANK('Renseignements sur le locataire'!E4119),\"\",'Renseignements sur le locataire'!E4119)","v":""}]
[null,null,null,{"$f":"IF(ISBLANK('Renseignements sur le locataire'!E4120),\"\",'Renseignements sur le locataire'!E4120)","v":""}]
[null,null,null,{"$f":"IF(ISBLANK('Renseignements sur le locataire'!E4121),\"\",'Renseignements sur le locataire'!E4121)","v":""}]
[null,null,null,{"$f":"IF(ISBLANK('Renseignements sur le locataire'!E4122),\"\",'Renseignements sur le locataire'!E4122)","v":""}]
[null,null,null,{"$f":"IF(ISBLANK('Renseignements sur le locataire'!E4123),\"\",'Renseignements sur le locataire'!E4123)","v":""}]
[null,null,null,{"$f":"IF(ISBLANK('Renseignements sur le locataire'!E4124),\"\",'Renseignements sur le locataire'!E4124)","v":""}]
[null,null,null,{"$f":"IF(ISBLANK('Renseignements sur le locataire'!E4125),\"\",'Renseignements sur le locataire'!E4125)","v":""}]
[null,null,null,{"$f":"IF(ISBLANK('Renseignements sur le locataire'!E4126),\"\",'Renseignements sur le locataire'!E4126)","v":""}]
[null,null,null,{"$f":"IF(ISBLANK('Renseignements sur le locataire'!E4127),\"\",'Renseignements sur le locataire'!E4127)","v":""}]
[null,null,null,{"$f":"IF(ISBLANK('Renseignements sur le locataire'!E4128),\"\",'Renseignements sur le locataire'!E4128)","v":""}]
[null,null,null,{"$f":"IF(ISBLANK('Renseignements sur le locataire'!E4129),\"\",'Renseignements sur le locataire'!E4129)","v":""}]
[null,null,null,{"$f":"IF(ISBLANK('Renseignements sur le locataire'!E4130),\"\",'Renseignements sur le locataire'!E4130)","v":""}]
[null,null,null,{"$f":"IF(ISBLANK('Renseignements sur le locataire'!E4131),\"\",'Renseignements sur le locataire'!E4131)","v":""}]
[null,null,null,{"$f":"IF(ISBLANK('Renseignements sur le locataire'!E4132),\"\",'Renseignements sur le locataire'!E4132)","v":""}]
[null,null,null,{"$f":"IF(ISBLANK('Renseignements sur le locataire'!E4133),\"\",'Renseignements sur le locataire'!E4133)","v":""}]
[null,null,null,{"$f":"IF(ISBLANK('Renseignements sur le locataire'!E4134),\"\",'Renseignements sur le locataire'!E4134)","v":""}]
[null,null,null,{"$f":"IF(ISBLANK('Renseignements sur le locataire'!E4135),\"\",'Renseignements sur le locataire'!E4135)","v":""}]
[null,null,null,{"$f":"IF(ISBLANK('Renseignements sur le locataire'!E4136),\"\",'Renseignements sur le locataire'!E4136)","v":""}]
[null,null,null,{"$f":"IF(ISBLANK('Renseignements sur le locataire'!E4137),\"\",'Renseignements sur le locataire'!E4137)","v":""}]
[null,null,null,{"$f":"IF(ISBLANK('Renseignements sur le locataire'!E4138),\"\",'Renseignements sur le locataire'!E4138)","v":""}]
[null,null,null,{"$f":"IF(ISBLANK('Renseignements sur le locataire'!E4139),\"\",'Renseignements sur le locataire'!E4139)","v":""}]
[null,null,null,{"$f":"IF(ISBLANK('Renseignements sur le locataire'!E4140),\"\",'Renseignements sur le locataire'!E4140)","v":""}]
[null,null,null,{"$f":"IF(ISBLANK('Renseignements sur le locataire'!E4141),\"\",'Renseignements sur le locataire'!E4141)","v":""}]
[null,null,null,{"$f":"IF(ISBLANK('Renseignements sur le locataire'!E4142),\"\",'Renseignements sur le locataire'!E4142)","v":""}]
[null,null,null,{"$f":"IF(ISBLANK('Renseignements sur le locataire'!E4143),\"\",'Renseignements sur le locataire'!E4143)","v":""}]
[null,null,null,{"$f":"IF(ISBLANK('Renseignements sur le locataire'!E4144),\"\",'Renseignements sur le locataire'!E4144)","v":""}]
[null,null,null,{"$f":"IF(ISBLANK('Renseignements sur le locataire'!E4145),\"\",'Renseignements sur le locataire'!E4145)","v":""}]
[null,null,null,{"$f":"IF(ISBLANK('Renseignements sur le locataire'!E4146),\"\",'Renseignements sur le locataire'!E4146)","v":""}]
[null,null,null,{"$f":"IF(ISBLANK('Renseignements sur le locataire'!E4147),\"\",'Renseignements sur le locataire'!E4147)","v":""}]
[null,null,null,{"$f":"IF(ISBLANK('Renseignements sur le locataire'!E4148),\"\",'Renseignements sur le locataire'!E4148)","v":""}]
[null,null,null,{"$f":"IF(ISBLANK('Renseignements sur le locataire'!E4149),\"\",'Renseignements sur le locataire'!E4149)","v":""}]
[null,null,null,{"$f":"IF(ISBLANK('Renseignements sur le locataire'!E4150),\"\",'Renseignements sur le locataire'!E4150)","v":""}]
[null,null,null,{"$f":"IF(ISBLANK('Renseignements sur le locataire'!E4151),\"\",'Renseignements sur le locataire'!E4151)","v":""}]
[null,null,null,{"$f":"IF(ISBLANK('Renseignements sur le locataire'!E4152),\"\",'Renseignements sur le locataire'!E4152)","v":""}]
[null,null,null,{"$f":"IF(ISBLANK('Renseignements sur le locataire'!E4153),\"\",'Renseignements sur le locataire'!E4153)","v":""}]
[null,null,null,{"$f":"IF(ISBLANK('Renseignements sur le locataire'!E4154),\"\",'Renseignements sur le locataire'!E4154)","v":""}]
[null,null,null,{"$f":"IF(ISBLANK('Renseignements sur le locataire'!E4155),\"\",'Renseignements sur le locataire'!E4155)","v":""}]
[null,null,null,{"$f":"IF(ISBLANK('Renseignements sur le locataire'!E4156),\"\",'Renseignements sur le locataire'!E4156)","v":""}]
[null,null,null,{"$f":"IF(ISBLANK('Renseignements sur le locataire'!E4157),\"\",'Renseignements sur le locataire'!E4157)","v":""}]
[null,null,null,{"$f":"IF(ISBLANK('Renseignements sur le locataire'!E4158),\"\",'Renseignements sur le locataire'!E4158)","v":""}]
[null,null,null,{"$f":"IF(ISBLANK('Renseignements sur le locataire'!E4159),\"\",'Renseignements sur le locataire'!E4159)","v":""}]
[null,null,null,{"$f":"IF(ISBLANK('Renseignements sur le locataire'!E4160),\"\",'Renseignements sur le locataire'!E4160)","v":""}]
[null,null,null,{"$f":"IF(ISBLANK('Renseignements sur le locataire'!E4161),\"\",'Renseignements sur le locataire'!E4161)","v":""}]
[null,null,null,{"$f":"IF(ISBLANK('Renseignements sur le locataire'!E4162),\"\",'Renseignements sur le locataire'!E4162)","v":""}]
[null,null,null,{"$f":"IF(ISBLANK('Renseignements sur le locataire'!E4163),\"\",'Renseignements sur le locataire'!E4163)","v":""}]
[null,null,null,{"$f":"IF(ISBLANK('Renseignements sur le locataire'!E4164),\"\",'Renseignements sur le locataire'!E4164)","v":""}]
[null,null,null,{"$f":"IF(ISBLANK('Renseignements sur le locataire'!E4165),\"\",'Renseignements sur le locataire'!E4165)","v":""}]
[null,null,null,{"$f":"IF(ISBLANK('Renseignements sur le locataire'!E4166),\"\",'Renseignements sur le locataire'!E4166)","v":""}]
[null,null,null,{"$f":"IF(ISBLANK('Renseignements sur le locataire'!E4167),\"\",'Renseignements sur le locataire'!E4167)","v":""}]
[null,null,null,{"$f":"IF(ISBLANK('Renseignements sur le locataire'!E4168),\"\",'Renseignements sur le locataire'!E4168)","v":""}]
[null,null,null,{"$f":"IF(ISBLANK('Renseignements sur le locataire'!E4169),\"\",'Renseignements sur le locataire'!E4169)","v":""}]
[null,null,null,{"$f":"IF(ISBLANK('Renseignements sur le locataire'!E4170),\"\",'Renseignements sur le locataire'!E4170)","v":""}]
[null,null,null,{"$f":"IF(ISBLANK('Renseignements sur le locataire'!E4171),\"\",'Renseignements sur le locataire'!E4171)","v":""}]
[null,null,null,{"$f":"IF(ISBLANK('Renseignements sur le locataire'!E4172),\"\",'Renseignements sur le locataire'!E4172)","v":""}]
[null,null,null,{"$f":"IF(ISBLANK('Renseignements sur le locataire'!E4173),\"\",'Renseignements sur le locataire'!E4173)","v":""}]
[null,null,null,{"$f":"IF(ISBLANK('Renseignements sur le locataire'!E4174),\"\",'Renseignements sur le locataire'!E4174)","v":""}]
[null,null,null,{"$f":"IF(ISBLANK('Renseignements sur le locataire'!E4175),\"\",'Renseignements sur le locataire'!E4175)","v":""}]
[null,null,null,{"$f":"IF(ISBLANK('Renseignements sur le locataire'!E4176),\"\",'Renseignements sur le locataire'!E4176)","v":""}]
[null,null,null,{"$f":"IF(ISBLANK('Renseignements sur le locataire'!E4177),\"\",'Renseignements sur le locataire'!E4177)","v":""}]
[null,null,null,{"$f":"IF(ISBLANK('Renseignements sur le locataire'!E4178),\"\",'Renseignements sur le locataire'!E4178)","v":""}]
[null,null,null,{"$f":"IF(ISBLANK('Renseignements sur le locataire'!E4179),\"\",'Renseignements sur le locataire'!E4179)","v":""}]
[null,null,null,{"$f":"IF(ISBLANK('Renseignements sur le locataire'!E4180),\"\",'Renseignements sur le locataire'!E4180)","v":""}]
[null,null,null,{"$f":"IF(ISBLANK('Renseignements sur le locataire'!E4181),\"\",'Renseignements sur le locataire'!E4181)","v":""}]
[null,null,null,{"$f":"IF(ISBLANK('Renseignements sur le locataire'!E4182),\"\",'Renseignements sur le locataire'!E4182)","v":""}]
[null,null,null,{"$f":"IF(ISBLANK('Renseignements sur le locataire'!E4183),\"\",'Renseignements sur le locataire'!E4183)","v":""}]
[null,null,null,{"$f":"IF(ISBLANK('Renseignements sur le locataire'!E4184),\"\",'Renseignements sur le locataire'!E4184)","v":""}]
[null,null,null,{"$f":"IF(ISBLANK('Renseignements sur le locataire'!E4185),\"\",'Renseignements sur le locataire'!E4185)","v":""}]
[null,null,null,{"$f":"IF(ISBLANK('Renseignements sur le locataire'!E4186),\"\",'Renseignements sur le locataire'!E4186)","v":""}]
[null,null,null,{"$f":"IF(ISBLANK('Renseignements sur le locataire'!E4187),\"\",'Renseignements sur le locataire'!E4187)","v":""}]
[null,null,null,{"$f":"IF(ISBLANK('Renseignements sur le locataire'!E4188),\"\",'Renseignements sur le locataire'!E4188)","v":""}]
[null,null,null,{"$f":"IF(ISBLANK('Renseignements sur le locataire'!E4189),\"\",'Renseignements sur le locataire'!E4189)","v":""}]
[null,null,null,{"$f":"IF(ISBLANK('Renseignements sur le locataire'!E4190),\"\",'Renseignements sur le locataire'!E4190)","v":""}]
[null,null,null,{"$f":"IF(ISBLANK('Renseignements sur le locataire'!E4191),\"\",'Renseignements sur le locataire'!E4191)","v":""}]
[null,null,null,{"$f":"IF(ISBLANK('Renseignements sur le locataire'!E4192),\"\",'Renseignements sur le locataire'!E4192)","v":""}]
[null,null,null,{"$f":"IF(ISBLANK('Renseignements sur le locataire'!E4193),\"\",'Renseignements sur le locataire'!E4193)","v":""}]
[null,null,null,{"$f":"IF(ISBLANK('Renseignements sur le locataire'!E4194),\"\",'Renseignements sur le locataire'!E4194)","v":""}]
[null,null,null,{"$f":"IF(ISBLANK('Renseignements sur le locataire'!E4195),\"\",'Renseignements sur le locataire'!E4195)","v":""}]
[null,null,null,{"$f":"IF(ISBLANK('Renseignements sur le locataire'!E4196),\"\",'Renseignements sur le locataire'!E4196)","v":""}]
[null,null,null,{"$f":"IF(ISBLANK('Renseignements sur le locataire'!E4197),\"\",'Renseignements sur le locataire'!E4197)","v":""}]
[null,null,null,{"$f":"IF(ISBLANK('Renseignements sur le locataire'!E4198),\"\",'Renseignements sur le locataire'!E4198)","v":""}]
[null,null,null,{"$f":"IF(ISBLANK('Renseignements sur le locataire'!E4199),\"\",'Renseignements sur le locataire'!E4199)","v":""}]
[null,null,null,{"$f":"IF(ISBLANK('Renseignements sur le locataire'!E4200),\"\",'Renseignements sur le locataire'!E4200)","v":""}]
[null,null,null,{"$f":"IF(ISBLANK('Renseignements sur le locataire'!E4201),\"\",'Renseignements sur le locataire'!E4201)","v":""}]
[null,null,null,{"$f":"IF(ISBLANK('Renseignements sur le locataire'!E4202),\"\",'Renseignements sur le locataire'!E4202)","v":""}]
[null,null,null,{"$f":"IF(ISBLANK('Renseignements sur le locataire'!E4203),\"\",'Renseignements sur le locataire'!E4203)","v":""}]
[null,null,null,{"$f":"IF(ISBLANK('Renseignements sur le locataire'!E4204),\"\",'Renseignements sur le locataire'!E4204)","v":""}]
[null,null,null,{"$f":"IF(ISBLANK('Renseignements sur le locataire'!E4205),\"\",'Renseignements sur le locataire'!E4205)","v":""}]
[null,null,null,{"$f":"IF(ISBLANK('Renseignements sur le locataire'!E4206),\"\",'Renseignements sur le locataire'!E4206)","v":""}]
[null,null,null,{"$f":"IF(ISBLANK('Renseignements sur le locataire'!E4207),\"\",'Renseignements sur le locataire'!E4207)","v":""}]
[null,null,null,{"$f":"IF(ISBLANK('Renseignements sur le locataire'!E4208),\"\",'Renseignements sur le locataire'!E4208)","v":""}]
[null,null,null,{"$f":"IF(ISBLANK('Renseignements sur le locataire'!E4209),\"\",'Renseignements sur le locataire'!E4209)","v":""}]
[null,null,null,{"$f":"IF(ISBLANK('Renseignements sur le locataire'!E4210),\"\",'Renseignements sur le locataire'!E4210)","v":""}]
[null,null,null,{"$f":"IF(ISBLANK('Renseignements sur le locataire'!E4211),\"\",'Renseignements sur le locataire'!E4211)","v":""}]
[null,null,null,{"$f":"IF(ISBLANK('Renseignements sur le locataire'!E4212),\"\",'Renseignements sur le locataire'!E4212)","v":""}]
[null,null,null,{"$f":"IF(ISBLANK('Renseignements sur le locataire'!E4213),\"\",'Renseignements sur le locataire'!E4213)","v":""}]
[null,null,null,{"$f":"IF(ISBLANK('Renseignements sur le locataire'!E4214),\"\",'Renseignements sur le locataire'!E4214)","v":""}]
[null,null,null,{"$f":"IF(ISBLANK('Renseignements sur le locataire'!E4215),\"\",'Renseignements sur le locataire'!E4215)","v":""}]
[null,null,null,{"$f":"IF(ISBLANK('Renseignements sur le locataire'!E4216),\"\",'Renseignements sur le locataire'!E4216)","v":""}]
[null,null,null,{"$f":"IF(ISBLANK('Renseignements sur le locataire'!E4217),\"\",'Renseignements sur le locataire'!E4217)","v":""}]
[null,null,null,{"$f":"IF(ISBLANK('Renseignements sur le locataire'!E4218),\"\",'Renseignements sur le locataire'!E4218)","v":""}]
[null,null,null,{"$f":"IF(ISBLANK('Renseignements sur le locataire'!E4219),\"\",'Renseignements sur le locataire'!E4219)","v":""}]
[null,null,null,{"$f":"IF(ISBLANK('Renseignements sur le locataire'!E4220),\"\",'Renseignements sur le locataire'!E4220)","v":""}]
[null,null,null,{"$f":"IF(ISBLANK('Renseignements sur le locataire'!E4221),\"\",'Renseignements sur le locataire'!E4221)","v":""}]
[null,null,null,{"$f":"IF(ISBLANK('Renseignements sur le locataire'!E4222),\"\",'Renseignements sur le locataire'!E4222)","v":""}]
[null,null,null,{"$f":"IF(ISBLANK('Renseignements sur le locataire'!E4223),\"\",'Renseignements sur le locataire'!E4223)","v":""}]
[null,null,null,{"$f":"IF(ISBLANK('Renseignements sur le locataire'!E4224),\"\",'Renseignements sur le locataire'!E4224)","v":""}]
[null,null,null,{"$f":"IF(ISBLANK('Renseignements sur le locataire'!E4225),\"\",'Renseignements sur le locataire'!E4225)","v":""}]
[null,null,null,{"$f":"IF(ISBLANK('Renseignements sur le locataire'!E4226),\"\",'Renseignements sur le locataire'!E4226)","v":""}]
[null,null,null,{"$f":"IF(ISBLANK('Renseignements sur le locataire'!E4227),\"\",'Renseignements sur le locataire'!E4227)","v":""}]
[null,null,null,{"$f":"IF(ISBLANK('Renseignements sur le locataire'!E4228),\"\",'Renseignements sur le locataire'!E4228)","v":""}]
[null,null,null,{"$f":"IF(ISBLANK('Renseignements sur le locataire'!E4229),\"\",'Renseignements sur le locataire'!E4229)","v":""}]
[null,null,null,{"$f":"IF(ISBLANK('Renseignements sur le locataire'!E4230),\"\",'Renseignements sur le locataire'!E4230)","v":""}]
[null,null,null,{"$f":"IF(ISBLANK('Renseignements sur le locataire'!E4231),\"\",'Renseignements sur le locataire'!E4231)","v":""}]
[null,null,null,{"$f":"IF(ISBLANK('Renseignements sur le locataire'!E4232),\"\",'Renseignements sur le locataire'!E4232)","v":""}]
[null,null,null,{"$f":"IF(ISBLANK('Renseignements sur le locataire'!E4233),\"\",'Renseignements sur le locataire'!E4233)","v":""}]
[null,null,null,{"$f":"IF(ISBLANK('Renseignements sur le locataire'!E4234),\"\",'Renseignements sur le locataire'!E4234)","v":""}]
[null,null,null,{"$f":"IF(ISBLANK('Renseignements sur le locataire'!E4235),\"\",'Renseignements sur le locataire'!E4235)","v":""}]
[null,null,null,{"$f":"IF(ISBLANK('Renseignements sur le locataire'!E4236),\"\",'Renseignements sur le locataire'!E4236)","v":""}]
[null,null,null,{"$f":"IF(ISBLANK('Renseignements sur le locataire'!E4237),\"\",'Renseignements sur le locataire'!E4237)","v":""}]
[null,null,null,{"$f":"IF(ISBLANK('Renseignements sur le locataire'!E4238),\"\",'Renseignements sur le locataire'!E4238)","v":""}]
[null,null,null,{"$f":"IF(ISBLANK('Renseignements sur le locataire'!E4239),\"\",'Renseignements sur le locataire'!E4239)","v":""}]
[null,null,null,{"$f":"IF(ISBLANK('Renseignements sur le locataire'!E4240),\"\",'Renseignements sur le locataire'!E4240)","v":""}]
[null,null,null,{"$f":"IF(ISBLANK('Renseignements sur le locataire'!E4241),\"\",'Renseignements sur le locataire'!E4241)","v":""}]
[null,null,null,{"$f":"IF(ISBLANK('Renseignements sur le locataire'!E4242),\"\",'Renseignements sur le locataire'!E4242)","v":""}]
[null,null,null,{"$f":"IF(ISBLANK('Renseignements sur le locataire'!E4243),\"\",'Renseignements sur le locataire'!E4243)","v":""}]
[null,null,null,{"$f":"IF(ISBLANK('Renseignements sur le locataire'!E4244),\"\",'Renseignements sur le locataire'!E4244)","v":""}]
[null,null,null,{"$f":"IF(ISBLANK('Renseignements sur le locataire'!E4245),\"\",'Renseignements sur le locataire'!E4245)","v":""}]
[null,null,null,{"$f":"IF(ISBLANK('Renseignements sur le locataire'!E4246),\"\",'Renseignements sur le locataire'!E4246)","v":""}]
[null,null,null,{"$f":"IF(ISBLANK('Renseignements sur le locataire'!E4247),\"\",'Renseignements sur le locataire'!E4247)","v":""}]
[null,null,null,{"$f":"IF(ISBLANK('Renseignements sur le locataire'!E4248),\"\",'Renseignements sur le locataire'!E4248)","v":""}]
[null,null,null,{"$f":"IF(ISBLANK('Renseignements sur le locataire'!E4249),\"\",'Renseignements sur le locataire'!E4249)","v":""}]
[null,null,null,{"$f":"IF(ISBLANK('Renseignements sur le locataire'!E4250),\"\",'Renseignements sur le locataire'!E4250)","v":""}]
[null,null,null,{"$f":"IF(ISBLANK('Renseignements sur le locataire'!E4251),\"\",'Renseignements sur le locataire'!E4251)","v":""}]
[null,null,null,{"$f":"IF(ISBLANK('Renseignements sur le locataire'!E4252),\"\",'Renseignements sur le locataire'!E4252)","v":""}]
[null,null,null,{"$f":"IF(ISBLANK('Renseignements sur le locataire'!E4253),\"\",'Renseignements sur le locataire'!E4253)","v":""}]
[null,null,null,{"$f":"IF(ISBLANK('Renseignements sur le locataire'!E4254),\"\",'Renseignements sur le locataire'!E4254)","v":""}]
[null,null,null,{"$f":"IF(ISBLANK('Renseignements sur le locataire'!E4255),\"\",'Renseignements sur le locataire'!E4255)","v":""}]
[null,null,null,{"$f":"IF(ISBLANK('Renseignements sur le locataire'!E4256),\"\",'Renseignements sur le locataire'!E4256)","v":""}]
[null,null,null,{"$f":"IF(ISBLANK('Renseignements sur le locataire'!E4257),\"\",'Renseignements sur le locataire'!E4257)","v":""}]
[null,null,null,{"$f":"IF(ISBLANK('Renseignements sur le locataire'!E4258),\"\",'Renseignements sur le locataire'!E4258)","v":""}]
[null,null,null,{"$f":"IF(ISBLANK('Renseignements sur le locataire'!E4259),\"\",'Renseignements sur le locataire'!E4259)","v":""}]
[null,null,null,{"$f":"IF(ISBLANK('Renseignements sur le locataire'!E4260),\"\",'Renseignements sur le locataire'!E4260)","v":""}]
[null,null,null,{"$f":"IF(ISBLANK('Renseignements sur le locataire'!E4261),\"\",'Renseignements sur le locataire'!E4261)","v":""}]
[null,null,null,{"$f":"IF(ISBLANK('Renseignements sur le locataire'!E4262),\"\",'Renseignements sur le locataire'!E4262)","v":""}]
[null,null,null,{"$f":"IF(ISBLANK('Renseignements sur le locataire'!E4263),\"\",'Renseignements sur le locataire'!E4263)","v":""}]
[null,null,null,{"$f":"IF(ISBLANK('Renseignements sur le locataire'!E4264),\"\",'Renseignements sur le locataire'!E4264)","v":""}]
[null,null,null,{"$f":"IF(ISBLANK('Renseignements sur le locataire'!E4265),\"\",'Renseignements sur le locataire'!E4265)","v":""}]
[null,null,null,{"$f":"IF(ISBLANK('Renseignements sur le locataire'!E4266),\"\",'Renseignements sur le locataire'!E4266)","v":""}]
[null,null,null,{"$f":"IF(ISBLANK('Renseignements sur le locataire'!E4267),\"\",'Renseignements sur le locataire'!E4267)","v":""}]
[null,null,null,{"$f":"IF(ISBLANK('Renseignements sur le locataire'!E4268),\"\",'Renseignements sur le locataire'!E4268)","v":""}]
[null,null,null,{"$f":"IF(ISBLANK('Renseignements sur le locataire'!E4269),\"\",'Renseignements sur le locataire'!E4269)","v":""}]
[null,null,null,{"$f":"IF(ISBLANK('Renseignements sur le locataire'!E4270),\"\",'Renseignements sur le locataire'!E4270)","v":""}]
[null,null,null,{"$f":"IF(ISBLANK('Renseignements sur le locataire'!E4271),\"\",'Renseignements sur le locataire'!E4271)","v":""}]
[null,null,null,{"$f":"IF(ISBLANK('Renseignements sur le locataire'!E4272),\"\",'Renseignements sur le locataire'!E4272)","v":""}]
[null,null,null,{"$f":"IF(ISBLANK('Renseignements sur le locataire'!E4273),\"\",'Renseignements sur le locataire'!E4273)","v":""}]
[null,null,null,{"$f":"IF(ISBLANK('Renseignements sur le locataire'!E4274),\"\",'Renseignements sur le locataire'!E4274)","v":""}]
[null,null,null,{"$f":"IF(ISBLANK('Renseignements sur le locataire'!E4275),\"\",'Renseignements sur le locataire'!E4275)","v":""}]
[null,null,null,{"$f":"IF(ISBLANK('Renseignements sur le locataire'!E4276),\"\",'Renseignements sur le locataire'!E4276)","v":""}]
[null,null,null,{"$f":"IF(ISBLANK('Renseignements sur le locataire'!E4277),\"\",'Renseignements sur le locataire'!E4277)","v":""}]
[null,null,null,{"$f":"IF(ISBLANK('Renseignements sur le locataire'!E4278),\"\",'Renseignements sur le locataire'!E4278)","v":""}]
[null,null,null,{"$f":"IF(ISBLANK('Renseignements sur le locataire'!E4279),\"\",'Renseignements sur le locataire'!E4279)","v":""}]
[null,null,null,{"$f":"IF(ISBLANK('Renseignements sur le locataire'!E4280),\"\",'Renseignements sur le locataire'!E4280)","v":""}]
[null,null,null,{"$f":"IF(ISBLANK('Renseignements sur le locataire'!E4281),\"\",'Renseignements sur le locataire'!E4281)","v":""}]
[null,null,null,{"$f":"IF(ISBLANK('Renseignements sur le locataire'!E4282),\"\",'Renseignements sur le locataire'!E4282)","v":""}]
[null,null,null,{"$f":"IF(ISBLANK('Renseignements sur le locataire'!E4283),\"\",'Renseignements sur le locataire'!E4283)","v":""}]
[null,null,null,{"$f":"IF(ISBLANK('Renseignements sur le locataire'!E4284),\"\",'Renseignements sur le locataire'!E4284)","v":""}]
[null,null,null,{"$f":"IF(ISBLANK('Renseignements sur le locataire'!E4285),\"\",'Renseignements sur le locataire'!E4285)","v":""}]
[null,null,null,{"$f":"IF(ISBLANK('Renseignements sur le locataire'!E4286),\"\",'Renseignements sur le locataire'!E4286)","v":""}]
[null,null,null,{"$f":"IF(ISBLANK('Renseignements sur le locataire'!E4287),\"\",'Renseignements sur le locataire'!E4287)","v":""}]
[null,null,null,{"$f":"IF(ISBLANK('Renseignements sur le locataire'!E4288),\"\",'Renseignements sur le locataire'!E4288)","v":""}]
[null,null,null,{"$f":"IF(ISBLANK('Renseignements sur le locataire'!E4289),\"\",'Renseignements sur le locataire'!E4289)","v":""}]
[null,null,null,{"$f":"IF(ISBLANK('Renseignements sur le locataire'!E4290),\"\",'Renseignements sur le locataire'!E4290)","v":""}]
[null,null,null,{"$f":"IF(ISBLANK('Renseignements sur le locataire'!E4291),\"\",'Renseignements sur le locataire'!E4291)","v":""}]
[null,null,null,{"$f":"IF(ISBLANK('Renseignements sur le locataire'!E4292),\"\",'Renseignements sur le locataire'!E4292)","v":""}]
[null,null,null,{"$f":"IF(ISBLANK('Renseignements sur le locataire'!E4293),\"\",'Renseignements sur le locataire'!E4293)","v":""}]
[null,null,null,{"$f":"IF(ISBLANK('Renseignements sur le locataire'!E4294),\"\",'Renseignements sur le locataire'!E4294)","v":""}]
[null,null,null,{"$f":"IF(ISBLANK('Renseignements sur le locataire'!E4295),\"\",'Renseignements sur le locataire'!E4295)","v":""}]
[null,null,null,{"$f":"IF(ISBLANK('Renseignements sur le locataire'!E4296),\"\",'Renseignements sur le locataire'!E4296)","v":""}]
[null,null,null,{"$f":"IF(ISBLANK('Renseignements sur le locataire'!E4297),\"\",'Renseignements sur le locataire'!E4297)","v":""}]
[null,null,null,{"$f":"IF(ISBLANK('Renseignements sur le locataire'!E4298),\"\",'Renseignements sur le locataire'!E4298)","v":""}]
[null,null,null,{"$f":"IF(ISBLANK('Renseignements sur le locataire'!E4299),\"\",'Renseignements sur le locataire'!E4299)","v":""}]
[null,null,null,{"$f":"IF(ISBLANK('Renseignements sur le locataire'!E4300),\"\",'Renseignements sur le locataire'!E4300)","v":""}]
[null,null,null,{"$f":"IF(ISBLANK('Renseignements sur le locataire'!E4301),\"\",'Renseignements sur le locataire'!E4301)","v":""}]
[null,null,null,{"$f":"IF(ISBLANK('Renseignements sur le locataire'!E4302),\"\",'Renseignements sur le locataire'!E4302)","v":""}]
[null,null,null,{"$f":"IF(ISBLANK('Renseignements sur le locataire'!E4303),\"\",'Renseignements sur le locataire'!E4303)","v":""}]
[null,null,null,{"$f":"IF(ISBLANK('Renseignements sur le locataire'!E4304),\"\",'Renseignements sur le locataire'!E4304)","v":""}]
[null,null,null,{"$f":"IF(ISBLANK('Renseignements sur le locataire'!E4305),\"\",'Renseignements sur le locataire'!E4305)","v":""}]
[null,null,null,{"$f":"IF(ISBLANK('Renseignements sur le locataire'!E4306),\"\",'Renseignements sur le locataire'!E4306)","v":""}]
[null,null,null,{"$f":"IF(ISBLANK('Renseignements sur le locataire'!E4307),\"\",'Renseignements sur le locataire'!E4307)","v":""}]
[null,null,null,{"$f":"IF(ISBLANK('Renseignements sur le locataire'!E4308),\"\",'Renseignements sur le locataire'!E4308)","v":""}]
[null,null,null,{"$f":"IF(ISBLANK('Renseignements sur le locataire'!E4309),\"\",'Renseignements sur le locataire'!E4309)","v":""}]
[null,null,null,{"$f":"IF(ISBLANK('Renseignements sur le locataire'!E4310),\"\",'Renseignements sur le locataire'!E4310)","v":""}]
[null,null,null,{"$f":"IF(ISBLANK('Renseignements sur le locataire'!E4311),\"\",'Renseignements sur le locataire'!E4311)","v":""}]
[null,null,null,{"$f":"IF(ISBLANK('Renseignements sur le locataire'!E4312),\"\",'Renseignements sur le locataire'!E4312)","v":""}]
[null,null,null,{"$f":"IF(ISBLANK('Renseignements sur le locataire'!E4313),\"\",'Renseignements sur le locataire'!E4313)","v":""}]
[null,null,null,{"$f":"IF(ISBLANK('Renseignements sur le locataire'!E4314),\"\",'Renseignements sur le locataire'!E4314)","v":""}]
[null,null,null,{"$f":"IF(ISBLANK('Renseignements sur le locataire'!E4315),\"\",'Renseignements sur le locataire'!E4315)","v":""}]
[null,null,null,{"$f":"IF(ISBLANK('Renseignements sur le locataire'!E4316),\"\",'Renseignements sur le locataire'!E4316)","v":""}]
[null,null,null,{"$f":"IF(ISBLANK('Renseignements sur le locataire'!E4317),\"\",'Renseignements sur le locataire'!E4317)","v":""}]
[null,null,null,{"$f":"IF(ISBLANK('Renseignements sur le locataire'!E4318),\"\",'Renseignements sur le locataire'!E4318)","v":""}]
[null,null,null,{"$f":"IF(ISBLANK('Renseignements sur le locataire'!E4319),\"\",'Renseignements sur le locataire'!E4319)","v":""}]
[null,null,null,{"$f":"IF(ISBLANK('Renseignements sur le locataire'!E4320),\"\",'Renseignements sur le locataire'!E4320)","v":""}]
[null,null,null,{"$f":"IF(ISBLANK('Renseignements sur le locataire'!E4321),\"\",'Renseignements sur le locataire'!E4321)","v":""}]
[null,null,null,{"$f":"IF(ISBLANK('Renseignements sur le locataire'!E4322),\"\",'Renseignements sur le locataire'!E4322)","v":""}]
[null,null,null,{"$f":"IF(ISBLANK('Renseignements sur le locataire'!E4323),\"\",'Renseignements sur le locataire'!E4323)","v":""}]
[null,null,null,{"$f":"IF(ISBLANK('Renseignements sur le locataire'!E4324),\"\",'Renseignements sur le locataire'!E4324)","v":""}]
[null,null,null,{"$f":"IF(ISBLANK('Renseignements sur le locataire'!E4325),\"\",'Renseignements sur le locataire'!E4325)","v":""}]
[null,null,null,{"$f":"IF(ISBLANK('Renseignements sur le locataire'!E4326),\"\",'Renseignements sur le locataire'!E4326)","v":""}]
[null,null,null,{"$f":"IF(ISBLANK('Renseignements sur le locataire'!E4327),\"\",'Renseignements sur le locataire'!E4327)","v":""}]
[null,null,null,{"$f":"IF(ISBLANK('Renseignements sur le locataire'!E4328),\"\",'Renseignements sur le locataire'!E4328)","v":""}]
[null,null,null,{"$f":"IF(ISBLANK('Renseignements sur le locataire'!E4329),\"\",'Renseignements sur le locataire'!E4329)","v":""}]
[null,null,null,{"$f":"IF(ISBLANK('Renseignements sur le locataire'!E4330),\"\",'Renseignements sur le locataire'!E4330)","v":""}]
[null,null,null,{"$f":"IF(ISBLANK('Renseignements sur le locataire'!E4331),\"\",'Renseignements sur le locataire'!E4331)","v":""}]
[null,null,null,{"$f":"IF(ISBLANK('Renseignements sur le locataire'!E4332),\"\",'Renseignements sur le locataire'!E4332)","v":""}]
[null,null,null,{"$f":"IF(ISBLANK('Renseignements sur le locataire'!E4333),\"\",'Renseignements sur le locataire'!E4333)","v":""}]
[null,null,null,{"$f":"IF(ISBLANK('Renseignements sur le locataire'!E4334),\"\",'Renseignements sur le locataire'!E4334)","v":""}]
[null,null,null,{"$f":"IF(ISBLANK('Renseignements sur le locataire'!E4335),\"\",'Renseignements sur le locataire'!E4335)","v":""}]
[null,null,null,{"$f":"IF(ISBLANK('Renseignements sur le locataire'!E4336),\"\",'Renseignements sur le locataire'!E4336)","v":""}]
[null,null,null,{"$f":"IF(ISBLANK('Renseignements sur le locataire'!E4337),\"\",'Renseignements sur le locataire'!E4337)","v":""}]
[null,null,null,{"$f":"IF(ISBLANK('Renseignements sur le locataire'!E4338),\"\",'Renseignements sur le locataire'!E4338)","v":""}]
[null,null,null,{"$f":"IF(ISBLANK('Renseignements sur le locataire'!E4339),\"\",'Renseignements sur le locataire'!E4339)","v":""}]
[null,null,null,{"$f":"IF(ISBLANK('Renseignements sur le locataire'!E4340),\"\",'Renseignements sur le locataire'!E4340)","v":""}]
[null,null,null,{"$f":"IF(ISBLANK('Renseignements sur le locataire'!E4341),\"\",'Renseignements sur le locataire'!E4341)","v":""}]
[null,null,null,{"$f":"IF(ISBLANK('Renseignements sur le locataire'!E4342),\"\",'Renseignements sur le locataire'!E4342)","v":""}]
[null,null,null,{"$f":"IF(ISBLANK('Renseignements sur le locataire'!E4343),\"\",'Renseignements sur le locataire'!E4343)","v":""}]
[null,null,null,{"$f":"IF(ISBLANK('Renseignements sur le locataire'!E4344),\"\",'Renseignements sur le locataire'!E4344)","v":""}]
[null,null,null,{"$f":"IF(ISBLANK('Renseignements sur le locataire'!E4345),\"\",'Renseignements sur le locataire'!E4345)","v":""}]
[null,null,null,{"$f":"IF(ISBLANK('Renseignements sur le locataire'!E4346),\"\",'Renseignements sur le locataire'!E4346)","v":""}]
[null,null,null,{"$f":"IF(ISBLANK('Renseignements sur le locataire'!E4347),\"\",'Renseignements sur le locataire'!E4347)","v":""}]
[null,null,null,{"$f":"IF(ISBLANK('Renseignements sur le locataire'!E4348),\"\",'Renseignements sur le locataire'!E4348)","v":""}]
[null,null,null,{"$f":"IF(ISBLANK('Renseignements sur le locataire'!E4349),\"\",'Renseignements sur le locataire'!E4349)","v":""}]
[null,null,null,{"$f":"IF(ISBLANK('Renseignements sur le locataire'!E4350),\"\",'Renseignements sur le locataire'!E4350)","v":""}]
[null,null,null,{"$f":"IF(ISBLANK('Renseignements sur le locataire'!E4351),\"\",'Renseignements sur le locataire'!E4351)","v":""}]
[null,null,null,{"$f":"IF(ISBLANK('Renseignements sur le locataire'!E4352),\"\",'Renseignements sur le locataire'!E4352)","v":""}]
[null,null,null,{"$f":"IF(ISBLANK('Renseignements sur le locataire'!E4353),\"\",'Renseignements sur le locataire'!E4353)","v":""}]
[null,null,null,{"$f":"IF(ISBLANK('Renseignements sur le locataire'!E4354),\"\",'Renseignements sur le locataire'!E4354)","v":""}]
[null,null,null,{"$f":"IF(ISBLANK('Renseignements sur le locataire'!E4355),\"\",'Renseignements sur le locataire'!E4355)","v":""}]
[null,null,null,{"$f":"IF(ISBLANK('Renseignements sur le locataire'!E4356),\"\",'Renseignements sur le locataire'!E4356)","v":""}]
[null,null,null,{"$f":"IF(ISBLANK('Renseignements sur le locataire'!E4357),\"\",'Renseignements sur le locataire'!E4357)","v":""}]
[null,null,null,{"$f":"IF(ISBLANK('Renseignements sur le locataire'!E4358),\"\",'Renseignements sur le locataire'!E4358)","v":""}]
[null,null,null,{"$f":"IF(ISBLANK('Renseignements sur le locataire'!E4359),\"\",'Renseignements sur le locataire'!E4359)","v":""}]
[null,null,null,{"$f":"IF(ISBLANK('Renseignements sur le locataire'!E4360),\"\",'Renseignements sur le locataire'!E4360)","v":""}]
[null,null,null,{"$f":"IF(ISBLANK('Renseignements sur le locataire'!E4361),\"\",'Renseignements sur le locataire'!E4361)","v":""}]
[null,null,null,{"$f":"IF(ISBLANK('Renseignements sur le locataire'!E4362),\"\",'Renseignements sur le locataire'!E4362)","v":""}]
[null,null,null,{"$f":"IF(ISBLANK('Renseignements sur le locataire'!E4363),\"\",'Renseignements sur le locataire'!E4363)","v":""}]
[null,null,null,{"$f":"IF(ISBLANK('Renseignements sur le locataire'!E4364),\"\",'Renseignements sur le locataire'!E4364)","v":""}]
[null,null,null,{"$f":"IF(ISBLANK('Renseignements sur le locataire'!E4365),\"\",'Renseignements sur le locataire'!E4365)","v":""}]
[null,null,null,{"$f":"IF(ISBLANK('Renseignements sur le locataire'!E4366),\"\",'Renseignements sur le locataire'!E4366)","v":""}]
[null,null,null,{"$f":"IF(ISBLANK('Renseignements sur le locataire'!E4367),\"\",'Renseignements sur le locataire'!E4367)","v":""}]
[null,null,null,{"$f":"IF(ISBLANK('Renseignements sur le locataire'!E4368),\"\",'Renseignements sur le locataire'!E4368)","v":""}]
[null,null,null,{"$f":"IF(ISBLANK('Renseignements sur le locataire'!E4369),\"\",'Renseignements sur le locataire'!E4369)","v":""}]
[null,null,null,{"$f":"IF(ISBLANK('Renseignements sur le locataire'!E4370),\"\",'Renseignements sur le locataire'!E4370)","v":""}]
[null,null,null,{"$f":"IF(ISBLANK('Renseignements sur le locataire'!E4371),\"\",'Renseignements sur le locataire'!E4371)","v":""}]
[null,null,null,{"$f":"IF(ISBLANK('Renseignements sur le locataire'!E4372),\"\",'Renseignements sur le locataire'!E4372)","v":""}]
[null,null,null,{"$f":"IF(ISBLANK('Renseignements sur le locataire'!E4373),\"\",'Renseignements sur le locataire'!E4373)","v":""}]
[null,null,null,{"$f":"IF(ISBLANK('Renseignements sur le locataire'!E4374),\"\",'Renseignements sur le locataire'!E4374)","v":""}]
[null,null,null,{"$f":"IF(ISBLANK('Renseignements sur le locataire'!E4375),\"\",'Renseignements sur le locataire'!E4375)","v":""}]
[null,null,null,{"$f":"IF(ISBLANK('Renseignements sur le locataire'!E4376),\"\",'Renseignements sur le locataire'!E4376)","v":""}]
[null,null,null,{"$f":"IF(ISBLANK('Renseignements sur le locataire'!E4377),\"\",'Renseignements sur le locataire'!E4377)","v":""}]
[null,null,null,{"$f":"IF(ISBLANK('Renseignements sur le locataire'!E4378),\"\",'Renseignements sur le locataire'!E4378)","v":""}]
[null,null,null,{"$f":"IF(ISBLANK('Renseignements sur le locataire'!E4379),\"\",'Renseignements sur le locataire'!E4379)","v":""}]
[null,null,null,{"$f":"IF(ISBLANK('Renseignements sur le locataire'!E4380),\"\",'Renseignements sur le locataire'!E4380)","v":""}]
[null,null,null,{"$f":"IF(ISBLANK('Renseignements sur le locataire'!E4381),\"\",'Renseignements sur le locataire'!E4381)","v":""}]
[null,null,null,{"$f":"IF(ISBLANK('Renseignements sur le locataire'!E4382),\"\",'Renseignements sur le locataire'!E4382)","v":""}]
[null,null,null,{"$f":"IF(ISBLANK('Renseignements sur le locataire'!E4383),\"\",'Renseignements sur le locataire'!E4383)","v":""}]
[null,null,null,{"$f":"IF(ISBLANK('Renseignements sur le locataire'!E4384),\"\",'Renseignements sur le locataire'!E4384)","v":""}]
[null,null,null,{"$f":"IF(ISBLANK('Renseignements sur le locataire'!E4385),\"\",'Renseignements sur le locataire'!E4385)","v":""}]
[null,null,null,{"$f":"IF(ISBLANK('Renseignements sur le locataire'!E4386),\"\",'Renseignements sur le locataire'!E4386)","v":""}]
[null,null,null,{"$f":"IF(ISBLANK('Renseignements sur le locataire'!E4387),\"\",'Renseignements sur le locataire'!E4387)","v":""}]
[null,null,null,{"$f":"IF(ISBLANK('Renseignements sur le locataire'!E4388),\"\",'Renseignements sur le locataire'!E4388)","v":""}]
[null,null,null,{"$f":"IF(ISBLANK('Renseignements sur le locataire'!E4389),\"\",'Renseignements sur le locataire'!E4389)","v":""}]
[null,null,null,{"$f":"IF(ISBLANK('Renseignements sur le locataire'!E4390),\"\",'Renseignements sur le locataire'!E4390)","v":""}]
[null,null,null,{"$f":"IF(ISBLANK('Renseignements sur le locataire'!E4391),\"\",'Renseignements sur le locataire'!E4391)","v":""}]
[null,null,null,{"$f":"IF(ISBLANK('Renseignements sur le locataire'!E4392),\"\",'Renseignements sur le locataire'!E4392)","v":""}]
[null,null,null,{"$f":"IF(ISBLANK('Renseignements sur le locataire'!E4393),\"\",'Renseignements sur le locataire'!E4393)","v":""}]
[null,null,null,{"$f":"IF(ISBLANK('Renseignements sur le locataire'!E4394),\"\",'Renseignements sur le locataire'!E4394)","v":""}]
[null,null,null,{"$f":"IF(ISBLANK('Renseignements sur le locataire'!E4395),\"\",'Renseignements sur le locataire'!E4395)","v":""}]
[null,null,null,{"$f":"IF(ISBLANK('Renseignements sur le locataire'!E4396),\"\",'Renseignements sur le locataire'!E4396)","v":""}]
[null,null,null,{"$f":"IF(ISBLANK('Renseignements sur le locataire'!E4397),\"\",'Renseignements sur le locataire'!E4397)","v":""}]
[null,null,null,{"$f":"IF(ISBLANK('Renseignements sur le locataire'!E4398),\"\",'Renseignements sur le locataire'!E4398)","v":""}]
[null,null,null,{"$f":"IF(ISBLANK('Renseignements sur le locataire'!E4399),\"\",'Renseignements sur le locataire'!E4399)","v":""}]
[null,null,null,{"$f":"IF(ISBLANK('Renseignements sur le locataire'!E4400),\"\",'Renseignements sur le locataire'!E4400)","v":""}]
[null,null,null,{"$f":"IF(ISBLANK('Renseignements sur le locataire'!E4401),\"\",'Renseignements sur le locataire'!E4401)","v":""}]
[null,null,null,{"$f":"IF(ISBLANK('Renseignements sur le locataire'!E4402),\"\",'Renseignements sur le locataire'!E4402)","v":""}]
[null,null,null,{"$f":"IF(ISBLANK('Renseignements sur le locataire'!E4403),\"\",'Renseignements sur le locataire'!E4403)","v":""}]
[null,null,null,{"$f":"IF(ISBLANK('Renseignements sur le locataire'!E4404),\"\",'Renseignements sur le locataire'!E4404)","v":""}]
[null,null,null,{"$f":"IF(ISBLANK('Renseignements sur le locataire'!E4405),\"\",'Renseignements sur le locataire'!E4405)","v":""}]
[null,null,null,{"$f":"IF(ISBLANK('Renseignements sur le locataire'!E4406),\"\",'Renseignements sur le locataire'!E4406)","v":""}]
[null,null,null,{"$f":"IF(ISBLANK('Renseignements sur le locataire'!E4407),\"\",'Renseignements sur le locataire'!E4407)","v":""}]
[null,null,null,{"$f":"IF(ISBLANK('Renseignements sur le locataire'!E4408),\"\",'Renseignements sur le locataire'!E4408)","v":""}]
[null,null,null,{"$f":"IF(ISBLANK('Renseignements sur le locataire'!E4409),\"\",'Renseignements sur le locataire'!E4409)","v":""}]
[null,null,null,{"$f":"IF(ISBLANK('Renseignements sur le locataire'!E4410),\"\",'Renseignements sur le locataire'!E4410)","v":""}]
[null,null,null,{"$f":"IF(ISBLANK('Renseignements sur le locataire'!E4411),\"\",'Renseignements sur le locataire'!E4411)","v":""}]
[null,null,null,{"$f":"IF(ISBLANK('Renseignements sur le locataire'!E4412),\"\",'Renseignements sur le locataire'!E4412)","v":""}]
[null,null,null,{"$f":"IF(ISBLANK('Renseignements sur le locataire'!E4413),\"\",'Renseignements sur le locataire'!E4413)","v":""}]
[null,null,null,{"$f":"IF(ISBLANK('Renseignements sur le locataire'!E4414),\"\",'Renseignements sur le locataire'!E4414)","v":""}]
[null,null,null,{"$f":"IF(ISBLANK('Renseignements sur le locataire'!E4415),\"\",'Renseignements sur le locataire'!E4415)","v":""}]
[null,null,null,{"$f":"IF(ISBLANK('Renseignements sur le locataire'!E4416),\"\",'Renseignements sur le locataire'!E4416)","v":""}]
[null,null,null,{"$f":"IF(ISBLANK('Renseignements sur le locataire'!E4417),\"\",'Renseignements sur le locataire'!E4417)","v":""}]
[null,null,null,{"$f":"IF(ISBLANK('Renseignements sur le locataire'!E4418),\"\",'Renseignements sur le locataire'!E4418)","v":""}]
[null,null,null,{"$f":"IF(ISBLANK('Renseignements sur le locataire'!E4419),\"\",'Renseignements sur le locataire'!E4419)","v":""}]
[null,null,null,{"$f":"IF(ISBLANK('Renseignements sur le locataire'!E4420),\"\",'Renseignements sur le locataire'!E4420)","v":""}]
[null,null,null,{"$f":"IF(ISBLANK('Renseignements sur le locataire'!E4421),\"\",'Renseignements sur le locataire'!E4421)","v":""}]
[null,null,null,{"$f":"IF(ISBLANK('Renseignements sur le locataire'!E4422),\"\",'Renseignements sur le locataire'!E4422)","v":""}]
[null,null,null,{"$f":"IF(ISBLANK('Renseignements sur le locataire'!E4423),\"\",'Renseignements sur le locataire'!E4423)","v":""}]
[null,null,null,{"$f":"IF(ISBLANK('Renseignements sur le locataire'!E4424),\"\",'Renseignements sur le locataire'!E4424)","v":""}]
[null,null,null,{"$f":"IF(ISBLANK('Renseignements sur le locataire'!E4425),\"\",'Renseignements sur le locataire'!E4425)","v":""}]
[null,null,null,{"$f":"IF(ISBLANK('Renseignements sur le locataire'!E4426),\"\",'Renseignements sur le locataire'!E4426)","v":""}]
[null,null,null,{"$f":"IF(ISBLANK('Renseignements sur le locataire'!E4427),\"\",'Renseignements sur le locataire'!E4427)","v":""}]
[null,null,null,{"$f":"IF(ISBLANK('Renseignements sur le locataire'!E4428),\"\",'Renseignements sur le locataire'!E4428)","v":""}]
[null,null,null,{"$f":"IF(ISBLANK('Renseignements sur le locataire'!E4429),\"\",'Renseignements sur le locataire'!E4429)","v":""}]
[null,null,null,{"$f":"IF(ISBLANK('Renseignements sur le locataire'!E4430),\"\",'Renseignements sur le locataire'!E4430)","v":""}]
[null,null,null,{"$f":"IF(ISBLANK('Renseignements sur le locataire'!E4431),\"\",'Renseignements sur le locataire'!E4431)","v":""}]
[null,null,null,{"$f":"IF(ISBLANK('Renseignements sur le locataire'!E4432),\"\",'Renseignements sur le locataire'!E4432)","v":""}]
[null,null,null,{"$f":"IF(ISBLANK('Renseignements sur le locataire'!E4433),\"\",'Renseignements sur le locataire'!E4433)","v":""}]
[null,null,null,{"$f":"IF(ISBLANK('Renseignements sur le locataire'!E4434),\"\",'Renseignements sur le locataire'!E4434)","v":""}]
[null,null,null,{"$f":"IF(ISBLANK('Renseignements sur le locataire'!E4435),\"\",'Renseignements sur le locataire'!E4435)","v":""}]
[null,null,null,{"$f":"IF(ISBLANK('Renseignements sur le locataire'!E4436),\"\",'Renseignements sur le locataire'!E4436)","v":""}]
[null,null,null,{"$f":"IF(ISBLANK('Renseignements sur le locataire'!E4437),\"\",'Renseignements sur le locataire'!E4437)","v":""}]
[null,null,null,{"$f":"IF(ISBLANK('Renseignements sur le locataire'!E4438),\"\",'Renseignements sur le locataire'!E4438)","v":""}]
[null,null,null,{"$f":"IF(ISBLANK('Renseignements sur le locataire'!E4439),\"\",'Renseignements sur le locataire'!E4439)","v":""}]
[null,null,null,{"$f":"IF(ISBLANK('Renseignements sur le locataire'!E4440),\"\",'Renseignements sur le locataire'!E4440)","v":""}]
[null,null,null,{"$f":"IF(ISBLANK('Renseignements sur le locataire'!E4441),\"\",'Renseignements sur le locataire'!E4441)","v":""}]
[null,null,null,{"$f":"IF(ISBLANK('Renseignements sur le locataire'!E4442),\"\",'Renseignements sur le locataire'!E4442)","v":""}]
[null,null,null,{"$f":"IF(ISBLANK('Renseignements sur le locataire'!E4443),\"\",'Renseignements sur le locataire'!E4443)","v":""}]
[null,null,null,{"$f":"IF(ISBLANK('Renseignements sur le locataire'!E4444),\"\",'Renseignements sur le locataire'!E4444)","v":""}]
[null,null,null,{"$f":"IF(ISBLANK('Renseignements sur le locataire'!E4445),\"\",'Renseignements sur le locataire'!E4445)","v":""}]
[null,null,null,{"$f":"IF(ISBLANK('Renseignements sur le locataire'!E4446),\"\",'Renseignements sur le locataire'!E4446)","v":""}]
[null,null,null,{"$f":"IF(ISBLANK('Renseignements sur le locataire'!E4447),\"\",'Renseignements sur le locataire'!E4447)","v":""}]
[null,null,null,{"$f":"IF(ISBLANK('Renseignements sur le locataire'!E4448),\"\",'Renseignements sur le locataire'!E4448)","v":""}]
[null,null,null,{"$f":"IF(ISBLANK('Renseignements sur le locataire'!E4449),\"\",'Renseignements sur le locataire'!E4449)","v":""}]
[null,null,null,{"$f":"IF(ISBLANK('Renseignements sur le locataire'!E4450),\"\",'Renseignements sur le locataire'!E4450)","v":""}]
[null,null,null,{"$f":"IF(ISBLANK('Renseignements sur le locataire'!E4451),\"\",'Renseignements sur le locataire'!E4451)","v":""}]
[null,null,null,{"$f":"IF(ISBLANK('Renseignements sur le locataire'!E4452),\"\",'Renseignements sur le locataire'!E4452)","v":""}]
[null,null,null,{"$f":"IF(ISBLANK('Renseignements sur le locataire'!E4453),\"\",'Renseignements sur le locataire'!E4453)","v":""}]
[null,null,null,{"$f":"IF(ISBLANK('Renseignements sur le locataire'!E4454),\"\",'Renseignements sur le locataire'!E4454)","v":""}]
[null,null,null,{"$f":"IF(ISBLANK('Renseignements sur le locataire'!E4455),\"\",'Renseignements sur le locataire'!E4455)","v":""}]
[null,null,null,{"$f":"IF(ISBLANK('Renseignements sur le locataire'!E4456),\"\",'Renseignements sur le locataire'!E4456)","v":""}]
[null,null,null,{"$f":"IF(ISBLANK('Renseignements sur le locataire'!E4457),\"\",'Renseignements sur le locataire'!E4457)","v":""}]
[null,null,null,{"$f":"IF(ISBLANK('Renseignements sur le locataire'!E4458),\"\",'Renseignements sur le locataire'!E4458)","v":""}]
[null,null,null,{"$f":"IF(ISBLANK('Renseignements sur le locataire'!E4459),\"\",'Renseignements sur le locataire'!E4459)","v":""}]
[null,null,null,{"$f":"IF(ISBLANK('Renseignements sur le locataire'!E4460),\"\",'Renseignements sur le locataire'!E4460)","v":""}]
[null,null,null,{"$f":"IF(ISBLANK('Renseignements sur le locataire'!E4461),\"\",'Renseignements sur le locataire'!E4461)","v":""}]
[null,null,null,{"$f":"IF(ISBLANK('Renseignements sur le locataire'!E4462),\"\",'Renseignements sur le locataire'!E4462)","v":""}]
[null,null,null,{"$f":"IF(ISBLANK('Renseignements sur le locataire'!E4463),\"\",'Renseignements sur le locataire'!E4463)","v":""}]
[null,null,null,{"$f":"IF(ISBLANK('Renseignements sur le locataire'!E4464),\"\",'Renseignements sur le locataire'!E4464)","v":""}]
[null,null,null,{"$f":"IF(ISBLANK('Renseignements sur le locataire'!E4465),\"\",'Renseignements sur le locataire'!E4465)","v":""}]
[null,null,null,{"$f":"IF(ISBLANK('Renseignements sur le locataire'!E4466),\"\",'Renseignements sur le locataire'!E4466)","v":""}]
[null,null,null,{"$f":"IF(ISBLANK('Renseignements sur le locataire'!E4467),\"\",'Renseignements sur le locataire'!E4467)","v":""}]
[null,null,null,{"$f":"IF(ISBLANK('Renseignements sur le locataire'!E4468),\"\",'Renseignements sur le locataire'!E4468)","v":""}]
[null,null,null,{"$f":"IF(ISBLANK('Renseignements sur le locataire'!E4469),\"\",'Renseignements sur le locataire'!E4469)","v":""}]
[null,null,null,{"$f":"IF(ISBLANK('Renseignements sur le locataire'!E4470),\"\",'Renseignements sur le locataire'!E4470)","v":""}]
[null,null,null,{"$f":"IF(ISBLANK('Renseignements sur le locataire'!E4471),\"\",'Renseignements sur le locataire'!E4471)","v":""}]
[null,null,null,{"$f":"IF(ISBLANK('Renseignements sur le locataire'!E4472),\"\",'Renseignements sur le locataire'!E4472)","v":""}]
[null,null,null,{"$f":"IF(ISBLANK('Renseignements sur le locataire'!E4473),\"\",'Renseignements sur le locataire'!E4473)","v":""}]
[null,null,null,{"$f":"IF(ISBLANK('Renseignements sur le locataire'!E4474),\"\",'Renseignements sur le locataire'!E4474)","v":""}]
[null,null,null,{"$f":"IF(ISBLANK('Renseignements sur le locataire'!E4475),\"\",'Renseignements sur le locataire'!E4475)","v":""}]
[null,null,null,{"$f":"IF(ISBLANK('Renseignements sur le locataire'!E4476),\"\",'Renseignements sur le locataire'!E4476)","v":""}]
[null,null,null,{"$f":"IF(ISBLANK('Renseignements sur le locataire'!E4477),\"\",'Renseignements sur le locataire'!E4477)","v":""}]
[null,null,null,{"$f":"IF(ISBLANK('Renseignements sur le locataire'!E4478),\"\",'Renseignements sur le locataire'!E4478)","v":""}]
[null,null,null,{"$f":"IF(ISBLANK('Renseignements sur le locataire'!E4479),\"\",'Renseignements sur le locataire'!E4479)","v":""}]
[null,null,null,{"$f":"IF(ISBLANK('Renseignements sur le locataire'!E4480),\"\",'Renseignements sur le locataire'!E4480)","v":""}]
[null,null,null,{"$f":"IF(ISBLANK('Renseignements sur le locataire'!E4481),\"\",'Renseignements sur le locataire'!E4481)","v":""}]
[null,null,null,{"$f":"IF(ISBLANK('Renseignements sur le locataire'!E4482),\"\",'Renseignements sur le locataire'!E4482)","v":""}]
[null,null,null,{"$f":"IF(ISBLANK('Renseignements sur le locataire'!E4483),\"\",'Renseignements sur le locataire'!E4483)","v":""}]
[null,null,null,{"$f":"IF(ISBLANK('Renseignements sur le locataire'!E4484),\"\",'Renseignements sur le locataire'!E4484)","v":""}]
[null,null,null,{"$f":"IF(ISBLANK('Renseignements sur le locataire'!E4485),\"\",'Renseignements sur le locataire'!E4485)","v":""}]
[null,null,null,{"$f":"IF(ISBLANK('Renseignements sur le locataire'!E4486),\"\",'Renseignements sur le locataire'!E4486)","v":""}]
[null,null,null,{"$f":"IF(ISBLANK('Renseignements sur le locataire'!E4487),\"\",'Renseignements sur le locataire'!E4487)","v":""}]
[null,null,null,{"$f":"IF(ISBLANK('Renseignements sur le locataire'!E4488),\"\",'Renseignements sur le locataire'!E4488)","v":""}]
[null,null,null,{"$f":"IF(ISBLANK('Renseignements sur le locataire'!E4489),\"\",'Renseignements sur le locataire'!E4489)","v":""}]
[null,null,null,{"$f":"IF(ISBLANK('Renseignements sur le locataire'!E4490),\"\",'Renseignements sur le locataire'!E4490)","v":""}]
[null,null,null,{"$f":"IF(ISBLANK('Renseignements sur le locataire'!E4491),\"\",'Renseignements sur le locataire'!E4491)","v":""}]
[null,null,null,{"$f":"IF(ISBLANK('Renseignements sur le locataire'!E4492),\"\",'Renseignements sur le locataire'!E4492)","v":""}]
[null,null,null,{"$f":"IF(ISBLANK('Renseignements sur le locataire'!E4493),\"\",'Renseignements sur le locataire'!E4493)","v":""}]
[null,null,null,{"$f":"IF(ISBLANK('Renseignements sur le locataire'!E4494),\"\",'Renseignements sur le locataire'!E4494)","v":""}]
[null,null,null,{"$f":"IF(ISBLANK('Renseignements sur le locataire'!E4495),\"\",'Renseignements sur le locataire'!E4495)","v":""}]
[null,null,null,{"$f":"IF(ISBLANK('Renseignements sur le locataire'!E4496),\"\",'Renseignements sur le locataire'!E4496)","v":""}]
[null,null,null,{"$f":"IF(ISBLANK('Renseignements sur le locataire'!E4497),\"\",'Renseignements sur le locataire'!E4497)","v":""}]
[null,null,null,{"$f":"IF(ISBLANK('Renseignements sur le locataire'!E4498),\"\",'Renseignements sur le locataire'!E4498)","v":""}]
[null,null,null,{"$f":"IF(ISBLANK('Renseignements sur le locataire'!E4499),\"\",'Renseignements sur le locataire'!E4499)","v":""}]
[null,null,null,{"$f":"IF(ISBLANK('Renseignements sur le locataire'!E4500),\"\",'Renseignements sur le locataire'!E4500)","v":""}]
[null,null,null,{"$f":"IF(ISBLANK('Renseignements sur le locataire'!E4501),\"\",'Renseignements sur le locataire'!E4501)","v":""}]
[null,null,null,{"$f":"IF(ISBLANK('Renseignements sur le locataire'!E4502),\"\",'Renseignements sur le locataire'!E4502)","v":""}]
[null,null,null,{"$f":"IF(ISBLANK('Renseignements sur le locataire'!E4503),\"\",'Renseignements sur le locataire'!E4503)","v":""}]
[null,null,null,{"$f":"IF(ISBLANK('Renseignements sur le locataire'!E4504),\"\",'Renseignements sur le locataire'!E4504)","v":""}]
[null,null,null,{"$f":"IF(ISBLANK('Renseignements sur le locataire'!E4505),\"\",'Renseignements sur le locataire'!E4505)","v":""}]
[null,null,null,{"$f":"IF(ISBLANK('Renseignements sur le locataire'!E4506),\"\",'Renseignements sur le locataire'!E4506)","v":""}]
[null,null,null,{"$f":"IF(ISBLANK('Renseignements sur le locataire'!E4507),\"\",'Renseignements sur le locataire'!E4507)","v":""}]
[null,null,null,{"$f":"IF(ISBLANK('Renseignements sur le locataire'!E4508),\"\",'Renseignements sur le locataire'!E4508)","v":""}]
[null,null,null,{"$f":"IF(ISBLANK('Renseignements sur le locataire'!E4509),\"\",'Renseignements sur le locataire'!E4509)","v":""}]
[null,null,null,{"$f":"IF(ISBLANK('Renseignements sur le locataire'!E4510),\"\",'Renseignements sur le locataire'!E4510)","v":""}]
[null,null,null,{"$f":"IF(ISBLANK('Renseignements sur le locataire'!E4511),\"\",'Renseignements sur le locataire'!E4511)","v":""}]
[null,null,null,{"$f":"IF(ISBLANK('Renseignements sur le locataire'!E4512),\"\",'Renseignements sur le locataire'!E4512)","v":""}]
[null,null,null,{"$f":"IF(ISBLANK('Renseignements sur le locataire'!E4513),\"\",'Renseignements sur le locataire'!E4513)","v":""}]
[null,null,null,{"$f":"IF(ISBLANK('Renseignements sur le locataire'!E4514),\"\",'Renseignements sur le locataire'!E4514)","v":""}]
[null,null,null,{"$f":"IF(ISBLANK('Renseignements sur le locataire'!E4515),\"\",'Renseignements sur le locataire'!E4515)","v":""}]
[null,null,null,{"$f":"IF(ISBLANK('Renseignements sur le locataire'!E4516),\"\",'Renseignements sur le locataire'!E4516)","v":""}]
[null,null,null,{"$f":"IF(ISBLANK('Renseignements sur le locataire'!E4517),\"\",'Renseignements sur le locataire'!E4517)","v":""}]
[null,null,null,{"$f":"IF(ISBLANK('Renseignements sur le locataire'!E4518),\"\",'Renseignements sur le locataire'!E4518)","v":""}]
[null,null,null,{"$f":"IF(ISBLANK('Renseignements sur le locataire'!E4519),\"\",'Renseignements sur le locataire'!E4519)","v":""}]
[null,null,null,{"$f":"IF(ISBLANK('Renseignements sur le locataire'!E4520),\"\",'Renseignements sur le locataire'!E4520)","v":""}]
[null,null,null,{"$f":"IF(ISBLANK('Renseignements sur le locataire'!E4521),\"\",'Renseignements sur le locataire'!E4521)","v":""}]
[null,null,null,{"$f":"IF(ISBLANK('Renseignements sur le locataire'!E4522),\"\",'Renseignements sur le locataire'!E4522)","v":""}]
[null,null,null,{"$f":"IF(ISBLANK('Renseignements sur le locataire'!E4523),\"\",'Renseignements sur le locataire'!E4523)","v":""}]
[null,null,null,{"$f":"IF(ISBLANK('Renseignements sur le locataire'!E4524),\"\",'Renseignements sur le locataire'!E4524)","v":""}]
[null,null,null,{"$f":"IF(ISBLANK('Renseignements sur le locataire'!E4525),\"\",'Renseignements sur le locataire'!E4525)","v":""}]
[null,null,null,{"$f":"IF(ISBLANK('Renseignements sur le locataire'!E4526),\"\",'Renseignements sur le locataire'!E4526)","v":""}]
[null,null,null,{"$f":"IF(ISBLANK('Renseignements sur le locataire'!E4527),\"\",'Renseignements sur le locataire'!E4527)","v":""}]
[null,null,null,{"$f":"IF(ISBLANK('Renseignements sur le locataire'!E4528),\"\",'Renseignements sur le locataire'!E4528)","v":""}]
[null,null,null,{"$f":"IF(ISBLANK('Renseignements sur le locataire'!E4529),\"\",'Renseignements sur le locataire'!E4529)","v":""}]
[null,null,null,{"$f":"IF(ISBLANK('Renseignements sur le locataire'!E4530),\"\",'Renseignements sur le locataire'!E4530)","v":""}]
[null,null,null,{"$f":"IF(ISBLANK('Renseignements sur le locataire'!E4531),\"\",'Renseignements sur le locataire'!E4531)","v":""}]
[null,null,null,{"$f":"IF(ISBLANK('Renseignements sur le locataire'!E4532),\"\",'Renseignements sur le locataire'!E4532)","v":""}]
[null,null,null,{"$f":"IF(ISBLANK('Renseignements sur le locataire'!E4533),\"\",'Renseignements sur le locataire'!E4533)","v":""}]
[null,null,null,{"$f":"IF(ISBLANK('Renseignements sur le locataire'!E4534),\"\",'Renseignements sur le locataire'!E4534)","v":""}]
[null,null,null,{"$f":"IF(ISBLANK('Renseignements sur le locataire'!E4535),\"\",'Renseignements sur le locataire'!E4535)","v":""}]
[null,null,null,{"$f":"IF(ISBLANK('Renseignements sur le locataire'!E4536),\"\",'Renseignements sur le locataire'!E4536)","v":""}]
[null,null,null,{"$f":"IF(ISBLANK('Renseignements sur le locataire'!E4537),\"\",'Renseignements sur le locataire'!E4537)","v":""}]
[null,null,null,{"$f":"IF(ISBLANK('Renseignements sur le locataire'!E4538),\"\",'Renseignements sur le locataire'!E4538)","v":""}]
[null,null,null,{"$f":"IF(ISBLANK('Renseignements sur le locataire'!E4539),\"\",'Renseignements sur le locataire'!E4539)","v":""}]
[null,null,null,{"$f":"IF(ISBLANK('Renseignements sur le locataire'!E4540),\"\",'Renseignements sur le locataire'!E4540)","v":""}]
[null,null,null,{"$f":"IF(ISBLANK('Renseignements sur le locataire'!E4541),\"\",'Renseignements sur le locataire'!E4541)","v":""}]
[null,null,null,{"$f":"IF(ISBLANK('Renseignements sur le locataire'!E4542),\"\",'Renseignements sur le locataire'!E4542)","v":""}]
[null,null,null,{"$f":"IF(ISBLANK('Renseignements sur le locataire'!E4543),\"\",'Renseignements sur le locataire'!E4543)","v":""}]
[null,null,null,{"$f":"IF(ISBLANK('Renseignements sur le locataire'!E4544),\"\",'Renseignements sur le locataire'!E4544)","v":""}]
[null,null,null,{"$f":"IF(ISBLANK('Renseignements sur le locataire'!E4545),\"\",'Renseignements sur le locataire'!E4545)","v":""}]
[null,null,null,{"$f":"IF(ISBLANK('Renseignements sur le locataire'!E4546),\"\",'Renseignements sur le locataire'!E4546)","v":""}]
[null,null,null,{"$f":"IF(ISBLANK('Renseignements sur le locataire'!E4547),\"\",'Renseignements sur le locataire'!E4547)","v":""}]
[null,null,null,{"$f":"IF(ISBLANK('Renseignements sur le locataire'!E4548),\"\",'Renseignements sur le locataire'!E4548)","v":""}]
[null,null,null,{"$f":"IF(ISBLANK('Renseignements sur le locataire'!E4549),\"\",'Renseignements sur le locataire'!E4549)","v":""}]
[null,null,null,{"$f":"IF(ISBLANK('Renseignements sur le locataire'!E4550),\"\",'Renseignements sur le locataire'!E4550)","v":""}]
[null,null,null,{"$f":"IF(ISBLANK('Renseignements sur le locataire'!E4551),\"\",'Renseignements sur le locataire'!E4551)","v":""}]
[null,null,null,{"$f":"IF(ISBLANK('Renseignements sur le locataire'!E4552),\"\",'Renseignements sur le locataire'!E4552)","v":""}]
[null,null,null,{"$f":"IF(ISBLANK('Renseignements sur le locataire'!E4553),\"\",'Renseignements sur le locataire'!E4553)","v":""}]
[null,null,null,{"$f":"IF(ISBLANK('Renseignements sur le locataire'!E4554),\"\",'Renseignements sur le locataire'!E4554)","v":""}]
[null,null,null,{"$f":"IF(ISBLANK('Renseignements sur le locataire'!E4555),\"\",'Renseignements sur le locataire'!E4555)","v":""}]
[null,null,null,{"$f":"IF(ISBLANK('Renseignements sur le locataire'!E4556),\"\",'Renseignements sur le locataire'!E4556)","v":""}]
[null,null,null,{"$f":"IF(ISBLANK('Renseignements sur le locataire'!E4557),\"\",'Renseignements sur le locataire'!E4557)","v":""}]
[null,null,null,{"$f":"IF(ISBLANK('Renseignements sur le locataire'!E4558),\"\",'Renseignements sur le locataire'!E4558)","v":""}]
[null,null,null,{"$f":"IF(ISBLANK('Renseignements sur le locataire'!E4559),\"\",'Renseignements sur le locataire'!E4559)","v":""}]
[null,null,null,{"$f":"IF(ISBLANK('Renseignements sur le locataire'!E4560),\"\",'Renseignements sur le locataire'!E4560)","v":""}]
[null,null,null,{"$f":"IF(ISBLANK('Renseignements sur le locataire'!E4561),\"\",'Renseignements sur le locataire'!E4561)","v":""}]
[null,null,null,{"$f":"IF(ISBLANK('Renseignements sur le locataire'!E4562),\"\",'Renseignements sur le locataire'!E4562)","v":""}]
[null,null,null,{"$f":"IF(ISBLANK('Renseignements sur le locataire'!E4563),\"\",'Renseignements sur le locataire'!E4563)","v":""}]
[null,null,null,{"$f":"IF(ISBLANK('Renseignements sur le locataire'!E4564),\"\",'Renseignements sur le locataire'!E4564)","v":""}]
[null,null,null,{"$f":"IF(ISBLANK('Renseignements sur le locataire'!E4565),\"\",'Renseignements sur le locataire'!E4565)","v":""}]
[null,null,null,{"$f":"IF(ISBLANK('Renseignements sur le locataire'!E4566),\"\",'Renseignements sur le locataire'!E4566)","v":""}]
[null,null,null,{"$f":"IF(ISBLANK('Renseignements sur le locataire'!E4567),\"\",'Renseignements sur le locataire'!E4567)","v":""}]
[null,null,null,{"$f":"IF(ISBLANK('Renseignements sur le locataire'!E4568),\"\",'Renseignements sur le locataire'!E4568)","v":""}]
[null,null,null,{"$f":"IF(ISBLANK('Renseignements sur le locataire'!E4569),\"\",'Renseignements sur le locataire'!E4569)","v":""}]
[null,null,null,{"$f":"IF(ISBLANK('Renseignements sur le locataire'!E4570),\"\",'Renseignements sur le locataire'!E4570)","v":""}]
[null,null,null,{"$f":"IF(ISBLANK('Renseignements sur le locataire'!E4571),\"\",'Renseignements sur le locataire'!E4571)","v":""}]
[null,null,null,{"$f":"IF(ISBLANK('Renseignements sur le locataire'!E4572),\"\",'Renseignements sur le locataire'!E4572)","v":""}]
[null,null,null,{"$f":"IF(ISBLANK('Renseignements sur le locataire'!E4573),\"\",'Renseignements sur le locataire'!E4573)","v":""}]
[null,null,null,{"$f":"IF(ISBLANK('Renseignements sur le locataire'!E4574),\"\",'Renseignements sur le locataire'!E4574)","v":""}]
[null,null,null,{"$f":"IF(ISBLANK('Renseignements sur le locataire'!E4575),\"\",'Renseignements sur le locataire'!E4575)","v":""}]
[null,null,null,{"$f":"IF(ISBLANK('Renseignements sur le locataire'!E4576),\"\",'Renseignements sur le locataire'!E4576)","v":""}]
[null,null,null,{"$f":"IF(ISBLANK('Renseignements sur le locataire'!E4577),\"\",'Renseignements sur le locataire'!E4577)","v":""}]
[null,null,null,{"$f":"IF(ISBLANK('Renseignements sur le locataire'!E4578),\"\",'Renseignements sur le locataire'!E4578)","v":""}]
[null,null,null,{"$f":"IF(ISBLANK('Renseignements sur le locataire'!E4579),\"\",'Renseignements sur le locataire'!E4579)","v":""}]
[null,null,null,{"$f":"IF(ISBLANK('Renseignements sur le locataire'!E4580),\"\",'Renseignements sur le locataire'!E4580)","v":""}]
[null,null,null,{"$f":"IF(ISBLANK('Renseignements sur le locataire'!E4581),\"\",'Renseignements sur le locataire'!E4581)","v":""}]
[null,null,null,{"$f":"IF(ISBLANK('Renseignements sur le locataire'!E4582),\"\",'Renseignements sur le locataire'!E4582)","v":""}]
[null,null,null,{"$f":"IF(ISBLANK('Renseignements sur le locataire'!E4583),\"\",'Renseignements sur le locataire'!E4583)","v":""}]
[null,null,null,{"$f":"IF(ISBLANK('Renseignements sur le locataire'!E4584),\"\",'Renseignements sur le locataire'!E4584)","v":""}]
[null,null,null,{"$f":"IF(ISBLANK('Renseignements sur le locataire'!E4585),\"\",'Renseignements sur le locataire'!E4585)","v":""}]
[null,null,null,{"$f":"IF(ISBLANK('Renseignements sur le locataire'!E4586),\"\",'Renseignements sur le locataire'!E4586)","v":""}]
[null,null,null,{"$f":"IF(ISBLANK('Renseignements sur le locataire'!E4587),\"\",'Renseignements sur le locataire'!E4587)","v":""}]
[null,null,null,{"$f":"IF(ISBLANK('Renseignements sur le locataire'!E4588),\"\",'Renseignements sur le locataire'!E4588)","v":""}]
[null,null,null,{"$f":"IF(ISBLANK('Renseignements sur le locataire'!E4589),\"\",'Renseignements sur le locataire'!E4589)","v":""}]
[null,null,null,{"$f":"IF(ISBLANK('Renseignements sur le locataire'!E4590),\"\",'Renseignements sur le locataire'!E4590)","v":""}]
[null,null,null,{"$f":"IF(ISBLANK('Renseignements sur le locataire'!E4591),\"\",'Renseignements sur le locataire'!E4591)","v":""}]
[null,null,null,{"$f":"IF(ISBLANK('Renseignements sur le locataire'!E4592),\"\",'Renseignements sur le locataire'!E4592)","v":""}]
[null,null,null,{"$f":"IF(ISBLANK('Renseignements sur le locataire'!E4593),\"\",'Renseignements sur le locataire'!E4593)","v":""}]
[null,null,null,{"$f":"IF(ISBLANK('Renseignements sur le locataire'!E4594),\"\",'Renseignements sur le locataire'!E4594)","v":""}]
[null,null,null,{"$f":"IF(ISBLANK('Renseignements sur le locataire'!E4595),\"\",'Renseignements sur le locataire'!E4595)","v":""}]
[null,null,null,{"$f":"IF(ISBLANK('Renseignements sur le locataire'!E4596),\"\",'Renseignements sur le locataire'!E4596)","v":""}]
[null,null,null,{"$f":"IF(ISBLANK('Renseignements sur le locataire'!E4597),\"\",'Renseignements sur le locataire'!E4597)","v":""}]
[null,null,null,{"$f":"IF(ISBLANK('Renseignements sur le locataire'!E4598),\"\",'Renseignements sur le locataire'!E4598)","v":""}]
[null,null,null,{"$f":"IF(ISBLANK('Renseignements sur le locataire'!E4599),\"\",'Renseignements sur le locataire'!E4599)","v":""}]
[null,null,null,{"$f":"IF(ISBLANK('Renseignements sur le locataire'!E4600),\"\",'Renseignements sur le locataire'!E4600)","v":""}]
[null,null,null,{"$f":"IF(ISBLANK('Renseignements sur le locataire'!E4601),\"\",'Renseignements sur le locataire'!E4601)","v":""}]
[null,null,null,{"$f":"IF(ISBLANK('Renseignements sur le locataire'!E4602),\"\",'Renseignements sur le locataire'!E4602)","v":""}]
[null,null,null,{"$f":"IF(ISBLANK('Renseignements sur le locataire'!E4603),\"\",'Renseignements sur le locataire'!E4603)","v":""}]
[null,null,null,{"$f":"IF(ISBLANK('Renseignements sur le locataire'!E4604),\"\",'Renseignements sur le locataire'!E4604)","v":""}]
[null,null,null,{"$f":"IF(ISBLANK('Renseignements sur le locataire'!E4605),\"\",'Renseignements sur le locataire'!E4605)","v":""}]
[null,null,null,{"$f":"IF(ISBLANK('Renseignements sur le locataire'!E4606),\"\",'Renseignements sur le locataire'!E4606)","v":""}]
[null,null,null,{"$f":"IF(ISBLANK('Renseignements sur le locataire'!E4607),\"\",'Renseignements sur le locataire'!E4607)","v":""}]
[null,null,null,{"$f":"IF(ISBLANK('Renseignements sur le locataire'!E4608),\"\",'Renseignements sur le locataire'!E4608)","v":""}]
[null,null,null,{"$f":"IF(ISBLANK('Renseignements sur le locataire'!E4609),\"\",'Renseignements sur le locataire'!E4609)","v":""}]
[null,null,null,{"$f":"IF(ISBLANK('Renseignements sur le locataire'!E4610),\"\",'Renseignements sur le locataire'!E4610)","v":""}]
[null,null,null,{"$f":"IF(ISBLANK('Renseignements sur le locataire'!E4611),\"\",'Renseignements sur le locataire'!E4611)","v":""}]
[null,null,null,{"$f":"IF(ISBLANK('Renseignements sur le locataire'!E4612),\"\",'Renseignements sur le locataire'!E4612)","v":""}]
[null,null,null,{"$f":"IF(ISBLANK('Renseignements sur le locataire'!E4613),\"\",'Renseignements sur le locataire'!E4613)","v":""}]
[null,null,null,{"$f":"IF(ISBLANK('Renseignements sur le locataire'!E4614),\"\",'Renseignements sur le locataire'!E4614)","v":""}]
[null,null,null,{"$f":"IF(ISBLANK('Renseignements sur le locataire'!E4615),\"\",'Renseignements sur le locataire'!E4615)","v":""}]
[null,null,null,{"$f":"IF(ISBLANK('Renseignements sur le locataire'!E4616),\"\",'Renseignements sur le locataire'!E4616)","v":""}]
[null,null,null,{"$f":"IF(ISBLANK('Renseignements sur le locataire'!E4617),\"\",'Renseignements sur le locataire'!E4617)","v":""}]
[null,null,null,{"$f":"IF(ISBLANK('Renseignements sur le locataire'!E4618),\"\",'Renseignements sur le locataire'!E4618)","v":""}]
[null,null,null,{"$f":"IF(ISBLANK('Renseignements sur le locataire'!E4619),\"\",'Renseignements sur le locataire'!E4619)","v":""}]
[null,null,null,{"$f":"IF(ISBLANK('Renseignements sur le locataire'!E4620),\"\",'Renseignements sur le locataire'!E4620)","v":""}]
[null,null,null,{"$f":"IF(ISBLANK('Renseignements sur le locataire'!E4621),\"\",'Renseignements sur le locataire'!E4621)","v":""}]
[null,null,null,{"$f":"IF(ISBLANK('Renseignements sur le locataire'!E4622),\"\",'Renseignements sur le locataire'!E4622)","v":""}]
[null,null,null,{"$f":"IF(ISBLANK('Renseignements sur le locataire'!E4623),\"\",'Renseignements sur le locataire'!E4623)","v":""}]
[null,null,null,{"$f":"IF(ISBLANK('Renseignements sur le locataire'!E4624),\"\",'Renseignements sur le locataire'!E4624)","v":""}]
[null,null,null,{"$f":"IF(ISBLANK('Renseignements sur le locataire'!E4625),\"\",'Renseignements sur le locataire'!E4625)","v":""}]
[null,null,null,{"$f":"IF(ISBLANK('Renseignements sur le locataire'!E4626),\"\",'Renseignements sur le locataire'!E4626)","v":""}]
[null,null,null,{"$f":"IF(ISBLANK('Renseignements sur le locataire'!E4627),\"\",'Renseignements sur le locataire'!E4627)","v":""}]
[null,null,null,{"$f":"IF(ISBLANK('Renseignements sur le locataire'!E4628),\"\",'Renseignements sur le locataire'!E4628)","v":""}]
[null,null,null,{"$f":"IF(ISBLANK('Renseignements sur le locataire'!E4629),\"\",'Renseignements sur le locataire'!E4629)","v":""}]
[null,null,null,{"$f":"IF(ISBLANK('Renseignements sur le locataire'!E4630),\"\",'Renseignements sur le locataire'!E4630)","v":""}]
[null,null,null,{"$f":"IF(ISBLANK('Renseignements sur le locataire'!E4631),\"\",'Renseignements sur le locataire'!E4631)","v":""}]
[null,null,null,{"$f":"IF(ISBLANK('Renseignements sur le locataire'!E4632),\"\",'Renseignements sur le locataire'!E4632)","v":""}]
[null,null,null,{"$f":"IF(ISBLANK('Renseignements sur le locataire'!E4633),\"\",'Renseignements sur le locataire'!E4633)","v":""}]
[null,null,null,{"$f":"IF(ISBLANK('Renseignements sur le locataire'!E4634),\"\",'Renseignements sur le locataire'!E4634)","v":""}]
[null,null,null,{"$f":"IF(ISBLANK('Renseignements sur le locataire'!E4635),\"\",'Renseignements sur le locataire'!E4635)","v":""}]
[null,null,null,{"$f":"IF(ISBLANK('Renseignements sur le locataire'!E4636),\"\",'Renseignements sur le locataire'!E4636)","v":""}]
[null,null,null,{"$f":"IF(ISBLANK('Renseignements sur le locataire'!E4637),\"\",'Renseignements sur le locataire'!E4637)","v":""}]
[null,null,null,{"$f":"IF(ISBLANK('Renseignements sur le locataire'!E4638),\"\",'Renseignements sur le locataire'!E4638)","v":""}]
[null,null,null,{"$f":"IF(ISBLANK('Renseignements sur le locataire'!E4639),\"\",'Renseignements sur le locataire'!E4639)","v":""}]
[null,null,null,{"$f":"IF(ISBLANK('Renseignements sur le locataire'!E4640),\"\",'Renseignements sur le locataire'!E4640)","v":""}]
[null,null,null,{"$f":"IF(ISBLANK('Renseignements sur le locataire'!E4641),\"\",'Renseignements sur le locataire'!E4641)","v":""}]
[null,null,null,{"$f":"IF(ISBLANK('Renseignements sur le locataire'!E4642),\"\",'Renseignements sur le locataire'!E4642)","v":""}]
[null,null,null,{"$f":"IF(ISBLANK('Renseignements sur le locataire'!E4643),\"\",'Renseignements sur le locataire'!E4643)","v":""}]
[null,null,null,{"$f":"IF(ISBLANK('Renseignements sur le locataire'!E4644),\"\",'Renseignements sur le locataire'!E4644)","v":""}]
[null,null,null,{"$f":"IF(ISBLANK('Renseignements sur le locataire'!E4645),\"\",'Renseignements sur le locataire'!E4645)","v":""}]
[null,null,null,{"$f":"IF(ISBLANK('Renseignements sur le locataire'!E4646),\"\",'Renseignements sur le locataire'!E4646)","v":""}]
[null,null,null,{"$f":"IF(ISBLANK('Renseignements sur le locataire'!E4647),\"\",'Renseignements sur le locataire'!E4647)","v":""}]
[null,null,null,{"$f":"IF(ISBLANK('Renseignements sur le locataire'!E4648),\"\",'Renseignements sur le locataire'!E4648)","v":""}]
[null,null,null,{"$f":"IF(ISBLANK('Renseignements sur le locataire'!E4649),\"\",'Renseignements sur le locataire'!E4649)","v":""}]
[null,null,null,{"$f":"IF(ISBLANK('Renseignements sur le locataire'!E4650),\"\",'Renseignements sur le locataire'!E4650)","v":""}]
[null,null,null,{"$f":"IF(ISBLANK('Renseignements sur le locataire'!E4651),\"\",'Renseignements sur le locataire'!E4651)","v":""}]
[null,null,null,{"$f":"IF(ISBLANK('Renseignements sur le locataire'!E4652),\"\",'Renseignements sur le locataire'!E4652)","v":""}]
[null,null,null,{"$f":"IF(ISBLANK('Renseignements sur le locataire'!E4653),\"\",'Renseignements sur le locataire'!E4653)","v":""}]
[null,null,null,{"$f":"IF(ISBLANK('Renseignements sur le locataire'!E4654),\"\",'Renseignements sur le locataire'!E4654)","v":""}]
[null,null,null,{"$f":"IF(ISBLANK('Renseignements sur le locataire'!E4655),\"\",'Renseignements sur le locataire'!E4655)","v":""}]
[null,null,null,{"$f":"IF(ISBLANK('Renseignements sur le locataire'!E4656),\"\",'Renseignements sur le locataire'!E4656)","v":""}]
[null,null,null,{"$f":"IF(ISBLANK('Renseignements sur le locataire'!E4657),\"\",'Renseignements sur le locataire'!E4657)","v":""}]
[null,null,null,{"$f":"IF(ISBLANK('Renseignements sur le locataire'!E4658),\"\",'Renseignements sur le locataire'!E4658)","v":""}]
[null,null,null,{"$f":"IF(ISBLANK('Renseignements sur le locataire'!E4659),\"\",'Renseignements sur le locataire'!E4659)","v":""}]
[null,null,null,{"$f":"IF(ISBLANK('Renseignements sur le locataire'!E4660),\"\",'Renseignements sur le locataire'!E4660)","v":""}]
[null,null,null,{"$f":"IF(ISBLANK('Renseignements sur le locataire'!E4661),\"\",'Renseignements sur le locataire'!E4661)","v":""}]
[null,null,null,{"$f":"IF(ISBLANK('Renseignements sur le locataire'!E4662),\"\",'Renseignements sur le locataire'!E4662)","v":""}]
[null,null,null,{"$f":"IF(ISBLANK('Renseignements sur le locataire'!E4663),\"\",'Renseignements sur le locataire'!E4663)","v":""}]
[null,null,null,{"$f":"IF(ISBLANK('Renseignements sur le locataire'!E4664),\"\",'Renseignements sur le locataire'!E4664)","v":""}]
[null,null,null,{"$f":"IF(ISBLANK('Renseignements sur le locataire'!E4665),\"\",'Renseignements sur le locataire'!E4665)","v":""}]
[null,null,null,{"$f":"IF(ISBLANK('Renseignements sur le locataire'!E4666),\"\",'Renseignements sur le locataire'!E4666)","v":""}]
[null,null,null,{"$f":"IF(ISBLANK('Renseignements sur le locataire'!E4667),\"\",'Renseignements sur le locataire'!E4667)","v":""}]
[null,null,null,{"$f":"IF(ISBLANK('Renseignements sur le locataire'!E4668),\"\",'Renseignements sur le locataire'!E4668)","v":""}]
[null,null,null,{"$f":"IF(ISBLANK('Renseignements sur le locataire'!E4669),\"\",'Renseignements sur le locataire'!E4669)","v":""}]
[null,null,null,{"$f":"IF(ISBLANK('Renseignements sur le locataire'!E4670),\"\",'Renseignements sur le locataire'!E4670)","v":""}]
[null,null,null,{"$f":"IF(ISBLANK('Renseignements sur le locataire'!E4671),\"\",'Renseignements sur le locataire'!E4671)","v":""}]
[null,null,null,{"$f":"IF(ISBLANK('Renseignements sur le locataire'!E4672),\"\",'Renseignements sur le locataire'!E4672)","v":""}]
[null,null,null,{"$f":"IF(ISBLANK('Renseignements sur le locataire'!E4673),\"\",'Renseignements sur le locataire'!E4673)","v":""}]
[null,null,null,{"$f":"IF(ISBLANK('Renseignements sur le locataire'!E4674),\"\",'Renseignements sur le locataire'!E4674)","v":""}]
[null,null,null,{"$f":"IF(ISBLANK('Renseignements sur le locataire'!E4675),\"\",'Renseignements sur le locataire'!E4675)","v":""}]
[null,null,null,{"$f":"IF(ISBLANK('Renseignements sur le locataire'!E4676),\"\",'Renseignements sur le locataire'!E4676)","v":""}]
[null,null,null,{"$f":"IF(ISBLANK('Renseignements sur le locataire'!E4677),\"\",'Renseignements sur le locataire'!E4677)","v":""}]
[null,null,null,{"$f":"IF(ISBLANK('Renseignements sur le locataire'!E4678),\"\",'Renseignements sur le locataire'!E4678)","v":""}]
[null,null,null,{"$f":"IF(ISBLANK('Renseignements sur le locataire'!E4679),\"\",'Renseignements sur le locataire'!E4679)","v":""}]
[null,null,null,{"$f":"IF(ISBLANK('Renseignements sur le locataire'!E4680),\"\",'Renseignements sur le locataire'!E4680)","v":""}]
[null,null,null,{"$f":"IF(ISBLANK('Renseignements sur le locataire'!E4681),\"\",'Renseignements sur le locataire'!E4681)","v":""}]
[null,null,null,{"$f":"IF(ISBLANK('Renseignements sur le locataire'!E4682),\"\",'Renseignements sur le locataire'!E4682)","v":""}]
[null,null,null,{"$f":"IF(ISBLANK('Renseignements sur le locataire'!E4683),\"\",'Renseignements sur le locataire'!E4683)","v":""}]
[null,null,null,{"$f":"IF(ISBLANK('Renseignements sur le locataire'!E4684),\"\",'Renseignements sur le locataire'!E4684)","v":""}]
[null,null,null,{"$f":"IF(ISBLANK('Renseignements sur le locataire'!E4685),\"\",'Renseignements sur le locataire'!E4685)","v":""}]
[null,null,null,{"$f":"IF(ISBLANK('Renseignements sur le locataire'!E4686),\"\",'Renseignements sur le locataire'!E4686)","v":""}]
[null,null,null,{"$f":"IF(ISBLANK('Renseignements sur le locataire'!E4687),\"\",'Renseignements sur le locataire'!E4687)","v":""}]
[null,null,null,{"$f":"IF(ISBLANK('Renseignements sur le locataire'!E4688),\"\",'Renseignements sur le locataire'!E4688)","v":""}]
[null,null,null,{"$f":"IF(ISBLANK('Renseignements sur le locataire'!E4689),\"\",'Renseignements sur le locataire'!E4689)","v":""}]
[null,null,null,{"$f":"IF(ISBLANK('Renseignements sur le locataire'!E4690),\"\",'Renseignements sur le locataire'!E4690)","v":""}]
[null,null,null,{"$f":"IF(ISBLANK('Renseignements sur le locataire'!E4691),\"\",'Renseignements sur le locataire'!E4691)","v":""}]
[null,null,null,{"$f":"IF(ISBLANK('Renseignements sur le locataire'!E4692),\"\",'Renseignements sur le locataire'!E4692)","v":""}]
[null,null,null,{"$f":"IF(ISBLANK('Renseignements sur le locataire'!E4693),\"\",'Renseignements sur le locataire'!E4693)","v":""}]
[null,null,null,{"$f":"IF(ISBLANK('Renseignements sur le locataire'!E4694),\"\",'Renseignements sur le locataire'!E4694)","v":""}]
[null,null,null,{"$f":"IF(ISBLANK('Renseignements sur le locataire'!E4695),\"\",'Renseignements sur le locataire'!E4695)","v":""}]
[null,null,null,{"$f":"IF(ISBLANK('Renseignements sur le locataire'!E4696),\"\",'Renseignements sur le locataire'!E4696)","v":""}]
[null,null,null,{"$f":"IF(ISBLANK('Renseignements sur le locataire'!E4697),\"\",'Renseignements sur le locataire'!E4697)","v":""}]
[null,null,null,{"$f":"IF(ISBLANK('Renseignements sur le locataire'!E4698),\"\",'Renseignements sur le locataire'!E4698)","v":""}]
[null,null,null,{"$f":"IF(ISBLANK('Renseignements sur le locataire'!E4699),\"\",'Renseignements sur le locataire'!E4699)","v":""}]
[null,null,null,{"$f":"IF(ISBLANK('Renseignements sur le locataire'!E4700),\"\",'Renseignements sur le locataire'!E4700)","v":""}]
[null,null,null,{"$f":"IF(ISBLANK('Renseignements sur le locataire'!E4701),\"\",'Renseignements sur le locataire'!E4701)","v":""}]
[null,null,null,{"$f":"IF(ISBLANK('Renseignements sur le locataire'!E4702),\"\",'Renseignements sur le locataire'!E4702)","v":""}]
[null,null,null,{"$f":"IF(ISBLANK('Renseignements sur le locataire'!E4703),\"\",'Renseignements sur le locataire'!E4703)","v":""}]
[null,null,null,{"$f":"IF(ISBLANK('Renseignements sur le locataire'!E4704),\"\",'Renseignements sur le locataire'!E4704)","v":""}]
[null,null,null,{"$f":"IF(ISBLANK('Renseignements sur le locataire'!E4705),\"\",'Renseignements sur le locataire'!E4705)","v":""}]
[null,null,null,{"$f":"IF(ISBLANK('Renseignements sur le locataire'!E4706),\"\",'Renseignements sur le locataire'!E4706)","v":""}]
[null,null,null,{"$f":"IF(ISBLANK('Renseignements sur le locataire'!E4707),\"\",'Renseignements sur le locataire'!E4707)","v":""}]
[null,null,null,{"$f":"IF(ISBLANK('Renseignements sur le locataire'!E4708),\"\",'Renseignements sur le locataire'!E4708)","v":""}]
[null,null,null,{"$f":"IF(ISBLANK('Renseignements sur le locataire'!E4709),\"\",'Renseignements sur le locataire'!E4709)","v":""}]
[null,null,null,{"$f":"IF(ISBLANK('Renseignements sur le locataire'!E4710),\"\",'Renseignements sur le locataire'!E4710)","v":""}]
[null,null,null,{"$f":"IF(ISBLANK('Renseignements sur le locataire'!E4711),\"\",'Renseignements sur le locataire'!E4711)","v":""}]
[null,null,null,{"$f":"IF(ISBLANK('Renseignements sur le locataire'!E4712),\"\",'Renseignements sur le locataire'!E4712)","v":""}]
[null,null,null,{"$f":"IF(ISBLANK('Renseignements sur le locataire'!E4713),\"\",'Renseignements sur le locataire'!E4713)","v":""}]
[null,null,null,{"$f":"IF(ISBLANK('Renseignements sur le locataire'!E4714),\"\",'Renseignements sur le locataire'!E4714)","v":""}]
[null,null,null,{"$f":"IF(ISBLANK('Renseignements sur le locataire'!E4715),\"\",'Renseignements sur le locataire'!E4715)","v":""}]
[null,null,null,{"$f":"IF(ISBLANK('Renseignements sur le locataire'!E4716),\"\",'Renseignements sur le locataire'!E4716)","v":""}]
[null,null,null,{"$f":"IF(ISBLANK('Renseignements sur le locataire'!E4717),\"\",'Renseignements sur le locataire'!E4717)","v":""}]
[null,null,null,{"$f":"IF(ISBLANK('Renseignements sur le locataire'!E4718),\"\",'Renseignements sur le locataire'!E4718)","v":""}]
[null,null,null,{"$f":"IF(ISBLANK('Renseignements sur le locataire'!E4719),\"\",'Renseignements sur le locataire'!E4719)","v":""}]
[null,null,null,{"$f":"IF(ISBLANK('Renseignements sur le locataire'!E4720),\"\",'Renseignements sur le locataire'!E4720)","v":""}]
[null,null,null,{"$f":"IF(ISBLANK('Renseignements sur le locataire'!E4721),\"\",'Renseignements sur le locataire'!E4721)","v":""}]
[null,null,null,{"$f":"IF(ISBLANK('Renseignements sur le locataire'!E4722),\"\",'Renseignements sur le locataire'!E4722)","v":""}]
[null,null,null,{"$f":"IF(ISBLANK('Renseignements sur le locataire'!E4723),\"\",'Renseignements sur le locataire'!E4723)","v":""}]
[null,null,null,{"$f":"IF(ISBLANK('Renseignements sur le locataire'!E4724),\"\",'Renseignements sur le locataire'!E4724)","v":""}]
[null,null,null,{"$f":"IF(ISBLANK('Renseignements sur le locataire'!E4725),\"\",'Renseignements sur le locataire'!E4725)","v":""}]
[null,null,null,{"$f":"IF(ISBLANK('Renseignements sur le locataire'!E4726),\"\",'Renseignements sur le locataire'!E4726)","v":""}]
[null,null,null,{"$f":"IF(ISBLANK('Renseignements sur le locataire'!E4727),\"\",'Renseignements sur le locataire'!E4727)","v":""}]
[null,null,null,{"$f":"IF(ISBLANK('Renseignements sur le locataire'!E4728),\"\",'Renseignements sur le locataire'!E4728)","v":""}]
[null,null,null,{"$f":"IF(ISBLANK('Renseignements sur le locataire'!E4729),\"\",'Renseignements sur le locataire'!E4729)","v":""}]
[null,null,null,{"$f":"IF(ISBLANK('Renseignements sur le locataire'!E4730),\"\",'Renseignements sur le locataire'!E4730)","v":""}]
[null,null,null,{"$f":"IF(ISBLANK('Renseignements sur le locataire'!E4731),\"\",'Renseignements sur le locataire'!E4731)","v":""}]
[null,null,null,{"$f":"IF(ISBLANK('Renseignements sur le locataire'!E4732),\"\",'Renseignements sur le locataire'!E4732)","v":""}]
[null,null,null,{"$f":"IF(ISBLANK('Renseignements sur le locataire'!E4733),\"\",'Renseignements sur le locataire'!E4733)","v":""}]
[null,null,null,{"$f":"IF(ISBLANK('Renseignements sur le locataire'!E4734),\"\",'Renseignements sur le locataire'!E4734)","v":""}]
[null,null,null,{"$f":"IF(ISBLANK('Renseignements sur le locataire'!E4735),\"\",'Renseignements sur le locataire'!E4735)","v":""}]
[null,null,null,{"$f":"IF(ISBLANK('Renseignements sur le locataire'!E4736),\"\",'Renseignements sur le locataire'!E4736)","v":""}]
[null,null,null,{"$f":"IF(ISBLANK('Renseignements sur le locataire'!E4737),\"\",'Renseignements sur le locataire'!E4737)","v":""}]
[null,null,null,{"$f":"IF(ISBLANK('Renseignements sur le locataire'!E4738),\"\",'Renseignements sur le locataire'!E4738)","v":""}]
[null,null,null,{"$f":"IF(ISBLANK('Renseignements sur le locataire'!E4739),\"\",'Renseignements sur le locataire'!E4739)","v":""}]
[null,null,null,{"$f":"IF(ISBLANK('Renseignements sur le locataire'!E4740),\"\",'Renseignements sur le locataire'!E4740)","v":""}]
[null,null,null,{"$f":"IF(ISBLANK('Renseignements sur le locataire'!E4741),\"\",'Renseignements sur le locataire'!E4741)","v":""}]
[null,null,null,{"$f":"IF(ISBLANK('Renseignements sur le locataire'!E4742),\"\",'Renseignements sur le locataire'!E4742)","v":""}]
[null,null,null,{"$f":"IF(ISBLANK('Renseignements sur le locataire'!E4743),\"\",'Renseignements sur le locataire'!E4743)","v":""}]
[null,null,null,{"$f":"IF(ISBLANK('Renseignements sur le locataire'!E4744),\"\",'Renseignements sur le locataire'!E4744)","v":""}]
[null,null,null,{"$f":"IF(ISBLANK('Renseignements sur le locataire'!E4745),\"\",'Renseignements sur le locataire'!E4745)","v":""}]
[null,null,null,{"$f":"IF(ISBLANK('Renseignements sur le locataire'!E4746),\"\",'Renseignements sur le locataire'!E4746)","v":""}]
[null,null,null,{"$f":"IF(ISBLANK('Renseignements sur le locataire'!E4747),\"\",'Renseignements sur le locataire'!E4747)","v":""}]
[null,null,null,{"$f":"IF(ISBLANK('Renseignements sur le locataire'!E4748),\"\",'Renseignements sur le locataire'!E4748)","v":""}]
[null,null,null,{"$f":"IF(ISBLANK('Renseignements sur le locataire'!E4749),\"\",'Renseignements sur le locataire'!E4749)","v":""}]
[null,null,null,{"$f":"IF(ISBLANK('Renseignements sur le locataire'!E4750),\"\",'Renseignements sur le locataire'!E4750)","v":""}]
[null,null,null,{"$f":"IF(ISBLANK('Renseignements sur le locataire'!E4751),\"\",'Renseignements sur le locataire'!E4751)","v":""}]
[null,null,null,{"$f":"IF(ISBLANK('Renseignements sur le locataire'!E4752),\"\",'Renseignements sur le locataire'!E4752)","v":""}]
[null,null,null,{"$f":"IF(ISBLANK('Renseignements sur le locataire'!E4753),\"\",'Renseignements sur le locataire'!E4753)","v":""}]
[null,null,null,{"$f":"IF(ISBLANK('Renseignements sur le locataire'!E4754),\"\",'Renseignements sur le locataire'!E4754)","v":""}]
[null,null,null,{"$f":"IF(ISBLANK('Renseignements sur le locataire'!E4755),\"\",'Renseignements sur le locataire'!E4755)","v":""}]
[null,null,null,{"$f":"IF(ISBLANK('Renseignements sur le locataire'!E4756),\"\",'Renseignements sur le locataire'!E4756)","v":""}]
[null,null,null,{"$f":"IF(ISBLANK('Renseignements sur le locataire'!E4757),\"\",'Renseignements sur le locataire'!E4757)","v":""}]
[null,null,null,{"$f":"IF(ISBLANK('Renseignements sur le locataire'!E4758),\"\",'Renseignements sur le locataire'!E4758)","v":""}]
[null,null,null,{"$f":"IF(ISBLANK('Renseignements sur le locataire'!E4759),\"\",'Renseignements sur le locataire'!E4759)","v":""}]
[null,null,null,{"$f":"IF(ISBLANK('Renseignements sur le locataire'!E4760),\"\",'Renseignements sur le locataire'!E4760)","v":""}]
[null,null,null,{"$f":"IF(ISBLANK('Renseignements sur le locataire'!E4761),\"\",'Renseignements sur le locataire'!E4761)","v":""}]
[null,null,null,{"$f":"IF(ISBLANK('Renseignements sur le locataire'!E4762),\"\",'Renseignements sur le locataire'!E4762)","v":""}]
[null,null,null,{"$f":"IF(ISBLANK('Renseignements sur le locataire'!E4763),\"\",'Renseignements sur le locataire'!E4763)","v":""}]
[null,null,null,{"$f":"IF(ISBLANK('Renseignements sur le locataire'!E4764),\"\",'Renseignements sur le locataire'!E4764)","v":""}]
[null,null,null,{"$f":"IF(ISBLANK('Renseignements sur le locataire'!E4765),\"\",'Renseignements sur le locataire'!E4765)","v":""}]
[null,null,null,{"$f":"IF(ISBLANK('Renseignements sur le locataire'!E4766),\"\",'Renseignements sur le locataire'!E4766)","v":""}]
[null,null,null,{"$f":"IF(ISBLANK('Renseignements sur le locataire'!E4767),\"\",'Renseignements sur le locataire'!E4767)","v":""}]
[null,null,null,{"$f":"IF(ISBLANK('Renseignements sur le locataire'!E4768),\"\",'Renseignements sur le locataire'!E4768)","v":""}]
[null,null,null,{"$f":"IF(ISBLANK('Renseignements sur le locataire'!E4769),\"\",'Renseignements sur le locataire'!E4769)","v":""}]
[null,null,null,{"$f":"IF(ISBLANK('Renseignements sur le locataire'!E4770),\"\",'Renseignements sur le locataire'!E4770)","v":""}]
[null,null,null,{"$f":"IF(ISBLANK('Renseignements sur le locataire'!E4771),\"\",'Renseignements sur le locataire'!E4771)","v":""}]
[null,null,null,{"$f":"IF(ISBLANK('Renseignements sur le locataire'!E4772),\"\",'Renseignements sur le locataire'!E4772)","v":""}]
[null,null,null,{"$f":"IF(ISBLANK('Renseignements sur le locataire'!E4773),\"\",'Renseignements sur le locataire'!E4773)","v":""}]
[null,null,null,{"$f":"IF(ISBLANK('Renseignements sur le locataire'!E4774),\"\",'Renseignements sur le locataire'!E4774)","v":""}]
[null,null,null,{"$f":"IF(ISBLANK('Renseignements sur le locataire'!E4775),\"\",'Renseignements sur le locataire'!E4775)","v":""}]
[null,null,null,{"$f":"IF(ISBLANK('Renseignements sur le locataire'!E4776),\"\",'Renseignements sur le locataire'!E4776)","v":""}]
[null,null,null,{"$f":"IF(ISBLANK('Renseignements sur le locataire'!E4777),\"\",'Renseignements sur le locataire'!E4777)","v":""}]
[null,null,null,{"$f":"IF(ISBLANK('Renseignements sur le locataire'!E4778),\"\",'Renseignements sur le locataire'!E4778)","v":""}]
[null,null,null,{"$f":"IF(ISBLANK('Renseignements sur le locataire'!E4779),\"\",'Renseignements sur le locataire'!E4779)","v":""}]
[null,null,null,{"$f":"IF(ISBLANK('Renseignements sur le locataire'!E4780),\"\",'Renseignements sur le locataire'!E4780)","v":""}]
[null,null,null,{"$f":"IF(ISBLANK('Renseignements sur le locataire'!E4781),\"\",'Renseignements sur le locataire'!E4781)","v":""}]
[null,null,null,{"$f":"IF(ISBLANK('Renseignements sur le locataire'!E4782),\"\",'Renseignements sur le locataire'!E4782)","v":""}]
[null,null,null,{"$f":"IF(ISBLANK('Renseignements sur le locataire'!E4783),\"\",'Renseignements sur le locataire'!E4783)","v":""}]
[null,null,null,{"$f":"IF(ISBLANK('Renseignements sur le locataire'!E4784),\"\",'Renseignements sur le locataire'!E4784)","v":""}]
[null,null,null,{"$f":"IF(ISBLANK('Renseignements sur le locataire'!E4785),\"\",'Renseignements sur le locataire'!E4785)","v":""}]
[null,null,null,{"$f":"IF(ISBLANK('Renseignements sur le locataire'!E4786),\"\",'Renseignements sur le locataire'!E4786)","v":""}]
[null,null,null,{"$f":"IF(ISBLANK('Renseignements sur le locataire'!E4787),\"\",'Renseignements sur le locataire'!E4787)","v":""}]
[null,null,null,{"$f":"IF(ISBLANK('Renseignements sur le locataire'!E4788),\"\",'Renseignements sur le locataire'!E4788)","v":""}]
[null,null,null,{"$f":"IF(ISBLANK('Renseignements sur le locataire'!E4789),\"\",'Renseignements sur le locataire'!E4789)","v":""}]
[null,null,null,{"$f":"IF(ISBLANK('Renseignements sur le locataire'!E4790),\"\",'Renseignements sur le locataire'!E4790)","v":""}]
[null,null,null,{"$f":"IF(ISBLANK('Renseignements sur le locataire'!E4791),\"\",'Renseignements sur le locataire'!E4791)","v":""}]
[null,null,null,{"$f":"IF(ISBLANK('Renseignements sur le locataire'!E4792),\"\",'Renseignements sur le locataire'!E4792)","v":""}]
[null,null,null,{"$f":"IF(ISBLANK('Renseignements sur le locataire'!E4793),\"\",'Renseignements sur le locataire'!E4793)","v":""}]
[null,null,null,{"$f":"IF(ISBLANK('Renseignements sur le locataire'!E4794),\"\",'Renseignements sur le locataire'!E4794)","v":""}]
[null,null,null,{"$f":"IF(ISBLANK('Renseignements sur le locataire'!E4795),\"\",'Renseignements sur le locataire'!E4795)","v":""}]
[null,null,null,{"$f":"IF(ISBLANK('Renseignements sur le locataire'!E4796),\"\",'Renseignements sur le locataire'!E4796)","v":""}]
[null,null,null,{"$f":"IF(ISBLANK('Renseignements sur le locataire'!E4797),\"\",'Renseignements sur le locataire'!E4797)","v":""}]
[null,null,null,{"$f":"IF(ISBLANK('Renseignements sur le locataire'!E4798),\"\",'Renseignements sur le locataire'!E4798)","v":""}]
[null,null,null,{"$f":"IF(ISBLANK('Renseignements sur le locataire'!E4799),\"\",'Renseignements sur le locataire'!E4799)","v":""}]
[null,null,null,{"$f":"IF(ISBLANK('Renseignements sur le locataire'!E4800),\"\",'Renseignements sur le locataire'!E4800)","v":""}]
[null,null,null,{"$f":"IF(ISBLANK('Renseignements sur le locataire'!E4801),\"\",'Renseignements sur le locataire'!E4801)","v":""}]
[null,null,null,{"$f":"IF(ISBLANK('Renseignements sur le locataire'!E4802),\"\",'Renseignements sur le locataire'!E4802)","v":""}]
[null,null,null,{"$f":"IF(ISBLANK('Renseignements sur le locataire'!E4803),\"\",'Renseignements sur le locataire'!E4803)","v":""}]
[null,null,null,{"$f":"IF(ISBLANK('Renseignements sur le locataire'!E4804),\"\",'Renseignements sur le locataire'!E4804)","v":""}]
[null,null,null,{"$f":"IF(ISBLANK('Renseignements sur le locataire'!E4805),\"\",'Renseignements sur le locataire'!E4805)","v":""}]
[null,null,null,{"$f":"IF(ISBLANK('Renseignements sur le locataire'!E4806),\"\",'Renseignements sur le locataire'!E4806)","v":""}]
[null,null,null,{"$f":"IF(ISBLANK('Renseignements sur le locataire'!E4807),\"\",'Renseignements sur le locataire'!E4807)","v":""}]
[null,null,null,{"$f":"IF(ISBLANK('Renseignements sur le locataire'!E4808),\"\",'Renseignements sur le locataire'!E4808)","v":""}]
[null,null,null,{"$f":"IF(ISBLANK('Renseignements sur le locataire'!E4809),\"\",'Renseignements sur le locataire'!E4809)","v":""}]
[null,null,null,{"$f":"IF(ISBLANK('Renseignements sur le locataire'!E4810),\"\",'Renseignements sur le locataire'!E4810)","v":""}]
[null,null,null,{"$f":"IF(ISBLANK('Renseignements sur le locataire'!E4811),\"\",'Renseignements sur le locataire'!E4811)","v":""}]
[null,null,null,{"$f":"IF(ISBLANK('Renseignements sur le locataire'!E4812),\"\",'Renseignements sur le locataire'!E4812)","v":""}]
[null,null,null,{"$f":"IF(ISBLANK('Renseignements sur le locataire'!E4813),\"\",'Renseignements sur le locataire'!E4813)","v":""}]
[null,null,null,{"$f":"IF(ISBLANK('Renseignements sur le locataire'!E4814),\"\",'Renseignements sur le locataire'!E4814)","v":""}]
[null,null,null,{"$f":"IF(ISBLANK('Renseignements sur le locataire'!E4815),\"\",'Renseignements sur le locataire'!E4815)","v":""}]
[null,null,null,{"$f":"IF(ISBLANK('Renseignements sur le locataire'!E4816),\"\",'Renseignements sur le locataire'!E4816)","v":""}]
[null,null,null,{"$f":"IF(ISBLANK('Renseignements sur le locataire'!E4817),\"\",'Renseignements sur le locataire'!E4817)","v":""}]
[null,null,null,{"$f":"IF(ISBLANK('Renseignements sur le locataire'!E4818),\"\",'Renseignements sur le locataire'!E4818)","v":""}]
[null,null,null,{"$f":"IF(ISBLANK('Renseignements sur le locataire'!E4819),\"\",'Renseignements sur le locataire'!E4819)","v":""}]
[null,null,null,{"$f":"IF(ISBLANK('Renseignements sur le locataire'!E4820),\"\",'Renseignements sur le locataire'!E4820)","v":""}]
[null,null,null,{"$f":"IF(ISBLANK('Renseignements sur le locataire'!E4821),\"\",'Renseignements sur le locataire'!E4821)","v":""}]
[null,null,null,{"$f":"IF(ISBLANK('Renseignements sur le locataire'!E4822),\"\",'Renseignements sur le locataire'!E4822)","v":""}]
[null,null,null,{"$f":"IF(ISBLANK('Renseignements sur le locataire'!E4823),\"\",'Renseignements sur le locataire'!E4823)","v":""}]
[null,null,null,{"$f":"IF(ISBLANK('Renseignements sur le locataire'!E4824),\"\",'Renseignements sur le locataire'!E4824)","v":""}]
[null,null,null,{"$f":"IF(ISBLANK('Renseignements sur le locataire'!E4825),\"\",'Renseignements sur le locataire'!E4825)","v":""}]
[null,null,null,{"$f":"IF(ISBLANK('Renseignements sur le locataire'!E4826),\"\",'Renseignements sur le locataire'!E4826)","v":""}]
[null,null,null,{"$f":"IF(ISBLANK('Renseignements sur le locataire'!E4827),\"\",'Renseignements sur le locataire'!E4827)","v":""}]
[null,null,null,{"$f":"IF(ISBLANK('Renseignements sur le locataire'!E4828),\"\",'Renseignements sur le locataire'!E4828)","v":""}]
[null,null,null,{"$f":"IF(ISBLANK('Renseignements sur le locataire'!E4829),\"\",'Renseignements sur le locataire'!E4829)","v":""}]
[null,null,null,{"$f":"IF(ISBLANK('Renseignements sur le locataire'!E4830),\"\",'Renseignements sur le locataire'!E4830)","v":""}]
[null,null,null,{"$f":"IF(ISBLANK('Renseignements sur le locataire'!E4831),\"\",'Renseignements sur le locataire'!E4831)","v":""}]
[null,null,null,{"$f":"IF(ISBLANK('Renseignements sur le locataire'!E4832),\"\",'Renseignements sur le locataire'!E4832)","v":""}]
[null,null,null,{"$f":"IF(ISBLANK('Renseignements sur le locataire'!E4833),\"\",'Renseignements sur le locataire'!E4833)","v":""}]
[null,null,null,{"$f":"IF(ISBLANK('Renseignements sur le locataire'!E4834),\"\",'Renseignements sur le locataire'!E4834)","v":""}]
[null,null,null,{"$f":"IF(ISBLANK('Renseignements sur le locataire'!E4835),\"\",'Renseignements sur le locataire'!E4835)","v":""}]
[null,null,null,{"$f":"IF(ISBLANK('Renseignements sur le locataire'!E4836),\"\",'Renseignements sur le locataire'!E4836)","v":""}]
[null,null,null,{"$f":"IF(ISBLANK('Renseignements sur le locataire'!E4837),\"\",'Renseignements sur le locataire'!E4837)","v":""}]
[null,null,null,{"$f":"IF(ISBLANK('Renseignements sur le locataire'!E4838),\"\",'Renseignements sur le locataire'!E4838)","v":""}]
[null,null,null,{"$f":"IF(ISBLANK('Renseignements sur le locataire'!E4839),\"\",'Renseignements sur le locataire'!E4839)","v":""}]
[null,null,null,{"$f":"IF(ISBLANK('Renseignements sur le locataire'!E4840),\"\",'Renseignements sur le locataire'!E4840)","v":""}]
[null,null,null,{"$f":"IF(ISBLANK('Renseignements sur le locataire'!E4841),\"\",'Renseignements sur le locataire'!E4841)","v":""}]
[null,null,null,{"$f":"IF(ISBLANK('Renseignements sur le locataire'!E4842),\"\",'Renseignements sur le locataire'!E4842)","v":""}]
[null,null,null,{"$f":"IF(ISBLANK('Renseignements sur le locataire'!E4843),\"\",'Renseignements sur le locataire'!E4843)","v":""}]
[null,null,null,{"$f":"IF(ISBLANK('Renseignements sur le locataire'!E4844),\"\",'Renseignements sur le locataire'!E4844)","v":""}]
[null,null,null,{"$f":"IF(ISBLANK('Renseignements sur le locataire'!E4845),\"\",'Renseignements sur le locataire'!E4845)","v":""}]
[null,null,null,{"$f":"IF(ISBLANK('Renseignements sur le locataire'!E4846),\"\",'Renseignements sur le locataire'!E4846)","v":""}]
[null,null,null,{"$f":"IF(ISBLANK('Renseignements sur le locataire'!E4847),\"\",'Renseignements sur le locataire'!E4847)","v":""}]
[null,null,null,{"$f":"IF(ISBLANK('Renseignements sur le locataire'!E4848),\"\",'Renseignements sur le locataire'!E4848)","v":""}]
[null,null,null,{"$f":"IF(ISBLANK('Renseignements sur le locataire'!E4849),\"\",'Renseignements sur le locataire'!E4849)","v":""}]
[null,null,null,{"$f":"IF(ISBLANK('Renseignements sur le locataire'!E4850),\"\",'Renseignements sur le locataire'!E4850)","v":""}]
[null,null,null,{"$f":"IF(ISBLANK('Renseignements sur le locataire'!E4851),\"\",'Renseignements sur le locataire'!E4851)","v":""}]
[null,null,null,{"$f":"IF(ISBLANK('Renseignements sur le locataire'!E4852),\"\",'Renseignements sur le locataire'!E4852)","v":""}]
[null,null,null,{"$f":"IF(ISBLANK('Renseignements sur le locataire'!E4853),\"\",'Renseignements sur le locataire'!E4853)","v":""}]
[null,null,null,{"$f":"IF(ISBLANK('Renseignements sur le locataire'!E4854),\"\",'Renseignements sur le locataire'!E4854)","v":""}]
[null,null,null,{"$f":"IF(ISBLANK('Renseignements sur le locataire'!E4855),\"\",'Renseignements sur le locataire'!E4855)","v":""}]
[null,null,null,{"$f":"IF(ISBLANK('Renseignements sur le locataire'!E4856),\"\",'Renseignements sur le locataire'!E4856)","v":""}]
[null,null,null,{"$f":"IF(ISBLANK('Renseignements sur le locataire'!E4857),\"\",'Renseignements sur le locataire'!E4857)","v":""}]
[null,null,null,{"$f":"IF(ISBLANK('Renseignements sur le locataire'!E4858),\"\",'Renseignements sur le locataire'!E4858)","v":""}]
[null,null,null,{"$f":"IF(ISBLANK('Renseignements sur le locataire'!E4859),\"\",'Renseignements sur le locataire'!E4859)","v":""}]
[null,null,null,{"$f":"IF(ISBLANK('Renseignements sur le locataire'!E4860),\"\",'Renseignements sur le locataire'!E4860)","v":""}]
[null,null,null,{"$f":"IF(ISBLANK('Renseignements sur le locataire'!E4861),\"\",'Renseignements sur le locataire'!E4861)","v":""}]
[null,null,null,{"$f":"IF(ISBLANK('Renseignements sur le locataire'!E4862),\"\",'Renseignements sur le locataire'!E4862)","v":""}]
[null,null,null,{"$f":"IF(ISBLANK('Renseignements sur le locataire'!E4863),\"\",'Renseignements sur le locataire'!E4863)","v":""}]
[null,null,null,{"$f":"IF(ISBLANK('Renseignements sur le locataire'!E4864),\"\",'Renseignements sur le locataire'!E4864)","v":""}]
[null,null,null,{"$f":"IF(ISBLANK('Renseignements sur le locataire'!E4865),\"\",'Renseignements sur le locataire'!E4865)","v":""}]
[null,null,null,{"$f":"IF(ISBLANK('Renseignements sur le locataire'!E4866),\"\",'Renseignements sur le locataire'!E4866)","v":""}]
[null,null,null,{"$f":"IF(ISBLANK('Renseignements sur le locataire'!E4867),\"\",'Renseignements sur le locataire'!E4867)","v":""}]
[null,null,null,{"$f":"IF(ISBLANK('Renseignements sur le locataire'!E4868),\"\",'Renseignements sur le locataire'!E4868)","v":""}]
[null,null,null,{"$f":"IF(ISBLANK('Renseignements sur le locataire'!E4869),\"\",'Renseignements sur le locataire'!E4869)","v":""}]
[null,null,null,{"$f":"IF(ISBLANK('Renseignements sur le locataire'!E4870),\"\",'Renseignements sur le locataire'!E4870)","v":""}]
[null,null,null,{"$f":"IF(ISBLANK('Renseignements sur le locataire'!E4871),\"\",'Renseignements sur le locataire'!E4871)","v":""}]
[null,null,null,{"$f":"IF(ISBLANK('Renseignements sur le locataire'!E4872),\"\",'Renseignements sur le locataire'!E4872)","v":""}]
[null,null,null,{"$f":"IF(ISBLANK('Renseignements sur le locataire'!E4873),\"\",'Renseignements sur le locataire'!E4873)","v":""}]
[null,null,null,{"$f":"IF(ISBLANK('Renseignements sur le locataire'!E4874),\"\",'Renseignements sur le locataire'!E4874)","v":""}]
[null,null,null,{"$f":"IF(ISBLANK('Renseignements sur le locataire'!E4875),\"\",'Renseignements sur le locataire'!E4875)","v":""}]
[null,null,null,{"$f":"IF(ISBLANK('Renseignements sur le locataire'!E4876),\"\",'Renseignements sur le locataire'!E4876)","v":""}]
[null,null,null,{"$f":"IF(ISBLANK('Renseignements sur le locataire'!E4877),\"\",'Renseignements sur le locataire'!E4877)","v":""}]
[null,null,null,{"$f":"IF(ISBLANK('Renseignements sur le locataire'!E4878),\"\",'Renseignements sur le locataire'!E4878)","v":""}]
[null,null,null,{"$f":"IF(ISBLANK('Renseignements sur le locataire'!E4879),\"\",'Renseignements sur le locataire'!E4879)","v":""}]
[null,null,null,{"$f":"IF(ISBLANK('Renseignements sur le locataire'!E4880),\"\",'Renseignements sur le locataire'!E4880)","v":""}]
[null,null,null,{"$f":"IF(ISBLANK('Renseignements sur le locataire'!E4881),\"\",'Renseignements sur le locataire'!E4881)","v":""}]
[null,null,null,{"$f":"IF(ISBLANK('Renseignements sur le locataire'!E4882),\"\",'Renseignements sur le locataire'!E4882)","v":""}]
[null,null,null,{"$f":"IF(ISBLANK('Renseignements sur le locataire'!E4883),\"\",'Renseignements sur le locataire'!E4883)","v":""}]
[null,null,null,{"$f":"IF(ISBLANK('Renseignements sur le locataire'!E4884),\"\",'Renseignements sur le locataire'!E4884)","v":""}]
[null,null,null,{"$f":"IF(ISBLANK('Renseignements sur le locataire'!E4885),\"\",'Renseignements sur le locataire'!E4885)","v":""}]
[null,null,null,{"$f":"IF(ISBLANK('Renseignements sur le locataire'!E4886),\"\",'Renseignements sur le locataire'!E4886)","v":""}]
[null,null,null,{"$f":"IF(ISBLANK('Renseignements sur le locataire'!E4887),\"\",'Renseignements sur le locataire'!E4887)","v":""}]
[null,null,null,{"$f":"IF(ISBLANK('Renseignements sur le locataire'!E4888),\"\",'Renseignements sur le locataire'!E4888)","v":""}]
[null,null,null,{"$f":"IF(ISBLANK('Renseignements sur le locataire'!E4889),\"\",'Renseignements sur le locataire'!E4889)","v":""}]
[null,null,null,{"$f":"IF(ISBLANK('Renseignements sur le locataire'!E4890),\"\",'Renseignements sur le locataire'!E4890)","v":""}]
[null,null,null,{"$f":"IF(ISBLANK('Renseignements sur le locataire'!E4891),\"\",'Renseignements sur le locataire'!E4891)","v":""}]
[null,null,null,{"$f":"IF(ISBLANK('Renseignements sur le locataire'!E4892),\"\",'Renseignements sur le locataire'!E4892)","v":""}]
[null,null,null,{"$f":"IF(ISBLANK('Renseignements sur le locataire'!E4893),\"\",'Renseignements sur le locataire'!E4893)","v":""}]
[null,null,null,{"$f":"IF(ISBLANK('Renseignements sur le locataire'!E4894),\"\",'Renseignements sur le locataire'!E4894)","v":""}]
[null,null,null,{"$f":"IF(ISBLANK('Renseignements sur le locataire'!E4895),\"\",'Renseignements sur le locataire'!E4895)","v":""}]
[null,null,null,{"$f":"IF(ISBLANK('Renseignements sur le locataire'!E4896),\"\",'Renseignements sur le locataire'!E4896)","v":""}]
[null,null,null,{"$f":"IF(ISBLANK('Renseignements sur le locataire'!E4897),\"\",'Renseignements sur le locataire'!E4897)","v":""}]
[null,null,null,{"$f":"IF(ISBLANK('Renseignements sur le locataire'!E4898),\"\",'Renseignements sur le locataire'!E4898)","v":""}]
[null,null,null,{"$f":"IF(ISBLANK('Renseignements sur le locataire'!E4899),\"\",'Renseignements sur le locataire'!E4899)","v":""}]
[null,null,null,{"$f":"IF(ISBLANK('Renseignements sur le locataire'!E4900),\"\",'Renseignements sur le locataire'!E4900)","v":""}]
[null,null,null,{"$f":"IF(ISBLANK('Renseignements sur le locataire'!E4901),\"\",'Renseignements sur le locataire'!E4901)","v":""}]
[null,null,null,{"$f":"IF(ISBLANK('Renseignements sur le locataire'!E4902),\"\",'Renseignements sur le locataire'!E4902)","v":""}]
[null,null,null,{"$f":"IF(ISBLANK('Renseignements sur le locataire'!E4903),\"\",'Renseignements sur le locataire'!E4903)","v":""}]
[null,null,null,{"$f":"IF(ISBLANK('Renseignements sur le locataire'!E4904),\"\",'Renseignements sur le locataire'!E4904)","v":""}]
[null,null,null,{"$f":"IF(ISBLANK('Renseignements sur le locataire'!E4905),\"\",'Renseignements sur le locataire'!E4905)","v":""}]
[null,null,null,{"$f":"IF(ISBLANK('Renseignements sur le locataire'!E4906),\"\",'Renseignements sur le locataire'!E4906)","v":""}]
[null,null,null,{"$f":"IF(ISBLANK('Renseignements sur le locataire'!E4907),\"\",'Renseignements sur le locataire'!E4907)","v":""}]
[null,null,null,{"$f":"IF(ISBLANK('Renseignements sur le locataire'!E4908),\"\",'Renseignements sur le locataire'!E4908)","v":""}]
[null,null,null,{"$f":"IF(ISBLANK('Renseignements sur le locataire'!E4909),\"\",'Renseignements sur le locataire'!E4909)","v":""}]
[null,null,null,{"$f":"IF(ISBLANK('Renseignements sur le locataire'!E4910),\"\",'Renseignements sur le locataire'!E4910)","v":""}]
[null,null,null,{"$f":"IF(ISBLANK('Renseignements sur le locataire'!E4911),\"\",'Renseignements sur le locataire'!E4911)","v":""}]
[null,null,null,{"$f":"IF(ISBLANK('Renseignements sur le locataire'!E4912),\"\",'Renseignements sur le locataire'!E4912)","v":""}]
[null,null,null,{"$f":"IF(ISBLANK('Renseignements sur le locataire'!E4913),\"\",'Renseignements sur le locataire'!E4913)","v":""}]
[null,null,null,{"$f":"IF(ISBLANK('Renseignements sur le locataire'!E4914),\"\",'Renseignements sur le locataire'!E4914)","v":""}]
[null,null,null,{"$f":"IF(ISBLANK('Renseignements sur le locataire'!E4915),\"\",'Renseignements sur le locataire'!E4915)","v":""}]
[null,null,null,{"$f":"IF(ISBLANK('Renseignements sur le locataire'!E4916),\"\",'Renseignements sur le locataire'!E4916)","v":""}]
[null,null,null,{"$f":"IF(ISBLANK('Renseignements sur le locataire'!E4917),\"\",'Renseignements sur le locataire'!E4917)","v":""}]
[null,null,null,{"$f":"IF(ISBLANK('Renseignements sur le locataire'!E4918),\"\",'Renseignements sur le locataire'!E4918)","v":""}]
[null,null,null,{"$f":"IF(ISBLANK('Renseignements sur le locataire'!E4919),\"\",'Renseignements sur le locataire'!E4919)","v":""}]
[null,null,null,{"$f":"IF(ISBLANK('Renseignements sur le locataire'!E4920),\"\",'Renseignements sur le locataire'!E4920)","v":""}]
[null,null,null,{"$f":"IF(ISBLANK('Renseignements sur le locataire'!E4921),\"\",'Renseignements sur le locataire'!E4921)","v":""}]
[null,null,null,{"$f":"IF(ISBLANK('Renseignements sur le locataire'!E4922),\"\",'Renseignements sur le locataire'!E4922)","v":""}]
[null,null,null,{"$f":"IF(ISBLANK('Renseignements sur le locataire'!E4923),\"\",'Renseignements sur le locataire'!E4923)","v":""}]
[null,null,null,{"$f":"IF(ISBLANK('Renseignements sur le locataire'!E4924),\"\",'Renseignements sur le locataire'!E4924)","v":""}]
[null,null,null,{"$f":"IF(ISBLANK('Renseignements sur le locataire'!E4925),\"\",'Renseignements sur le locataire'!E4925)","v":""}]
[null,null,null,{"$f":"IF(ISBLANK('Renseignements sur le locataire'!E4926),\"\",'Renseignements sur le locataire'!E4926)","v":""}]
[null,null,null,{"$f":"IF(ISBLANK('Renseignements sur le locataire'!E4927),\"\",'Renseignements sur le locataire'!E4927)","v":""}]
[null,null,null,{"$f":"IF(ISBLANK('Renseignements sur le locataire'!E4928),\"\",'Renseignements sur le locataire'!E4928)","v":""}]
[null,null,null,{"$f":"IF(ISBLANK('Renseignements sur le locataire'!E4929),\"\",'Renseignements sur le locataire'!E4929)","v":""}]
[null,null,null,{"$f":"IF(ISBLANK('Renseignements sur le locataire'!E4930),\"\",'Renseignements sur le locataire'!E4930)","v":""}]
[null,null,null,{"$f":"IF(ISBLANK('Renseignements sur le locataire'!E4931),\"\",'Renseignements sur le locataire'!E4931)","v":""}]
[null,null,null,{"$f":"IF(ISBLANK('Renseignements sur le locataire'!E4932),\"\",'Renseignements sur le locataire'!E4932)","v":""}]
[null,null,null,{"$f":"IF(ISBLANK('Renseignements sur le locataire'!E4933),\"\",'Renseignements sur le locataire'!E4933)","v":""}]
[null,null,null,{"$f":"IF(ISBLANK('Renseignements sur le locataire'!E4934),\"\",'Renseignements sur le locataire'!E4934)","v":""}]
[null,null,null,{"$f":"IF(ISBLANK('Renseignements sur le locataire'!E4935),\"\",'Renseignements sur le locataire'!E4935)","v":""}]
[null,null,null,{"$f":"IF(ISBLANK('Renseignements sur le locataire'!E4936),\"\",'Renseignements sur le locataire'!E4936)","v":""}]
[null,null,null,{"$f":"IF(ISBLANK('Renseignements sur le locataire'!E4937),\"\",'Renseignements sur le locataire'!E4937)","v":""}]
[null,null,null,{"$f":"IF(ISBLANK('Renseignements sur le locataire'!E4938),\"\",'Renseignements sur le locataire'!E4938)","v":""}]
[null,null,null,{"$f":"IF(ISBLANK('Renseignements sur le locataire'!E4939),\"\",'Renseignements sur le locataire'!E4939)","v":""}]
[null,null,null,{"$f":"IF(ISBLANK('Renseignements sur le locataire'!E4940),\"\",'Renseignements sur le locataire'!E4940)","v":""}]
[null,null,null,{"$f":"IF(ISBLANK('Renseignements sur le locataire'!E4941),\"\",'Renseignements sur le locataire'!E4941)","v":""}]
[null,null,null,{"$f":"IF(ISBLANK('Renseignements sur le locataire'!E4942),\"\",'Renseignements sur le locataire'!E4942)","v":""}]
[null,null,null,{"$f":"IF(ISBLANK('Renseignements sur le locataire'!E4943),\"\",'Renseignements sur le locataire'!E4943)","v":""}]
[null,null,null,{"$f":"IF(ISBLANK('Renseignements sur le locataire'!E4944),\"\",'Renseignements sur le locataire'!E4944)","v":""}]
[null,null,null,{"$f":"IF(ISBLANK('Renseignements sur le locataire'!E4945),\"\",'Renseignements sur le locataire'!E4945)","v":""}]
[null,null,null,{"$f":"IF(ISBLANK('Renseignements sur le locataire'!E4946),\"\",'Renseignements sur le locataire'!E4946)","v":""}]
[null,null,null,{"$f":"IF(ISBLANK('Renseignements sur le locataire'!E4947),\"\",'Renseignements sur le locataire'!E4947)","v":""}]
[null,null,null,{"$f":"IF(ISBLANK('Renseignements sur le locataire'!E4948),\"\",'Renseignements sur le locataire'!E4948)","v":""}]
[null,null,null,{"$f":"IF(ISBLANK('Renseignements sur le locataire'!E4949),\"\",'Renseignements sur le locataire'!E4949)","v":""}]
[null,null,null,{"$f":"IF(ISBLANK('Renseignements sur le locataire'!E4950),\"\",'Renseignements sur le locataire'!E4950)","v":""}]
[null,null,null,{"$f":"IF(ISBLANK('Renseignements sur le locataire'!E4951),\"\",'Renseignements sur le locataire'!E4951)","v":""}]
[null,null,null,{"$f":"IF(ISBLANK('Renseignements sur le locataire'!E4952),\"\",'Renseignements sur le locataire'!E4952)","v":""}]
[null,null,null,{"$f":"IF(ISBLANK('Renseignements sur le locataire'!E4953),\"\",'Renseignements sur le locataire'!E4953)","v":""}]
[null,null,null,{"$f":"IF(ISBLANK('Renseignements sur le locataire'!E4954),\"\",'Renseignements sur le locataire'!E4954)","v":""}]
[null,null,null,{"$f":"IF(ISBLANK('Renseignements sur le locataire'!E4955),\"\",'Renseignements sur le locataire'!E4955)","v":""}]
[null,null,null,{"$f":"IF(ISBLANK('Renseignements sur le locataire'!E4956),\"\",'Renseignements sur le locataire'!E4956)","v":""}]
[null,null,null,{"$f":"IF(ISBLANK('Renseignements sur le locataire'!E4957),\"\",'Renseignements sur le locataire'!E4957)","v":""}]
[null,null,null,{"$f":"IF(ISBLANK('Renseignements sur le locataire'!E4958),\"\",'Renseignements sur le locataire'!E4958)","v":""}]
[null,null,null,{"$f":"IF(ISBLANK('Renseignements sur le locataire'!E4959),\"\",'Renseignements sur le locataire'!E4959)","v":""}]
[null,null,null,{"$f":"IF(ISBLANK('Renseignements sur le locataire'!E4960),\"\",'Renseignements sur le locataire'!E4960)","v":""}]
[null,null,null,{"$f":"IF(ISBLANK('Renseignements sur le locataire'!E4961),\"\",'Renseignements sur le locataire'!E4961)","v":""}]
[null,null,null,{"$f":"IF(ISBLANK('Renseignements sur le locataire'!E4962),\"\",'Renseignements sur le locataire'!E4962)","v":""}]
[null,null,null,{"$f":"IF(ISBLANK('Renseignements sur le locataire'!E4963),\"\",'Renseignements sur le locataire'!E4963)","v":""}]
[null,null,null,{"$f":"IF(ISBLANK('Renseignements sur le locataire'!E4964),\"\",'Renseignements sur le locataire'!E4964)","v":""}]
[null,null,null,{"$f":"IF(ISBLANK('Renseignements sur le locataire'!E4965),\"\",'Renseignements sur le locataire'!E4965)","v":""}]
[null,null,null,{"$f":"IF(ISBLANK('Renseignements sur le locataire'!E4966),\"\",'Renseignements sur le locataire'!E4966)","v":""}]
[null,null,null,{"$f":"IF(ISBLANK('Renseignements sur le locataire'!E4967),\"\",'Renseignements sur le locataire'!E4967)","v":""}]
[null,null,null,{"$f":"IF(ISBLANK('Renseignements sur le locataire'!E4968),\"\",'Renseignements sur le locataire'!E4968)","v":""}]
[null,null,null,{"$f":"IF(ISBLANK('Renseignements sur le locataire'!E4969),\"\",'Renseignements sur le locataire'!E4969)","v":""}]
[null,null,null,{"$f":"IF(ISBLANK('Renseignements sur le locataire'!E4970),\"\",'Renseignements sur le locataire'!E4970)","v":""}]
[null,null,null,{"$f":"IF(ISBLANK('Renseignements sur le locataire'!E4971),\"\",'Renseignements sur le locataire'!E4971)","v":""}]
[null,null,null,{"$f":"IF(ISBLANK('Renseignements sur le locataire'!E4972),\"\",'Renseignements sur le locataire'!E4972)","v":""}]
[null,null,null,{"$f":"IF(ISBLANK('Renseignements sur le locataire'!E4973),\"\",'Renseignements sur le locataire'!E4973)","v":""}]
[null,null,null,{"$f":"IF(ISBLANK('Renseignements sur le locataire'!E4974),\"\",'Renseignements sur le locataire'!E4974)","v":""}]
[null,null,null,{"$f":"IF(ISBLANK('Renseignements sur le locataire'!E4975),\"\",'Renseignements sur le locataire'!E4975)","v":""}]
[null,null,null,{"$f":"IF(ISBLANK('Renseignements sur le locataire'!E4976),\"\",'Renseignements sur le locataire'!E4976)","v":""}]
[null,null,null,{"$f":"IF(ISBLANK('Renseignements sur le locataire'!E4977),\"\",'Renseignements sur le locataire'!E4977)","v":""}]
[null,null,null,{"$f":"IF(ISBLANK('Renseignements sur le locataire'!E4978),\"\",'Renseignements sur le locataire'!E4978)","v":""}]
[null,null,null,{"$f":"IF(ISBLANK('Renseignements sur le locataire'!E4979),\"\",'Renseignements sur le locataire'!E4979)","v":""}]
[null,null,null,{"$f":"IF(ISBLANK('Renseignements sur le locataire'!E4980),\"\",'Renseignements sur le locataire'!E4980)","v":""}]
[null,null,null,{"$f":"IF(ISBLANK('Renseignements sur le locataire'!E4981),\"\",'Renseignements sur le locataire'!E4981)","v":""}]
[null,null,null,{"$f":"IF(ISBLANK('Renseignements sur le locataire'!E4982),\"\",'Renseignements sur le locataire'!E4982)","v":""}]
[null,null,null,{"$f":"IF(ISBLANK('Renseignements sur le locataire'!E4983),\"\",'Renseignements sur le locataire'!E4983)","v":""}]
[null,null,null,{"$f":"IF(ISBLANK('Renseignements sur le locataire'!E4984),\"\",'Renseignements sur le locataire'!E4984)","v":""}]
[null,null,null,{"$f":"IF(ISBLANK('Renseignements sur le locataire'!E4985),\"\",'Renseignements sur le locataire'!E4985)","v":""}]
[null,null,null,{"$f":"IF(ISBLANK('Renseignements sur le locataire'!E4986),\"\",'Renseignements sur le locataire'!E4986)","v":""}]
[null,null,null,{"$f":"IF(ISBLANK('Renseignements sur le locataire'!E4987),\"\",'Renseignements sur le locataire'!E4987)","v":""}]
[null,null,null,{"$f":"IF(ISBLANK('Renseignements sur le locataire'!E4988),\"\",'Renseignements sur le locataire'!E4988)","v":""}]
[null,null,null,{"$f":"IF(ISBLANK('Renseignements sur le locataire'!E4989),\"\",'Renseignements sur le locataire'!E4989)","v":""}]
[null,null,null,{"$f":"IF(ISBLANK('Renseignements sur le locataire'!E4990),\"\",'Renseignements sur le locataire'!E4990)","v":""}]
[null,null,null,{"$f":"IF(ISBLANK('Renseignements sur le locataire'!E4991),\"\",'Renseignements sur le locataire'!E4991)","v":""}]
[null,null,null,{"$f":"IF(ISBLANK('Renseignements sur le locataire'!E4992),\"\",'Renseignements sur le locataire'!E4992)","v":""}]
[null,null,null,{"$f":"IF(ISBLANK('Renseignements sur le locataire'!E4993),\"\",'Renseignements sur le locataire'!E4993)","v":""}]
[null,null,null,{"$f":"IF(ISBLANK('Renseignements sur le locataire'!E4994),\"\",'Renseignements sur le locataire'!E4994)","v":""}]
[null,null,null,{"$f":"IF(ISBLANK('Renseignements sur le locataire'!E4995),\"\",'Renseignements sur le locataire'!E4995)","v":""}]
[null,null,null,{"$f":"IF(ISBLANK('Renseignements sur le locataire'!E4996),\"\",'Renseignements sur le locataire'!E4996)","v":""}]
[null,null,null,{"$f":"IF(ISBLANK('Renseignements sur le locataire'!E4997),\"\",'Renseignements sur le locataire'!E4997)","v":""}]
[null,null,null,{"$f":"IF(ISBLANK('Renseignements sur le locataire'!E4998),\"\",'Renseignements sur le locataire'!E4998)","v":""}]
[null,null,null,{"$f":"IF(ISBLANK('Renseignements sur le locataire'!E4999),\"\",'Renseignements sur le locataire'!E4999)","v":""}]
[null,null,null,{"$f":"IF(ISBLANK('Renseignements sur le locataire'!E5000),\"\",'Renseignements sur le locataire'!E5000)","v":""}]
[null,null,null,{"$f":"IF(ISBLANK('Renseignements sur le locataire'!E5001),\"\",'Renseignements sur le locataire'!E5001)","v":""}]
[null,null,null,{"$f":"IF(ISBLANK('Renseignements sur le locataire'!E5002),\"\",'Renseignements sur le locataire'!E5002)","v":""}]
[null,null,null,{"$f":"IF(ISBLANK('Renseignements sur le locataire'!E5003),\"\",'Renseignements sur le locataire'!E5003)","v":""}]
[null,null,null,{"$f":"IF(ISBLANK('Renseignements sur le locataire'!E5004),\"\",'Renseignements sur le locataire'!E5004)","v":""}]
[null,null,null,{"$f":"IF(ISBLANK('Renseignements sur le locataire'!E5005),\"\",'Renseignements sur le locataire'!E5005)","v":""}]
[null,null,null,{"$f":"IF(ISBLANK('Renseignements sur le locataire'!E5006),\"\",'Renseignements sur le locataire'!E5006)","v":""}]

{"sheet":"Renseignements sur le locataire","index":2,"n_rows":5006,"n_cols":22,"rows_kept":5006,"cut":false,"hidden":false,"merged":[[1,8,4,17],[0,6,0,17],[1,6,4,7]]}
[null,null,null,null,null,null,"L5 - Renseignements sur les logements locatifs (RLL)"]
[null,null,null,null,null,null,{"$error":"#VALUE!"},null,"Instructions: \n1)  Les renseignements relatifs au logement locatif, pour chaque logement de l'ensemble d'habitation, doivent être inclus dans le formulaire ci-dessous de Renseignements sur les logements locatifs. \n2)  Si un logement locatif n'est pas couvert par la requête, il faut quand même indiquer le numéro du logement et le montant actuel de loyer. Si le logement est vacant ou pas loué, entrez «0» dans la colonne du loyer actuel. Il n'est pas nécessaire d'indiquer le nom du locataire ou la date de début de la location pour les logements qui ne sont pas visés par la requête. \n3)  Si plus d'un locataire vit dans un logement donné, il faut indiquer les noms des locataires dans des rangées séparées du formulaire. Les renseignements concernant un logement donné (p. ex., loyer actuel, date de début de la location, et si le logement est visé par la requête) doivent être identiques pour chaque locataire du logement. Remarque: si les données sur le logement locatif ne sont pas identiques pour tous les locataires vivant dans le même logement, le calcul de l'augmentation de loyer supérieure au taux légal n'utilisera que les données  de loyer entrées pour le dernier locataire du logement indiqué dans le formulaire de Renseignements sur les logements locatifs. \n4)  Dans la colonne «Logement visé par la requête», sélectionnez «Oui» ou «Non» du menu déroulant pour indiquer si le locataire est ou non visé par la requête. Si vous voulez obtenir une augmentation de loyer supérieure au taux légal pour le locataire, sélectionnez «Oui». Si vous voulez exclure le locataire de la requête, sélectionnez «Non». Les locataires que vous avez désignés comme n'étant pas visés par la requête n'apparaîtront pas dans l'avis d'audience ou les ordonnances éventuelles de la Commission. \n5)  La colonne «Date de début de la location actuelle» ne doit être remplie que si la date entre dans la période de 18 mois se terminant 90 jours avant la Date d'entrée en vigueur de la première augmentation, sur la requête. La date de début de la location actuelle doit être indiquée dans le format jj/mm/aaaa. \n6)  Les données sur le logement locatif entrées dans le formulaire Renseignements sur les logements locatifs seront utilisées pour générer le calcul de l'augmentation de loyer supérieure au taux légal pour votre requeête. Il est de la responsabilité du locateur d'entrer des données exactes, dans le format demandé, et de remplir tous les champs requis. Si des données sont incorrectes, le calcul de l'augmentation de loyer supérieure au taux légal sera inexact."]
[]
[]
[]
[]
["Complex Key","Rental Unit Key","Rental Unit Covered in Application","Party Contact Key","Street Address","Tenants Party to Application","Prénom du locataire","Nom de famille du locataire","Logement/Appart.","Numéro de rue","Nom de la rue","Ville","Province","Code postal","Logement visé par la requête","Loyer actuel","Fréquence du loyer","Date de début de la location actuelle",null,"Day","Month","Year"]
[{"$f":"IF(AND(ISBLANK(J8),ISBLANK(K8),ISBLANK(L8),ISBLANK(M8),ISBLANK(N8)),\"\",CONCATENATE(TRIM(J8), \"_\",TRIM(K8), \"_\",TRIM(L8), \"_\",TRIM(M8),\"_\",TRIM(N8)))","v":""},{"$f":"IF(AND(ISBLANK($I8),ISBLANK($J8),ISBLANK($K8),ISBLANK($L8)),\"\",CONCATENATE(TRIM($I8),\"_\",TRIM($J8),\"_\",TRIM($K8),\"_\",TRIM($L8)))","v":""},{"$f":"IF(AND(ISBLANK($O8),ISBLANK($I8),ISBLANK($J8),ISBLANK($K8),ISBLANK($L8)),\"\",IF(O8=\"Oui\",CONCATENATE(TRIM($I8),\"_\",TRIM($J8),\"_\",TRIM($K8),\"_\",TRIM($L8)),\"\"))","v":""},{"$f":"IF(AND(ISBLANK(G8),ISBLANK(H8)),\"\",CONCATENATE(TRIM(G8),\"_\",TRIM(H8),\"_\",TRIM(B8)))","v":""},{"$f":"IF(AND(ISBLANK(J8),ISBLANK(K8),ISBLANK(L8)),\"\",CONCATENATE(TRIM(J8),\" \",TRIM(K8),\" \",TRIM(L8)))","v":""},{"$f":"IF(O8=\"Oui\",1,IF(ISBLANK(O8),\"\",0))","v":""}]
[{"$f":"IF(AND(ISBLANK(J9),ISBLANK(K9),ISBLANK(L9),ISBLANK(M9),ISBLANK(N9)),\"\",CONCATENATE(TRIM(J9), \"_\",TRIM(K9), \"_\",TRIM(L9), \"_\",TRIM(M9),\"_\",TRIM(N9)))","v":""},{"$f":"IF(AND(ISBLANK($I9),ISBLANK($J9),ISBLANK($K9),ISBLANK($L9)),\"\",CONCATENATE(TRIM($I9),\"_\",TRIM($J9),\"_\",TRIM($K9),\"_\",TRIM($L9)))","v":""},{"$f":"IF(AND(ISBLANK($O9),ISBLANK($I9),ISBLANK($J9),ISBLANK($K9),ISBLANK($L9)),\"\",IF(O9=\"Oui\",CONCATENATE(TRIM($I9),\"_\",TRIM($J9),\"_\",TRIM($K9),\"_\",TRIM($L9)),\"\"))","v":""},{"$f":"IF(AND(ISBLANK(G9),ISBLANK(H9)),\"\",CONCATENATE(TRIM(G9),\"_\",TRIM(H9),\"_\",TRIM(B9)))","v":""},{"$f":"IF(AND(ISBLANK(J9),ISBLANK(K9),ISBLANK(L9)),\"\",CONCATENATE(TRIM(J9),\" \",TRIM(K9),\" \",TRIM(L9)))","v":""},{"$f":"IF(O9=\"Oui\",1,IF(ISBLANK(O9),\"\",0))","v":""}]
["","","","","",""]
["","","","","",""]
["","","","","",""]
["","","","","",""]
["","","","","",""]
["","","","","",""]
["","","","","",""]
["","","","","",""]
["","","","","",""]
["","","","","",""]
["","","","","",""]
["","","","","",""]
["","","","","",""]
["","","","","",""]
["","","","","",""]
["","","","","",""]
["","","","","",""]
["","","","","",""]
["","","","","",""]
["","","","","",""]
["","","","","",""]
["","","","","",""]
["","","","","",""]
["","","","","",""]
["","","","","",""]
["","","","","",""]
["","","","","",""]
["","","","","",""]
["","","","","",""]
["","","","","",""]
["","","","","",""]
["","","","","",""]
["","","","","",""]
["","","","","",""]
["","","","","",""]
["","","","","",""]
["","","","","",""]
["","","","","",""]
["","","","","",""]
["","","","","",""]
["","","","","",""]
["","","","","",""]
["","","","","",""]
["","","","","",""]
["","","","","",""]
["","","","","",""]
["","","","","",""]
["","","","","",""]
["","","","","",""]
["","","","","",""]
["","","","","",""]
["","","","","",""]
["","","","","",""]
["","","","","",""]
["","","","","",""]
["","","","","",""]
["","","","","",""]
["","","","","",""]
["","","","","",""]
["","","","","",""]
["","","","","",""]
["","","","","",""]
["","","","","",""]
[{"$f":"IF(AND(ISBLANK(J73),ISBLANK(K73),ISBLANK(L73),ISBLANK(M73),ISBLANK(N73)),\"\",CONCATENATE(TRIM(J73), \"_\",TRIM(K73), \"_\",TRIM(L73), \"_\",TRIM(M73),\"_\",TRIM(N73)))","v":""},{"$f":"IF(AND(ISBLANK($I73),ISBLANK($J73),ISBLANK($K73),ISBLANK($L73)),\"\",CONCATENATE(TRIM($I73),\"_\",TRIM($J73),\"_\",TRIM($K73),\"_\",TRIM($L73)))","v":""},{"$f":"IF(AND(ISBLANK($O73),ISBLANK($I73),ISBLANK($J73),ISBLANK($K73),ISBLANK($L73)),\"\",IF(O73=\"Oui\",CONCATENATE(TRIM($I73),\"_\",TRIM($J73),\"_\",TRIM($K73),\"_\",TRIM($L73)),\"\"))","v":""},{"$f":"IF(AND(ISBLANK(G73),ISBLANK(H73)),\"\",CONCATENATE(TRIM(G73),\"_\",TRIM(H73),\"_\",TRIM(B73)))","v":""},{"$f":"IF(AND(ISBLANK(J73),ISBLANK(K73),ISBLANK(L73)),\"\",CONCATENATE(TRIM(J73),\" \",TRIM(K73),\" \",TRIM(L73)))","v":""},{"$f":"IF(O73=\"Oui\",1,IF(ISBLANK(O73),\"\",0))","v":""}]
["","","","","",""]
["","","","","",""]
["","","","","",""]
["","","","","",""]
["","","","","",""]
["","","","","",""]
["","","","","",""]
["","","","","",""]
["","","","","",""]
["","","","","",""]
["","","","","",""]
["","","","","",""]
["","","","","",""]
["","","","","",""]
["","","","","",""]
["","","","","",""]
["","","","","",""]
["","","","","",""]
["","","","","",""]
["","","","","",""]
["","","","","",""]
["","","","","",""]
["","","","","",""]
["","","","","",""]
["","","","","",""]
["","","","","",""]
["","","","","",""]
["","","","","",""]
["","","","","",""]
["","","","","",""]
["","","","","",""]
["","","","","",""]
["","","","","",""]
["","","","","",""]
["","","","","",""]
["","","","","",""]
["","","","","",""]
["","","","","",""]
["","","","","",""]
["","","","","",""]
["","","","","",""]
["","","","","",""]
["","","","","",""]
["","","","","",""]
["","","","","",""]
["","","","","",""]
["","","","","",""]
["","","","","",""]
["","","","","",""]
["","","","","",""]
["","","","","",""]
["","","","","",""]
["","","","","",""]
["","","","","",""]
["","","","","",""]
["","","","","",""]
["","","","","",""]
["","","","","",""]
["","","","","",""]
["","","","","",""]
["","","","","",""]
["","","","","",""]
["","","","","",""]
[{"$f":"IF(AND(ISBLANK(J137),ISBLANK(K137),ISBLANK(L137),ISBLANK(M137),ISBLANK(N137)),\"\",CONCATENATE(TRIM(J137), \"_\",TRIM(K137), \"_\",TRIM(L137), \"_\",TRIM(M137),\"_\",TRIM(N137)))","v":""},{"$f":"IF(AND(ISBLANK($I137),ISBLANK($J137),ISBLANK($K137),ISBLANK($L137)),\"\",CONCATENATE(TRIM($I137),\"_\",TRIM($J137),\"_\",TRIM($K137),\"_\",TRIM($L137)))","v":""},{"$f":"IF(AND(ISBLANK($O137),ISBLANK($I137),ISBLANK($J137),ISBLANK($K137),ISBLANK($L137)),\"\",IF(O137=\"Oui\",CONCATENATE(TRIM($I137),\"_\",TRIM($J137),\"_\",TRIM($K137),\"_\",TRIM($L137)),\"\"))","v":""},{"$f":"IF(AND(ISBLANK(G137),ISBLANK(H137)),\"\",CONCATENATE(TRIM(G137),\"_\",TRIM(H137),\"_\",TRIM(B137)))","v":""},{"$f":"IF(AND(ISBLANK(J137),ISBLANK(K137),ISBLANK(L137)),\"\",CONCATENATE(TRIM(J137),\" \",TRIM(K137),\" \",TRIM(L137)))","v":""},{"$f":"IF(O137=\"Oui\",1,IF(ISBLANK(O137),\"\",0))","v":""}]
["","","","","",""]
["","","","","",""]
["","","","","",""]
["","","","","",""]
["","","","","",""]
["","","","","",""]
["","","","","",""]
["","","","","",""]
["","","","","",""]
["","","","","",""]
["","","","","",""]
["","","","","",""]
["","","","","",""]
["","","","","",""]
["","","","","",""]
["","","","","",""]
["","","","","",""]
["","","","","",""]
["","","","","",""]
["","","","","",""]
["","","","","",""]
["","","","","",""]
["","","","","",""]
["","","","","",""]
["","","","","",""]
["","","","","",""]
["","","","","",""]
["","","","","",""]
["","","","","",""]
["","","","","",""]
["","","","","",""]
["","","","","",""]
["","","","","",""]
["","","","","",""]
["","","","","",""]
["","","","","",""]
["","","","","",""]
["","","","","",""]
["","","","","",""]
["","","","","",""]
["","","","","",""]
["","","","","",""]
["","","","","",""]
["","","","","",""]
["","","","","",""]
["","","","","",""]
["","","","","",""]
["","","","","",""]
["","","","","",""]
["","","","","",""]
["","","","","",""]
["","","","","",""]
["","","","","",""]
["","","","","",""]
["","","","","",""]
["","","","","",""]
["","","","","",""]
["","","","","",""]
["","","","","",""]
["","","","","",""]
["","","","","",""]
["","","","","",""]
["","","","","",""]
[{"$f":"IF(AND(ISBLANK(J201),ISBLANK(K201),ISBLANK(L201),ISBLANK(M201),ISBLANK(N201)),\"\",CONCATENATE(TRIM(J201), \"_\",TRIM(K201), \"_\",TRIM(L201), \"_\",TRIM(M201),\"_\",TRIM(N201)))","v":""},{"$f":"IF(AND(ISBLANK($I201),ISBLANK($J201),ISBLANK($K201),ISBLANK($L201)),\"\",CONCATENATE(TRIM($I201),\"_\",TRIM($J201),\"_\",TRIM($K201),\"_\",TRIM($L201)))","v":""},{"$f":"IF(AND(ISBLANK($O201),ISBLANK($I201),ISBLANK($J201),ISBLANK($K201),ISBLANK($L201)),\"\",IF(O201=\"Oui\",CONCATENATE(TRIM($I201),\"_\",TRIM($J201),\"_\",TRIM($K201),\"_\",TRIM($L201)),\"\"))","v":""},{"$f":"IF(AND(ISBLANK(G201),ISBLANK(H201)),\"\",CONCATENATE(TRIM(G201),\"_\",TRIM(H201),\"_\",TRIM(B201)))","v":""},{"$f":"IF(AND(ISBLANK(J201),ISBLANK(K201),ISBLANK(L201)),\"\",CONCATENATE(TRIM(J201),\" \",TRIM(K201),\" \",TRIM(L201)))","v":""},{"$f":"IF(O201=\"Oui\",1,IF(ISBLANK(O201),\"\",0))","v":""}]
["","","","","",""]
["","","","","",""]
["","","","","",""]
["","","","","",""]
["","","","","",""]
["","","","","",""]
["","","","","",""]
["","","","","",""]
["","","","","",""]
["","","","","",""]
["","","","","",""]
["","","","","",""]
["","","","","",""]
["","","","","",""]
["","","","","",""]
["","","","","",""]
["","","","","",""]
["","","","","",""]
["","","","","",""]
["","","","","",""]
["","","","","",""]
["","","","","",""]
["","","","","",""]
["","","","","",""]
["","","","","",""]
["","","","","",""]
["","","","","",""]
["","","","","",""]
["","","","","",""]
["","","","","",""]
["","","","","",""]
["","","","","",""]
["","","","","",""]
["","","","","",""]
["","","","","",""]
["","","","","",""]
["","","","","",""]
["","","","","",""]
["","","","","",""]
["","","","","",""]
["","","","","",""]
["","","","","",""]
["","","","","",""]
["","","","","",""]
["","","","","",""]
["","","","","",""]
["","","","","",""]
["","","","","",""]
["","","","","",""]
["","","","","",""]
["","","","","",""]
["","","","","",""]
["","","","","",""]
["","","","","",""]
["","","","","",""]
["","","","","",""]
["","","","","",""]
["","","","","",""]
["","","","","",""]
["","","","","",""]
["","","","","",""]
["","","","","",""]
["","","","","",""]
[{"$f":"IF(AND(ISBLANK(J265),ISBLANK(K265),ISBLANK(L265),ISBLANK(M265),ISBLANK(N265)),\"\",CONCATENATE(TRIM(J265), \"_\",TRIM(K265), \"_\",TRIM(L265), \"_\",TRIM(M265),\"_\",TRIM(N265)))","v":""},{"$f":"IF(AND(ISBLANK($I265),ISBLANK($J265),ISBLANK($K265),ISBLANK($L265)),\"\",CONCATENATE(TRIM($I265),\"_\",TRIM($J265),\"_\",TRIM($K265),\"_\",TRIM($L265)))","v":""},{"$f":"IF(AND(ISBLANK($O265),ISBLANK($I265),ISBLANK($J265),ISBLANK($K265),ISBLANK($L265)),\"\",IF(O265=\"Oui\",CONCATENATE(TRIM($I265),\"_\",TRIM($J265),\"_\",TRIM($K265),\"_\",TRIM($L265)),\"\"))","v":""},{"$f":"IF(AND(ISBLANK(G265),ISBLANK(H265)),\"\",CONCATENATE(TRIM(G265),\"_\",TRIM(H265),\"_\",TRIM(B265)))","v":""},{"$f":"IF(AND(ISBLANK(J265),ISBLANK(K265),ISBLANK(L265)),\"\",CONCATENATE(TRIM(J265),\" \",TRIM(K265),\" \",TRIM(L265)))","v":""},{"$f":"IF(O265=\"Oui\",1,IF(ISBLANK(O265),\"\",0))","v":""}]
["","","","","",""]
["","","","","",""]
["","","","","",""]
["","","","","",""]
["","","","","",""]
["","","","","",""]
["","","","","",""]
["","","","","",""]
["","","","","",""]
["","","","","",""]
["","","","","",""]
["","","","","",""]
["","","","","",""]
["","","","","",""]
["","","","","",""]
["","","","","",""]
["","","","","",""]
["","","","","",""]
["","","","","",""]
["","","","","",""]
["","","","","",""]
["","","","","",""]
["","","","","",""]
["","","","","",""]
["","","","","",""]
["","","","","",""]
["","","","","",""]
["","","","","",""]
["","","","","",""]
["","","","","",""]
["","","","","",""]
["","","","","",""]
["","","","","",""]
["","","","","",""]
["","","","","",""]
["","","","","",""]
["","","","","",""]
["","","","","",""]
["","","","","",""]
["","","","","",""]
["","","","","",""]
["","","","","",""]
["","","","","",""]
["","","","","",""]
["","","","","",""]
["","","","","",""]
["","","","","",""]
["","","","","",""]
["","","","","",""]
["","","","","",""]
["","","","","",""]
["","","","","",""]
["","","","","",""]
["","","","","",""]
["","","","","",""]
["","","","","",""]
["","","","","",""]
["","","","","",""]
["","","","","",""]
["","","","","",""]
["","","","","",""]
["","","","","",""]
["","","","","",""]
[{"$f":"IF(AND(ISBLANK(J329),ISBLANK(K329),ISBLANK(L329),ISBLANK(M329),ISBLANK(N329)),\"\",CONCATENATE(TRIM(J329), \"_\",TRIM(K329), \"_\",TRIM(L329), \"_\",TRIM(M329),\"_\",TRIM(N329)))","v":""},{"$f":"IF(AND(ISBLANK($I329),ISBLANK($J329),ISBLANK($K329),ISBLANK($L329)),\"\",CONCATENATE(TRIM($I329),\"_\",TRIM($J329),\"_\",TRIM($K329),\"_\",TRIM($L329)))","v":""},{"$f":"IF(AND(ISBLANK($O329),ISBLANK($I329),ISBLANK($J329),ISBLANK($K329),ISBLANK($L329)),\"\",IF(O329=\"Oui\",CONCATENATE(TRIM($I329),\"_\",TRIM($J329),\"_\",TRIM($K329),\"_\",TRIM($L329)),\"\"))","v":""},{"$f":"IF(AND(ISBLANK(G329),ISBLANK(H329)),\"\",CONCATENATE(TRIM(G329),\"_\",TRIM(H329),\"_\",TRIM(B329)))","v":""},{"$f":"IF(AND(ISBLANK(J329),ISBLANK(K329),ISBLANK(L329)),\"\",CONCATENATE(TRIM(J329),\" \",TRIM(K329),\" \",TRIM(L329)))","v":""},{"$f":"IF(O329=\"Oui\",1,IF(ISBLANK(O329),\"\",0))","v":""}]
["","","","","",""]
["","","","","",""]
["","","","","",""]
["","","","","",""]
["","","","","",""]
["","","","","",""]
["","","","","",""]
["","","","","",""]
["","","","","",""]
["","","","","",""]
["","","","","",""]
["","","","","",""]
["","","","","",""]
["","","","","",""]
["","","","","",""]
["","","","","",""]
["","","","","",""]
["","","","","",""]
["","","","","",""]
["","","","","",""]
["","","","","",""]
["","","","","",""]
["","","","","",""]
["","","","","",""]
["","","","","",""]
["","","","","",""]
["","","","","",""]
["","","","","",""]
["","","","","",""]
["","","","","",""]
["","","","","",""]
["","","","","",""]
["","","","","",""]
["","","","","",""]
["","","","","",""]
["","","","","",""]
["","","","","",""]
["","","","","",""]
["","","","","",""]
["","","","","",""]
["","","","","",""]
["","","","","",""]
["","","","","",""]
["","","","","",""]
["","","","","",""]
["","","","","",""]
["","","","","",""]
["","","","","",""]
["","","","","",""]
["","","","","",""]
["","","","","",""]
["","","","","",""]
["","","","","",""]
["","","","","",""]
["","","","","",""]
["","","","","",""]
["","","","","",""]
["","","","","",""]
["","","","","",""]
["","","","","",""]
["","","","","",""]
["","","","","",""]
["","","","","",""]
[{"$f":"IF(AND(ISBLANK(J393),ISBLANK(K393),ISBLANK(L393),ISBLANK(M393),ISBLANK(N393)),\"\",CONCATENATE(TRIM(J393), \"_\",TRIM(K393), \"_\",TRIM(L393), \"_\",TRIM(M393),\"_\",TRIM(N393)))","v":""},{"$f":"IF(AND(ISBLANK($I393),ISBLANK($J393),ISBLANK($K393),ISBLANK($L393)),\"\",CONCATENATE(TRIM($I393),\"_\",TRIM($J393),\"_\",TRIM($K393),\"_\",TRIM($L393)))","v":""},{"$f":"IF(AND(ISBLANK($O393),ISBLANK($I393),ISBLANK($J393),ISBLANK($K393),ISBLANK($L393)),\"\",IF(O393=\"Oui\",CONCATENATE(TRIM($I393),\"_\",TRIM($J393),\"_\",TRIM($K393),\"_\",TRIM($L393)),\"\"))","v":""},{"$f":"IF(AND(ISBLANK(G393),ISBLANK(H393)),\"\",CONCATENATE(TRIM(G393),\"_\",TRIM(H393),\"_\",TRIM(B393)))","v":""},{"$f":"IF(AND(ISBLANK(J393),ISBLANK(K393),ISBLANK(L393)),\"\",CONCATENATE(TRIM(J393),\" \",TRIM(K393),\" \",TRIM(L393)))","v":""},{"$f":"IF(O393=\"Oui\",1,IF(ISBLANK(O393),\"\",0))","v":""}]
["","","","","",""]
["","","","","",""]
["","","","","",""]
["","","","","",""]
["","","","","",""]
["","","","","",""]
["","","","","",""]
["","","","","",""]
["","","","","",""]
["","","","","",""]
["","","","","",""]
["","","","","",""]
["","","","","",""]
["","","","","",""]
["","","","","",""]
["","","","","",""]
["","","","","",""]
["","","","","",""]
["","","","","",""]
["","","","","",""]
["","","","","",""]
["","","","","",""]
["","","","","",""]
["","","","","",""]
["","","","","",""]
["","","","","",""]
["","","","","",""]
["","","","","",""]
["","","","","",""]
["","","","","",""]
["","","","","",""]
["","","","","",""]
["","","","","",""]
["","","","","",""]
["","","","","",""]
["","","","","",""]
["","","","","",""]
["","","","","",""]
["","","","","",""]
["","","","","",""]
["","","","","",""]
["","","","","",""]
["","","","","",""]
["","","","","",""]
["","","","","",""]
["","","","","",""]
["","","","","",""]
["","","","","",""]
["","","","","",""]
["","","","","",""]
["","","","","",""]
["","","","","",""]
["","","","","",""]
["","","","","",""]
["","","","","",""]
["","","","","",""]
["","","","","",""]
["","","","","",""]
["","","","","",""]
["","","","","",""]
["","","","","",""]
["","","","","",""]
["","","","","",""]
[{"$f":"IF(AND(ISBLANK(J457),ISBLANK(K457),ISBLANK(L457),ISBLANK(M457),ISBLANK(N457)),\"\",CONCATENATE(TRIM(J457), \"_\",TRIM(K457), \"_\",TRIM(L457), \"_\",TRIM(M457),\"_\",TRIM(N457)))","v":""},{"$f":"IF(AND(ISBLANK($I457),ISBLANK($J457),ISBLANK($K457),ISBLANK($L457)),\"\",CONCATENATE(TRIM($I457),\"_\",TRIM($J457),\"_\",TRIM($K457),\"_\",TRIM($L457)))","v":""},{"$f":"IF(AND(ISBLANK($O457),ISBLANK($I457),ISBLANK($J457),ISBLANK($K457),ISBLANK($L457)),\"\",IF(O457=\"Oui\",CONCATENATE(TRIM($I457),\"_\",TRIM($J457),\"_\",TRIM($K457),\"_\",TRIM($L457)),\"\"))","v":""},{"$f":"IF(AND(ISBLANK(G457),ISBLANK(H457)),\"\",CONCATENATE(TRIM(G457),\"_\",TRIM(H457),\"_\",TRIM(B457)))","v":""},{"$f":"IF(AND(ISBLANK(J457),ISBLANK(K457),ISBLANK(L457)),\"\",CONCATENATE(TRIM(J457),\" \",TRIM(K457),\" \",TRIM(L457)))","v":""},{"$f":"IF(O457=\"Oui\",1,IF(ISBLANK(O457),\"\",0))","v":""}]
["","","","","",""]
["","","","","",""]
["","","","","",""]
["","","","","",""]
["","","","","",""]
["","","","","",""]
["","","","","",""]
["","","","","",""]
["","","","","",""]
["","","","","",""]
["","","","","",""]
["","","","","",""]
["","","","","",""]
["","","","","",""]
["","","","","",""]
["","","","","",""]
["","","","","",""]
["","","","","",""]
["","","","","",""]
["","","","","",""]
["","","","","",""]
["","","","","",""]
["","","","","",""]
["","","","","",""]
["","","","","",""]
["","","","","",""]
["","","","","",""]
["","","","","",""]
["","","","","",""]
["","","","","",""]
["","","","","",""]
["","","","","",""]
["","","","","",""]
["","","","","",""]
["","","","","",""]
["","","","","",""]
["","","","","",""]
["","","","","",""]
["","","","","",""]
["","","","","",""]
["","","","","",""]
["","","","","",""]
["","","","","",""]
["","","","","",""]
["","","","","",""]
["","","","","",""]
["","","","","",""]
["","","","","",""]
["","","","","",""]
["","","","","",""]
["","","","","",""]
["","","","","",""]
["","","","","",""]
["","","","","",""]
["","","","","",""]
["","","","","",""]
["","","","","",""]
["","","","","",""]
["","","","","",""]
["","","","","",""]
["","","","","",""]
["","","","","",""]
["","","","","",""]
[{"$f":"IF(AND(ISBLANK(J521),ISBLANK(K521),ISBLANK(L521),ISBLANK(M521),ISBLANK(N521)),\"\",CONCATENATE(TRIM(J521), \"_\",TRIM(K521), \"_\",TRIM(L521), \"_\",TRIM(M521),\"_\",TRIM(N521)))","v":""},{"$f":"IF(AND(ISBLANK($I521),ISBLANK($J521),ISBLANK($K521),ISBLANK($L521)),\"\",CONCATENATE(TRIM($I521),\"_\",TRIM($J521),\"_\",TRIM($K521),\"_\",TRIM($L521)))","v":""},{"$f":"IF(AND(ISBLANK($O521),ISBLANK($I521),ISBLANK($J521),ISBLANK($K521),ISBLANK($L521)),\"\",IF(O521=\"Oui\",CONCATENATE(TRIM($I521),\"_\",TRIM($J521),\"_\",TRIM($K521),\"_\",TRIM($L521)),\"\"))","v":""},{"$f":"IF(AND(ISBLANK(G521),ISBLANK(H521)),\"\",CONCATENATE(TRIM(G521),\"_\",TRIM(H521),\"_\",TRIM(B521)))","v":""},{"$f":"IF(AND(ISBLANK(J521),ISBLANK(K521),ISBLANK(L521)),\"\",CONCATENATE(TRIM(J521),\" \",TRIM(K521),\" \",TRIM(L521)))","v":""},{"$f":"IF(O521=\"Oui\",1,IF(ISBLANK(O521),\"\",0))","v":""}]
["","","","","",""]
["","","","","",""]
["","","","","",""]
["","","","","",""]
["","","","","",""]
["","","","","",""]
["","","","","",""]
["","","","","",""]
["","","","","",""]
["","","","","",""]
["","","","","",""]
["","","","","",""]
["","","","","",""]
["","","","","",""]
["","","","","",""]
["","","","","",""]
["","","","","",""]
["","","","","",""]
["","","","","",""]
["","","","","",""]
["","","","","",""]
["","","","","",""]
["","","","","",""]
["","","","","",""]
["","","","","",""]
["","","","","",""]
["","","","","",""]
["","","","","",""]
["","","","","",""]
["","","","","",""]
["","","","","",""]
["","","","","",""]
["","","","","",""]
["","","","","",""]
["","","","","",""]
["","","","","",""]
["","","","","",""]
["","","","","",""]
["","","","","",""]
["","","","","",""]
["","","","","",""]
["","","","","",""]
["","","","","",""]
["","","","","",""]
["","","","","",""]
["","","","","",""]
["","","","","",""]
["","","","","",""]
["","","","","",""]
["","","","","",""]
["","","","","",""]
["","","","","",""]
["","","","","",""]
["","","","","",""]
["","","","","",""]
["","","","","",""]
["","","","","",""]
["","","","","",""]
["","","","","",""]
["","","","","",""]
["","","","","",""]
["","","","","",""]
["","","","","",""]
[{"$f":"IF(AND(ISBLANK(J585),ISBLANK(K585),ISBLANK(L585),ISBLANK(M585),ISBLANK(N585)),\"\",CONCATENATE(TRIM(J585), \"_\",TRIM(K585), \"_\",TRIM(L585), \"_\",TRIM(M585),\"_\",TRIM(N585)))","v":""},{"$f":"IF(AND(ISBLANK($I585),ISBLANK($J585),ISBLANK($K585),ISBLANK($L585)),\"\",CONCATENATE(TRIM($I585),\"_\",TRIM($J585),\"_\",TRIM($K585),\"_\",TRIM($L585)))","v":""},{"$f":"IF(AND(ISBLANK($O585),ISBLANK($I585),ISBLANK($J585),ISBLANK($K585),ISBLANK($L585)),\"\",IF(O585=\"Oui\",CONCATENATE(TRIM($I585),\"_\",TRIM($J585),\"_\",TRIM($K585),\"_\",TRIM($L585)),\"\"))","v":""},{"$f":"IF(AND(ISBLANK(G585),ISBLANK(H585)),\"\",CONCATENATE(TRIM(G585),\"_\",TRIM(H585),\"_\",TRIM(B585)))","v":""},{"$f":"IF(AND(ISBLANK(J585),ISBLANK(K585),ISBLANK(L585)),\"\",CONCATENATE(TRIM(J585),\" \",TRIM(K585),\" \",TRIM(L585)))","v":""},{"$f":"IF(O585=\"Oui\",1,IF(ISBLANK(O585),\"\",0))","v":""}]
["","","","","",""]
["","","","","",""]
["","","","","",""]
["","","","","",""]
["","","","","",""]
["","","","","",""]
["","","","","",""]
["","","","","",""]
["","","","","",""]
["","","","","",""]
["","","","","",""]
["","","","","",""]
["","","","","",""]
["","","","","",""]
["","","","","",""]
["","","","","",""]
["","","","","",""]
["","","","","",""]
["","","","","",""]
["","","","","",""]
["","","","","",""]
["","","","","",""]
["","","","","",""]
["","","","","",""]
["","","","","",""]
["","","","","",""]
["","","","","",""]
["","","","","",""]
["","","","","",""]
["","","","","",""]
["","","","","",""]
["","","","","",""]
["","","","","",""]
["","","","","",""]
["","","","","",""]
["","","","","",""]
["","","","","",""]
["","","","","",""]
["","","","","",""]
["","","","","",""]
["","","","","",""]
["","","","","",""]
["","","","","",""]
["","","","","",""]
["","","","","",""]
["","","","","",""]
["","","","","",""]
["","","","","",""]
["","","","","",""]
["","","","","",""]
["","","","","",""]
["","","","","",""]
["","","","","",""]
["","","","","",""]
["","","","","",""]
["","","","","",""]
["","","","","",""]
["","","","","",""]
["","","","","",""]
["","","","","",""]
["","","","","",""]
["","","","","",""]
["","","","","",""]
[{"$f":"IF(AND(ISBLANK(J649),ISBLANK(K649),ISBLANK(L649),ISBLANK(M649),ISBLANK(N649)),\"\",CONCATENATE(TRIM(J649), \"_\",TRIM(K649), \"_\",TRIM(L649), \"_\",TRIM(M649),\"_\",TRIM(N649)))","v":""},{"$f":"IF(AND(ISBLANK($I649),ISBLANK($J649),ISBLANK($K649),ISBLANK($L649)),\"\",CONCATENATE(TRIM($I649),\"_\",TRIM($J649),\"_\",TRIM($K649),\"_\",TRIM($L649)))","v":""},{"$f":"IF(AND(ISBLANK($O649),ISBLANK($I649),ISBLANK($J649),ISBLANK($K649),ISBLANK($L649)),\"\",IF(O649=\"Oui\",CONCATENATE(TRIM($I649),\"_\",TRIM($J649),\"_\",TRIM($K649),\"_\",TRIM($L649)),\"\"))","v":""},{"$f":"IF(AND(ISBLANK(G649),ISBLANK(H649)),\"\",CONCATENATE(TRIM(G649),\"_\",TRIM(H649),\"_\",TRIM(B649)))","v":""},{"$f":"IF(AND(ISBLANK(J649),ISBLANK(K649),ISBLANK(L649)),\"\",CONCATENATE(TRIM(J649),\" \",TRIM(K649),\" \",TRIM(L649)))","v":""},{"$f":"IF(O649=\"Oui\",1,IF(ISBLANK(O649),\"\",0))","v":""}]
["","","","","",""]
["","","","","",""]
["","","","","",""]
["","","","","",""]
["","","","","",""]
["","","","","",""]
["","","","","",""]
["","","","","",""]
["","","","","",""]
["","","","","",""]
["","","","","",""]
["","","","","",""]
["","","","","",""]
["","","","","",""]
["","","","","",""]
["","","","","",""]
["","","","","",""]
["","","","","",""]
["","","","","",""]
["","","","","",""]
["","","","","",""]
["","","","","",""]
["","","","","",""]
["","","","","",""]
["","","","","",""]
["","","","","",""]
["","","","","",""]
["","","","","",""]
["","","","","",""]
["","","","","",""]
["","","","","",""]
["","","","","",""]
["","","","","",""]
["","","","","",""]
["","","","","",""]
["","","","","",""]
["","","","","",""]
["","","","","",""]
["","","","","",""]
["","","","","",""]
["","","","","",""]
["","","","","",""]
["","","","","",""]
["","","","","",""]
["","","","","",""]
["","","","","",""]
["","","","","",""]
["","","","","",""]
["","","","","",""]
["","","","","",""]
["","","","","",""]
["","","","","",""]
["","","","","",""]
["","","","","",""]
["","","","","",""]
["","","","","",""]
["","","","","",""]
["","","","","",""]
["","","","","",""]
["","","","","",""]
["","","","","",""]
["","","","","",""]
["","","","","",""]
[{"$f":"IF(AND(ISBLANK(J713),ISBLANK(K713),ISBLANK(L713),ISBLANK(M713),ISBLANK(N713)),\"\",CONCATENATE(TRIM(J713), \"_\",TRIM(K713), \"_\",TRIM(L713), \"_\",TRIM(M713),\"_\",TRIM(N713)))","v":""},{"$f":"IF(AND(ISBLANK($I713),ISBLANK($J713),ISBLANK($K713),ISBLANK($L713)),\"\",CONCATENATE(TRIM($I713),\"_\",TRIM($J713),\"_\",TRIM($K713),\"_\",TRIM($L713)))","v":""},{"$f":"IF(AND(ISBLANK($O713),ISBLANK($I713),ISBLANK($J713),ISBLANK($K713),ISBLANK($L713)),\"\",IF(O713=\"Oui\",CONCATENATE(TRIM($I713),\"_\",TRIM($J713),\"_\",TRIM($K713),\"_\",TRIM($L713)),\"\"))","v":""},{"$f":"IF(AND(ISBLANK(G713),ISBLANK(H713)),\"\",CONCATENATE(TRIM(G713),\"_\",TRIM(H713),\"_\",TRIM(B713)))","v":""},{"$f":"IF(AND(ISBLANK(J713),ISBLANK(K713),ISBLANK(L713)),\"\",CONCATENATE(TRIM(J713),\" \",TRIM(K713),\" \",TRIM(L713)))","v":""},{"$f":"IF(O713=\"Oui\",1,IF(ISBLANK(O713),\"\",0))","v":""}]
["","","","","",""]
["","","","","",""]
["","","","","",""]
["","","","","",""]
["","","","","",""]
["","","","","",""]
["","","","","",""]
["","","","","",""]
["","","","","",""]
["","","","","",""]
["","","","","",""]
["","","","","",""]
["","","","","",""]
["","","","","",""]
["","","","","",""]
["","","","","",""]
["","","","","",""]
["","","","","",""]
["","","","","",""]
["","","","","",""]
["","","","","",""]
["","","","","",""]
["","","","","",""]
["","","","","",""]
["","","","","",""]
["","","","","",""]
["","","","","",""]
["","","","","",""]
["","","","","",""]
["","","","","",""]
["","","","","",""]
["","","","","",""]
["","","","","",""]
["","","","","",""]
["","","","","",""]
["","","","","",""]
["","","","","",""]
["","","","","",""]
["","","","","",""]
["","","","","",""]
["","","","","",""]
["","","","","",""]
["","","","","",""]
["","","","","",""]
["","","","","",""]
["","","","","",""]
["","","","","",""]
["","","","","",""]
["","","","","",""]
["","","","","",""]
["","","","","",""]
["","","","","",""]
["","","","","",""]
["","","","","",""]
["","","","","",""]
["","","","","",""]
["","","","","",""]
["","","","","",""]
["","","","","",""]
["","","","","",""]
["","","","","",""]
["","","","","",""]
["","","","","",""]
[{"$f":"IF(AND(ISBLANK(J777),ISBLANK(K777),ISBLANK(L777),ISBLANK(M777),ISBLANK(N777)),\"\",CONCATENATE(TRIM(J777), \"_\",TRIM(K777), \"_\",TRIM(L777), \"_\",TRIM(M777),\"_\",TRIM(N777)))","v":""},{"$f":"IF(AND(ISBLANK($I777),ISBLANK($J777),ISBLANK($K777),ISBLANK($L777)),\"\",CONCATENATE(TRIM($I777),\"_\",TRIM($J777),\"_\",TRIM($K777),\"_\",TRIM($L777)))","v":""},{"$f":"IF(AND(ISBLANK($O777),ISBLANK($I777),ISBLANK($J777),ISBLANK($K777),ISBLANK($L777)),\"\",IF(O777=\"Oui\",CONCATENATE(TRIM($I777),\"_\",TRIM($J777),\"_\",TRIM($K777),\"_\",TRIM($L777)),\"\"))","v":""},{"$f":"IF(AND(ISBLANK(G777),ISBLANK(H777)),\"\",CONCATENATE(TRIM(G777),\"_\",TRIM(H777),\"_\",TRIM(B777)))","v":""},{"$f":"IF(AND(ISBLANK(J777),ISBLANK(K777),ISBLANK(L777)),\"\",CONCATENATE(TRIM(J777),\" \",TRIM(K777),\" \",TRIM(L777)))","v":""},{"$f":"IF(O777=\"Oui\",1,IF(ISBLANK(O777),\"\",0))","v":""}]
["","","","","",""]
["","","","","",""]
["","","","","",""]
["","","","","",""]
["","","","","",""]
["","","","","",""]
["","","","","",""]
["","","","","",""]
["","","","","",""]
["","","","","",""]
["","","","","",""]
["","","","","",""]
["","","","","",""]
["","","","","",""]
["","","","","",""]
["","","","","",""]
["","","","","",""]
["","","","","",""]
["","","","","",""]
["","","","","",""]
["","","","","",""]
["","","","","",""]
["","","","","",""]
["","","","","",""]
["","","","","",""]
["","","","","",""]
["","","","","",""]
["","","","","",""]
["","","","","",""]
["","","","","",""]
["","","","","",""]
["","","","","",""]
["","","","","",""]
["","","","","",""]
["","","","","",""]
["","","","","",""]
["","","","","",""]
["","","","","",""]
["","","","","",""]
["","","","","",""]
["","","","","",""]
["","","","","",""]
["","","","","",""]
["","","","","",""]
["","","","","",""]
["","","","","",""]
["","","","","",""]
["","","","","",""]
["","","","","",""]
["","","","","",""]
["","","","","",""]
["","","","","",""]
["","","","","",""]
["","","","","",""]
["","","","","",""]
["","","","","",""]
["","","","","",""]
["","","","","",""]
["","","","","",""]
["","","","","",""]
["","","","","",""]
["","","","","",""]
["","","","","",""]
[{"$f":"IF(AND(ISBLANK(J841),ISBLANK(K841),ISBLANK(L841),ISBLANK(M841),ISBLANK(N841)),\"\",CONCATENATE(TRIM(J841), \"_\",TRIM(K841), \"_\",TRIM(L841), \"_\",TRIM(M841),\"_\",TRIM(N841)))","v":""},{"$f":"IF(AND(ISBLANK($I841),ISBLANK($J841),ISBLANK($K841),ISBLANK($L841)),\"\",CONCATENATE(TRIM($I841),\"_\",TRIM($J841),\"_\",TRIM($K841),\"_\",TRIM($L841)))","v":""},{"$f":"IF(AND(ISBLANK($O841),ISBLANK($I841),ISBLANK($J841),ISBLANK($K841),ISBLANK($L841)),\"\",IF(O841=\"Oui\",CONCATENATE(TRIM($I841),\"_\",TRIM($J841),\"_\",TRIM($K841),\"_\",TRIM($L841)),\"\"))","v":""},{"$f":"IF(AND(ISBLANK(G841),ISBLANK(H841)),\"\",CONCATENATE(TRIM(G841),\"_\",TRIM(H841),\"_\",TRIM(B841)))","v":""},{"$f":"IF(AND(ISBLANK(J841),ISBLANK(K841),ISBLANK(L841)),\"\",CONCATENATE(TRIM(J841),\" \",TRIM(K841),\" \",TRIM(L841)))","v":""},{"$f":"IF(O841=\"Oui\",1,IF(ISBLANK(O841),\"\",0))","v":""}]
["","","","","",""]
["","","","","",""]
["","","","","",""]
["","","","","",""]
["","","","","",""]
["","","","","",""]
["","","","","",""]
["","","","","",""]
["","","","","",""]
["","","","","",""]
["","","","","",""]
["","","","","",""]
["","","","","",""]
["","","","","",""]
["","","","","",""]
["","","","","",""]
["","","","","",""]
["","","","","",""]
["","","","","",""]
["","","","","",""]
["","","","","",""]
["","","","","",""]
["","","","","",""]
["","","","","",""]
["","","","","",""]
["","","","","",""]
["","","","","",""]
["","","","","",""]
["","","","","",""]
["","","","","",""]
["","","","","",""]
["","","","","",""]
["","","","","",""]
["","","","","",""]
["","","","","",""]
["","","","","",""]
["","","","","",""]
["","","","","",""]
["","","","","",""]
["","","","","",""]
["","","","","",""]
["","","","","",""]
["","","","","",""]
["","","","","",""]
["","","","","",""]
["","","","","",""]
["","","","","",""]
["","","","","",""]
["","","","","",""]
["","","","","",""]
["","","","","",""]
["","","","","",""]
["","","","","",""]
["","","","","",""]
["","","","","",""]
["","","","","",""]
["","","","","",""]
["","","","","",""]
["","","","","",""]
["","","","","",""]
["","","","","",""]
["","","","","",""]
["","","","","",""]
[{"$f":"IF(AND(ISBLANK(J905),ISBLANK(K905),ISBLANK(L905),ISBLANK(M905),ISBLANK(N905)),\"\",CONCATENATE(TRIM(J905), \"_\",TRIM(K905), \"_\",TRIM(L905), \"_\",TRIM(M905),\"_\",TRIM(N905)))","v":""},{"$f":"IF(AND(ISBLANK($I905),ISBLANK($J905),ISBLANK($K905),ISBLANK($L905)),\"\",CONCATENATE(TRIM($I905),\"_\",TRIM($J905),\"_\",TRIM($K905),\"_\",TRIM($L905)))","v":""},{"$f":"IF(AND(ISBLANK($O905),ISBLANK($I905),ISBLANK($J905),ISBLANK($K905),ISBLANK($L905)),\"\",IF(O905=\"Oui\",CONCATENATE(TRIM($I905),\"_\",TRIM($J905),\"_\",TRIM($K905),\"_\",TRIM($L905)),\"\"))","v":""},{"$f":"IF(AND(ISBLANK(G905),ISBLANK(H905)),\"\",CONCATENATE(TRIM(G905),\"_\",TRIM(H905),\"_\",TRIM(B905)))","v":""},{"$f":"IF(AND(ISBLANK(J905),ISBLANK(K905),ISBLANK(L905)),\"\",CONCATENATE(TRIM(J905),\" \",TRIM(K905),\" \",TRIM(L905)))","v":""},{"$f":"IF(O905=\"Oui\",1,IF(ISBLANK(O905),\"\",0))","v":""}]
["","","","","",""]
["","","","","",""]
["","","","","",""]
["","","","","",""]
["","","","","",""]
["","","","","",""]
["","","","","",""]
["","","","","",""]
["","","","","",""]
["","","","","",""]
["","","","","",""]
["","","","","",""]
["","","","","",""]
["","","","","",""]
["","","","","",""]
["","","","","",""]
["","","","","",""]
["","","","","",""]
["","","","","",""]
["","","","","",""]
["","","","","",""]
["","","","","",""]
["","","","","",""]
["","","","","",""]
["","","","","",""]
["","","","","",""]
["","","","","",""]
["","","","","",""]
["","","","","",""]
["","","","","",""]
["","","","","",""]
["","","","","",""]
["","","","","",""]
["","","","","",""]
["","","","","",""]
["","","","","",""]
["","","","","",""]
["","","","","",""]
["","","","","",""]
["","","","","",""]
["","","","","",""]
["","","","","",""]
["","","","","",""]
["","","","","",""]
["","","","","",""]
["","","","","",""]
["","","","","",""]
["","","","","",""]
["","","","","",""]
["","","","","",""]
["","","","","",""]
["","","","","",""]
["","","","","",""]
["","","","","",""]
["","","","","",""]
["","","","","",""]
["","","","","",""]
["","","","","",""]
["","","","","",""]
["","","","","",""]
["","","","","",""]
["","","","","",""]
["","","","","",""]
[{"$f":"IF(AND(ISBLANK(J969),ISBLANK(K969),ISBLANK(L969),ISBLANK(M969),ISBLANK(N969)),\"\",CONCATENATE(TRIM(J969), \"_\",TRIM(K969), \"_\",TRIM(L969), \"_\",TRIM(M969),\"_\",TRIM(N969)))","v":""},{"$f":"IF(AND(ISBLANK($I969),ISBLANK($J969),ISBLANK($K969),ISBLANK($L969)),\"\",CONCATENATE(TRIM($I969),\"_\",TRIM($J969),\"_\",TRIM($K969),\"_\",TRIM($L969)))","v":""},{"$f":"IF(AND(ISBLANK($O969),ISBLANK($I969),ISBLANK($J969),ISBLANK($K969),ISBLANK($L969)),\"\",IF(O969=\"Oui\",CONCATENATE(TRIM($I969),\"_\",TRIM($J969),\"_\",TRIM($K969),\"_\",TRIM($L969)),\"\"))","v":""},{"$f":"IF(AND(ISBLANK(G969),ISBLANK(H969)),\"\",CONCATENATE(TRIM(G969),\"_\",TRIM(H969),\"_\",TRIM(B969)))","v":""},{"$f":"IF(AND(ISBLANK(J969),ISBLANK(K969),ISBLANK(L969)),\"\",CONCATENATE(TRIM(J969),\" \",TRIM(K969),\" \",TRIM(L969)))","v":""},{"$f":"IF(O969=\"Oui\",1,IF(ISBLANK(O969),\"\",0))","v":""}]
["","","","","",""]
["","","","","",""]
["","","","","",""]
["","","","","",""]
["","","","","",""]
["","","","","",""]
["","","","","",""]
["","","","","",""]
["","","","","",""]
["","","","","",""]
["","","","","",""]
["","","","","",""]
["","","","","",""]
["","","","","",""]
["","","","","",""]
["","","","","",""]
["","","","","",""]
["","","","","",""]
["","","","","",""]
["","","","","",""]
["","","","","",""]
["","","","","",""]
["","","","","",""]
["","","","","",""]
["","","","","",""]
["","","","","",""]
["","","","","",""]
["","","","","",""]
["","","","","",""]
["","","","","",""]
["","","","","",""]
["","","","","",""]
["","","","","",""]
["","","","","",""]
["","","","","",""]
["","","","","",""]
["","","","","",""]
["","","","","",""]
["","","","","",""]
["","","","","",""]
["","","","","",""]
["","","","","",""]
["","","","","",""]
["","","","","",""]
["","","","","",""]
["","","","","",""]
["","","","","",""]
["","","","","",""]
["","","","","",""]
["","","","","",""]
["","","","","",""]
["","","","","",""]
["","","","","",""]
["","","","","",""]
["","","","","",""]
["","","","","",""]
["","","","","",""]
["","","","","",""]
["","","","","",""]
["","","","","",""]
["","","","","",""]
["","","","","",""]
["","","","","",""]
[{"$f":"IF(AND(ISBLANK(J1033),ISBLANK(K1033),ISBLANK(L1033),ISBLANK(M1033),ISBLANK(N1033)),\"\",CONCATENATE(TRIM(J1033), \"_\",TRIM(K1033), \"_\",TRIM(L1033), \"_\",TRIM(M1033),\"_\",TRIM(N1033)))","v":""},{"$f":"IF(AND(ISBLANK($I1033),ISBLANK($J1033),ISBLANK($K1033),ISBLANK($L1033)),\"\",CONCATENATE(TRIM($I1033),\"_\",TRIM($J1033),\"_\",TRIM($K1033),\"_\",TRIM($L1033)))","v":""},{"$f":"IF(AND(ISBLANK($O1033),ISBLANK($I1033),ISBLANK($J1033),ISBLANK($K1033),ISBLANK($L1033)),\"\",IF(O1033=\"Oui\",CONCATENATE(TRIM($I1033),\"_\",TRIM($J1033),\"_\",TRIM($K1033),\"_\",TRIM($L1033)),\"\"))","v":""},{"$f":"IF(AND(ISBLANK(G1033),ISBLANK(H1033)),\"\",CONCATENATE(TRIM(G1033),\"_\",TRIM(H1033),\"_\",TRIM(B1033)))","v":""},{"$f":"IF(AND(ISBLANK(J1033),ISBLANK(K1033),ISBLANK(L1033)),\"\",CONCATENATE(TRIM(J1033),\" \",TRIM(K1033),\" \",TRIM(L1033)))","v":""},{"$f":"IF(O1033=\"Oui\",1,IF(ISBLANK(O1033),\"\",0))","v":""}]
["","","","","",""]
["","","","","",""]
["","","","","",""]
["","","","","",""]
["","","","","",""]
["","","","","",""]
["","","","","",""]
["","","","","",""]
["","","","","",""]
["","","","","",""]
["","","","","",""]
["","","","","",""]
["","","","","",""]
["","","","","",""]
["","","","","",""]
["","","","","",""]
["","","","","",""]
["","","","","",""]
["","","","","",""]
["","","","","",""]
["","","","","",""]
["","","","","",""]
["","","","","",""]
["","","","","",""]
["","","","","",""]
["","","","","",""]
["","","","","",""]
["","","","","",""]
["","","","","",""]
["","","","","",""]
["","","","","",""]
["","","","","",""]
["","","","","",""]
["","","","","",""]
["","","","","",""]
["","","","","",""]
["","","","","",""]
["","","","","",""]
["","","","","",""]
["","","","","",""]
["","","","","",""]
["","","","","",""]
["","","","","",""]
["","","","","",""]
["","","","","",""]
["","","","","",""]
["","","","","",""]
["","","","","",""]
["","","","","",""]
["","","","","",""]
["","","","","",""]
["","","","","",""]
["","","","","",""]
["","","","","",""]
["","","","","",""]
["","","","","",""]
["","","","","",""]
["","","","","",""]
["","","","","",""]
["","","","","",""]
["","","","","",""]
["","","","","",""]
["","","","","",""]
[{"$f":"IF(AND(ISBLANK(J1097),ISBLANK(K1097),ISBLANK(L1097),ISBLANK(M1097),ISBLANK(N1097)),\"\",CONCATENATE(TRIM(J1097), \"_\",TRIM(K1097), \"_\",TRIM(L1097), \"_\",TRIM(M1097),\"_\",TRIM(N1097)))","v":""},{"$f":"IF(AND(ISBLANK($I1097),ISBLANK($J1097),ISBLANK($K1097),ISBLANK($L1097)),\"\",CONCATENATE(TRIM($I1097),\"_\",TRIM($J1097),\"_\",TRIM($K1097),\"_\",TRIM($L1097)))","v":""},{"$f":"IF(AND(ISBLANK($O1097),ISBLANK($I1097),ISBLANK($J1097),ISBLANK($K1097),ISBLANK($L1097)),\"\",IF(O1097=\"Oui\",CONCATENATE(TRIM($I1097),\"_\",TRIM($J1097),\"_\",TRIM($K1097),\"_\",TRIM($L1097)),\"\"))","v":""},{"$f":"IF(AND(ISBLANK(G1097),ISBLANK(H1097)),\"\",CONCATENATE(TRIM(G1097),\"_\",TRIM(H1097),\"_\",TRIM(B1097)))","v":""},{"$f":"IF(AND(ISBLANK(J1097),ISBLANK(K1097),ISBLANK(L1097)),\"\",CONCATENATE(TRIM(J1097),\" \",TRIM(K1097),\" \",TRIM(L1097)))","v":""},{"$f":"IF(O1097=\"Oui\",1,IF(ISBLANK(O1097),\"\",0))","v":""}]
["","","","","",""]
["","","","","",""]
["","","","","",""]
["","","","","",""]
["","","","","",""]
["","","","","",""]
["","","","","",""]
["","","","","",""]
["","","","","",""]
["","","","","",""]
["","","","","",""]
["","","","","",""]
["","","","","",""]
["","","","","",""]
["","","","","",""]
["","","","","",""]
["","","","","",""]
["","","","","",""]
["","","","","",""]
["","","","","",""]
["","","","","",""]
["","","","","",""]
["","","","","",""]
["","","","","",""]
["","","","","",""]
["","","","","",""]
["","","","","",""]
["","","","","",""]
["","","","","",""]
["","","","","",""]
["","","","","",""]
["","","","","",""]
["","","","","",""]
["","","","","",""]
["","","","","",""]
["","","","","",""]
["","","","","",""]
["","","","","",""]
["","","","","",""]
["","","","","",""]
["","","","","",""]
["","","","","",""]
["","","","","",""]
["","","","","",""]
["","","","","",""]
["","","","","",""]
["","","","","",""]
["","","","","",""]
["","","","","",""]
["","","","","",""]
["","","","","",""]
["","","","","",""]
["","","","","",""]
["","","","","",""]
["","","","","",""]
["","","","","",""]
["","","","","",""]
["","","","","",""]
["","","","","",""]
["","","","","",""]
["","","","","",""]
["","","","","",""]
["","","","","",""]
[{"$f":"IF(AND(ISBLANK(J1161),ISBLANK(K1161),ISBLANK(L1161),ISBLANK(M1161),ISBLANK(N1161)),\"\",CONCATENATE(TRIM(J1161), \"_\",TRIM(K1161), \"_\",TRIM(L1161), \"_\",TRIM(M1161),\"_\",TRIM(N1161)))","v":""},{"$f":"IF(AND(ISBLANK($I1161),ISBLANK($J1161),ISBLANK($K1161),ISBLANK($L1161)),\"\",CONCATENATE(TRIM($I1161),\"_\",TRIM($J1161),\"_\",TRIM($K1161),\"_\",TRIM($L1161)))","v":""},{"$f":"IF(AND(ISBLANK($O1161),ISBLANK($I1161),ISBLANK($J1161),ISBLANK($K1161),ISBLANK($L1161)),\"\",IF(O1161=\"Oui\",CONCATENATE(TRIM($I1161),\"_\",TRIM($J1161),\"_\",TRIM($K1161),\"_\",TRIM($L1161)),\"\"))","v":""},{"$f":"IF(AND(ISBLANK(G1161),ISBLANK(H1161)),\"\",CONCATENATE(TRIM(G1161),\"_\",TRIM(H1161),\"_\",TRIM(B1161)))","v":""},{"$f":"IF(AND(ISBLANK(J1161),ISBLANK(K1161),ISBLANK(L1161)),\"\",CONCATENATE(TRIM(J1161),\" \",TRIM(K1161),\" \",TRIM(L1161)))","v":""},{"$f":"IF(O1161=\"Oui\",1,IF(ISBLANK(O1161),\"\",0))","v":""}]
["","","","","",""]
["","","","","",""]
["","","","","",""]
["","","","","",""]
["","","","","",""]
["","","","","",""]
["","","","","",""]
["","","","","",""]
["","","","","",""]
["","","","","",""]
["","","","","",""]
["","","","","",""]
["","","","","",""]
["","","","","",""]
["","","","","",""]
["","","","","",""]
["","","","","",""]
["","","","","",""]
["","","","","",""]
["","","","","",""]
["","","","","",""]
["","","","","",""]
["","","","","",""]
["","","","","",""]
["","","","","",""]
["","","","","",""]
["","","","","",""]
["","","","","",""]
["","","","","",""]
["","","","","",""]
["","","","","",""]
["","","","","",""]
["","","","","",""]
["","","","","",""]
["","","","","",""]
["","","","","",""]
["","","","","",""]
["","","","","",""]
["","","","","",""]
["","","","","",""]
["","","","","",""]
["","","","","",""]
["","","","","",""]
["","","","","",""]
["","","","","",""]
["","","","","",""]
["","","","","",""]
["","","","","",""]
["","","","","",""]
["","","","","",""]
["","","","","",""]
["","","","","",""]
["","","","","",""]
["","","","","",""]
["","","","","",""]
["","","","","",""]
["","","","","",""]
["","","","","",""]
["","","","","",""]
["","","","","",""]
["","","","","",""]
["","","","","",""]
["","","","","",""]
[{"$f":"IF(AND(ISBLANK(J1225),ISBLANK(K1225),ISBLANK(L1225),ISBLANK(M1225),ISBLANK(N1225)),\"\",CONCATENATE(TRIM(J1225), \"_\",TRIM(K1225), \"_\",TRIM(L1225), \"_\",TRIM(M1225),\"_\",TRIM(N1225)))","v":""},{"$f":"IF(AND(ISBLANK($I1225),ISBLANK($J1225),ISBLANK($K1225),ISBLANK($L1225)),\"\",CONCATENATE(TRIM($I1225),\"_\",TRIM($J1225),\"_\",TRIM($K1225),\"_\",TRIM($L1225)))","v":""},{"$f":"IF(AND(ISBLANK($O1225),ISBLANK($I1225),ISBLANK($J1225),ISBLANK($K1225),ISBLANK($L1225)),\"\",IF(O1225=\"Oui\",CONCATENATE(TRIM($I1225),\"_\",TRIM($J1225),\"_\",TRIM($K1225),\"_\",TRIM($L1225)),\"\"))","v":""},{"$f":"IF(AND(ISBLANK(G1225),ISBLANK(H1225)),\"\",CONCATENATE(TRIM(G1225),\"_\",TRIM(H1225),\"_\",TRIM(B1225)))","v":""},{"$f":"IF(AND(ISBLANK(J1225),ISBLANK(K1225),ISBLANK(L1225)),\"\",CONCATENATE(TRIM(J1225),\" \",TRIM(K1225),\" \",TRIM(L1225)))","v":""},{"$f":"IF(O1225=\"Oui\",1,IF(ISBLANK(O1225),\"\",0))","v":""}]
["","","","","",""]
["","","","","",""]
["","","","","",""]
["","","","","",""]
["","","","","",""]
["","","","","",""]
["","","","","",""]
["","","","","",""]
["","","","","",""]
["","","","","",""]
["","","","","",""]
["","","","","",""]
["","","","","",""]
["","","","","",""]
["","","","","",""]
["","","","","",""]
["","","","","",""]
["","","","","",""]
["","","","","",""]
["","","","","",""]
["","","","","",""]
["","","","","",""]
["","","","","",""]
["","","","","",""]
["","","","","",""]
["","","","","",""]
["","","","","",""]
["","","","","",""]
["","","","","",""]
["","","","","",""]
["","","","","",""]
["","","","","",""]
["","","","","",""]
["","","","","",""]
["","","","","",""]
["","","","","",""]
["","","","","",""]
["","","","","",""]
["","","","","",""]
["","","","","",""]
["","","","","",""]
["","","","","",""]
["","","","","",""]
["","","","","",""]
["","","","","",""]
["","","","","",""]
["","","","","",""]
["","","","","",""]
["","","","","",""]
["","","","","",""]
["","","","","",""]
["","","","","",""]
["","","","","",""]
["","","","","",""]
["","","","","",""]
["","","","","",""]
["","","","","",""]
["","","","","",""]
["","","","","",""]
["","","","","",""]
["","","","","",""]
["","","","","",""]
["","","","","",""]
[{"$f":"IF(AND(ISBLANK(J1289),ISBLANK(K1289),ISBLANK(L1289),ISBLANK(M1289),ISBLANK(N1289)),\"\",CONCATENATE(TRIM(J1289), \"_\",TRIM(K1289), \"_\",TRIM(L1289), \"_\",TRIM(M1289),\"_\",TRIM(N1289)))","v":""},{"$f":"IF(AND(ISBLANK($I1289),ISBLANK($J1289),ISBLANK($K1289),ISBLANK($L1289)),\"\",CONCATENATE(TRIM($I1289),\"_\",TRIM($J1289),\"_\",TRIM($K1289),\"_\",TRIM($L1289)))","v":""},{"$f":"IF(AND(ISBLANK($O1289),ISBLANK($I1289),ISBLANK($J1289),ISBLANK($K1289),ISBLANK($L1289)),\"\",IF(O1289=\"Oui\",CONCATENATE(TRIM($I1289),\"_\",TRIM($J1289),\"_\",TRIM($K1289),\"_\",TRIM($L1289)),\"\"))","v":""},{"$f":"IF(AND(ISBLANK(G1289),ISBLANK(H1289)),\"\",CONCATENATE(TRIM(G1289),\"_\",TRIM(H1289),\"_\",TRIM(B1289)))","v":""},{"$f":"IF(AND(ISBLANK(J1289),ISBLANK(K1289),ISBLANK(L1289)),\"\",CONCATENATE(TRIM(J1289),\" \",TRIM(K1289),\" \",TRIM(L1289)))","v":""},{"$f":"IF(O1289=\"Oui\",1,IF(ISBLANK(O1289),\"\",0))","v":""}]
["","","","","",""]
["","","","","",""]
["","","","","",""]
["","","","","",""]
["","","","","",""]
["","","","","",""]
["","","","","",""]
["","","","","",""]
["","","","","",""]
["","","","","",""]
["","","","","",""]
["","","","","",""]
["","","","","",""]
["","","","","",""]
["","","","","",""]
["","","","","",""]
["","","","","",""]
["","","","","",""]
["","","","","",""]
["","","","","",""]
["","","","","",""]
["","","","","",""]
["","","","","",""]
["","","","","",""]
["","","","","",""]
["","","","","",""]
["","","","","",""]
["","","","","",""]
["","","","","",""]
["","","","","",""]
["","","","","",""]
["","","","","",""]
["","","","","",""]
["","","","","",""]
["","","","","",""]
["","","","","",""]
["","","","","",""]
["","","","","",""]
["","","","","",""]
["","","","","",""]
["","","","","",""]
["","","","","",""]
["","","","","",""]
["","","","","",""]
["","","","","",""]
["","","","","",""]
["","","","","",""]
["","","","","",""]
["","","","","",""]
["","","","","",""]
["","","","","",""]
["","","","","",""]
["","","","","",""]
["","","","","",""]
["","","","","",""]
["","","","","",""]
["","","","","",""]
["","","","","",""]
["","","","","",""]
["","","","","",""]
["","","","","",""]
["","","","","",""]
["","","","","",""]
[{"$f":"IF(AND(ISBLANK(J1353),ISBLANK(K1353),ISBLANK(L1353),ISBLANK(M1353),ISBLANK(N1353)),\"\",CONCATENATE(TRIM(J1353), \"_\",TRIM(K1353), \"_\",TRIM(L1353), \"_\",TRIM(M1353),\"_\",TRIM(N1353)))","v":""},{"$f":"IF(AND(ISBLANK($I1353),ISBLANK($J1353),ISBLANK($K1353),ISBLANK($L1353)),\"\",CONCATENATE(TRIM($I1353),\"_\",TRIM($J1353),\"_\",TRIM($K1353),\"_\",TRIM($L1353)))","v":""},{"$f":"IF(AND(ISBLANK($O1353),ISBLANK($I1353),ISBLANK($J1353),ISBLANK($K1353),ISBLANK($L1353)),\"\",IF(O1353=\"Oui\",CONCATENATE(TRIM($I1353),\"_\",TRIM($J1353),\"_\",TRIM($K1353),\"_\",TRIM($L1353)),\"\"))","v":""},{"$f":"IF(AND(ISBLANK(G1353),ISBLANK(H1353)),\"\",CONCATENATE(TRIM(G1353),\"_\",TRIM(H1353),\"_\",TRIM(B1353)))","v":""},{"$f":"IF(AND(ISBLANK(J1353),ISBLANK(K1353),ISBLANK(L1353)),\"\",CONCATENATE(TRIM(J1353),\" \",TRIM(K1353),\" \",TRIM(L1353)))","v":""},{"$f":"IF(O1353=\"Oui\",1,IF(ISBLANK(O1353),\"\",0))","v":""}]
["","","","","",""]
["","","","","",""]
["","","","","",""]
["","","","","",""]
["","","","","",""]
["","","","","",""]
["","","","","",""]
["","","","","",""]
["","","","","",""]
["","","","","",""]
["","","","","",""]
["","","","","",""]
["","","","","",""]
["","","","","",""]
["","","","","",""]
["","","","","",""]
["","","","","",""]
["","","","","",""]
["","","","","",""]
["","","","","",""]
["","","","","",""]
["","","","","",""]
["","","","","",""]
["","","","","",""]
["","","","","",""]
["","","","","",""]
["","","","","",""]
["","","","","",""]
["","","","","",""]
["","","","","",""]
["","","","","",""]
["","","","","",""]
["","","","","",""]
["","","","","",""]
["","","","","",""]
["","","","","",""]
["","","","","",""]
["","","","","",""]
["","","","","",""]
["","","","","",""]
["","","","","",""]
["","","","","",""]
["","","","","",""]
["","","","","",""]
["","","","","",""]
["","","","","",""]
["","","","","",""]
["","","","","",""]
["","","","","",""]
["","","","","",""]
["","","","","",""]
["","","","","",""]
["","","","","",""]
["","","","","",""]
["","","","","",""]
["","","","","",""]
["","","","","",""]
["","","","","",""]
["","","","","",""]
["","","","","",""]
["","","","","",""]
["","","","","",""]
["","","","","",""]
[{"$f":"IF(AND(ISBLANK(J1417),ISBLANK(K1417),ISBLANK(L1417),ISBLANK(M1417),ISBLANK(N1417)),\"\",CONCATENATE(TRIM(J1417), \"_\",TRIM(K1417), \"_\",TRIM(L1417), \"_\",TRIM(M1417),\"_\",TRIM(N1417)))","v":""},{"$f":"IF(AND(ISBLANK($I1417),ISBLANK($J1417),ISBLANK($K1417),ISBLANK($L1417)),\"\",CONCATENATE(TRIM($I1417),\"_\",TRIM($J1417),\"_\",TRIM($K1417),\"_\",TRIM($L1417)))","v":""},{"$f":"IF(AND(ISBLANK($O1417),ISBLANK($I1417),ISBLANK($J1417),ISBLANK($K1417),ISBLANK($L1417)),\"\",IF(O1417=\"Oui\",CONCATENATE(TRIM($I1417),\"_\",TRIM($J1417),\"_\",TRIM($K1417),\"_\",TRIM($L1417)),\"\"))","v":""},{"$f":"IF(AND(ISBLANK(G1417),ISBLANK(H1417)),\"\",CONCATENATE(TRIM(G1417),\"_\",TRIM(H1417),\"_\",TRIM(B1417)))","v":""},{"$f":"IF(AND(ISBLANK(J1417),ISBLANK(K1417),ISBLANK(L1417)),\"\",CONCATENATE(TRIM(J1417),\" \",TRIM(K1417),\" \",TRIM(L1417)))","v":""},{"$f":"IF(O1417=\"Oui\",1,IF(ISBLANK(O1417),\"\",0))","v":""}]
["","","","","",""]
["","","","","",""]
["","","","","",""]
["","","","","",""]
["","","","","",""]
["","","","","",""]
["","","","","",""]
["","","","","",""]
["","","","","",""]
["","","","","",""]
["","","","","",""]
["","","","","",""]
["","","","","",""]
["","","","","",""]
["","","","","",""]
["","","","","",""]
["","","","","",""]
["","","","","",""]
["","","","","",""]
["","","","","",""]
["","","","","",""]
["","","","","",""]
["","","","","",""]
["","","","","",""]
["","","","","",""]
["","","","","",""]
["","","","","",""]
["","","","","",""]
["","","","","",""]
["","","","","",""]
["","","","","",""]
["","","","","",""]
["","","","","",""]
["","","","","",""]
["","","","","",""]
["","","","","",""]
["","","","","",""]
["","","","","",""]
["","","","","",""]
["","","","","",""]
["","","","","",""]
["","","","","",""]
["","","","","",""]
["","","","","",""]
["","","","","",""]
["","","","","",""]
["","","","","",""]
["","","","","",""]
["","","","","",""]
["","","","","",""]
["","","","","",""]
["","","","","",""]
["","","","","",""]
["","","","","",""]
["","","","","",""]
["","","","","",""]
["","","","","",""]
["","","","","",""]
["","","","","",""]
["","","","","",""]
["","","","","",""]
["","","","","",""]
["","","","","",""]
[{"$f":"IF(AND(ISBLANK(J1481),ISBLANK(K1481),ISBLANK(L1481),ISBLANK(M1481),ISBLANK(N1481)),\"\",CONCATENATE(TRIM(J1481), \"_\",TRIM(K1481), \"_\",TRIM(L1481), \"_\",TRIM(M1481),\"_\",TRIM(N1481)))","v":""},{"$f":"IF(AND(ISBLANK($I1481),ISBLANK($J1481),ISBLANK($K1481),ISBLANK($L1481)),\"\",CONCATENATE(TRIM($I1481),\"_\",TRIM($J1481),\"_\",TRIM($K1481),\"_\",TRIM($L1481)))","v":""},{"$f":"IF(AND(ISBLANK($O1481),ISBLANK($I1481),ISBLANK($J1481),ISBLANK($K1481),ISBLANK($L1481)),\"\",IF(O1481=\"Oui\",CONCATENATE(TRIM($I1481),\"_\",TRIM($J1481),\"_\",TRIM($K1481),\"_\",TRIM($L1481)),\"\"))","v":""},{"$f":"IF(AND(ISBLANK(G1481),ISBLANK(H1481)),\"\",CONCATENATE(TRIM(G1481),\"_\",TRIM(H1481),\"_\",TRIM(B1481)))","v":""},{"$f":"IF(AND(ISBLANK(J1481),ISBLANK(K1481),ISBLANK(L1481)),\"\",CONCATENATE(TRIM(J1481),\" \",TRIM(K1481),\" \",TRIM(L1481)))","v":""},{"$f":"IF(O1481=\"Oui\",1,IF(ISBLANK(O1481),\"\",0))","v":""}]
["","","","","",""]
["","","","","",""]
["","","","","",""]
["","","","","",""]
["","","","","",""]
["","","","","",""]
["","","","","",""]
["","","","","",""]
["","","","","",""]
["","","","","",""]
["","","","","",""]
["","","","","",""]
["","","","","",""]
["","","","","",""]
["","","","","",""]
["","","","","",""]
["","","","","",""]
["","","","","",""]
["","","","","",""]
["","","","","",""]
["","","","","",""]
["","","","","",""]
["","","","","",""]
["","","","","",""]
["","","","","",""]
["","","","","",""]
["","","","","",""]
["","","","","",""]
["","","","","",""]
["","","","","",""]
["","","","","",""]
["","","","","",""]
["","","","","",""]
["","","","","",""]
["","","","","",""]
["","","","","",""]
["","","","","",""]
["","","","","",""]
["","","","","",""]
["","","","","",""]
["","","","","",""]
["","","","","",""]
["","","","","",""]
["","","","","",""]
["","","","","",""]
["","","","","",""]
["","","","","",""]
["","","","","",""]
["","","","","",""]
["","","","","",""]
["","","","","",""]
["","","","","",""]
["","","","","",""]
["","","","","",""]
["","","","","",""]
["","","","","",""]
["","","","","",""]
["","","","","",""]
["","","","","",""]
["","","","","",""]
["","","","","",""]
["","","","","",""]
["","","","","",""]
[{"$f":"IF(AND(ISBLANK(J1545),ISBLANK(K1545),ISBLANK(L1545),ISBLANK(M1545),ISBLANK(N1545)),\"\",CONCATENATE(TRIM(J1545), \"_\",TRIM(K1545), \"_\",TRIM(L1545), \"_\",TRIM(M1545),\"_\",TRIM(N1545)))","v":""},{"$f":"IF(AND(ISBLANK($I1545),ISBLANK($J1545),ISBLANK($K1545),ISBLANK($L1545)),\"\",CONCATENATE(TRIM($I1545),\"_\",TRIM($J1545),\"_\",TRIM($K1545),\"_\",TRIM($L1545)))","v":""},{"$f":"IF(AND(ISBLANK($O1545),ISBLANK($I1545),ISBLANK($J1545),ISBLANK($K1545),ISBLANK($L1545)),\"\",IF(O1545=\"Oui\",CONCATENATE(TRIM($I1545),\"_\",TRIM($J1545),\"_\",TRIM($K1545),\"_\",TRIM($L1545)),\"\"))","v":""},{"$f":"IF(AND(ISBLANK(G1545),ISBLANK(H1545)),\"\",CONCATENATE(TRIM(G1545),\"_\",TRIM(H1545),\"_\",TRIM(B1545)))","v":""},{"$f":"IF(AND(ISBLANK(J1545),ISBLANK(K1545),ISBLANK(L1545)),\"\",CONCATENATE(TRIM(J1545),\" \",TRIM(K1545),\" \",TRIM(L1545)))","v":""},{"$f":"IF(O1545=\"Oui\",1,IF(ISBLANK(O1545),\"\",0))","v":""}]
["","","","","",""]
["","","","","",""]
["","","","","",""]
["","","","","",""]
["","","","","",""]
["","","","","",""]
["","","","","",""]
["","","","","",""]
["","","","","",""]
["","","","","",""]
["","","","","",""]
["","","","","",""]
["","","","","",""]
["","","","","",""]
["","","","","",""]
["","","","","",""]
["","","","","",""]
["","","","","",""]
["","","","","",""]
["","","","","",""]
["","","","","",""]
["","","","","",""]
["","","","","",""]
["","","","","",""]
["","","","","",""]
["","","","","",""]
["","","","","",""]
["","","","","",""]
["","","","","",""]
["","","","","",""]
["","","","","",""]
["","","","","",""]
["","","","","",""]
["","","","","",""]
["","","","","",""]
["","","","","",""]
["","","","","",""]
["","","","","",""]
["","","","","",""]
["","","","","",""]
["","","","","",""]
["","","","","",""]
["","","","","",""]
["","","","","",""]
["","","","","",""]
["","","","","",""]
["","","","","",""]
["","","","","",""]
["","","","","",""]
["","","","","",""]
["","","","","",""]
["","","","","",""]
["","","","","",""]
["","","","","",""]
["","","","","",""]
["","","","","",""]
["","","","","",""]
["","","","","",""]
["","","","","",""]
["","","","","",""]
["","","","","",""]
["","","","","",""]
["","","","","",""]
[{"$f":"IF(AND(ISBLANK(J1609),ISBLANK(K1609),ISBLANK(L1609),ISBLANK(M1609),ISBLANK(N1609)),\"\",CONCATENATE(TRIM(J1609), \"_\",TRIM(K1609), \"_\",TRIM(L1609), \"_\",TRIM(M1609),\"_\",TRIM(N1609)))","v":""},{"$f":"IF(AND(ISBLANK($I1609),ISBLANK($J1609),ISBLANK($K1609),ISBLANK($L1609)),\"\",CONCATENATE(TRIM($I1609),\"_\",TRIM($J1609),\"_\",TRIM($K1609),\"_\",TRIM($L1609)))","v":""},{"$f":"IF(AND(ISBLANK($O1609),ISBLANK($I1609),ISBLANK($J1609),ISBLANK($K1609),ISBLANK($L1609)),\"\",IF(O1609=\"Oui\",CONCATENATE(TRIM($I1609),\"_\",TRIM($J1609),\"_\",TRIM($K1609),\"_\",TRIM($L1609)),\"\"))","v":""},{"$f":"IF(AND(ISBLANK(G1609),ISBLANK(H1609)),\"\",CONCATENATE(TRIM(G1609),\"_\",TRIM(H1609),\"_\",TRIM(B1609)))","v":""},{"$f":"IF(AND(ISBLANK(J1609),ISBLANK(K1609),ISBLANK(L1609)),\"\",CONCATENATE(TRIM(J1609),\" \",TRIM(K1609),\" \",TRIM(L1609)))","v":""},{"$f":"IF(O1609=\"Oui\",1,IF(ISBLANK(O1609),\"\",0))","v":""}]
["","","","","",""]
["","","","","",""]
["","","","","",""]
["","","","","",""]
["","","","","",""]
["","","","","",""]
["","","","","",""]
["","","","","",""]
["","","","","",""]
["","","","","",""]
["","","","","",""]
["","","","","",""]
["","","","","",""]
["","","","","",""]
["","","","","",""]
["","","","","",""]
["","","","","",""]
["","","","","",""]
["","","","","",""]
["","","","","",""]
["","","","","",""]
["","","","","",""]
["","","","","",""]
["","","","","",""]
["","","","","",""]
["","","","","",""]
["","","","","",""]
["","","","","",""]
["","","","","",""]
["","","","","",""]
["","","","","",""]
["","","","","",""]
["","","","","",""]
["","","","","",""]
["","","","","",""]
["","","","","",""]
["","","","","",""]
["","","","","",""]
["","","","","",""]
["","","","","",""]
["","","","","",""]
["","","","","",""]
["","","","","",""]
["","","","","",""]
["","","","","",""]
["","","","","",""]
["","","","","",""]
["","","","","",""]
["","","","","",""]
["","","","","",""]
["","","","","",""]
["","","","","",""]
["","","","","",""]
["","","","","",""]
["","","","","",""]
["","","","","",""]
["","","","","",""]
["","","","","",""]
["","","","","",""]
["","","","","",""]
["","","","","",""]
["","","","","",""]
["","","","","",""]
[{"$f":"IF(AND(ISBLANK(J1673),ISBLANK(K1673),ISBLANK(L1673),ISBLANK(M1673),ISBLANK(N1673)),\"\",CONCATENATE(TRIM(J1673), \"_\",TRIM(K1673), \"_\",TRIM(L1673), \"_\",TRIM(M1673),\"_\",TRIM(N1673)))","v":""},{"$f":"IF(AND(ISBLANK($I1673),ISBLANK($J1673),ISBLANK($K1673),ISBLANK($L1673)),\"\",CONCATENATE(TRIM($I1673),\"_\",TRIM($J1673),\"_\",TRIM($K1673),\"_\",TRIM($L1673)))","v":""},{"$f":"IF(AND(ISBLANK($O1673),ISBLANK($I1673),ISBLANK($J1673),ISBLANK($K1673),ISBLANK($L1673)),\"\",IF(O1673=\"Oui\",CONCATENATE(TRIM($I1673),\"_\",TRIM($J1673),\"_\",TRIM($K1673),\"_\",TRIM($L1673)),\"\"))","v":""},{"$f":"IF(AND(ISBLANK(G1673),ISBLANK(H1673)),\"\",CONCATENATE(TRIM(G1673),\"_\",TRIM(H1673),\"_\",TRIM(B1673)))","v":""},{"$f":"IF(AND(ISBLANK(J1673),ISBLANK(K1673),ISBLANK(L1673)),\"\",CONCATENATE(TRIM(J1673),\" \",TRIM(K1673),\" \",TRIM(L1673)))","v":""},{"$f":"IF(O1673=\"Oui\",1,IF(ISBLANK(O1673),\"\",0))","v":""}]
["","","","","",""]
["","","","","",""]
["","","","","",""]
["","","","","",""]
["","","","","",""]
["","","","","",""]
["","","","","",""]
["","","","","",""]
["","","","","",""]
["","","","","",""]
["","","","","",""]
["","","","","",""]
["","","","","",""]
["","","","","",""]
["","","","","",""]
["","","","","",""]
["","","","","",""]
["","","","","",""]
["","","","","",""]
["","","","","",""]
["","","","","",""]
["","","","","",""]
["","","","","",""]
["","","","","",""]
["","","","","",""]
["","","","","",""]
["","","","","",""]
["","","","","",""]
["","","","","",""]
["","","","","",""]
["","","","","",""]
["","","","","",""]
["","","","","",""]
["","","","","",""]
["","","","","",""]
["","","","","",""]
["","","","","",""]
["","","","","",""]
["","","","","",""]
["","","","","",""]
["","","","","",""]
["","","","","",""]
["","","","","",""]
["","","","","",""]
["","","","","",""]
["","","","","",""]
["","","","","",""]
["","","","","",""]
["","","","","",""]
["","","","","",""]
["","","","","",""]
["","","","","",""]
["","","","","",""]
["","","","","",""]
["","","","","",""]
["","","","","",""]
["","","","","",""]
["","","","","",""]
["","","","","",""]
["","","","","",""]
["","","","","",""]
["","","","","",""]
["","","","","",""]
[{"$f":"IF(AND(ISBLANK(J1737),ISBLANK(K1737),ISBLANK(L1737),ISBLANK(M1737),ISBLANK(N1737)),\"\",CONCATENATE(TRIM(J1737), \"_\",TRIM(K1737), \"_\",TRIM(L1737), \"_\",TRIM(M1737),\"_\",TRIM(N1737)))","v":""},{"$f":"IF(AND(ISBLANK($I1737),ISBLANK($J1737),ISBLANK($K1737),ISBLANK($L1737)),\"\",CONCATENATE(TRIM($I1737),\"_\",TRIM($J1737),\"_\",TRIM($K1737),\"_\",TRIM($L1737)))","v":""},{"$f":"IF(AND(ISBLANK($O1737),ISBLANK($I1737),ISBLANK($J1737),ISBLANK($K1737),ISBLANK($L1737)),\"\",IF(O1737=\"Oui\",CONCATENATE(TRIM($I1737),\"_\",TRIM($J1737),\"_\",TRIM($K1737),\"_\",TRIM($L1737)),\"\"))","v":""},{"$f":"IF(AND(ISBLANK(G1737),ISBLANK(H1737)),\"\",CONCATENATE(TRIM(G1737),\"_\",TRIM(H1737),\"_\",TRIM(B1737)))","v":""},{"$f":"IF(AND(ISBLANK(J1737),ISBLANK(K1737),ISBLANK(L1737)),\"\",CONCATENATE(TRIM(J1737),\" \",TRIM(K1737),\" \",TRIM(L1737)))","v":""},{"$f":"IF(O1737=\"Oui\",1,IF(ISBLANK(O1737),\"\",0))","v":""}]
["","","","","",""]
["","","","","",""]
["","","","","",""]
["","","","","",""]
["","","","","",""]
["","","","","",""]
["","","","","",""]
["","","","","",""]
["","","","","",""]
["","","","","",""]
["","","","","",""]
["","","","","",""]
["","","","","",""]
["","","","","",""]
["","","","","",""]
["","","","","",""]
["","","","","",""]
["","","","","",""]
["","","","","",""]
["","","","","",""]
["","","","","",""]
["","","","","",""]
["","","","","",""]
["","","","","",""]
["","","","","",""]
["","","","","",""]
["","","","","",""]
["","","","","",""]
["","","","","",""]
["","","","","",""]
["","","","","",""]
["","","","","",""]
["","","","","",""]
["","","","","",""]
["","","","","",""]
["","","","","",""]
["","","","","",""]
["","","","","",""]
["","","","","",""]
["","","","","",""]
["","","","","",""]
["","","","","",""]
["","","","","",""]
["","","","","",""]
["","","","","",""]
["","","","","",""]
["","","","","",""]
["","","","","",""]
["","","","","",""]
["","","","","",""]
["","","","","",""]
["","","","","",""]
["","","","","",""]
["","","","","",""]
["","","","","",""]
["","","","","",""]
["","","","","",""]
["","","","","",""]
["","","","","",""]
["","","","","",""]
["","","","","",""]
["","","","","",""]
["","","","","",""]
[{"$f":"IF(AND(ISBLANK(J1801),ISBLANK(K1801),ISBLANK(L1801),ISBLANK(M1801),ISBLANK(N1801)),\"\",CONCATENATE(TRIM(J1801), \"_\",TRIM(K1801), \"_\",TRIM(L1801), \"_\",TRIM(M1801),\"_\",TRIM(N1801)))","v":""},{"$f":"IF(AND(ISBLANK($I1801),ISBLANK($J1801),ISBLANK($K1801),ISBLANK($L1801)),\"\",CONCATENATE(TRIM($I1801),\"_\",TRIM($J1801),\"_\",TRIM($K1801),\"_\",TRIM($L1801)))","v":""},{"$f":"IF(AND(ISBLANK($O1801),ISBLANK($I1801),ISBLANK($J1801),ISBLANK($K1801),ISBLANK($L1801)),\"\",IF(O1801=\"Oui\",CONCATENATE(TRIM($I1801),\"_\",TRIM($J1801),\"_\",TRIM($K1801),\"_\",TRIM($L1801)),\"\"))","v":""},{"$f":"IF(AND(ISBLANK(G1801),ISBLANK(H1801)),\"\",CONCATENATE(TRIM(G1801),\"_\",TRIM(H1801),\"_\",TRIM(B1801)))","v":""},{"$f":"IF(AND(ISBLANK(J1801),ISBLANK(K1801),ISBLANK(L1801)),\"\",CONCATENATE(TRIM(J1801),\" \",TRIM(K1801),\" \",TRIM(L1801)))","v":""},{"$f":"IF(O1801=\"Oui\",1,IF(ISBLANK(O1801),\"\",0))","v":""}]
["","","","","",""]
["","","","","",""]
["","","","","",""]
["","","","","",""]
["","","","","",""]
["","","","","",""]
["","","","","",""]
["","","","","",""]
["","","","","",""]
["","","","","",""]
["","","","","",""]
["","","","","",""]
["","","","","",""]
["","","","","",""]
["","","","","",""]
["","","","","",""]
["","","","","",""]
["","","","","",""]
["","","","","",""]
["","","","","",""]
["","","","","",""]
["","","","","",""]
["","","","","",""]
["","","","","",""]
["","","","","",""]
["","","","","",""]
["","","","","",""]
["","","","","",""]
["","","","","",""]
["","","","","",""]
["","","","","",""]
["","","","","",""]
["","","","","",""]
["","","","","",""]
["","","","","",""]
["","","","","",""]
["","","","","",""]
["","","","","",""]
["","","","","",""]
["","","","","",""]
["","","","","",""]
["","","","","",""]
["","","","","",""]
["","","","","",""]
["","","","","",""]
["","","","","",""]
["","","","","",""]
["","","","","",""]
["","","","","",""]
["","","","","",""]
["","","","","",""]
["","","","","",""]
["","","","","",""]
["","","","","",""]
["","","","","",""]
["","","","","",""]
["","","","","",""]
["","","","","",""]
["","","","","",""]
["","","","","",""]
["","","","","",""]
["","","","","",""]
["","","","","",""]
[{"$f":"IF(AND(ISBLANK(J1865),ISBLANK(K1865),ISBLANK(L1865),ISBLANK(M1865),ISBLANK(N1865)),\"\",CONCATENATE(TRIM(J1865), \"_\",TRIM(K1865), \"_\",TRIM(L1865), \"_\",TRIM(M1865),\"_\",TRIM(N1865)))","v":""},{"$f":"IF(AND(ISBLANK($I1865),ISBLANK($J1865),ISBLANK($K1865),ISBLANK($L1865)),\"\",CONCATENATE(TRIM($I1865),\"_\",TRIM($J1865),\"_\",TRIM($K1865),\"_\",TRIM($L1865)))","v":""},{"$f":"IF(AND(ISBLANK($O1865),ISBLANK($I1865),ISBLANK($J1865),ISBLANK($K1865),ISBLANK($L1865)),\"\",IF(O1865=\"Oui\",CONCATENATE(TRIM($I1865),\"_\",TRIM($J1865),\"_\",TRIM($K1865),\"_\",TRIM($L1865)),\"\"))","v":""},{"$f":"IF(AND(ISBLANK(G1865),ISBLANK(H1865)),\"\",CONCATENATE(TRIM(G1865),\"_\",TRIM(H1865),\"_\",TRIM(B1865)))","v":""},{"$f":"IF(AND(ISBLANK(J1865),ISBLANK(K1865),ISBLANK(L1865)),\"\",CONCATENATE(TRIM(J1865),\" \",TRIM(K1865),\" \",TRIM(L1865)))","v":""},{"$f":"IF(O1865=\"Oui\",1,IF(ISBLANK(O1865),\"\",0))","v":""}]
["","","","","",""]
["","","","","",""]
["","","","","",""]
["","","","","",""]
["","","","","",""]
["","","","","",""]
["","","","","",""]
["","","","","",""]
["","","","","",""]
["","","","","",""]
["","","","","",""]
["","","","","",""]
["","","","","",""]
["","","","","",""]
["","","","","",""]
["","","","","",""]
["","","","","",""]
["","","","","",""]
["","","","","",""]
["","","","","",""]
["","","","","",""]
["","","","","",""]
["","","","","",""]
["","","","","",""]
["","","","","",""]
["","","","","",""]
["","","","","",""]
["","","","","",""]
["","","","","",""]
["","","","","",""]
["","","","","",""]
["","","","","",""]
["","","","","",""]
["","","","","",""]
["","","","","",""]
["","","","","",""]
["","","","","",""]
["","","","","",""]
["","","","","",""]
["","","","","",""]
["","","","","",""]
["","","","","",""]
["","","","","",""]
["","","","","",""]
["","","","","",""]
["","","","","",""]
["","","","","",""]
["","","","","",""]
["","","","","",""]
["","","","","",""]
["","","","","",""]
["","","","","",""]
["","","","","",""]
["","","","","",""]
["","","","","",""]
["","","","","",""]
["","","","","",""]
["","","","","",""]
["","","","","",""]
["","","","","",""]
["","","","","",""]
["","","","","",""]
["","","","","",""]
[{"$f":"IF(AND(ISBLANK(J1929),ISBLANK(K1929),ISBLANK(L1929),ISBLANK(M1929),ISBLANK(N1929)),\"\",CONCATENATE(TRIM(J1929), \"_\",TRIM(K1929), \"_\",TRIM(L1929), \"_\",TRIM(M1929),\"_\",TRIM(N1929)))","v":""},{"$f":"IF(AND(ISBLANK($I1929),ISBLANK($J1929),ISBLANK($K1929),ISBLANK($L1929)),\"\",CONCATENATE(TRIM($I1929),\"_\",TRIM($J1929),\"_\",TRIM($K1929),\"_\",TRIM($L1929)))","v":""},{"$f":"IF(AND(ISBLANK($O1929),ISBLANK($I1929),ISBLANK($J1929),ISBLANK($K1929),ISBLANK($L1929)),\"\",IF(O1929=\"Oui\",CONCATENATE(TRIM($I1929),\"_\",TRIM($J1929),\"_\",TRIM($K1929),\"_\",TRIM($L1929)),\"\"))","v":""},{"$f":"IF(AND(ISBLANK(G1929),ISBLANK(H1929)),\"\",CONCATENATE(TRIM(G1929),\"_\",TRIM(H1929),\"_\",TRIM(B1929)))","v":""},{"$f":"IF(AND(ISBLANK(J1929),ISBLANK(K1929),ISBLANK(L1929)),\"\",CONCATENATE(TRIM(J1929),\" \",TRIM(K1929),\" \",TRIM(L1929)))","v":""},{"$f":"IF(O1929=\"Oui\",1,IF(ISBLANK(O1929),\"\",0))","v":""}]
["","","","","",""]
["","","","","",""]
["","","","","",""]
["","","","","",""]
["","","","","",""]
["","","","","",""]
["","","","","",""]
["","","","","",""]
["","","","","",""]
["","","","","",""]
["","","","","",""]
["","","","","",""]
["","","","","",""]
["","","","","",""]
["","","","","",""]
["","","","","",""]
["","","","","",""]
["","","","","",""]
["","","","","",""]
["","","","","",""]
["","","","","",""]
["","","","","",""]
["","","","","",""]
["","","","","",""]
["","","","","",""]
["","","","","",""]
["","","","","",""]
["","","","","",""]
["","","","","",""]
["","","","","",""]
["","","","","",""]
["","","","","",""]
["","","","","",""]
["","","","","",""]
["","","","","",""]
["","","","","",""]
["","","","","",""]
["","","","","",""]
["","","","","",""]
["","","","","",""]
["","","","","",""]
["","","","","",""]
["","","","","",""]
["","","","","",""]
["","","","","",""]
["","","","","",""]
["","","","","",""]
["","","","","",""]
["","","","","",""]
["","","","","",""]
["","","","","",""]
["","","","","",""]
["","","","","",""]
["","","","","",""]
["","","","","",""]
["","","","","",""]
["","","","","",""]
["","","","","",""]
["","","","","",""]
["","","","","",""]
["","","","","",""]
["","","","","",""]
["","","","","",""]
[{"$f":"IF(AND(ISBLANK(J1993),ISBLANK(K1993),ISBLANK(L1993),ISBLANK(M1993),ISBLANK(N1993)),\"\",CONCATENATE(TRIM(J1993), \"_\",TRIM(K1993), \"_\",TRIM(L1993), \"_\",TRIM(M1993),\"_\",TRIM(N1993)))","v":""},{"$f":"IF(AND(ISBLANK($I1993),ISBLANK($J1993),ISBLANK($K1993),ISBLANK($L1993)),\"\",CONCATENATE(TRIM($I1993),\"_\",TRIM($J1993),\"_\",TRIM($K1993),\"_\",TRIM($L1993)))","v":""},{"$f":"IF(AND(ISBLANK($O1993),ISBLANK($I1993),ISBLANK($J1993),ISBLANK($K1993),ISBLANK($L1993)),\"\",IF(O1993=\"Oui\",CONCATENATE(TRIM($I1993),\"_\",TRIM($J1993),\"_\",TRIM($K1993),\"_\",TRIM($L1993)),\"\"))","v":""},{"$f":"IF(AND(ISBLANK(G1993),ISBLANK(H1993)),\"\",CONCATENATE(TRIM(G1993),\"_\",TRIM(H1993),\"_\",TRIM(B1993)))","v":""},{"$f":"IF(AND(ISBLANK(J1993),ISBLANK(K1993),ISBLANK(L1993)),\"\",CONCATENATE(TRIM(J1993),\" \",TRIM(K1993),\" \",TRIM(L1993)))","v":""},{"$f":"IF(O1993=\"Oui\",1,IF(ISBLANK(O1993),\"\",0))","v":""}]
["","","","","",""]
["","","","","",""]
["","","","","",""]
["","","","","",""]
["","","","","",""]
["","","","","",""]
["","","","","",""]
["","","","","",""]
["","","","","",""]
["","","","","",""]
["","","","","",""]
["","","","","",""]
["","","","","",""]
["","","","","",""]
["","","","","",""]
["","","","","",""]
["","","","","",""]
["","","","","",""]
["","","","","",""]
["","","","","",""]
["","","","","",""]
["","","","","",""]
["","","","","",""]
["","","","","",""]
["","","","","",""]
["","","","","",""]
["","","","","",""]
["","","","","",""]
["","","","","",""]
["","","","","",""]
["","","","","",""]
["","","","","",""]
["","","","","",""]
["","","","","",""]
["","","","","",""]
["","","","","",""]
["","","","","",""]
["","","","","",""]
["","","","","",""]
["","","","","",""]
["","","","","",""]
["","","","","",""]
["","","","","",""]
["","","","","",""]
["","","","","",""]
["","","","","",""]
["","","","","",""]
["","","","","",""]
["","","","","",""]
["","","","","",""]
["","","","","",""]
["","","","","",""]
["","","","","",""]
["","","","","",""]
["","","","","",""]
["","","","","",""]
["","","","","",""]
["","","","","",""]
["","","","","",""]
["","","","","",""]
["","","","","",""]
["","","","","",""]
["","","","","",""]
[{"$f":"IF(AND(ISBLANK(J2057),ISBLANK(K2057),ISBLANK(L2057),ISBLANK(M2057),ISBLANK(N2057)),\"\",CONCATENATE(TRIM(J2057), \"_\",TRIM(K2057), \"_\",TRIM(L2057), \"_\",TRIM(M2057),\"_\",TRIM(N2057)))","v":""},{"$f":"IF(AND(ISBLANK($I2057),ISBLANK($J2057),ISBLANK($K2057),ISBLANK($L2057)),\"\",CONCATENATE(TRIM($I2057),\"_\",TRIM($J2057),\"_\",TRIM($K2057),\"_\",TRIM($L2057)))","v":""},{"$f":"IF(AND(ISBLANK($O2057),ISBLANK($I2057),ISBLANK($J2057),ISBLANK($K2057),ISBLANK($L2057)),\"\",IF(O2057=\"Oui\",CONCATENATE(TRIM($I2057),\"_\",TRIM($J2057),\"_\",TRIM($K2057),\"_\",TRIM($L2057)),\"\"))","v":""},{"$f":"IF(AND(ISBLANK(G2057),ISBLANK(H2057)),\"\",CONCATENATE(TRIM(G2057),\"_\",TRIM(H2057),\"_\",TRIM(B2057)))","v":""},{"$f":"IF(AND(ISBLANK(J2057),ISBLANK(K2057),ISBLANK(L2057)),\"\",CONCATENATE(TRIM(J2057),\" \",TRIM(K2057),\" \",TRIM(L2057)))","v":""},{"$f":"IF(O2057=\"Oui\",1,IF(ISBLANK(O2057),\"\",0))","v":""}]
["","","","","",""]
["","","","","",""]
["","","","","",""]
["","","","","",""]
["","","","","",""]
["","","","","",""]
["","","","","",""]
["","","","","",""]
["","","","","",""]
["","","","","",""]
["","","","","",""]
["","","","","",""]
["","","","","",""]
["","","","","",""]
["","","","","",""]
["","","","","",""]
["","","","","",""]
["","","","","",""]
["","","","","",""]
["","","","","",""]
["","","","","",""]
["","","","","",""]
["","","","","",""]
["","","","","",""]
["","","","","",""]
["","","","","",""]
["","","","","",""]
["","","","","",""]
["","","","","",""]
["","","","","",""]
["","","","","",""]
["","","","","",""]
["","","","","",""]
["","","","","",""]
["","","","","",""]
["","","","","",""]
["","","","","",""]
["","","","","",""]
["","","","","",""]
["","","","","",""]
["","","","","",""]
["","","","","",""]
["","","","","",""]
["","","","","",""]
["","","","","",""]
["","","","","",""]
["","","","","",""]
["","","","","",""]
["","","","","",""]
["","","","","",""]
["","","","","",""]
["","","","","",""]
["","","","","",""]
["","","","","",""]
["","","","","",""]
["","","","","",""]
["","","","","",""]
["","","","","",""]
["","","","","",""]
["","","","","",""]
["","","","","",""]
["","","","","",""]
["","","","","",""]
[{"$f":"IF(AND(ISBLANK(J2121),ISBLANK(K2121),ISBLANK(L2121),ISBLANK(M2121),ISBLANK(N2121)),\"\",CONCATENATE(TRIM(J2121), \"_\",TRIM(K2121), \"_\",TRIM(L2121), \"_\",TRIM(M2121),\"_\",TRIM(N2121)))","v":""},{"$f":"IF(AND(ISBLANK($I2121),ISBLANK($J2121),ISBLANK($K2121),ISBLANK($L2121)),\"\",CONCATENATE(TRIM($I2121),\"_\",TRIM($J2121),\"_\",TRIM($K2121),\"_\",TRIM($L2121)))","v":""},{"$f":"IF(AND(ISBLANK($O2121),ISBLANK($I2121),ISBLANK($J2121),ISBLANK($K2121),ISBLANK($L2121)),\"\",IF(O2121=\"Oui\",CONCATENATE(TRIM($I2121),\"_\",TRIM($J2121),\"_\",TRIM($K2121),\"_\",TRIM($L2121)),\"\"))","v":""},{"$f":"IF(AND(ISBLANK(G2121),ISBLANK(H2121)),\"\",CONCATENATE(TRIM(G2121),\"_\",TRIM(H2121),\"_\",TRIM(B2121)))","v":""},{"$f":"IF(AND(ISBLANK(J2121),ISBLANK(K2121),ISBLANK(L2121)),\"\",CONCATENATE(TRIM(J2121),\" \",TRIM(K2121),\" \",TRIM(L2121)))","v":""},{"$f":"IF(O2121=\"Oui\",1,IF(ISBLANK(O2121),\"\",0))","v":""}]
["","","","","",""]
["","","","","",""]
["","","","","",""]
["","","","","",""]
["","","","","",""]
["","","","","",""]
["","","","","",""]
["","","","","",""]
["","","","","",""]
["","","","","",""]
["","","","","",""]
["","","","","",""]
["","","","","",""]
["","","","","",""]
["","","","","",""]
["","","","","",""]
["","","","","",""]
["","","","","",""]
["","","","","",""]
["","","","","",""]
["","","","","",""]
["","","","","",""]
["","","","","",""]
["","","","","",""]
["","","","","",""]
["","","","","",""]
["","","","","",""]
["","","","","",""]
["","","","","",""]
["","","","","",""]
["","","","","",""]
["","","","","",""]
["","","","","",""]
["","","","","",""]
["","","","","",""]
["","","","","",""]
["","","","","",""]
["","","","","",""]
["","","","","",""]
["","","","","",""]
["","","","","",""]
["","","","","",""]
["","","","","",""]
["","","","","",""]
["","","","","",""]
["","","","","",""]
["","","","","",""]
["","","","","",""]
["","","","","",""]
["","","","","",""]
["","","","","",""]
["","","","","",""]
["","","","","",""]
["","","","","",""]
["","","","","",""]
["","","","","",""]
["","","","","",""]
["","","","","",""]
["","","","","",""]
["","","","","",""]
["","","","","",""]
["","","","","",""]
["","","","","",""]
[{"$f":"IF(AND(ISBLANK(J2185),ISBLANK(K2185),ISBLANK(L2185),ISBLANK(M2185),ISBLANK(N2185)),\"\",CONCATENATE(TRIM(J2185), \"_\",TRIM(K2185), \"_\",TRIM(L2185), \"_\",TRIM(M2185),\"_\",TRIM(N2185)))","v":""},{"$f":"IF(AND(ISBLANK($I2185),ISBLANK($J2185),ISBLANK($K2185),ISBLANK($L2185)),\"\",CONCATENATE(TRIM($I2185),\"_\",TRIM($J2185),\"_\",TRIM($K2185),\"_\",TRIM($L2185)))","v":""},{"$f":"IF(AND(ISBLANK($O2185),ISBLANK($I2185),ISBLANK($J2185),ISBLANK($K2185),ISBLANK($L2185)),\"\",IF(O2185=\"Oui\",CONCATENATE(TRIM($I2185),\"_\",TRIM($J2185),\"_\",TRIM($K2185),\"_\",TRIM($L2185)),\"\"))","v":""},{"$f":"IF(AND(ISBLANK(G2185),ISBLANK(H2185)),\"\",CONCATENATE(TRIM(G2185),\"_\",TRIM(H2185),\"_\",TRIM(B2185)))","v":""},{"$f":"IF(AND(ISBLANK(J2185),ISBLANK(K2185),ISBLANK(L2185)),\"\",CONCATENATE(TRIM(J2185),\" \",TRIM(K2185),\" \",TRIM(L2185)))","v":""},{"$f":"IF(O2185=\"Oui\",1,IF(ISBLANK(O2185),\"\",0))","v":""}]
["","","","","",""]
["","","","","",""]
["","","","","",""]
["","","","","",""]
["","","","","",""]
["","","","","",""]
["","","","","",""]
["","","","","",""]
["","","","","",""]
["","","","","",""]
["","","","","",""]
["","","","","",""]
["","","","","",""]
["","","","","",""]
["","","","","",""]
["","","","","",""]
["","","","","",""]
["","","","","",""]
["","","","","",""]
["","","","","",""]
["","","","","",""]
["","","","","",""]
["","","","","",""]
["","","","","",""]
["","","","","",""]
["","","","","",""]
["","","","","",""]
["","","","","",""]
["","","","","",""]
["","","","","",""]
["","","","","",""]
["","","","","",""]
["","","","","",""]
["","","","","",""]
["","","","","",""]
["","","","","",""]
["","","","","",""]
["","","","","",""]
["","","","","",""]
["","","","","",""]
["","","","","",""]
["","","","","",""]
["","","","","",""]
["","","","","",""]
["","","","","",""]
["","","","","",""]
["","","","","",""]
["","","","","",""]
["","","","","",""]
["","","","","",""]
["","","","","",""]
["","","","","",""]
["","","","","",""]
["","","","","",""]
["","","","","",""]
["","","","","",""]
["","","","","",""]
["","","","","",""]
["","","","","",""]
["","","","","",""]
["","","","","",""]
["","","","","",""]
["","","","","",""]
[{"$f":"IF(AND(ISBLANK(J2249),ISBLANK(K2249),ISBLANK(L2249),ISBLANK(M2249),ISBLANK(N2249)),\"\",CONCATENATE(TRIM(J2249), \"_\",TRIM(K2249), \"_\",TRIM(L2249), \"_\",TRIM(M2249),\"_\",TRIM(N2249)))","v":""},{"$f":"IF(AND(ISBLANK($I2249),ISBLANK($J2249),ISBLANK($K2249),ISBLANK($L2249)),\"\",CONCATENATE(TRIM($I2249),\"_\",TRIM($J2249),\"_\",TRIM($K2249),\"_\",TRIM($L2249)))","v":""},{"$f":"IF(AND(ISBLANK($O2249),ISBLANK($I2249),ISBLANK($J2249),ISBLANK($K2249),ISBLANK($L2249)),\"\",IF(O2249=\"Oui\",CONCATENATE(TRIM($I2249),\"_\",TRIM($J2249),\"_\",TRIM($K2249),\"_\",TRIM($L2249)),\"\"))","v":""},{"$f":"IF(AND(ISBLANK(G2249),ISBLANK(H2249)),\"\",CONCATENATE(TRIM(G2249),\"_\",TRIM(H2249),\"_\",TRIM(B2249)))","v":""},{"$f":"IF(AND(ISBLANK(J2249),ISBLANK(K2249),ISBLANK(L2249)),\"\",CONCATENATE(TRIM(J2249),\" \",TRIM(K2249),\" \",TRIM(L2249)))","v":""},{"$f":"IF(O2249=\"Oui\",1,IF(ISBLANK(O2249),\"\",0))","v":""}]
["","","","","",""]
["","","","","",""]
["","","","","",""]
["","","","","",""]
["","","","","",""]
["","","","","",""]
["","","","","",""]
["","","","","",""]
["","","","","",""]
["","","","","",""]
["","","","","",""]
["","","","","",""]
["","","","","",""]
["","","","","",""]
["","","","","",""]
["","","","","",""]
["","","","","",""]
["","","","","",""]
["","","","","",""]
["","","","","",""]
["","","","","",""]
["","","","","",""]
["","","","","",""]
["","","","","",""]
["","","","","",""]
["","","","","",""]
["","","","","",""]
["","","","","",""]
["","","","","",""]
["","","","","",""]
["","","","","",""]
["","","","","",""]
["","","","","",""]
["","","","","",""]
["","","","","",""]
["","","","","",""]
["","","","","",""]
["","","","","",""]
["","","","","",""]
["","","","","",""]
["","","","","",""]
["","","","","",""]
["","","","","",""]
["","","","","",""]
["","","","","",""]
["","","","","",""]
["","","","","",""]
["","","","","",""]
["","","","","",""]
["","","","","",""]
["","","","","",""]
["","","","","",""]
["","","","","",""]
["","","","","",""]
["","","","","",""]
["","","","","",""]
["","","","","",""]
["","","","","",""]
["","","","","",""]
["","","","","",""]
["","","","","",""]
["","","","","",""]
["","","","","",""]
[{"$f":"IF(AND(ISBLANK(J2313),ISBLANK(K2313),ISBLANK(L2313),ISBLANK(M2313),ISBLANK(N2313)),\"\",CONCATENATE(TRIM(J2313), \"_\",TRIM(K2313), \"_\",TRIM(L2313), \"_\",TRIM(M2313),\"_\",TRIM(N2313)))","v":""},{"$f":"IF(AND(ISBLANK($I2313),ISBLANK($J2313),ISBLANK($K2313),ISBLANK($L2313)),\"\",CONCATENATE(TRIM($I2313),\"_\",TRIM($J2313),\"_\",TRIM($K2313),\"_\",TRIM($L2313)))","v":""},{"$f":"IF(AND(ISBLANK($O2313),ISBLANK($I2313),ISBLANK($J2313),ISBLANK($K2313),ISBLANK($L2313)),\"\",IF(O2313=\"Oui\",CONCATENATE(TRIM($I2313),\"_\",TRIM($J2313),\"_\",TRIM($K2313),\"_\",TRIM($L2313)),\"\"))","v":""},{"$f":"IF(AND(ISBLANK(G2313),ISBLANK(H2313)),\"\",CONCATENATE(TRIM(G2313),\"_\",TRIM(H2313),\"_\",TRIM(B2313)))","v":""},{"$f":"IF(AND(ISBLANK(J2313),ISBLANK(K2313),ISBLANK(L2313)),\"\",CONCATENATE(TRIM(J2313),\" \",TRIM(K2313),\" \",TRIM(L2313)))","v":""},{"$f":"IF(O2313=\"Oui\",1,IF(ISBLANK(O2313),\"\",0))","v":""}]
["","","","","",""]
["","","","","",""]
["","","","","",""]
["","","","","",""]
["","","","","",""]
["","","","","",""]
["","","","","",""]
["","","","","",""]
["","","","","",""]
["","","","","",""]
["","","","","",""]
["","","","","",""]
["","","","","",""]
["","","","","",""]
["","","","","",""]
["","","","","",""]
["","","","","",""]
["","","","","",""]
["","","","","",""]
["","","","","",""]
["","","","","",""]
["","","","","",""]
["","","","","",""]
["","","","","",""]
["","","","","",""]
["","","","","",""]
["","","","","",""]
["","","","","",""]
["","","","","",""]
["","","","","",""]
["","","","","",""]
["","","","","",""]
["","","","","",""]
["","","","","",""]
["","","","","",""]
["","","","","",""]
["","","","","",""]
["","","","","",""]
["","","","","",""]
["","","","","",""]
["","","","","",""]
["","","","","",""]
["","","","","",""]
["","","","","",""]
["","","","","",""]
["","","","","",""]
["","","","","",""]
["","","","","",""]
["","","","","",""]
["","","","","",""]
["","","","","",""]
["","","","","",""]
["","","","","",""]
["","","","","",""]
["","","","","",""]
["","","","","",""]
["","","","","",""]
["","","","","",""]
["","","","","",""]
["","","","","",""]
["","","","","",""]
["","","","","",""]
["","","","","",""]
[{"$f":"IF(AND(ISBLANK(J2377),ISBLANK(K2377),ISBLANK(L2377),ISBLANK(M2377),ISBLANK(N2377)),\"\",CONCATENATE(TRIM(J2377), \"_\",TRIM(K2377), \"_\",TRIM(L2377), \"_\",TRIM(M2377),\"_\",TRIM(N2377)))","v":""},{"$f":"IF(AND(ISBLANK($I2377),ISBLANK($J2377),ISBLANK($K2377),ISBLANK($L2377)),\"\",CONCATENATE(TRIM($I2377),\"_\",TRIM($J2377),\"_\",TRIM($K2377),\"_\",TRIM($L2377)))","v":""},{"$f":"IF(AND(ISBLANK($O2377),ISBLANK($I2377),ISBLANK($J2377),ISBLANK($K2377),ISBLANK($L2377)),\"\",IF(O2377=\"Oui\",CONCATENATE(TRIM($I2377),\"_\",TRIM($J2377),\"_\",TRIM($K2377),\"_\",TRIM($L2377)),\"\"))","v":""},{"$f":"IF(AND(ISBLANK(G2377),ISBLANK(H2377)),\"\",CONCATENATE(TRIM(G2377),\"_\",TRIM(H2377),\"_\",TRIM(B2377)))","v":""},{"$f":"IF(AND(ISBLANK(J2377),ISBLANK(K2377),ISBLANK(L2377)),\"\",CONCATENATE(TRIM(J2377),\" \",TRIM(K2377),\" \",TRIM(L2377)))","v":""},{"$f":"IF(O2377=\"Oui\",1,IF(ISBLANK(O2377),\"\",0))","v":""}]
["","","","","",""]
["","","","","",""]
["","","","","",""]
["","","","","",""]
["","","","","",""]
["","","","","",""]
["","","","","",""]
["","","","","",""]
["","","","","",""]
["","","","","",""]
["","","","","",""]
["","","","","",""]
["","","","","",""]
["","","","","",""]
["","","","","",""]
["","","","","",""]
["","","","","",""]
["","","","","",""]
["","","","","",""]
["","","","","",""]
["","","","","",""]
["","","","","",""]
["","","","","",""]
["","","","","",""]
["","","","","",""]
["","","","","",""]
["","","","","",""]
["","","","","",""]
["","","","","",""]
["","","","","",""]
["","","","","",""]
["","","","","",""]
["","","","","",""]
["","","","","",""]
["","","","","",""]
["","","","","",""]
["","","","","",""]
["","","","","",""]
["","","","","",""]
["","","","","",""]
["","","","","",""]
["","","","","",""]
["","","","","",""]
["","","","","",""]
["","","","","",""]
["","","","","",""]
["","","","","",""]
["","","","","",""]
["","","","","",""]
["","","","","",""]
["","","","","",""]
["","","","","",""]
["","","","","",""]
["","","","","",""]
["","","","","",""]
["","","","","",""]
["","","","","",""]
["","","","","",""]
["","","","","",""]
["","","","","",""]
["","","","","",""]
["","","","","",""]
["","","","","",""]
[{"$f":"IF(AND(ISBLANK(J2441),ISBLANK(K2441),ISBLANK(L2441),ISBLANK(M2441),ISBLANK(N2441)),\"\",CONCATENATE(TRIM(J2441), \"_\",TRIM(K2441), \"_\",TRIM(L2441), \"_\",TRIM(M2441),\"_\",TRIM(N2441)))","v":""},{"$f":"IF(AND(ISBLANK($I2441),ISBLANK($J2441),ISBLANK($K2441),ISBLANK($L2441)),\"\",CONCATENATE(TRIM($I2441),\"_\",TRIM($J2441),\"_\",TRIM($K2441),\"_\",TRIM($L2441)))","v":""},{"$f":"IF(AND(ISBLANK($O2441),ISBLANK($I2441),ISBLANK($J2441),ISBLANK($K2441),ISBLANK($L2441)),\"\",IF(O2441=\"Oui\",CONCATENATE(TRIM($I2441),\"_\",TRIM($J2441),\"_\",TRIM($K2441),\"_\",TRIM($L2441)),\"\"))","v":""},{"$f":"IF(AND(ISBLANK(G2441),ISBLANK(H2441)),\"\",CONCATENATE(TRIM(G2441),\"_\",TRIM(H2441),\"_\",TRIM(B2441)))","v":""},{"$f":"IF(AND(ISBLANK(J2441),ISBLANK(K2441),ISBLANK(L2441)),\"\",CONCATENATE(TRIM(J2441),\" \",TRIM(K2441),\" \",TRIM(L2441)))","v":""},{"$f":"IF(O2441=\"Oui\",1,IF(ISBLANK(O2441),\"\",0))","v":""}]
["","","","","",""]
["","","","","",""]
["","","","","",""]
["","","","","",""]
["","","","","",""]
["","","","","",""]
["","","","","",""]
["","","","","",""]
["","","","","",""]
["","","","","",""]
["","","","","",""]
["","","","","",""]
["","","","","",""]
["","","","","",""]
["","","","","",""]
["","","","","",""]
["","","","","",""]
["","","","","",""]
["","","","","",""]
["","","","","",""]
["","","","","",""]
["","","","","",""]
["","","","","",""]
["","","","","",""]
["","","","","",""]
["","","","","",""]
["","","","","",""]
["","","","","",""]
["","","","","",""]
["","","","","",""]
["","","","","",""]
["","","","","",""]
["","","","","",""]
["","","","","",""]
["","","","","",""]
["","","","","",""]
["","","","","",""]
["","","","","",""]
["","","","","",""]
["","","","","",""]
["","","","","",""]
["","","","","",""]
["","","","","",""]
["","","","","",""]
["","","","","",""]
["","","","","",""]
["","","","","",""]
["","","","","",""]
["","","","","",""]
["","","","","",""]
["","","","","",""]
["","","","","",""]
["","","","","",""]
["","","","","",""]
["","","","","",""]
["","","","","",""]
["","","","","",""]
["","","","","",""]
["","","","","",""]
["","","","","",""]
["","","","","",""]
["","","","","",""]
["","","","","",""]
[{"$f":"IF(AND(ISBLANK(J2505),ISBLANK(K2505),ISBLANK(L2505),ISBLANK(M2505),ISBLANK(N2505)),\"\",CONCATENATE(TRIM(J2505), \"_\",TRIM(K2505), \"_\",TRIM(L2505), \"_\",TRIM(M2505),\"_\",TRIM(N2505)))","v":""},{"$f":"IF(AND(ISBLANK($I2505),ISBLANK($J2505),ISBLANK($K2505),ISBLANK($L2505)),\"\",CONCATENATE(TRIM($I2505),\"_\",TRIM($J2505),\"_\",TRIM($K2505),\"_\",TRIM($L2505)))","v":""},{"$f":"IF(AND(ISBLANK($O2505),ISBLANK($I2505),ISBLANK($J2505),ISBLANK($K2505),ISBLANK($L2505)),\"\",IF(O2505=\"Oui\",CONCATENATE(TRIM($I2505),\"_\",TRIM($J2505),\"_\",TRIM($K2505),\"_\",TRIM($L2505)),\"\"))","v":""},{"$f":"IF(AND(ISBLANK(G2505),ISBLANK(H2505)),\"\",CONCATENATE(TRIM(G2505),\"_\",TRIM(H2505),\"_\",TRIM(B2505)))","v":""},{"$f":"IF(AND(ISBLANK(J2505),ISBLANK(K2505),ISBLANK(L2505)),\"\",CONCATENATE(TRIM(J2505),\" \",TRIM(K2505),\" \",TRIM(L2505)))","v":""},{"$f":"IF(O2505=\"Oui\",1,IF(ISBLANK(O2505),\"\",0))","v":""}]
["","","","","",""]
["","","","","",""]
["","","","","",""]
["","","","","",""]
["","","","","",""]
["","","","","",""]
["","","","","",""]
["","","","","",""]
["","","","","",""]
["","","","","",""]
["","","","","",""]
["","","","","",""]
["","","","","",""]
["","","","","",""]
["","","","","",""]
["","","","","",""]
["","","","","",""]
["","","","","",""]
["","","","","",""]
["","","","","",""]
["","","","","",""]
["","","","","",""]
["","","","","",""]
["","","","","",""]
["","","","","",""]
["","","","","",""]
["","","","","",""]
["","","","","",""]
["","","","","",""]
["","","","","",""]
["","","","","",""]
["","","","","",""]
["","","","","",""]
["","","","","",""]
["","","","","",""]
["","","","","",""]
["","","","","",""]
["","","","","",""]
["","","","","",""]
["","","","","",""]
["","","","","",""]
["","","","","",""]
["","","","","",""]
["","","","","",""]
["","","","","",""]
["","","","","",""]
["","","","","",""]
["","","","","",""]
["","","","","",""]
["","","","","",""]
["","","","","",""]
["","","","","",""]
["","","","","",""]
["","","","","",""]
["","","","","",""]
["","","","","",""]
["","","","","",""]
["","","","","",""]
["","","","","",""]
["","","","","",""]
["","","","","",""]
["","","","","",""]
["","","","","",""]
[{"$f":"IF(AND(ISBLANK(J2569),ISBLANK(K2569),ISBLANK(L2569),ISBLANK(M2569),ISBLANK(N2569)),\"\",CONCATENATE(TRIM(J2569), \"_\",TRIM(K2569), \"_\",TRIM(L2569), \"_\",TRIM(M2569),\"_\",TRIM(N2569)))","v":""},{"$f":"IF(AND(ISBLANK($I2569),ISBLANK($J2569),ISBLANK($K2569),ISBLANK($L2569)),\"\",CONCATENATE(TRIM($I2569),\"_\",TRIM($J2569),\"_\",TRIM($K2569),\"_\",TRIM($L2569)))","v":""},{"$f":"IF(AND(ISBLANK($O2569),ISBLANK($I2569),ISBLANK($J2569),ISBLANK($K2569),ISBLANK($L2569)),\"\",IF(O2569=\"Oui\",CONCATENATE(TRIM($I2569),\"_\",TRIM($J2569),\"_\",TRIM($K2569),\"_\",TRIM($L2569)),\"\"))","v":""},{"$f":"IF(AND(ISBLANK(G2569),ISBLANK(H2569)),\"\",CONCATENATE(TRIM(G2569),\"_\",TRIM(H2569),\"_\",TRIM(B2569)))","v":""},{"$f":"IF(AND(ISBLANK(J2569),ISBLANK(K2569),ISBLANK(L2569)),\"\",CONCATENATE(TRIM(J2569),\" \",TRIM(K2569),\" \",TRIM(L2569)))","v":""},{"$f":"IF(O2569=\"Oui\",1,IF(ISBLANK(O2569),\"\",0))","v":""}]
["","","","","",""]
["","","","","",""]
["","","","","",""]
["","","","","",""]
["","","","","",""]
["","","","","",""]
["","","","","",""]
["","","","","",""]
["","","","","",""]
["","","","","",""]
["","","","","",""]
["","","","","",""]
["","","","","",""]
["","","","","",""]
["","","","","",""]
["","","","","",""]
["","","","","",""]
["","","","","",""]
["","","","","",""]
["","","","","",""]
["","","","","",""]
["","","","","",""]
["","","","","",""]
["","","","","",""]
["","","","","",""]
["","","","","",""]
["","","","","",""]
["","","","","",""]
["","","","","",""]
["","","","","",""]
["","","","","",""]
["","","","","",""]
["","","","","",""]
["","","","","",""]
["","","","","",""]
["","","","","",""]
["","","","","",""]
["","","","","",""]
["","","","","",""]
["","","","","",""]
["","","","","",""]
["","","","","",""]
["","","","","",""]
["","","","","",""]
["","","","","",""]
["","","","","",""]
["","","","","",""]
["","","","","",""]
["","","","","",""]
["","","","","",""]
["","","","","",""]
["","","","","",""]
["","","","","",""]
["","","","","",""]
["","","","","",""]
["","","","","",""]
["","","","","",""]
["","","","","",""]
["","","","","",""]
["","","","","",""]
["","","","","",""]
["","","","","",""]
["","","","","",""]
[{"$f":"IF(AND(ISBLANK(J2633),ISBLANK(K2633),ISBLANK(L2633),ISBLANK(M2633),ISBLANK(N2633)),\"\",CONCATENATE(TRIM(J2633), \"_\",TRIM(K2633), \"_\",TRIM(L2633), \"_\",TRIM(M2633),\"_\",TRIM(N2633)))","v":""},{"$f":"IF(AND(ISBLANK($I2633),ISBLANK($J2633),ISBLANK($K2633),ISBLANK($L2633)),\"\",CONCATENATE(TRIM($I2633),\"_\",TRIM($J2633),\"_\",TRIM($K2633),\"_\",TRIM($L2633)))","v":""},{"$f":"IF(AND(ISBLANK($O2633),ISBLANK($I2633),ISBLANK($J2633),ISBLANK($K2633),ISBLANK($L2633)),\"\",IF(O2633=\"Oui\",CONCATENATE(TRIM($I2633),\"_\",TRIM($J2633),\"_\",TRIM($K2633),\"_\",TRIM($L2633)),\"\"))","v":""},{"$f":"IF(AND(ISBLANK(G2633),ISBLANK(H2633)),\"\",CONCATENATE(TRIM(G2633),\"_\",TRIM(H2633),\"_\",TRIM(B2633)))","v":""},{"$f":"IF(AND(ISBLANK(J2633),ISBLANK(K2633),ISBLANK(L2633)),\"\",CONCATENATE(TRIM(J2633),\" \",TRIM(K2633),\" \",TRIM(L2633)))","v":""},{"$f":"IF(O2633=\"Oui\",1,IF(ISBLANK(O2633),\"\",0))","v":""}]
["","","","","",""]
["","","","","",""]
["","","","","",""]
["","","","","",""]
["","","","","",""]
["","","","","",""]
["","","","","",""]
["","","","","",""]
["","","","","",""]
["","","","","",""]
["","","","","",""]
["","","","","",""]
["","","","","",""]
["","","","","",""]
["","","","","",""]
["","","","","",""]
["","","","","",""]
["","","","","",""]
["","","","","",""]
["","","","","",""]
["","","","","",""]
["","","","","",""]
["","","","","",""]
["","","","","",""]
["","","","","",""]
["","","","","",""]
["","","","","",""]
["","","","","",""]
["","","","","",""]
["","","","","",""]
["","","","","",""]
["","","","","",""]
["","","","","",""]
["","","","","",""]
["","","","","",""]
["","","","","",""]
["","","","","",""]
["","","","","",""]
["","","","","",""]
["","","","","",""]
["","","","","",""]
["","","","","",""]
["","","","","",""]
["","","","","",""]
["","","","","",""]
["","","","","",""]
["","","","","",""]
["","","","","",""]
["","","","","",""]
["","","","","",""]
["","","","","",""]
["","","","","",""]
["","","","","",""]
["","","","","",""]
["","","","","",""]
["","","","","",""]
["","","","","",""]
["","","","","",""]
["","","","","",""]
["","","","","",""]
["","","","","",""]
["","","","","",""]
["","","","","",""]
[{"$f":"IF(AND(ISBLANK(J2697),ISBLANK(K2697),ISBLANK(L2697),ISBLANK(M2697),ISBLANK(N2697)),\"\",CONCATENATE(TRIM(J2697), \"_\",TRIM(K2697), \"_\",TRIM(L2697), \"_\",TRIM(M2697),\"_\",TRIM(N2697)))","v":""},{"$f":"IF(AND(ISBLANK($I2697),ISBLANK($J2697),ISBLANK($K2697),ISBLANK($L2697)),\"\",CONCATENATE(TRIM($I2697),\"_\",TRIM($J2697),\"_\",TRIM($K2697),\"_\",TRIM($L2697)))","v":""},{"$f":"IF(AND(ISBLANK($O2697),ISBLANK($I2697),ISBLANK($J2697),ISBLANK($K2697),ISBLANK($L2697)),\"\",IF(O2697=\"Oui\",CONCATENATE(TRIM($I2697),\"_\",TRIM($J2697),\"_\",TRIM($K2697),\"_\",TRIM($L2697)),\"\"))","v":""},{"$f":"IF(AND(ISBLANK(G2697),ISBLANK(H2697)),\"\",CONCATENATE(TRIM(G2697),\"_\",TRIM(H2697),\"_\",TRIM(B2697)))","v":""},{"$f":"IF(AND(ISBLANK(J2697),ISBLANK(K2697),ISBLANK(L2697)),\"\",CONCATENATE(TRIM(J2697),\" \",TRIM(K2697),\" \",TRIM(L2697)))","v":""},{"$f":"IF(O2697=\"Oui\",1,IF(ISBLANK(O2697),\"\",0))","v":""}]
["","","","","",""]
["","","","","",""]
["","","","","",""]
["","","","","",""]
["","","","","",""]
["","","","","",""]
["","","","","",""]
["","","","","",""]
["","","","","",""]
["","","","","",""]
["","","","","",""]
["","","","","",""]
["","","","","",""]
["","","","","",""]
["","","","","",""]
["","","","","",""]
["","","","","",""]
["","","","","",""]
["","","","","",""]
["","","","","",""]
["","","","","",""]
["","","","","",""]
["","","","","",""]
["","","","","",""]
["","","","","",""]
["","","","","",""]
["","","","","",""]
["","","","","",""]
["","","","","",""]
["","","","","",""]
["","","","","",""]
["","","","","",""]
["","","","","",""]
["","","","","",""]
["","","","","",""]
["","","","","",""]
["","","","","",""]
["","","","","",""]
["","","","","",""]
["","","","","",""]
["","","","","",""]
["","","","","",""]
["","","","","",""]
["","","","","",""]
["","","","","",""]
["","","","","",""]
["","","","","",""]
["","","","","",""]
["","","","","",""]
["","","","","",""]
["","","","","",""]
["","","","","",""]
["","","","","",""]
["","","","","",""]
["","","","","",""]
["","","","","",""]
["","","","","",""]
["","","","","",""]
["","","","","",""]
["","","","","",""]
["","","","","",""]
["","","","","",""]
["","","","","",""]
[{"$f":"IF(AND(ISBLANK(J2761),ISBLANK(K2761),ISBLANK(L2761),ISBLANK(M2761),ISBLANK(N2761)),\"\",CONCATENATE(TRIM(J2761), \"_\",TRIM(K2761), \"_\",TRIM(L2761), \"_\",TRIM(M2761),\"_\",TRIM(N2761)))","v":""},{"$f":"IF(AND(ISBLANK($I2761),ISBLANK($J2761),ISBLANK($K2761),ISBLANK($L2761)),\"\",CONCATENATE(TRIM($I2761),\"_\",TRIM($J2761),\"_\",TRIM($K2761),\"_\",TRIM($L2761)))","v":""},{"$f":"IF(AND(ISBLANK($O2761),ISBLANK($I2761),ISBLANK($J2761),ISBLANK($K2761),ISBLANK($L2761)),\"\",IF(O2761=\"Oui\",CONCATENATE(TRIM($I2761),\"_\",TRIM($J2761),\"_\",TRIM($K2761),\"_\",TRIM($L2761)),\"\"))","v":""},{"$f":"IF(AND(ISBLANK(G2761),ISBLANK(H2761)),\"\",CONCATENATE(TRIM(G2761),\"_\",TRIM(H2761),\"_\",TRIM(B2761)))","v":""},{"$f":"IF(AND(ISBLANK(J2761),ISBLANK(K2761),ISBLANK(L2761)),\"\",CONCATENATE(TRIM(J2761),\" \",TRIM(K2761),\" \",TRIM(L2761)))","v":""},{"$f":"IF(O2761=\"Oui\",1,IF(ISBLANK(O2761),\"\",0))","v":""}]
["","","","","",""]
["","","","","",""]
["","","","","",""]
["","","","","",""]
["","","","","",""]
["","","","","",""]
["","","","","",""]
["","","","","",""]
["","","","","",""]
["","","","","",""]
["","","","","",""]
["","","","","",""]
["","","","","",""]
["","","","","",""]
["","","","","",""]
["","","","","",""]
["","","","","",""]
["","","","","",""]
["","","","","",""]
["","","","","",""]
["","","","","",""]
["","","","","",""]
["","","","","",""]
["","","","","",""]
["","","","","",""]
["","","","","",""]
["","","","","",""]
["","","","","",""]
["","","","","",""]
["","","","","",""]
["","","","","",""]
["","","","","",""]
["","","","","",""]
["","","","","",""]
["","","","","",""]
["","","","","",""]
["","","","","",""]
["","","","","",""]
["","","","","",""]
["","","","","",""]
["","","","","",""]
["","","","","",""]
["","","","","",""]
["","","","","",""]
["","","","","",""]
["","","","","",""]
["","","","","",""]
["","","","","",""]
["","","","","",""]
["","","","","",""]
["","","","","",""]
["","","","","",""]
["","","","","",""]
["","","","","",""]
["","","","","",""]
["","","","","",""]
["","","","","",""]
["","","","","",""]
["","","","","",""]
["","","","","",""]
["","","","","",""]
["","","","","",""]
["","","","","",""]
[{"$f":"IF(AND(ISBLANK(J2825),ISBLANK(K2825),ISBLANK(L2825),ISBLANK(M2825),ISBLANK(N2825)),\"\",CONCATENATE(TRIM(J2825), \"_\",TRIM(K2825), \"_\",TRIM(L2825), \"_\",TRIM(M2825),\"_\",TRIM(N2825)))","v":""},{"$f":"IF(AND(ISBLANK($I2825),ISBLANK($J2825),ISBLANK($K2825),ISBLANK($L2825)),\"\",CONCATENATE(TRIM($I2825),\"_\",TRIM($J2825),\"_\",TRIM($K2825),\"_\",TRIM($L2825)))","v":""},{"$f":"IF(AND(ISBLANK($O2825),ISBLANK($I2825),ISBLANK($J2825),ISBLANK($K2825),ISBLANK($L2825)),\"\",IF(O2825=\"Oui\",CONCATENATE(TRIM($I2825),\"_\",TRIM($J2825),\"_\",TRIM($K2825),\"_\",TRIM($L2825)),\"\"))","v":""},{"$f":"IF(AND(ISBLANK(G2825),ISBLANK(H2825)),\"\",CONCATENATE(TRIM(G2825),\"_\",TRIM(H2825),\"_\",TRIM(B2825)))","v":""},{"$f":"IF(AND(ISBLANK(J2825),ISBLANK(K2825),ISBLANK(L2825)),\"\",CONCATENATE(TRIM(J2825),\" \",TRIM(K2825),\" \",TRIM(L2825)))","v":""},{"$f":"IF(O2825=\"Oui\",1,IF(ISBLANK(O2825),\"\",0))","v":""}]
["","","","","",""]
["","","","","",""]
["","","","","",""]
["","","","","",""]
["","","","","",""]
["","","","","",""]
["","","","","",""]
["","","","","",""]
["","","","","",""]
["","","","","",""]
["","","","","",""]
["","","","","",""]
["","","","","",""]
["","","","","",""]
["","","","","",""]
["","","","","",""]
["","","","","",""]
["","","","","",""]
["","","","","",""]
["","","","","",""]
["","","","","",""]
["","","","","",""]
["","","","","",""]
["","","","","",""]
["","","","","",""]
["","","","","",""]
["","","","","",""]
["","","","","",""]
["","","","","",""]
["","","","","",""]
["","","","","",""]
["","","","","",""]
["","","","","",""]
["","","","","",""]
["","","","","",""]
["","","","","",""]
["","","","","",""]
["","","","","",""]
["","","","","",""]
["","","","","",""]
["","","","","",""]
["","","","","",""]
["","","","","",""]
["","","","","",""]
["","","","","",""]
["","","","","",""]
["","","","","",""]
["","","","","",""]
["","","","","",""]
["","","","","",""]
["","","","","",""]
["","","","","",""]
["","","","","",""]
["","","","","",""]
["","","","","",""]
["","","","","",""]
["","","","","",""]
["","","","","",""]
["","","","","",""]
["","","","","",""]
["","","","","",""]
["","","","","",""]
["","","","","",""]
[{"$f":"IF(AND(ISBLANK(J2889),ISBLANK(K2889),ISBLANK(L2889),ISBLANK(M2889),ISBLANK(N2889)),\"\",CONCATENATE(TRIM(J2889), \"_\",TRIM(K2889), \"_\",TRIM(L2889), \"_\",TRIM(M2889),\"_\",TRIM(N2889)))","v":""},{"$f":"IF(AND(ISBLANK($I2889),ISBLANK($J2889),ISBLANK($K2889),ISBLANK($L2889)),\"\",CONCATENATE(TRIM($I2889),\"_\",TRIM($J2889),\"_\",TRIM($K2889),\"_\",TRIM($L2889)))","v":""},{"$f":"IF(AND(ISBLANK($O2889),ISBLANK($I2889),ISBLANK($J2889),ISBLANK($K2889),ISBLANK($L2889)),\"\",IF(O2889=\"Oui\",CONCATENATE(TRIM($I2889),\"_\",TRIM($J2889),\"_\",TRIM($K2889),\"_\",TRIM($L2889)),\"\"))","v":""},{"$f":"IF(AND(ISBLANK(G2889),ISBLANK(H2889)),\"\",CONCATENATE(TRIM(G2889),\"_\",TRIM(H2889),\"_\",TRIM(B2889)))","v":""},{"$f":"IF(AND(ISBLANK(J2889),ISBLANK(K2889),ISBLANK(L2889)),\"\",CONCATENATE(TRIM(J2889),\" \",TRIM(K2889),\" \",TRIM(L2889)))","v":""},{"$f":"IF(O2889=\"Oui\",1,IF(ISBLANK(O2889),\"\",0))","v":""}]
["","","","","",""]
["","","","","",""]
["","","","","",""]
["","","","","",""]
["","","","","",""]
["","","","","",""]
["","","","","",""]
["","","","","",""]
["","","","","",""]
["","","","","",""]
["","","","","",""]
["","","","","",""]
["","","","","",""]
["","","","","",""]
["","","","","",""]
["","","","","",""]
["","","","","",""]
["","","","","",""]
["","","","","",""]
["","","","","",""]
["","","","","",""]
["","","","","",""]
["","","","","",""]
["","","","","",""]
["","","","","",""]
["","","","","",""]
["","","","","",""]
["","","","","",""]
["","","","","",""]
["","","","","",""]
["","","","","",""]
["","","","","",""]
["","","","","",""]
["","","","","",""]
["","","","","",""]
["","","","","",""]
["","","","","",""]
["","","","","",""]
["","","","","",""]
["","","","","",""]
["","","","","",""]
["","","","","",""]
["","","","","",""]
["","","","","",""]
["","","","","",""]
["","","","","",""]
["","","","","",""]
["","","","","",""]
["","","","","",""]
["","","","","",""]
["","","","","",""]
["","","","","",""]
["","","","","",""]
["","","","","",""]
["","","","","",""]
["","","","","",""]
["","","","","",""]
["","","","","",""]
["","","","","",""]
["","","","","",""]
["","","","","",""]
["","","","","",""]
["","","","","",""]
[{"$f":"IF(AND(ISBLANK(J2953),ISBLANK(K2953),ISBLANK(L2953),ISBLANK(M2953),ISBLANK(N2953)),\"\",CONCATENATE(TRIM(J2953), \"_\",TRIM(K2953), \"_\",TRIM(L2953), \"_\",TRIM(M2953),\"_\",TRIM(N2953)))","v":""},{"$f":"IF(AND(ISBLANK($I2953),ISBLANK($J2953),ISBLANK($K2953),ISBLANK($L2953)),\"\",CONCATENATE(TRIM($I2953),\"_\",TRIM($J2953),\"_\",TRIM($K2953),\"_\",TRIM($L2953)))","v":""},{"$f":"IF(AND(ISBLANK($O2953),ISBLANK($I2953),ISBLANK($J2953),ISBLANK($K2953),ISBLANK($L2953)),\"\",IF(O2953=\"Oui\",CONCATENATE(TRIM($I2953),\"_\",TRIM($J2953),\"_\",TRIM($K2953),\"_\",TRIM($L2953)),\"\"))","v":""},{"$f":"IF(AND(ISBLANK(G2953),ISBLANK(H2953)),\"\",CONCATENATE(TRIM(G2953),\"_\",TRIM(H2953),\"_\",TRIM(B2953)))","v":""},{"$f":"IF(AND(ISBLANK(J2953),ISBLANK(K2953),ISBLANK(L2953)),\"\",CONCATENATE(TRIM(J2953),\" \",TRIM(K2953),\" \",TRIM(L2953)))","v":""},{"$f":"IF(O2953=\"Oui\",1,IF(ISBLANK(O2953),\"\",0))","v":""}]
["","","","","",""]
["","","","","",""]
["","","","","",""]
["","","","","",""]
["","","","","",""]
["","","","","",""]
["","","","","",""]
["","","","","",""]
["","","","","",""]
["","","","","",""]
["","","","","",""]
["","","","","",""]
["","","","","",""]
["","","","","",""]
["","","","","",""]
["","","","","",""]
["","","","","",""]
["","","","","",""]
["","","","","",""]
["","","","","",""]
["","","","","",""]
["","","","","",""]
["","","","","",""]
["","","","","",""]
["","","","","",""]
["","","","","",""]
["","","","","",""]
["","","","","",""]
["","","","","",""]
["","","","","",""]
["","","","","",""]
["","","","","",""]
["","","","","",""]
["","","","","",""]
["","","","","",""]
["","","","","",""]
["","","","","",""]
["","","","","",""]
["","","","","",""]
["","","","","",""]
["","","","","",""]
["","","","","",""]
["","","","","",""]
["","","","","",""]
["","","","","",""]
["","","","","",""]
["","","","","",""]
["","","","","",""]
["","","","","",""]
["","","","","",""]
["","","","","",""]
["","","","","",""]
["","","","","",""]
["","","","","",""]
["","","","","",""]
["","","","","",""]
["","","","","",""]
["","","","","",""]
["","","","","",""]
["","","","","",""]
["","","","","",""]
["","","","","",""]
["","","","","",""]
[{"$f":"IF(AND(ISBLANK(J3017),ISBLANK(K3017),ISBLANK(L3017),ISBLANK(M3017),ISBLANK(N3017)),\"\",CONCATENATE(TRIM(J3017), \"_\",TRIM(K3017), \"_\",TRIM(L3017), \"_\",TRIM(M3017),\"_\",TRIM(N3017)))","v":""},{"$f":"IF(AND(ISBLANK($I3017),ISBLANK($J3017),ISBLANK($K3017),ISBLANK($L3017)),\"\",CONCATENATE(TRIM($I3017),\"_\",TRIM($J3017),\"_\",TRIM($K3017),\"_\",TRIM($L3017)))","v":""},{"$f":"IF(AND(ISBLANK($O3017),ISBLANK($I3017),ISBLANK($J3017),ISBLANK($K3017),ISBLANK($L3017)),\"\",IF(O3017=\"Oui\",CONCATENATE(TRIM($I3017),\"_\",TRIM($J3017),\"_\",TRIM($K3017),\"_\",TRIM($L3017)),\"\"))","v":""},{"$f":"IF(AND(ISBLANK(G3017),ISBLANK(H3017)),\"\",CONCATENATE(TRIM(G3017),\"_\",TRIM(H3017),\"_\",TRIM(B3017)))","v":""},{"$f":"IF(AND(ISBLANK(J3017),ISBLANK(K3017),ISBLANK(L3017)),\"\",CONCATENATE(TRIM(J3017),\" \",TRIM(K3017),\" \",TRIM(L3017)))","v":""},{"$f":"IF(O3017=\"Oui\",1,IF(ISBLANK(O3017),\"\",0))","v":""}]
["","","","","",""]
["","","","","",""]
["","","","","",""]
["","","","","",""]
["","","","","",""]
["","","","","",""]
["","","","","",""]
["","","","","",""]
["","","","","",""]
["","","","","",""]
["","","","","",""]
["","","","","",""]
["","","","","",""]
["","","","","",""]
["","","","","",""]
["","","","","",""]
["","","","","",""]
["","","","","",""]
["","","","","",""]
["","","","","",""]
["","","","","",""]
["","","","","",""]
["","","","","",""]
["","","","","",""]
["","","","","",""]
["","","","","",""]
["","","","","",""]
["","","","","",""]
["","","","","",""]
["","","","","",""]
["","","","","",""]
["","","","","",""]
["","","","","",""]
["","","","","",""]
["","","","","",""]
["","","","","",""]
["","","","","",""]
["","","","","",""]
["","","","","",""]
["","","","","",""]
["","","","","",""]
["","","","","",""]
["","","","","",""]
["","","","","",""]
["","","","","",""]
["","","","","",""]
["","","","","",""]
["","","","","",""]
["","","","","",""]
["","","","","",""]
["","","","","",""]
["","","","","",""]
["","","","","",""]
["","","","","",""]
["","","","","",""]
["","","","","",""]
["","","","","",""]
["","","","","",""]
["","","","","",""]
["","","","","",""]
["","","","","",""]
["","","","","",""]
["","","","","",""]
[{"$f":"IF(AND(ISBLANK(J3081),ISBLANK(K3081),ISBLANK(L3081),ISBLANK(M3081),ISBLANK(N3081)),\"\",CONCATENATE(TRIM(J3081), \"_\",TRIM(K3081), \"_\",TRIM(L3081), \"_\",TRIM(M3081),\"_\",TRIM(N3081)))","v":""},{"$f":"IF(AND(ISBLANK($I3081),ISBLANK($J3081),ISBLANK($K3081),ISBLANK($L3081)),\"\",CONCATENATE(TRIM($I3081),\"_\",TRIM($J3081),\"_\",TRIM($K3081),\"_\",TRIM($L3081)))","v":""},{"$f":"IF(AND(ISBLANK($O3081),ISBLANK($I3081),ISBLANK($J3081),ISBLANK($K3081),ISBLANK($L3081)),\"\",IF(O3081=\"Oui\",CONCATENATE(TRIM($I3081),\"_\",TRIM($J3081),\"_\",TRIM($K3081),\"_\",TRIM($L3081)),\"\"))","v":""},{"$f":"IF(AND(ISBLANK(G3081),ISBLANK(H3081)),\"\",CONCATENATE(TRIM(G3081),\"_\",TRIM(H3081),\"_\",TRIM(B3081)))","v":""},{"$f":"IF(AND(ISBLANK(J3081),ISBLANK(K3081),ISBLANK(L3081)),\"\",CONCATENATE(TRIM(J3081),\" \",TRIM(K3081),\" \",TRIM(L3081)))","v":""},{"$f":"IF(O3081=\"Oui\",1,IF(ISBLANK(O3081),\"\",0))","v":""}]
["","","","","",""]
["","","","","",""]
["","","","","",""]
["","","","","",""]
["","","","","",""]
["","","","","",""]
["","","","","",""]
["","","","","",""]
["","","","","",""]
["","","","","",""]
["","","","","",""]
["","","","","",""]
["","","","","",""]
["","","","","",""]
["","","","","",""]
["","","","","",""]
["","","","","",""]
["","","","","",""]
["","","","","",""]
["","","","","",""]
["","","","","",""]
["","","","","",""]
["","","","","",""]
["","","","","",""]
["","","","","",""]
["","","","","",""]
["","","","","",""]
["","","","","",""]
["","","","","",""]
["","","","","",""]
["","","","","",""]
["","","","","",""]
["","","","","",""]
["","","","","",""]
["","","","","",""]
["","","","","",""]
["","","","","",""]
["","","","","",""]
["","","","","",""]
["","","","","",""]
["","","","","",""]
["","","","","",""]
["","","","","",""]
["","","","","",""]
["","","","","",""]
["","","","","",""]
["","","","","",""]
["","","","","",""]
["","","","","",""]
["","","","","",""]
["","","","","",""]
["","","","","",""]
["","","","","",""]
["","","","","",""]
["","","","","",""]
["","","","","",""]
["","","","","",""]
["","","","","",""]
["","","","","",""]
["","","","","",""]
["","","","","",""]
["","","","","",""]
["","","","","",""]
[{"$f":"IF(AND(ISBLANK(J3145),ISBLANK(K3145),ISBLANK(L3145),ISBLANK(M3145),ISBLANK(N3145)),\"\",CONCATENATE(TRIM(J3145), \"_\",TRIM(K3145), \"_\",TRIM(L3145), \"_\",TRIM(M3145),\"_\",TRIM(N3145)))","v":""},{"$f":"IF(AND(ISBLANK($I3145),ISBLANK($J3145),ISBLANK($K3145),ISBLANK($L3145)),\"\",CONCATENATE(TRIM($I3145),\"_\",TRIM($J3145),\"_\",TRIM($K3145),\"_\",TRIM($L3145)))","v":""},{"$f":"IF(AND(ISBLANK($O3145),ISBLANK($I3145),ISBLANK($J3145),ISBLANK($K3145),ISBLANK($L3145)),\"\",IF(O3145=\"Oui\",CONCATENATE(TRIM($I3145),\"_\",TRIM($J3145),\"_\",TRIM($K3145),\"_\",TRIM($L3145)),\"\"))","v":""},{"$f":"IF(AND(ISBLANK(G3145),ISBLANK(H3145)),\"\",CONCATENATE(TRIM(G3145),\"_\",TRIM(H3145),\"_\",TRIM(B3145)))","v":""},{"$f":"IF(AND(ISBLANK(J3145),ISBLANK(K3145),ISBLANK(L3145)),\"\",CONCATENATE(TRIM(J3145),\" \",TRIM(K3145),\" \",TRIM(L3145)))","v":""},{"$f":"IF(O3145=\"Oui\",1,IF(ISBLANK(O3145),\"\",0))","v":""}]
["","","","","",""]
["","","","","",""]
["","","","","",""]
["","","","","",""]
["","","","","",""]
["","","","","",""]
["","","","","",""]
["","","","","",""]
["","","","","",""]
["","","","","",""]
["","","","","",""]
["","","","","",""]
["","","","","",""]
["","","","","",""]
["","","","","",""]
["","","","","",""]
["","","","","",""]
["","","","","",""]
["","","","","",""]
["","","","","",""]
["","","","","",""]
["","","","","",""]
["","","","","",""]
["","","","","",""]
["","","","","",""]
["","","","","",""]
["","","","","",""]
["","","","","",""]
["","","","","",""]
["","","","","",""]
["","","","","",""]
["","","","","",""]
["","","","","",""]
["","","","","",""]
["","","","","",""]
["","","","","",""]
["","","","","",""]
["","","","","",""]
["","","","","",""]
["","","","","",""]
["","","","","",""]
["","","","","",""]
["","","","","",""]
["","","","","",""]
["","","","","",""]
["","","","","",""]
["","","","","",""]
["","","","","",""]
["","","","","",""]
["","","","","",""]
["","","","","",""]
["","","","","",""]
["","","","","",""]
["","","","","",""]
["","","","","",""]
["","","","","",""]
["","","","","",""]
["","","","","",""]
["","","","","",""]
["","","","","",""]
["","","","","",""]
["","","","","",""]
["","","","","",""]
[{"$f":"IF(AND(ISBLANK(J3209),ISBLANK(K3209),ISBLANK(L3209),ISBLANK(M3209),ISBLANK(N3209)),\"\",CONCATENATE(TRIM(J3209), \"_\",TRIM(K3209), \"_\",TRIM(L3209), \"_\",TRIM(M3209),\"_\",TRIM(N3209)))","v":""},{"$f":"IF(AND(ISBLANK($I3209),ISBLANK($J3209),ISBLANK($K3209),ISBLANK($L3209)),\"\",CONCATENATE(TRIM($I3209),\"_\",TRIM($J3209),\"_\",TRIM($K3209),\"_\",TRIM($L3209)))","v":""},{"$f":"IF(AND(ISBLANK($O3209),ISBLANK($I3209),ISBLANK($J3209),ISBLANK($K3209),ISBLANK($L3209)),\"\",IF(O3209=\"Oui\",CONCATENATE(TRIM($I3209),\"_\",TRIM($J3209),\"_\",TRIM($K3209),\"_\",TRIM($L3209)),\"\"))","v":""},{"$f":"IF(AND(ISBLANK(G3209),ISBLANK(H3209)),\"\",CONCATENATE(TRIM(G3209),\"_\",TRIM(H3209),\"_\",TRIM(B3209)))","v":""},{"$f":"IF(AND(ISBLANK(J3209),ISBLANK(K3209),ISBLANK(L3209)),\"\",CONCATENATE(TRIM(J3209),\" \",TRIM(K3209),\" \",TRIM(L3209)))","v":""},{"$f":"IF(O3209=\"Oui\",1,IF(ISBLANK(O3209),\"\",0))","v":""}]
["","","","","",""]
["","","","","",""]
["","","","","",""]
["","","","","",""]
["","","","","",""]
["","","","","",""]
["","","","","",""]
["","","","","",""]
["","","","","",""]
["","","","","",""]
["","","","","",""]
["","","","","",""]
["","","","","",""]
["","","","","",""]
["","","","","",""]
["","","","","",""]
["","","","","",""]
["","","","","",""]
["","","","","",""]
["","","","","",""]
["","","","","",""]
["","","","","",""]
["","","","","",""]
["","","","","",""]
["","","","","",""]
["","","","","",""]
["","","","","",""]
["","","","","",""]
["","","","","",""]
["","","","","",""]
["","","","","",""]
["","","","","",""]
["","","","","",""]
["","","","","",""]
["","","","","",""]
["","","","","",""]
["","","","","",""]
["","","","","",""]
["","","","","",""]
["","","","","",""]
["","","","","",""]
["","","","","",""]
["","","","","",""]
["","","","","",""]
["","","","","",""]
["","","","","",""]
["","","","","",""]
["","","","","",""]
["","","","","",""]
["","","","","",""]
["","","","","",""]
["","","","","",""]
["","","","","",""]
["","","","","",""]
["","","","","",""]
["","","","","",""]
["","","","","",""]
["","","","","",""]
["","","","","",""]
["","","","","",""]
["","","","","",""]
["","","","","",""]
["","","","","",""]
[{"$f":"IF(AND(ISBLANK(J3273),ISBLANK(K3273),ISBLANK(L3273),ISBLANK(M3273),ISBLANK(N3273)),\"\",CONCATENATE(TRIM(J3273), \"_\",TRIM(K3273), \"_\",TRIM(L3273), \"_\",TRIM(M3273),\"_\",TRIM(N3273)))","v":""},{"$f":"IF(AND(ISBLANK($I3273),ISBLANK($J3273),ISBLANK($K3273),ISBLANK($L3273)),\"\",CONCATENATE(TRIM($I3273),\"_\",TRIM($J3273),\"_\",TRIM($K3273),\"_\",TRIM($L3273)))","v":""},{"$f":"IF(AND(ISBLANK($O3273),ISBLANK($I3273),ISBLANK($J3273),ISBLANK($K3273),ISBLANK($L3273)),\"\",IF(O3273=\"Oui\",CONCATENATE(TRIM($I3273),\"_\",TRIM($J3273),\"_\",TRIM($K3273),\"_\",TRIM($L3273)),\"\"))","v":""},{"$f":"IF(AND(ISBLANK(G3273),ISBLANK(H3273)),\"\",CONCATENATE(TRIM(G3273),\"_\",TRIM(H3273),\"_\",TRIM(B3273)))","v":""},{"$f":"IF(AND(ISBLANK(J3273),ISBLANK(K3273),ISBLANK(L3273)),\"\",CONCATENATE(TRIM(J3273),\" \",TRIM(K3273),\" \",TRIM(L3273)))","v":""},{"$f":"IF(O3273=\"Oui\",1,IF(ISBLANK(O3273),\"\",0))","v":""}]
["","","","","",""]
["","","","","",""]
["","","","","",""]
["","","","","",""]
["","","","","",""]
["","","","","",""]
["","","","","",""]
["","","","","",""]
["","","","","",""]
["","","","","",""]
["","","","","",""]
["","","","","",""]
["","","","","",""]
["","","","","",""]
["","","","","",""]
["","","","","",""]
["","","","","",""]
["","","","","",""]
["","","","","",""]
["","","","","",""]
["","","","","",""]
["","","","","",""]
["","","","","",""]
["","","","","",""]
["","","","","",""]
["","","","","",""]
["","","","","",""]
["","","","","",""]
["","","","","",""]
["","","","","",""]
["","","","","",""]
["","","","","",""]
["","","","","",""]
["","","","","",""]
["","","","","",""]
["","","","","",""]
["","","","","",""]
["","","","","",""]
["","","","","",""]
["","","","","",""]
["","","","","",""]
["","","","","",""]
["","","","","",""]
["","","","","",""]
["","","","","",""]
["","","","","",""]
["","","","","",""]
["","","","","",""]
["","","","","",""]
["","","","","",""]
["","","","","",""]
["","","","","",""]
["","","","","",""]
["","","","","",""]
["","","","","",""]
["","","","","",""]
["","","","","",""]
["","","","","",""]
["","","","","",""]
["","","","","",""]
["","","","","",""]
["","","","","",""]
["","","","","",""]
[{"$f":"IF(AND(ISBLANK(J3337),ISBLANK(K3337),ISBLANK(L3337),ISBLANK(M3337),ISBLANK(N3337)),\"\",CONCATENATE(TRIM(J3337), \"_\",TRIM(K3337), \"_\",TRIM(L3337), \"_\",TRIM(M3337),\"_\",TRIM(N3337)))","v":""},{"$f":"IF(AND(ISBLANK($I3337),ISBLANK($J3337),ISBLANK($K3337),ISBLANK($L3337)),\"\",CONCATENATE(TRIM($I3337),\"_\",TRIM($J3337),\"_\",TRIM($K3337),\"_\",TRIM($L3337)))","v":""},{"$f":"IF(AND(ISBLANK($O3337),ISBLANK($I3337),ISBLANK($J3337),ISBLANK($K3337),ISBLANK($L3337)),\"\",IF(O3337=\"Oui\",CONCATENATE(TRIM($I3337),\"_\",TRIM($J3337),\"_\",TRIM($K3337),\"_\",TRIM($L3337)),\"\"))","v":""},{"$f":"IF(AND(ISBLANK(G3337),ISBLANK(H3337)),\"\",CONCATENATE(TRIM(G3337),\"_\",TRIM(H3337),\"_\",TRIM(B3337)))","v":""},{"$f":"IF(AND(ISBLANK(J3337),ISBLANK(K3337),ISBLANK(L3337)),\"\",CONCATENATE(TRIM(J3337),\" \",TRIM(K3337),\" \",TRIM(L3337)))","v":""},{"$f":"IF(O3337=\"Oui\",1,IF(ISBLANK(O3337),\"\",0))","v":""}]
["","","","","",""]
["","","","","",""]
["","","","","",""]
["","","","","",""]
["","","","","",""]
["","","","","",""]
["","","","","",""]
["","","","","",""]
["","","","","",""]
["","","","","",""]
["","","","","",""]
["","","","","",""]
["","","","","",""]
["","","","","",""]
["","","","","",""]
["","","","","",""]
["","","","","",""]
["","","","","",""]
["","","","","",""]
["","","","","",""]
["","","","","",""]
["","","","","",""]
["","","","","",""]
["","","","","",""]
["","","","","",""]
["","","","","",""]
["","","","","",""]
["","","","","",""]
["","","","","",""]
["","","","","",""]
["","","","","",""]
["","","","","",""]
["","","","","",""]
["","","","","",""]
["","","","","",""]
["","","","","",""]
["","","","","",""]
["","","","","",""]
["","","","","",""]
["","","","","",""]
["","","","","",""]
["","","","","",""]
["","","","","",""]
["","","","","",""]
["","","","","",""]
["","","","","",""]
["","","","","",""]
["","","","","",""]
["","","","","",""]
["","","","","",""]
["","","","","",""]
["","","","","",""]
["","","","","",""]
["","","","","",""]
["","","","","",""]
["","","","","",""]
["","","","","",""]
["","","","","",""]
["","","","","",""]
["","","","","",""]
["","","","","",""]
["","","","","",""]
["","","","","",""]
[{"$f":"IF(AND(ISBLANK(J3401),ISBLANK(K3401),ISBLANK(L3401),ISBLANK(M3401),ISBLANK(N3401)),\"\",CONCATENATE(TRIM(J3401), \"_\",TRIM(K3401), \"_\",TRIM(L3401), \"_\",TRIM(M3401),\"_\",TRIM(N3401)))","v":""},{"$f":"IF(AND(ISBLANK($I3401),ISBLANK($J3401),ISBLANK($K3401),ISBLANK($L3401)),\"\",CONCATENATE(TRIM($I3401),\"_\",TRIM($J3401),\"_\",TRIM($K3401),\"_\",TRIM($L3401)))","v":""},{"$f":"IF(AND(ISBLANK($O3401),ISBLANK($I3401),ISBLANK($J3401),ISBLANK($K3401),ISBLANK($L3401)),\"\",IF(O3401=\"Oui\",CONCATENATE(TRIM($I3401),\"_\",TRIM($J3401),\"_\",TRIM($K3401),\"_\",TRIM($L3401)),\"\"))","v":""},{"$f":"IF(AND(ISBLANK(G3401),ISBLANK(H3401)),\"\",CONCATENATE(TRIM(G3401),\"_\",TRIM(H3401),\"_\",TRIM(B3401)))","v":""},{"$f":"IF(AND(ISBLANK(J3401),ISBLANK(K3401),ISBLANK(L3401)),\"\",CONCATENATE(TRIM(J3401),\" \",TRIM(K3401),\" \",TRIM(L3401)))","v":""},{"$f":"IF(O3401=\"Oui\",1,IF(ISBLANK(O3401),\"\",0))","v":""}]
["","","","","",""]
["","","","","",""]
["","","","","",""]
["","","","","",""]
["","","","","",""]
["","","","","",""]
["","","","","",""]
["","","","","",""]
["","","","","",""]
["","","","","",""]
["","","","","",""]
["","","","","",""]
["","","","","",""]
["","","","","",""]
["","","","","",""]
["","","","","",""]
["","","","","",""]
["","","","","",""]
["","","","","",""]
["","","","","",""]
["","","","","",""]
["","","","","",""]
["","","","","",""]
["","","","","",""]
["","","","","",""]
["","","","","",""]
["","","","","",""]
["","","","","",""]
["","","","","",""]
["","","","","",""]
["","","","","",""]
["","","","","",""]
["","","","","",""]
["","","","","",""]
["","","","","",""]
["","","","","",""]
["","","","","",""]
["","","","","",""]
["","","","","",""]
["","","","","",""]
["","","","","",""]
["","","","","",""]
["","","","","",""]
["","","","","",""]
["","","","","",""]
["","","","","",""]
["","","","","",""]
["","","","","",""]
["","","","","",""]
["","","","","",""]
["","","","","",""]
["","","","","",""]
["","","","","",""]
["","","","","",""]
["","","","","",""]
["","","","","",""]
["","","","","",""]
["","","","","",""]
["","","","","",""]
["","","","","",""]
["","","","","",""]
["","","","","",""]
["","","","","",""]
[{"$f":"IF(AND(ISBLANK(J3465),ISBLANK(K3465),ISBLANK(L3465),ISBLANK(M3465),ISBLANK(N3465)),\"\",CONCATENATE(TRIM(J3465), \"_\",TRIM(K3465), \"_\",TRIM(L3465), \"_\",TRIM(M3465),\"_\",TRIM(N3465)))","v":""},{"$f":"IF(AND(ISBLANK($I3465),ISBLANK($J3465),ISBLANK($K3465),ISBLANK($L3465)),\"\",CONCATENATE(TRIM($I3465),\"_\",TRIM($J3465),\"_\",TRIM($K3465),\"_\",TRIM($L3465)))","v":""},{"$f":"IF(AND(ISBLANK($O3465),ISBLANK($I3465),ISBLANK($J3465),ISBLANK($K3465),ISBLANK($L3465)),\"\",IF(O3465=\"Oui\",CONCATENATE(TRIM($I3465),\"_\",TRIM($J3465),\"_\",TRIM($K3465),\"_\",TRIM($L3465)),\"\"))","v":""},{"$f":"IF(AND(ISBLANK(G3465),ISBLANK(H3465)),\"\",CONCATENATE(TRIM(G3465),\"_\",TRIM(H3465),\"_\",TRIM(B3465)))","v":""},{"$f":"IF(AND(ISBLANK(J3465),ISBLANK(K3465),ISBLANK(L3465)),\"\",CONCATENATE(TRIM(J3465),\" \",TRIM(K3465),\" \",TRIM(L3465)))","v":""},{"$f":"IF(O3465=\"Oui\",1,IF(ISBLANK(O3465),\"\",0))","v":""}]
["","","","","",""]
["","","","","",""]
["","","","","",""]
["","","","","",""]
["","","","","",""]
["","","","","",""]
["","","","","",""]
["","","","","",""]
["","","","","",""]
["","","","","",""]
["","","","","",""]
["","","","","",""]
["","","","","",""]
["","","","","",""]
["","","","","",""]
["","","","","",""]
["","","","","",""]
["","","","","",""]
["","","","","",""]
["","","","","",""]
["","","","","",""]
["","","","","",""]
["","","","","",""]
["","","","","",""]
["","","","","",""]
["","","","","",""]
["","","","","",""]
["","","","","",""]
["","","","","",""]
["","","","","",""]
["","","","","",""]
["","","","","",""]
["","","","","",""]
["","","","","",""]
["","","","","",""]
["","","","","",""]
["","","","","",""]
["","","","","",""]
["","","","","",""]
["","","","","",""]
["","","","","",""]
["","","","","",""]
["","","","","",""]
["","","","","",""]
["","","","","",""]
["","","","","",""]
["","","","","",""]
["","","","","",""]
["","","","","",""]
["","","","","",""]
["","","","","",""]
["","","","","",""]
["","","","","",""]
["","","","","",""]
["","","","","",""]
["","","","","",""]
["","","","","",""]
["","","","","",""]
["","","","","",""]
["","","","","",""]
["","","","","",""]
["","","","","",""]
["","","","","",""]
[{"$f":"IF(AND(ISBLANK(J3529),ISBLANK(K3529),ISBLANK(L3529),ISBLANK(M3529),ISBLANK(N3529)),\"\",CONCATENATE(TRIM(J3529), \"_\",TRIM(K3529), \"_\",TRIM(L3529), \"_\",TRIM(M3529),\"_\",TRIM(N3529)))","v":""},{"$f":"IF(AND(ISBLANK($I3529),ISBLANK($J3529),ISBLANK($K3529),ISBLANK($L3529)),\"\",CONCATENATE(TRIM($I3529),\"_\",TRIM($J3529),\"_\",TRIM($K3529),\"_\",TRIM($L3529)))","v":""},{"$f":"IF(AND(ISBLANK($O3529),ISBLANK($I3529),ISBLANK($J3529),ISBLANK($K3529),ISBLANK($L3529)),\"\",IF(O3529=\"Oui\",CONCATENATE(TRIM($I3529),\"_\",TRIM($J3529),\"_\",TRIM($K3529),\"_\",TRIM($L3529)),\"\"))","v":""},{"$f":"IF(AND(ISBLANK(G3529),ISBLANK(H3529)),\"\",CONCATENATE(TRIM(G3529),\"_\",TRIM(H3529),\"_\",TRIM(B3529)))","v":""},{"$f":"IF(AND(ISBLANK(J3529),ISBLANK(K3529),ISBLANK(L3529)),\"\",CONCATENATE(TRIM(J3529),\" \",TRIM(K3529),\" \",TRIM(L3529)))","v":""},{"$f":"IF(O3529=\"Oui\",1,IF(ISBLANK(O3529),\"\",0))","v":""}]
["","","","","",""]
["","","","","",""]
["","","","","",""]
["","","","","",""]
["","","","","",""]
["","","","","",""]
["","","","","",""]
["","","","","",""]
["","","","","",""]
["","","","","",""]
["","","","","",""]
["","","","","",""]
["","","","","",""]
["","","","","",""]
["","","","","",""]
["","","","","",""]
["","","","","",""]
["","","","","",""]
["","","","","",""]
["","","","","",""]
["","","","","",""]
["","","","","",""]
["","","","","",""]
["","","","","",""]
["","","","","",""]
["","","","","",""]
["","","","","",""]
["","","","","",""]
["","","","","",""]
["","","","","",""]
["","","","","",""]
["","","","","",""]
["","","","","",""]
["","","","","",""]
["","","","","",""]
["","","","","",""]
["","","","","",""]
["","","","","",""]
["","","","","",""]
["","","","","",""]
["","","","","",""]
["","","","","",""]
["","","","","",""]
["","","","","",""]
["","","","","",""]
["","","","","",""]
["","","","","",""]
["","","","","",""]
["","","","","",""]
["","","","","",""]
["","","","","",""]
["","","","","",""]
["","","","","",""]
["","","","","",""]
["","","","","",""]
["","","","","",""]
["","","","","",""]
["","","","","",""]
["","","","","",""]
["","","","","",""]
["","","","","",""]
["","","","","",""]
["","","","","",""]
[{"$f":"IF(AND(ISBLANK(J3593),ISBLANK(K3593),ISBLANK(L3593),ISBLANK(M3593),ISBLANK(N3593)),\"\",CONCATENATE(TRIM(J3593), \"_\",TRIM(K3593), \"_\",TRIM(L3593), \"_\",TRIM(M3593),\"_\",TRIM(N3593)))","v":""},{"$f":"IF(AND(ISBLANK($I3593),ISBLANK($J3593),ISBLANK($K3593),ISBLANK($L3593)),\"\",CONCATENATE(TRIM($I3593),\"_\",TRIM($J3593),\"_\",TRIM($K3593),\"_\",TRIM($L3593)))","v":""},{"$f":"IF(AND(ISBLANK($O3593),ISBLANK($I3593),ISBLANK($J3593),ISBLANK($K3593),ISBLANK($L3593)),\"\",IF(O3593=\"Oui\",CONCATENATE(TRIM($I3593),\"_\",TRIM($J3593),\"_\",TRIM($K3593),\"_\",TRIM($L3593)),\"\"))","v":""},{"$f":"IF(AND(ISBLANK(G3593),ISBLANK(H3593)),\"\",CONCATENATE(TRIM(G3593),\"_\",TRIM(H3593),\"_\",TRIM(B3593)))","v":""},{"$f":"IF(AND(ISBLANK(J3593),ISBLANK(K3593),ISBLANK(L3593)),\"\",CONCATENATE(TRIM(J3593),\" \",TRIM(K3593),\" \",TRIM(L3593)))","v":""},{"$f":"IF(O3593=\"Oui\",1,IF(ISBLANK(O3593),\"\",0))","v":""}]
["","","","","",""]
["","","","","",""]
["","","","","",""]
["","","","","",""]
["","","","","",""]
["","","","","",""]
["","","","","",""]
["","","","","",""]
["","","","","",""]
["","","","","",""]
["","","","","",""]
["","","","","",""]
["","","","","",""]
["","","","","",""]
["","","","","",""]
["","","","","",""]
["","","","","",""]
["","","","","",""]
["","","","","",""]
["","","","","",""]
["","","","","",""]
["","","","","",""]
["","","","","",""]
["","","","","",""]
["","","","","",""]
["","","","","",""]
["","","","","",""]
["","","","","",""]
["","","","","",""]
["","","","","",""]
["","","","","",""]
["","","","","",""]
["","","","","",""]
["","","","","",""]
["","","","","",""]
["","","","","",""]
["","","","","",""]
["","","","","",""]
["","","","","",""]
["","","","","",""]
["","","","","",""]
["","","","","",""]
["","","","","",""]
["","","","","",""]
["","","","","",""]
["","","","","",""]
["","","","","",""]
["","","","","",""]
["","","","","",""]
["","","","","",""]
["","","","","",""]
["","","","","",""]
["","","","","",""]
["","","","","",""]
["","","","","",""]
["","","","","",""]
["","","","","",""]
["","","","","",""]
["","","","","",""]
["","","","","",""]
["","","","","",""]
["","","","","",""]
["","","","","",""]
[{"$f":"IF(AND(ISBLANK(J3657),ISBLANK(K3657),ISBLANK(L3657),ISBLANK(M3657),ISBLANK(N3657)),\"\",CONCATENATE(TRIM(J3657), \"_\",TRIM(K3657), \"_\",TRIM(L3657), \"_\",TRIM(M3657),\"_\",TRIM(N3657)))","v":""},{"$f":"IF(AND(ISBLANK($I3657),ISBLANK($J3657),ISBLANK($K3657),ISBLANK($L3657)),\"\",CONCATENATE(TRIM($I3657),\"_\",TRIM($J3657),\"_\",TRIM($K3657),\"_\",TRIM($L3657)))","v":""},{"$f":"IF(AND(ISBLANK($O3657),ISBLANK($I3657),ISBLANK($J3657),ISBLANK($K3657),ISBLANK($L3657)),\"\",IF(O3657=\"Oui\",CONCATENATE(TRIM($I3657),\"_\",TRIM($J3657),\"_\",TRIM($K3657),\"_\",TRIM($L3657)),\"\"))","v":""},{"$f":"IF(AND(ISBLANK(G3657),ISBLANK(H3657)),\"\",CONCATENATE(TRIM(G3657),\"_\",TRIM(H3657),\"_\",TRIM(B3657)))","v":""},{"$f":"IF(AND(ISBLANK(J3657),ISBLANK(K3657),ISBLANK(L3657)),\"\",CONCATENATE(TRIM(J3657),\" \",TRIM(K3657),\" \",TRIM(L3657)))","v":""},{"$f":"IF(O3657=\"Oui\",1,IF(ISBLANK(O3657),\"\",0))","v":""}]
["","","","","",""]
["","","","","",""]
["","","","","",""]
["","","","","",""]
["","","","","",""]
["","","","","",""]
["","","","","",""]
["","","","","",""]
["","","","","",""]
["","","","","",""]
["","","","","",""]
["","","","","",""]
["","","","","",""]
["","","","","",""]
["","","","","",""]
["","","","","",""]
["","","","","",""]
["","","","","",""]
["","","","","",""]
["","","","","",""]
["","","","","",""]
["","","","","",""]
["","","","","",""]
["","","","","",""]
["","","","","",""]
["","","","","",""]
["","","","","",""]
["","","","","",""]
["","","","","",""]
["","","","","",""]
["","","","","",""]
["","","","","",""]
["","","","","",""]
["","","","","",""]
["","","","","",""]
["","","","","",""]
["","","","","",""]
["","","","","",""]
["","","","","",""]
["","","","","",""]
["","","","","",""]
["","","","","",""]
["","","","","",""]
["","","","","",""]
["","","","","",""]
["","","","","",""]
["","","","","",""]
["","","","","",""]
["","","","","",""]
["","","","","",""]
["","","","","",""]
["","","","","",""]
["","","","","",""]
["","","","","",""]
["","","","","",""]
["","","","","",""]
["","","","","",""]
["","","","","",""]
["","","","","",""]
["","","","","",""]
["","","","","",""]
["","","","","",""]
["","","","","",""]
[{"$f":"IF(AND(ISBLANK(J3721),ISBLANK(K3721),ISBLANK(L3721),ISBLANK(M3721),ISBLANK(N3721)),\"\",CONCATENATE(TRIM(J3721), \"_\",TRIM(K3721), \"_\",TRIM(L3721), \"_\",TRIM(M3721),\"_\",TRIM(N3721)))","v":""},{"$f":"IF(AND(ISBLANK($I3721),ISBLANK($J3721),ISBLANK($K3721),ISBLANK($L3721)),\"\",CONCATENATE(TRIM($I3721),\"_\",TRIM($J3721),\"_\",TRIM($K3721),\"_\",TRIM($L3721)))","v":""},{"$f":"IF(AND(ISBLANK($O3721),ISBLANK($I3721),ISBLANK($J3721),ISBLANK($K3721),ISBLANK($L3721)),\"\",IF(O3721=\"Oui\",CONCATENATE(TRIM($I3721),\"_\",TRIM($J3721),\"_\",TRIM($K3721),\"_\",TRIM($L3721)),\"\"))","v":""},{"$f":"IF(AND(ISBLANK(G3721),ISBLANK(H3721)),\"\",CONCATENATE(TRIM(G3721),\"_\",TRIM(H3721),\"_\",TRIM(B3721)))","v":""},{"$f":"IF(AND(ISBLANK(J3721),ISBLANK(K3721),ISBLANK(L3721)),\"\",CONCATENATE(TRIM(J3721),\" \",TRIM(K3721),\" \",TRIM(L3721)))","v":""},{"$f":"IF(O3721=\"Oui\",1,IF(ISBLANK(O3721),\"\",0))","v":""}]
["","","","","",""]
["","","","","",""]
["","","","","",""]
["","","","","",""]
["","","","","",""]
["","","","","",""]
["","","","","",""]
["","","","","",""]
["","","","","",""]
["","","","","",""]
["","","","","",""]
["","","","","",""]
["","","","","",""]
["","","","","",""]
["","","","","",""]
["","","","","",""]
["","","","","",""]
["","","","","",""]
["","","","","",""]
["","","","","",""]
["","","","","",""]
["","","","","",""]
["","","","","",""]
["","","","","",""]
["","","","","",""]
["","","","","",""]
["","","","","",""]
["","","","","",""]
["","","","","",""]
["","","","","",""]
["","","","","",""]
["","","","","",""]
["","","","","",""]
["","","","","",""]
["","","","","",""]
["","","","","",""]
["","","","","",""]
["","","","","",""]
["","","","","",""]
["","","","","",""]
["","","","","",""]
["","","","","",""]
["","","","","",""]
["","","","","",""]
["","","","","",""]
["","","","","",""]
["","","","","",""]
["","","","","",""]
["","","","","",""]
["","","","","",""]
["","","","","",""]
["","","","","",""]
["","","","","",""]
["","","","","",""]
["","","","","",""]
["","","","","",""]
["","","","","",""]
["","","","","",""]
["","","","","",""]
["","","","","",""]
["","","","","",""]
["","","","","",""]
["","","","","",""]
[{"$f":"IF(AND(ISBLANK(J3785),ISBLANK(K3785),ISBLANK(L3785),ISBLANK(M3785),ISBLANK(N3785)),\"\",CONCATENATE(TRIM(J3785), \"_\",TRIM(K3785), \"_\",TRIM(L3785), \"_\",TRIM(M3785),\"_\",TRIM(N3785)))","v":""},{"$f":"IF(AND(ISBLANK($I3785),ISBLANK($J3785),ISBLANK($K3785),ISBLANK($L3785)),\"\",CONCATENATE(TRIM($I3785),\"_\",TRIM($J3785),\"_\",TRIM($K3785),\"_\",TRIM($L3785)))","v":""},{"$f":"IF(AND(ISBLANK($O3785),ISBLANK($I3785),ISBLANK($J3785),ISBLANK($K3785),ISBLANK($L3785)),\"\",IF(O3785=\"Oui\",CONCATENATE(TRIM($I3785),\"_\",TRIM($J3785),\"_\",TRIM($K3785),\"_\",TRIM($L3785)),\"\"))","v":""},{"$f":"IF(AND(ISBLANK(G3785),ISBLANK(H3785)),\"\",CONCATENATE(TRIM(G3785),\"_\",TRIM(H3785),\"_\",TRIM(B3785)))","v":""},{"$f":"IF(AND(ISBLANK(J3785),ISBLANK(K3785),ISBLANK(L3785)),\"\",CONCATENATE(TRIM(J3785),\" \",TRIM(K3785),\" \",TRIM(L3785)))","v":""},{"$f":"IF(O3785=\"Oui\",1,IF(ISBLANK(O3785),\"\",0))","v":""}]
["","","","","",""]
["","","","","",""]
["","","","","",""]
["","","","","",""]
["","","","","",""]
["","","","","",""]
["","","","","",""]
["","","","","",""]
["","","","","",""]
["","","","","",""]
["","","","","",""]
["","","","","",""]
["","","","","",""]
["","","","","",""]
["","","","","",""]
["","","","","",""]
["","","","","",""]
["","","","","",""]
["","","","","",""]
["","","","","",""]
["","","","","",""]
["","","","","",""]
["","","","","",""]
["","","","","",""]
["","","","","",""]
["","","","","",""]
["","","","","",""]
["","","","","",""]
["","","","","",""]
["","","","","",""]
["","","","","",""]
["","","","","",""]
["","","","","",""]
["","","","","",""]
["","","","","",""]
["","","","","",""]
["","","","","",""]
["","","","","",""]
["","","","","",""]
["","","","","",""]
["","","","","",""]
["","","","","",""]
["","","","","",""]
["","","","","",""]
["","","","","",""]
["","","","","",""]
["","","","","",""]
["","","","","",""]
["","","","","",""]
["","","","","",""]
["","","","","",""]
["","","","","",""]
["","","","","",""]
["","","","","",""]
["","","","","",""]
["","","","","",""]
["","","","","",""]
["","","","","",""]
["","","","","",""]
["","","","","",""]
["","","","","",""]
["","","","","",""]
["","","","","",""]
[{"$f":"IF(AND(ISBLANK(J3849),ISBLANK(K3849),ISBLANK(L3849),ISBLANK(M3849),ISBLANK(N3849)),\"\",CONCATENATE(TRIM(J3849), \"_\",TRIM(K3849), \"_\",TRIM(L3849), \"_\",TRIM(M3849),\"_\",TRIM(N3849)))","v":""},{"$f":"IF(AND(ISBLANK($I3849),ISBLANK($J3849),ISBLANK($K3849),ISBLANK($L3849)),\"\",CONCATENATE(TRIM($I3849),\"_\",TRIM($J3849),\"_\",TRIM($K3849),\"_\",TRIM($L3849)))","v":""},{"$f":"IF(AND(ISBLANK($O3849),ISBLANK($I3849),ISBLANK($J3849),ISBLANK($K3849),ISBLANK($L3849)),\"\",IF(O3849=\"Oui\",CONCATENATE(TRIM($I3849),\"_\",TRIM($J3849),\"_\",TRIM($K3849),\"_\",TRIM($L3849)),\"\"))","v":""},{"$f":"IF(AND(ISBLANK(G3849),ISBLANK(H3849)),\"\",CONCATENATE(TRIM(G3849),\"_\",TRIM(H3849),\"_\",TRIM(B3849)))","v":""},{"$f":"IF(AND(ISBLANK(J3849),ISBLANK(K3849),ISBLANK(L3849)),\"\",CONCATENATE(TRIM(J3849),\" \",TRIM(K3849),\" \",TRIM(L3849)))","v":""},{"$f":"IF(O3849=\"Oui\",1,IF(ISBLANK(O3849),\"\",0))","v":""}]
["","","","","",""]
["","","","","",""]
["","","","","",""]
["","","","","",""]
["","","","","",""]
["","","","","",""]
["","","","","",""]
["","","","","",""]
["","","","","",""]
["","","","","",""]
["","","","","",""]
["","","","","",""]
["","","","","",""]
["","","","","",""]
["","","","","",""]
["","","","","",""]
["","","","","",""]
["","","","","",""]
["","","","","",""]
["","","","","",""]
["","","","","",""]
["","","","","",""]
["","","","","",""]
["","","","","",""]
["","","","","",""]
["","","","","",""]
["","","","","",""]
["","","","","",""]
["","","","","",""]
["","","","","",""]
["","","","","",""]
["","","","","",""]
["","","","","",""]
["","","","","",""]
["","","","","",""]
["","","","","",""]
["","","","","",""]
["","","","","",""]
["","","","","",""]
["","","","","",""]
["","","","","",""]
["","","","","",""]
["","","","","",""]
["","","","","",""]
["","","","","",""]
["","","","","",""]
["","","","","",""]
["","","","","",""]
["","","","","",""]
["","","","","",""]
["","","","","",""]
["","","","","",""]
["","","","","",""]
["","","","","",""]
["","","","","",""]
["","","","","",""]
["","","","","",""]
["","","","","",""]
["","","","","",""]
["","","","","",""]
["","","","","",""]
["","","","","",""]
["","","","","",""]
[{"$f":"IF(AND(ISBLANK(J3913),ISBLANK(K3913),ISBLANK(L3913),ISBLANK(M3913),ISBLANK(N3913)),\"\",CONCATENATE(TRIM(J3913), \"_\",TRIM(K3913), \"_\",TRIM(L3913), \"_\",TRIM(M3913),\"_\",TRIM(N3913)))","v":""},{"$f":"IF(AND(ISBLANK($I3913),ISBLANK($J3913),ISBLANK($K3913),ISBLANK($L3913)),\"\",CONCATENATE(TRIM($I3913),\"_\",TRIM($J3913),\"_\",TRIM($K3913),\"_\",TRIM($L3913)))","v":""},{"$f":"IF(AND(ISBLANK($O3913),ISBLANK($I3913),ISBLANK($J3913),ISBLANK($K3913),ISBLANK($L3913)),\"\",IF(O3913=\"Oui\",CONCATENATE(TRIM($I3913),\"_\",TRIM($J3913),\"_\",TRIM($K3913),\"_\",TRIM($L3913)),\"\"))","v":""},{"$f":"IF(AND(ISBLANK(G3913),ISBLANK(H3913)),\"\",CONCATENATE(TRIM(G3913),\"_\",TRIM(H3913),\"_\",TRIM(B3913)))","v":""},{"$f":"IF(AND(ISBLANK(J3913),ISBLANK(K3913),ISBLANK(L3913)),\"\",CONCATENATE(TRIM(J3913),\" \",TRIM(K3913),\" \",TRIM(L3913)))","v":""},{"$f":"IF(O3913=\"Oui\",1,IF(ISBLANK(O3913),\"\",0))","v":""}]
["","","","","",""]
["","","","","",""]
["","","","","",""]
["","","","","",""]
["","","","","",""]
["","","","","",""]
["","","","","",""]
["","","","","",""]
["","","","","",""]
["","","","","",""]
["","","","","",""]
["","","","","",""]
["","","","","",""]
["","","","","",""]
["","","","","",""]
["","","","","",""]
["","","","","",""]
["","","","","",""]
["","","","","",""]
["","","","","",""]
["","","","","",""]
["","","","","",""]
["","","","","",""]
["","","","","",""]
["","","","","",""]
["","","","","",""]
["","","","","",""]
["","","","","",""]
["","","","","",""]
["","","","","",""]
["","","","","",""]
["","","","","",""]
["","","","","",""]
["","","","","",""]
["","","","","",""]
["","","","","",""]
["","","","","",""]
["","","","","",""]
["","","","","",""]
["","","","","",""]
["","","","","",""]
["","","","","",""]
["","","","","",""]
["","","","","",""]
["","","","","",""]
["","","","","",""]
["","","","","",""]
["","","","","",""]
["","","","","",""]
["","","","","",""]
["","","","","",""]
["","","","","",""]
["","","","","",""]
["","","","","",""]
["","","","","",""]
["","","","","",""]
["","","","","",""]
["","","","","",""]
["","","","","",""]
["","","","","",""]
["","","","","",""]
["","","","","",""]
["","","","","",""]
[{"$f":"IF(AND(ISBLANK(J3977),ISBLANK(K3977),ISBLANK(L3977),ISBLANK(M3977),ISBLANK(N3977)),\"\",CONCATENATE(TRIM(J3977), \"_\",TRIM(K3977), \"_\",TRIM(L3977), \"_\",TRIM(M3977),\"_\",TRIM(N3977)))","v":""},{"$f":"IF(AND(ISBLANK($I3977),ISBLANK($J3977),ISBLANK($K3977),ISBLANK($L3977)),\"\",CONCATENATE(TRIM($I3977),\"_\",TRIM($J3977),\"_\",TRIM($K3977),\"_\",TRIM($L3977)))","v":""},{"$f":"IF(AND(ISBLANK($O3977),ISBLANK($I3977),ISBLANK($J3977),ISBLANK($K3977),ISBLANK($L3977)),\"\",IF(O3977=\"Oui\",CONCATENATE(TRIM($I3977),\"_\",TRIM($J3977),\"_\",TRIM($K3977),\"_\",TRIM($L3977)),\"\"))","v":""},{"$f":"IF(AND(ISBLANK(G3977),ISBLANK(H3977)),\"\",CONCATENATE(TRIM(G3977),\"_\",TRIM(H3977),\"_\",TRIM(B3977)))","v":""},{"$f":"IF(AND(ISBLANK(J3977),ISBLANK(K3977),ISBLANK(L3977)),\"\",CONCATENATE(TRIM(J3977),\" \",TRIM(K3977),\" \",TRIM(L3977)))","v":""},{"$f":"IF(O3977=\"Oui\",1,IF(ISBLANK(O3977),\"\",0))","v":""}]
["","","","","",""]
["","","","","",""]
["","","","","",""]
["","","","","",""]
["","","","","",""]
["","","","","",""]
["","","","","",""]
["","","","","",""]
["","","","","",""]
["","","","","",""]
["","","","","",""]
["","","","","",""]
["","","","","",""]
["","","","","",""]
["","","","","",""]
["","","","","",""]
["","","","","",""]
["","","","","",""]
["","","","","",""]
["","","","","",""]
["","","","","",""]
["","","","","",""]
["","","","","",""]
["","","","","",""]
["","","","","",""]
["","","","","",""]
["","","","","",""]
["","","","","",""]
["","","","","",""]
["","","","","",""]
["","","","","",""]
["","","","","",""]
["","","","","",""]
["","","","","",""]
["","","","","",""]
["","","","","",""]
["","","","","",""]
["","","","","",""]
["","","","","",""]
["","","","","",""]
["","","","","",""]
["","","","","",""]
["","","","","",""]
["","","","","",""]
["","","","","",""]
["","","","","",""]
["","","","","",""]
["","","","","",""]
["","","","","",""]
["","","","","",""]
["","","","","",""]
["","","","","",""]
["","","","","",""]
["","","","","",""]
["","","","","",""]
["","","","","",""]
["","","","","",""]
["","","","","",""]
["","","","","",""]
["","","","","",""]
["","","","","",""]
["","","","","",""]
["","","","","",""]
[{"$f":"IF(AND(ISBLANK(J4041),ISBLANK(K4041),ISBLANK(L4041),ISBLANK(M4041),ISBLANK(N4041)),\"\",CONCATENATE(TRIM(J4041), \"_\",TRIM(K4041), \"_\",TRIM(L4041), \"_\",TRIM(M4041),\"_\",TRIM(N4041)))","v":""},{"$f":"IF(AND(ISBLANK($I4041),ISBLANK($J4041),ISBLANK($K4041),ISBLANK($L4041)),\"\",CONCATENATE(TRIM($I4041),\"_\",TRIM($J4041),\"_\",TRIM($K4041),\"_\",TRIM($L4041)))","v":""},{"$f":"IF(AND(ISBLANK($O4041),ISBLANK($I4041),ISBLANK($J4041),ISBLANK($K4041),ISBLANK($L4041)),\"\",IF(O4041=\"Oui\",CONCATENATE(TRIM($I4041),\"_\",TRIM($J4041),\"_\",TRIM($K4041),\"_\",TRIM($L4041)),\"\"))","v":""},{"$f":"IF(AND(ISBLANK(G4041),ISBLANK(H4041)),\"\",CONCATENATE(TRIM(G4041),\"_\",TRIM(H4041),\"_\",TRIM(B4041)))","v":""},{"$f":"IF(AND(ISBLANK(J4041),ISBLANK(K4041),ISBLANK(L4041)),\"\",CONCATENATE(TRIM(J4041),\" \",TRIM(K4041),\" \",TRIM(L4041)))","v":""},{"$f":"IF(O4041=\"Oui\",1,IF(ISBLANK(O4041),\"\",0))","v":""}]
["","","","","",""]
["","","","","",""]
["","","","","",""]
["","","","","",""]
["","","","","",""]
["","","","","",""]
["","","","","",""]
["","","","","",""]
["","","","","",""]
["","","","","",""]
["","","","","",""]
["","","","","",""]
["","","","","",""]
["","","","","",""]
["","","","","",""]
["","","","","",""]
["","","","","",""]
["","","","","",""]
["","","","","",""]
["","","","","",""]
["","","","","",""]
["","","","","",""]
["","","","","",""]
["","","","","",""]
["","","","","",""]
["","","","","",""]
["","","","","",""]
["","","","","",""]
["","","","","",""]
["","","","","",""]
["","","","","",""]
["","","","","",""]
["","","","","",""]
["","","","","",""]
["","","","","",""]
["","","","","",""]
["","","","","",""]
["","","","","",""]
["","","","","",""]
["","","","","",""]
["","","","","",""]
["","","","","",""]
["","","","","",""]
["","","","","",""]
["","","","","",""]
["","","","","",""]
["","","","","",""]
["","","","","",""]
["","","","","",""]
["","","","","",""]
["","","","","",""]
["","","","","",""]
["","","","","",""]
["","","","","",""]
["","","","","",""]
["","","","","",""]
["","","","","",""]
["","","","","",""]
["","","","","",""]
["","","","","",""]
["","","","","",""]
["","","","","",""]
["","","","","",""]
[{"$f":"IF(AND(ISBLANK(J4105),ISBLANK(K4105),ISBLANK(L4105),ISBLANK(M4105),ISBLANK(N4105)),\"\",CONCATENATE(TRIM(J4105), \"_\",TRIM(K4105), \"_\",TRIM(L4105), \"_\",TRIM(M4105),\"_\",TRIM(N4105)))","v":""},{"$f":"IF(AND(ISBLANK($I4105),ISBLANK($J4105),ISBLANK($K4105),ISBLANK($L4105)),\"\",CONCATENATE(TRIM($I4105),\"_\",TRIM($J4105),\"_\",TRIM($K4105),\"_\",TRIM($L4105)))","v":""},{"$f":"IF(AND(ISBLANK($O4105),ISBLANK($I4105),ISBLANK($J4105),ISBLANK($K4105),ISBLANK($L4105)),\"\",IF(O4105=\"Oui\",CONCATENATE(TRIM($I4105),\"_\",TRIM($J4105),\"_\",TRIM($K4105),\"_\",TRIM($L4105)),\"\"))","v":""},{"$f":"IF(AND(ISBLANK(G4105),ISBLANK(H4105)),\"\",CONCATENATE(TRIM(G4105),\"_\",TRIM(H4105),\"_\",TRIM(B4105)))","v":""},{"$f":"IF(AND(ISBLANK(J4105),ISBLANK(K4105),ISBLANK(L4105)),\"\",CONCATENATE(TRIM(J4105),\" \",TRIM(K4105),\" \",TRIM(L4105)))","v":""},{"$f":"IF(O4105=\"Oui\",1,IF(ISBLANK(O4105),\"\",0))","v":""}]
["","","","","",""]
["","","","","",""]
["","","","","",""]
["","","","","",""]
["","","","","",""]
["","","","","",""]
["","","","","",""]
["","","","","",""]
["","","","","",""]
["","","","","",""]
["","","","","",""]
["","","","","",""]
["","","","","",""]
["","","","","",""]
["","","","","",""]
["","","","","",""]
["","","","","",""]
["","","","","",""]
["","","","","",""]
["","","","","",""]
["","","","","",""]
["","","","","",""]
["","","","","",""]
["","","","","",""]
["","","","","",""]
["","","","","",""]
["","","","","",""]
["","","","","",""]
["","","","","",""]
["","","","","",""]
["","","","","",""]
["","","","","",""]
["","","","","",""]
["","","","","",""]
["","","","","",""]
["","","","","",""]
["","","","","",""]
["","","","","",""]
["","","","","",""]
["","","","","",""]
["","","","","",""]
["","","","","",""]
["","","","","",""]
["","","","","",""]
["","","","","",""]
["","","","","",""]
["","","","","",""]
["","","","","",""]
["","","","","",""]
["","","","","",""]
["","","","","",""]
["","","","","",""]
["","","","","",""]
["","","","","",""]
["","","","","",""]
["","","","","",""]
["","","","","",""]
["","","","","",""]
["","","","","",""]
["","","","","",""]
["","","","","",""]
["","","","","",""]
["","","","","",""]
[{"$f":"IF(AND(ISBLANK(J4169),ISBLANK(K4169),ISBLANK(L4169),ISBLANK(M4169),ISBLANK(N4169)),\"\",CONCATENATE(TRIM(J4169), \"_\",TRIM(K4169), \"_\",TRIM(L4169), \"_\",TRIM(M4169),\"_\",TRIM(N4169)))","v":""},{"$f":"IF(AND(ISBLANK($I4169),ISBLANK($J4169),ISBLANK($K4169),ISBLANK($L4169)),\"\",CONCATENATE(TRIM($I4169),\"_\",TRIM($J4169),\"_\",TRIM($K4169),\"_\",TRIM($L4169)))","v":""},{"$f":"IF(AND(ISBLANK($O4169),ISBLANK($I4169),ISBLANK($J4169),ISBLANK($K4169),ISBLANK($L4169)),\"\",IF(O4169=\"Oui\",CONCATENATE(TRIM($I4169),\"_\",TRIM($J4169),\"_\",TRIM($K4169),\"_\",TRIM($L4169)),\"\"))","v":""},{"$f":"IF(AND(ISBLANK(G4169),ISBLANK(H4169)),\"\",CONCATENATE(TRIM(G4169),\"_\",TRIM(H4169),\"_\",TRIM(B4169)))","v":""},{"$f":"IF(AND(ISBLANK(J4169),ISBLANK(K4169),ISBLANK(L4169)),\"\",CONCATENATE(TRIM(J4169),\" \",TRIM(K4169),\" \",TRIM(L4169)))","v":""},{"$f":"IF(O4169=\"Oui\",1,IF(ISBLANK(O4169),\"\",0))","v":""}]
["","","","","",""]
["","","","","",""]
["","","","","",""]
["","","","","",""]
["","","","","",""]
["","","","","",""]
["","","","","",""]
["","","","","",""]
["","","","","",""]
["","","","","",""]
["","","","","",""]
["","","","","",""]
["","","","","",""]
["","","","","",""]
["","","","","",""]
["","","","","",""]
["","","","","",""]
["","","","","",""]
["","","","","",""]
["","","","","",""]
["","","","","",""]
["","","","","",""]
["","","","","",""]
["","","","","",""]
["","","","","",""]
["","","","","",""]
["","","","","",""]
["","","","","",""]
["","","","","",""]
["","","","","",""]
["","","","","",""]
["","","","","",""]
["","","","","",""]
["","","","","",""]
["","","","","",""]
["","","","","",""]
["","","","","",""]
["","","","","",""]
["","","","","",""]
["","","","","",""]
["","","","","",""]
["","","","","",""]
["","","","","",""]
["","","","","",""]
["","","","","",""]
["","","","","",""]
["","","","","",""]
["","","","","",""]
["","","","","",""]
["","","","","",""]
["","","","","",""]
["","","","","",""]
["","","","","",""]
["","","","","",""]
["","","","","",""]
["","","","","",""]
["","","","","",""]
["","","","","",""]
["","","","","",""]
["","","","","",""]
["","","","","",""]
["","","","","",""]
["","","","","",""]
[{"$f":"IF(AND(ISBLANK(J4233),ISBLANK(K4233),ISBLANK(L4233),ISBLANK(M4233),ISBLANK(N4233)),\"\",CONCATENATE(TRIM(J4233), \"_\",TRIM(K4233), \"_\",TRIM(L4233), \"_\",TRIM(M4233),\"_\",TRIM(N4233)))","v":""},{"$f":"IF(AND(ISBLANK($I4233),ISBLANK($J4233),ISBLANK($K4233),ISBLANK($L4233)),\"\",CONCATENATE(TRIM($I4233),\"_\",TRIM($J4233),\"_\",TRIM($K4233),\"_\",TRIM($L4233)))","v":""},{"$f":"IF(AND(ISBLANK($O4233),ISBLANK($I4233),ISBLANK($J4233),ISBLANK($K4233),ISBLANK($L4233)),\"\",IF(O4233=\"Oui\",CONCATENATE(TRIM($I4233),\"_\",TRIM($J4233),\"_\",TRIM($K4233),\"_\",TRIM($L4233)),\"\"))","v":""},{"$f":"IF(AND(ISBLANK(G4233),ISBLANK(H4233)),\"\",CONCATENATE(TRIM(G4233),\"_\",TRIM(H4233),\"_\",TRIM(B4233)))","v":""},{"$f":"IF(AND(ISBLANK(J4233),ISBLANK(K4233),ISBLANK(L4233)),\"\",CONCATENATE(TRIM(J4233),\" \",TRIM(K4233),\" \",TRIM(L4233)))","v":""},{"$f":"IF(O4233=\"Oui\",1,IF(ISBLANK(O4233),\"\",0))","v":""}]
["","","","","",""]
["","","","","",""]
["","","","","",""]
["","","","","",""]
["","","","","",""]
["","","","","",""]
["","","","","",""]
["","","","","",""]
["","","","","",""]
["","","","","",""]
["","","","","",""]
["","","","","",""]
["","","","","",""]
["","","","","",""]
["","","","","",""]
["","","","","",""]
["","","","","",""]
["","","","","",""]
["","","","","",""]
["","","","","",""]
["","","","","",""]
["","","","","",""]
["","","","","",""]
["","","","","",""]
["","","","","",""]
["","","","","",""]
["","","","","",""]
["","","","","",""]
["","","","","",""]
["","","","","",""]
["","","","","",""]
["","","","","",""]
["","","","","",""]
["","","","","",""]
["","","","","",""]
["","","","","",""]
["","","","","",""]
["","","","","",""]
["","","","","",""]
["","","","","",""]
["","","","","",""]
["","","","","",""]
["","","","","",""]
["","","","","",""]
["","","","","",""]
["","","","","",""]
["","","","","",""]
["","","","","",""]
["","","","","",""]
["","","","","",""]
["","","","","",""]
["","","","","",""]
["","","","","",""]
["","","","","",""]
["","","","","",""]
["","","","","",""]
["","","","","",""]
["","","","","",""]
["","","","","",""]
["","","","","",""]
["","","","","",""]
["","","","","",""]
["","","","","",""]
[{"$f":"IF(AND(ISBLANK(J4297),ISBLANK(K4297),ISBLANK(L4297),ISBLANK(M4297),ISBLANK(N4297)),\"\",CONCATENATE(TRIM(J4297), \"_\",TRIM(K4297), \"_\",TRIM(L4297), \"_\",TRIM(M4297),\"_\",TRIM(N4297)))","v":""},{"$f":"IF(AND(ISBLANK($I4297),ISBLANK($J4297),ISBLANK($K4297),ISBLANK($L4297)),\"\",CONCATENATE(TRIM($I4297),\"_\",TRIM($J4297),\"_\",TRIM($K4297),\"_\",TRIM($L4297)))","v":""},{"$f":"IF(AND(ISBLANK($O4297),ISBLANK($I4297),ISBLANK($J4297),ISBLANK($K4297),ISBLANK($L4297)),\"\",IF(O4297=\"Oui\",CONCATENATE(TRIM($I4297),\"_\",TRIM($J4297),\"_\",TRIM($K4297),\"_\",TRIM($L4297)),\"\"))","v":""},{"$f":"IF(AND(ISBLANK(G4297),ISBLANK(H4297)),\"\",CONCATENATE(TRIM(G4297),\"_\",TRIM(H4297),\"_\",TRIM(B4297)))","v":""},{"$f":"IF(AND(ISBLANK(J4297),ISBLANK(K4297),ISBLANK(L4297)),\"\",CONCATENATE(TRIM(J4297),\" \",TRIM(K4297),\" \",TRIM(L4297)))","v":""},{"$f":"IF(O4297=\"Oui\",1,IF(ISBLANK(O4297),\"\",0))","v":""}]
["","","","","",""]
["","","","","",""]
["","","","","",""]
["","","","","",""]
["","","","","",""]
["","","","","",""]
["","","","","",""]
["","","","","",""]
["","","","","",""]
["","","","","",""]
["","","","","",""]
["","","","","",""]
["","","","","",""]
["","","","","",""]
["","","","","",""]
["","","","","",""]
["","","","","",""]
["","","","","",""]
["","","","","",""]
["","","","","",""]
["","","","","",""]
["","","","","",""]
["","","","","",""]
["","","","","",""]
["","","","","",""]
["","","","","",""]
["","","","","",""]
["","","","","",""]
["","","","","",""]
["","","","","",""]
["","","","","",""]
["","","","","",""]
["","","","","",""]
["","","","","",""]
["","","","","",""]
["","","","","",""]
["","","","","",""]
["","","","","",""]
["","","","","",""]
["","","","","",""]
["","","","","",""]
["","","","","",""]
["","","","","",""]
["","","","","",""]
["","","","","",""]
["","","","","",""]
["","","","","",""]
["","","","","",""]
["","","","","",""]
["","","","","",""]
["","","","","",""]
["","","","","",""]
["","","","","",""]
["","","","","",""]
["","","","","",""]
["","","","","",""]
["","","","","",""]
["","","","","",""]
["","","","","",""]
["","","","","",""]
["","","","","",""]
["","","","","",""]
["","","","","",""]
[{"$f":"IF(AND(ISBLANK(J4361),ISBLANK(K4361),ISBLANK(L4361),ISBLANK(M4361),ISBLANK(N4361)),\"\",CONCATENATE(TRIM(J4361), \"_\",TRIM(K4361), \"_\",TRIM(L4361), \"_\",TRIM(M4361),\"_\",TRIM(N4361)))","v":""},{"$f":"IF(AND(ISBLANK($I4361),ISBLANK($J4361),ISBLANK($K4361),ISBLANK($L4361)),\"\",CONCATENATE(TRIM($I4361),\"_\",TRIM($J4361),\"_\",TRIM($K4361),\"_\",TRIM($L4361)))","v":""},{"$f":"IF(AND(ISBLANK($O4361),ISBLANK($I4361),ISBLANK($J4361),ISBLANK($K4361),ISBLANK($L4361)),\"\",IF(O4361=\"Oui\",CONCATENATE(TRIM($I4361),\"_\",TRIM($J4361),\"_\",TRIM($K4361),\"_\",TRIM($L4361)),\"\"))","v":""},{"$f":"IF(AND(ISBLANK(G4361),ISBLANK(H4361)),\"\",CONCATENATE(TRIM(G4361),\"_\",TRIM(H4361),\"_\",TRIM(B4361)))","v":""},{"$f":"IF(AND(ISBLANK(J4361),ISBLANK(K4361),ISBLANK(L4361)),\"\",CONCATENATE(TRIM(J4361),\" \",TRIM(K4361),\" \",TRIM(L4361)))","v":""},{"$f":"IF(O4361=\"Oui\",1,IF(ISBLANK(O4361),\"\",0))","v":""}]
["","","","","",""]
["","","","","",""]
["","","","","",""]
["","","","","",""]
["","","","","",""]
["","","","","",""]
["","","","","",""]
["","","","","",""]
["","","","","",""]
["","","","","",""]
["","","","","",""]
["","","","","",""]
["","","","","",""]
["","","","","",""]
["","","","","",""]
["","","","","",""]
["","","","","",""]
["","","","","",""]
["","","","","",""]
["","","","","",""]
["","","","","",""]
["","","","","",""]
["","","","","",""]
["","","","","",""]
["","","","","",""]
["","","","","",""]
["","","","","",""]
["","","","","",""]
["","","","","",""]
["","","","","",""]
["","","","","",""]
["","","","","",""]
["","","","","",""]
["","","","","",""]
["","","","","",""]
["","","","","",""]
["","","","","",""]
["","","","","",""]
["","","","","",""]
["","","","","",""]
["","","","","",""]
["","","","","",""]
["","","","","",""]
["","","","","",""]
["","","","","",""]
["","","","","",""]
["","","","","",""]
["","","","","",""]
["","","","","",""]
["","","","","",""]
["","","","","",""]
["","","","","",""]
["","","","","",""]
["","","","","",""]
["","","","","",""]
["","","","","",""]
["","","","","",""]
["","","","","",""]
["","","","","",""]
["","","","","",""]
["","","","","",""]
["","","","","",""]
["","","","","",""]
[{"$f":"IF(AND(ISBLANK(J4425),ISBLANK(K4425),ISBLANK(L4425),ISBLANK(M4425),ISBLANK(N4425)),\"\",CONCATENATE(TRIM(J4425), \"_\",TRIM(K4425), \"_\",TRIM(L4425), \"_\",TRIM(M4425),\"_\",TRIM(N4425)))","v":""},{"$f":"IF(AND(ISBLANK($I4425),ISBLANK($J4425),ISBLANK($K4425),ISBLANK($L4425)),\"\",CONCATENATE(TRIM($I4425),\"_\",TRIM($J4425),\"_\",TRIM($K4425),\"_\",TRIM($L4425)))","v":""},{"$f":"IF(AND(ISBLANK($O4425),ISBLANK($I4425),ISBLANK($J4425),ISBLANK($K4425),ISBLANK($L4425)),\"\",IF(O4425=\"Oui\",CONCATENATE(TRIM($I4425),\"_\",TRIM($J4425),\"_\",TRIM($K4425),\"_\",TRIM($L4425)),\"\"))","v":""},{"$f":"IF(AND(ISBLANK(G4425),ISBLANK(H4425)),\"\",CONCATENATE(TRIM(G4425),\"_\",TRIM(H4425),\"_\",TRIM(B4425)))","v":""},{"$f":"IF(AND(ISBLANK(J4425),ISBLANK(K4425),ISBLANK(L4425)),\"\",CONCATENATE(TRIM(J4425),\" \",TRIM(K4425),\" \",TRIM(L4425)))","v":""},{"$f":"IF(O4425=\"Oui\",1,IF(ISBLANK(O4425),\"\",0))","v":""}]
["","","","","",""]
["","","","","",""]
["","","","","",""]
["","","","","",""]
["","","","","",""]
["","","","","",""]
["","","","","",""]
["","","","","",""]
["","","","","",""]
["","","","","",""]
["","","","","",""]
["","","","","",""]
["","","","","",""]
["","","","","",""]
["","","","","",""]
["","","","","",""]
["","","","","",""]
["","","","","",""]
["","","","","",""]
["","","","","",""]
["","","","","",""]
["","","","","",""]
["","","","","",""]
["","","","","",""]
["","","","","",""]
["","","","","",""]
["","","","","",""]
["","","","","",""]
["","","","","",""]
["","","","","",""]
["","","","","",""]
["","","","","",""]
["","","","","",""]
["","","","","",""]
["","","","","",""]
["","","","","",""]
["","","","","",""]
["","","","","",""]
["","","","","",""]
["","","","","",""]
["","","","","",""]
["","","","","",""]
["","","","","",""]
["","","","","",""]
["","","","","",""]
["","","","","",""]
["","","","","",""]
["","","","","",""]
["","","","","",""]
["","","","","",""]
["","","","","",""]
["","","","","",""]
["","","","","",""]
["","","","","",""]
["","","","","",""]
["","","","","",""]
["","","","","",""]
["","","","","",""]
["","","","","",""]
["","","","","",""]
["","","","","",""]
["","","","","",""]
["","","","","",""]
[{"$f":"IF(AND(ISBLANK(J4489),ISBLANK(K4489),ISBLANK(L4489),ISBLANK(M4489),ISBLANK(N4489)),\"\",CONCATENATE(TRIM(J4489), \"_\",TRIM(K4489), \"_\",TRIM(L4489), \"_\",TRIM(M4489),\"_\",TRIM(N4489)))","v":""},{"$f":"IF(AND(ISBLANK($I4489),ISBLANK($J4489),ISBLANK($K4489),ISBLANK($L4489)),\"\",CONCATENATE(TRIM($I4489),\"_\",TRIM($J4489),\"_\",TRIM($K4489),\"_\",TRIM($L4489)))","v":""},{"$f":"IF(AND(ISBLANK($O4489),ISBLANK($I4489),ISBLANK($J4489),ISBLANK($K4489),ISBLANK($L4489)),\"\",IF(O4489=\"Oui\",CONCATENATE(TRIM($I4489),\"_\",TRIM($J4489),\"_\",TRIM($K4489),\"_\",TRIM($L4489)),\"\"))","v":""},{"$f":"IF(AND(ISBLANK(G4489),ISBLANK(H4489)),\"\",CONCATENATE(TRIM(G4489),\"_\",TRIM(H4489),\"_\",TRIM(B4489)))","v":""},{"$f":"IF(AND(ISBLANK(J4489),ISBLANK(K4489),ISBLANK(L4489)),\"\",CONCATENATE(TRIM(J4489),\" \",TRIM(K4489),\" \",TRIM(L4489)))","v":""},{"$f":"IF(O4489=\"Oui\",1,IF(ISBLANK(O4489),\"\",0))","v":""}]
["","","","","",""]
["","","","","",""]
["","","","","",""]
["","","","","",""]
["","","","","",""]
["","","","","",""]
["","","","","",""]
["","","","","",""]
["","","","","",""]
["","","","","",""]
["","","","","",""]
["","","","","",""]
["","","","","",""]
["","","","","",""]
["","","","","",""]
["","","","","",""]
["","","","","",""]
["","","","","",""]
["","","","","",""]
["","","","","",""]
["","","","","",""]
["","","","","",""]
["","","","","",""]
["","","","","",""]
["","","","","",""]
["","","","","",""]
["","","","","",""]
["","","","","",""]
["","","","","",""]
["","","","","",""]
["","","","","",""]
["","","","","",""]
["","","","","",""]
["","","","","",""]
["","","","","",""]
["","","","","",""]
["","","","","",""]
["","","","","",""]
["","","","","",""]
["","","","","",""]
["","","","","",""]
["","","","","",""]
["","","","","",""]
["","","","","",""]
["","","","","",""]
["","","","","",""]
["","","","","",""]
["","","","","",""]
["","","","","",""]
["","","","","",""]
["","","","","",""]
["","","","","",""]
["","","","","",""]
["","","","","",""]
["","","","","",""]
["","","","","",""]
["","","","","",""]
["","","","","",""]
["","","","","",""]
["","","","","",""]
["","","","","",""]
["","","","","",""]
["","","","","",""]
[{"$f":"IF(AND(ISBLANK(J4553),ISBLANK(K4553),ISBLANK(L4553),ISBLANK(M4553),ISBLANK(N4553)),\"\",CONCATENATE(TRIM(J4553), \"_\",TRIM(K4553), \"_\",TRIM(L4553), \"_\",TRIM(M4553),\"_\",TRIM(N4553)))","v":""},{"$f":"IF(AND(ISBLANK($I4553),ISBLANK($J4553),ISBLANK($K4553),ISBLANK($L4553)),\"\",CONCATENATE(TRIM($I4553),\"_\",TRIM($J4553),\"_\",TRIM($K4553),\"_\",TRIM($L4553)))","v":""},{"$f":"IF(AND(ISBLANK($O4553),ISBLANK($I4553),ISBLANK($J4553),ISBLANK($K4553),ISBLANK($L4553)),\"\",IF(O4553=\"Oui\",CONCATENATE(TRIM($I4553),\"_\",TRIM($J4553),\"_\",TRIM($K4553),\"_\",TRIM($L4553)),\"\"))","v":""},{"$f":"IF(AND(ISBLANK(G4553),ISBLANK(H4553)),\"\",CONCATENATE(TRIM(G4553),\"_\",TRIM(H4553),\"_\",TRIM(B4553)))","v":""},{"$f":"IF(AND(ISBLANK(J4553),ISBLANK(K4553),ISBLANK(L4553)),\"\",CONCATENATE(TRIM(J4553),\" \",TRIM(K4553),\" \",TRIM(L4553)))","v":""},{"$f":"IF(O4553=\"Oui\",1,IF(ISBLANK(O4553),\"\",0))","v":""}]
["","","","","",""]
["","","","","",""]
["","","","","",""]
["","","","","",""]
["","","","","",""]
["","","","","",""]
["","","","","",""]
["","","","","",""]
["","","","","",""]
["","","","","",""]
["","","","","",""]
["","","","","",""]
["","","","","",""]
["","","","","",""]
["","","","","",""]
["","","","","",""]
["","","","","",""]
["","","","","",""]
["","","","","",""]
["","","","","",""]
["","","","","",""]
["","","","","",""]
["","","","","",""]
["","","","","",""]
["","","","","",""]
["","","","","",""]
["","","","","",""]
["","","","","",""]
["","","","","",""]
["","","","","",""]
["","","","","",""]
["","","","","",""]
["","","","","",""]
["","","","","",""]
["","","","","",""]
["","","","","",""]
["","","","","",""]
["","","","","",""]
["","","","","",""]
["","","","","",""]
["","","","","",""]
["","","","","",""]
["","","","","",""]
["","","","","",""]
["","","","","",""]
["","","","","",""]
["","","","","",""]
["","","","","",""]
["","","","","",""]
["","","","","",""]
["","","","","",""]
["","","","","",""]
["","","","","",""]
["","","","","",""]
["","","","","",""]
["","","","","",""]
["","","","","",""]
["","","","","",""]
["","","","","",""]
["","","","","",""]
["","","","","",""]
["","","","","",""]
["","","","","",""]
[{"$f":"IF(AND(ISBLANK(J4617),ISBLANK(K4617),ISBLANK(L4617),ISBLANK(M4617),ISBLANK(N4617)),\"\",CONCATENATE(TRIM(J4617), \"_\",TRIM(K4617), \"_\",TRIM(L4617), \"_\",TRIM(M4617),\"_\",TRIM(N4617)))","v":""},{"$f":"IF(AND(ISBLANK($I4617),ISBLANK($J4617),ISBLANK($K4617),ISBLANK($L4617)),\"\",CONCATENATE(TRIM($I4617),\"_\",TRIM($J4617),\"_\",TRIM($K4617),\"_\",TRIM($L4617)))","v":""},{"$f":"IF(AND(ISBLANK($O4617),ISBLANK($I4617),ISBLANK($J4617),ISBLANK($K4617),ISBLANK($L4617)),\"\",IF(O4617=\"Oui\",CONCATENATE(TRIM($I4617),\"_\",TRIM($J4617),\"_\",TRIM($K4617),\"_\",TRIM($L4617)),\"\"))","v":""},{"$f":"IF(AND(ISBLANK(G4617),ISBLANK(H4617)),\"\",CONCATENATE(TRIM(G4617),\"_\",TRIM(H4617),\"_\",TRIM(B4617)))","v":""},{"$f":"IF(AND(ISBLANK(J4617),ISBLANK(K4617),ISBLANK(L4617)),\"\",CONCATENATE(TRIM(J4617),\" \",TRIM(K4617),\" \",TRIM(L4617)))","v":""},{"$f":"IF(O4617=\"Oui\",1,IF(ISBLANK(O4617),\"\",0))","v":""}]
["","","","","",""]
["","","","","",""]
["","","","","",""]
["","","","","",""]
["","","","","",""]
["","","","","",""]
["","","","","",""]
["","","","","",""]
["","","","","",""]
["","","","","",""]
["","","","","",""]
["","","","","",""]
["","","","","",""]
["","","","","",""]
["","","","","",""]
["","","","","",""]
["","","","","",""]
["","","","","",""]
["","","","","",""]
["","","","","",""]
["","","","","",""]
["","","","","",""]
["","","","","",""]
["","","","","",""]
["","","","","",""]
["","","","","",""]
["","","","","",""]
["","","","","",""]
["","","","","",""]
["","","","","",""]
["","","","","",""]
["","","","","",""]
["","","","","",""]
["","","","","",""]
["","","","","",""]
["","","","","",""]
["","","","","",""]
["","","","","",""]
["","","","","",""]
["","","","","",""]
["","","","","",""]
["","","","","",""]
["","","","","",""]
["","","","","",""]
["","","","","",""]
["","","","","",""]
["","","","","",""]
["","","","","",""]
["","","","","",""]
["","","","","",""]
["","","","","",""]
["","","","","",""]
["","","","","",""]
["","","","","",""]
["","","","","",""]
["","","","","",""]
["","","","","",""]
["","","","","",""]
["","","","","",""]
["","","","","",""]
["","","","","",""]
["","","","","",""]
["","","","","",""]
[{"$f":"IF(AND(ISBLANK(J4681),ISBLANK(K4681),ISBLANK(L4681),ISBLANK(M4681),ISBLANK(N4681)),\"\",CONCATENATE(TRIM(J4681), \"_\",TRIM(K4681), \"_\",TRIM(L4681), \"_\",TRIM(M4681),\"_\",TRIM(N4681)))","v":""},{"$f":"IF(AND(ISBLANK($I4681),ISBLANK($J4681),ISBLANK($K4681),ISBLANK($L4681)),\"\",CONCATENATE(TRIM($I4681),\"_\",TRIM($J4681),\"_\",TRIM($K4681),\"_\",TRIM($L4681)))","v":""},{"$f":"IF(AND(ISBLANK($O4681),ISBLANK($I4681),ISBLANK($J4681),ISBLANK($K4681),ISBLANK($L4681)),\"\",IF(O4681=\"Oui\",CONCATENATE(TRIM($I4681),\"_\",TRIM($J4681),\"_\",TRIM($K4681),\"_\",TRIM($L4681)),\"\"))","v":""},{"$f":"IF(AND(ISBLANK(G4681),ISBLANK(H4681)),\"\",CONCATENATE(TRIM(G4681),\"_\",TRIM(H4681),\"_\",TRIM(B4681)))","v":""},{"$f":"IF(AND(ISBLANK(J4681),ISBLANK(K4681),ISBLANK(L4681)),\"\",CONCATENATE(TRIM(J4681),\" \",TRIM(K4681),\" \",TRIM(L4681)))","v":""},{"$f":"IF(O4681=\"Oui\",1,IF(ISBLANK(O4681),\"\",0))","v":""}]
["","","","","",""]
["","","","","",""]
["","","","","",""]
["","","","","",""]
["","","","","",""]
["","","","","",""]
["","","","","",""]
["","","","","",""]
["","","","","",""]
["","","","","",""]
["","","","","",""]
["","","","","",""]
["","","","","",""]
["","","","","",""]
["","","","","",""]
["","","","","",""]
["","","","","",""]
["","","","","",""]
["","","","","",""]
["","","","","",""]
["","","","","",""]
["","","","","",""]
["","","","","",""]
["","","","","",""]
["","","","","",""]
["","","","","",""]
["","","","","",""]
["","","","","",""]
["","","","","",""]
["","","","","",""]
["","","","","",""]
["","","","","",""]
["","","","","",""]
["","","","","",""]
["","","","","",""]
["","","","","",""]
["","","","","",""]
["","","","","",""]
["","","","","",""]
["","","","","",""]
["","","","","",""]
["","","","","",""]
["","","","","",""]
["","","","","",""]
["","","","","",""]
["","","","","",""]
["","","","","",""]
["","","","","",""]
["","","","","",""]
["","","","","",""]
["","","","","",""]
["","","","","",""]
["","","","","",""]
["","","","","",""]
["","","","","",""]
["","","","","",""]
["","","","","",""]
["","","","","",""]
["","","","","",""]
["","","","","",""]
["","","","","",""]
["","","","","",""]
["","","","","",""]
[{"$f":"IF(AND(ISBLANK(J4745),ISBLANK(K4745),ISBLANK(L4745),ISBLANK(M4745),ISBLANK(N4745)),\"\",CONCATENATE(TRIM(J4745), \"_\",TRIM(K4745), \"_\",TRIM(L4745), \"_\",TRIM(M4745),\"_\",TRIM(N4745)))","v":""},{"$f":"IF(AND(ISBLANK($I4745),ISBLANK($J4745),ISBLANK($K4745),ISBLANK($L4745)),\"\",CONCATENATE(TRIM($I4745),\"_\",TRIM($J4745),\"_\",TRIM($K4745),\"_\",TRIM($L4745)))","v":""},{"$f":"IF(AND(ISBLANK($O4745),ISBLANK($I4745),ISBLANK($J4745),ISBLANK($K4745),ISBLANK($L4745)),\"\",IF(O4745=\"Oui\",CONCATENATE(TRIM($I4745),\"_\",TRIM($J4745),\"_\",TRIM($K4745),\"_\",TRIM($L4745)),\"\"))","v":""},{"$f":"IF(AND(ISBLANK(G4745),ISBLANK(H4745)),\"\",CONCATENATE(TRIM(G4745),\"_\",TRIM(H4745),\"_\",TRIM(B4745)))","v":""},{"$f":"IF(AND(ISBLANK(J4745),ISBLANK(K4745),ISBLANK(L4745)),\"\",CONCATENATE(TRIM(J4745),\" \",TRIM(K4745),\" \",TRIM(L4745)))","v":""},{"$f":"IF(O4745=\"Oui\",1,IF(ISBLANK(O4745),\"\",0))","v":""}]
["","","","","",""]
["","","","","",""]
["","","","","",""]
["","","","","",""]
["","","","","",""]
["","","","","",""]
["","","","","",""]
["","","","","",""]
["","","","","",""]
["","","","","",""]
["","","","","",""]
["","","","","",""]
["","","","","",""]
["","","","","",""]
["","","","","",""]
["","","","","",""]
["","","","","",""]
["","","","","",""]
["","","","","",""]
["","","","","",""]
["","","","","",""]
["","","","","",""]
["","","","","",""]
["","","","","",""]
["","","","","",""]
["","","","","",""]
["","","","","",""]
["","","","","",""]
["","","","","",""]
["","","","","",""]
["","","","","",""]
["","","","","",""]
["","","","","",""]
["","","","","",""]
["","","","","",""]
["","","","","",""]
["","","","","",""]
["","","","","",""]
["","","","","",""]
["","","","","",""]
["","","","","",""]
["","","","","",""]
["","","","","",""]
["","","","","",""]
["","","","","",""]
["","","","","",""]
["","","","","",""]
["","","","","",""]
["","","","","",""]
["","","","","",""]
["","","","","",""]
["","","","","",""]
["","","","","",""]
["","","","","",""]
["","","","","",""]
["","","","","",""]
["","","","","",""]
["","","","","",""]
["","","","","",""]
["","","","","",""]
["","","","","",""]
["","","","","",""]
["","","","","",""]
[{"$f":"IF(AND(ISBLANK(J4809),ISBLANK(K4809),ISBLANK(L4809),ISBLANK(M4809),ISBLANK(N4809)),\"\",CONCATENATE(TRIM(J4809), \"_\",TRIM(K4809), \"_\",TRIM(L4809), \"_\",TRIM(M4809),\"_\",TRIM(N4809)))","v":""},{"$f":"IF(AND(ISBLANK($I4809),ISBLANK($J4809),ISBLANK($K4809),ISBLANK($L4809)),\"\",CONCATENATE(TRIM($I4809),\"_\",TRIM($J4809),\"_\",TRIM($K4809),\"_\",TRIM($L4809)))","v":""},{"$f":"IF(AND(ISBLANK($O4809),ISBLANK($I4809),ISBLANK($J4809),ISBLANK($K4809),ISBLANK($L4809)),\"\",IF(O4809=\"Oui\",CONCATENATE(TRIM($I4809),\"_\",TRIM($J4809),\"_\",TRIM($K4809),\"_\",TRIM($L4809)),\"\"))","v":""},{"$f":"IF(AND(ISBLANK(G4809),ISBLANK(H4809)),\"\",CONCATENATE(TRIM(G4809),\"_\",TRIM(H4809),\"_\",TRIM(B4809)))","v":""},{"$f":"IF(AND(ISBLANK(J4809),ISBLANK(K4809),ISBLANK(L4809)),\"\",CONCATENATE(TRIM(J4809),\" \",TRIM(K4809),\" \",TRIM(L4809)))","v":""},{"$f":"IF(O4809=\"Oui\",1,IF(ISBLANK(O4809),\"\",0))","v":""}]
["","","","","",""]
["","","","","",""]
["","","","","",""]
["","","","","",""]
["","","","","",""]
["","","","","",""]
["","","","","",""]
["","","","","",""]
["","","","","",""]
["","","","","",""]
["","","","","",""]
["","","","","",""]
["","","","","",""]
["","","","","",""]
["","","","","",""]
["","","","","",""]
["","","","","",""]
["","","","","",""]
["","","","","",""]
["","","","","",""]
["","","","","",""]
["","","","","",""]
["","","","","",""]
["","","","","",""]
["","","","","",""]
["","","","","",""]
["","","","","",""]
["","","","","",""]
["","","","","",""]
["","","","","",""]
["","","","","",""]
["","","","","",""]
["","","","","",""]
["","","","","",""]
["","","","","",""]
["","","","","",""]
["","","","","",""]
["","","","","",""]
["","","","","",""]
["","","","","",""]
["","","","","",""]
["","","","","",""]
["","","","","",""]
["","","","","",""]
["","","","","",""]
["","","","","",""]
["","","","","",""]
["","","","","",""]
["","","","","",""]
["","","","","",""]
["","","","","",""]
["","","","","",""]
["","","","","",""]
["","","","","",""]
["","","","","",""]
["","","","","",""]
["","","","","",""]
["","","","","",""]
["","","","","",""]
["","","","","",""]
["","","","","",""]
["","","","","",""]
["","","","","",""]
[{"$f":"IF(AND(ISBLANK(J4873),ISBLANK(K4873),ISBLANK(L4873),ISBLANK(M4873),ISBLANK(N4873)),\"\",CONCATENATE(TRIM(J4873), \"_\",TRIM(K4873), \"_\",TRIM(L4873), \"_\",TRIM(M4873),\"_\",TRIM(N4873)))","v":""},{"$f":"IF(AND(ISBLANK($I4873),ISBLANK($J4873),ISBLANK($K4873),ISBLANK($L4873)),\"\",CONCATENATE(TRIM($I4873),\"_\",TRIM($J4873),\"_\",TRIM($K4873),\"_\",TRIM($L4873)))","v":""},{"$f":"IF(AND(ISBLANK($O4873),ISBLANK($I4873),ISBLANK($J4873),ISBLANK($K4873),ISBLANK($L4873)),\"\",IF(O4873=\"Oui\",CONCATENATE(TRIM($I4873),\"_\",TRIM($J4873),\"_\",TRIM($K4873),\"_\",TRIM($L4873)),\"\"))","v":""},{"$f":"IF(AND(ISBLANK(G4873),ISBLANK(H4873)),\"\",CONCATENATE(TRIM(G4873),\"_\",TRIM(H4873),\"_\",TRIM(B4873)))","v":""},{"$f":"IF(AND(ISBLANK(J4873),ISBLANK(K4873),ISBLANK(L4873)),\"\",CONCATENATE(TRIM(J4873),\" \",TRIM(K4873),\" \",TRIM(L4873)))","v":""},{"$f":"IF(O4873=\"Oui\",1,IF(ISBLANK(O4873),\"\",0))","v":""}]
["","","","","",""]
["","","","","",""]
["","","","","",""]
["","","","","",""]
["","","","","",""]
["","","","","",""]
["","","","","",""]
["","","","","",""]
["","","","","",""]
["","","","","",""]
["","","","","",""]
["","","","","",""]
["","","","","",""]
["","","","","",""]
["","","","","",""]
["","","","","",""]
["","","","","",""]
["","","","","",""]
["","","","","",""]
["","","","","",""]
["","","","","",""]
["","","","","",""]
["","","","","",""]
["","","","","",""]
["","","","","",""]
["","","","","",""]
["","","","","",""]
["","","","","",""]
["","","","","",""]
["","","","","",""]
["","","","","",""]
["","","","","",""]
["","","","","",""]
["","","","","",""]
["","","","","",""]
["","","","","",""]
["","","","","",""]
["","","","","",""]
["","","","","",""]
["","","","","",""]
["","","","","",""]
["","","","","",""]
["","","","","",""]
["","","","","",""]
["","","","","",""]
["","","","","",""]
["","","","","",""]
["","","","","",""]
["","","","","",""]
["","","","","",""]
["","","","","",""]
["","","","","",""]
["","","","","",""]
["","","","","",""]
["","","","","",""]
["","","","","",""]
["","","","","",""]
["","","","","",""]
["","","","","",""]
["","","","","",""]
["","","","","",""]
["","","","","",""]
["","","","","",""]
[{"$f":"IF(AND(ISBLANK(J4937),ISBLANK(K4937),ISBLANK(L4937),ISBLANK(M4937),ISBLANK(N4937)),\"\",CONCATENATE(TRIM(J4937), \"_\",TRIM(K4937), \"_\",TRIM(L4937), \"_\",TRIM(M4937),\"_\",TRIM(N4937)))","v":""},{"$f":"IF(AND(ISBLANK($I4937),ISBLANK($J4937),ISBLANK($K4937),ISBLANK($L4937)),\"\",CONCATENATE(TRIM($I4937),\"_\",TRIM($J4937),\"_\",TRIM($K4937),\"_\",TRIM($L4937)))","v":""},{"$f":"IF(AND(ISBLANK($O4937),ISBLANK($I4937),ISBLANK($J4937),ISBLANK($K4937),ISBLANK($L4937)),\"\",IF(O4937=\"Oui\",CONCATENATE(TRIM($I4937),\"_\",TRIM($J4937),\"_\",TRIM($K4937),\"_\",TRIM($L4937)),\"\"))","v":""},{"$f":"IF(AND(ISBLANK(G4937),ISBLANK(H4937)),\"\",CONCATENATE(TRIM(G4937),\"_\",TRIM(H4937),\"_\",TRIM(B4937)))","v":""},{"$f":"IF(AND(ISBLANK(J4937),ISBLANK(K4937),ISBLANK(L4937)),\"\",CONCATENATE(TRIM(J4937),\" \",TRIM(K4937),\" \",TRIM(L4937)))","v":""},{"$f":"IF(O4937=\"Oui\",1,IF(ISBLANK(O4937),\"\",0))","v":""}]
["","","","","",""]
["","","","","",""]
["","","","","",""]
["","","","","",""]
["","","","","",""]
["","","","","",""]
["","","","","",""]
["","","","","",""]
["","","","","",""]
["","","","","",""]
["","","","","",""]
["","","","","",""]
["","","","","",""]
["","","","","",""]
["","","","","",""]
["","","","","",""]
["","","","","",""]
["","","","","",""]
["","","","","",""]
["","","","","",""]
["","","","","",""]
["","","","","",""]
["","","","","",""]
["","","","","",""]
["","","","","",""]
["","","","","",""]
["","","","","",""]
["","","","","",""]
["","","","","",""]
["","","","","",""]
["","","","","",""]
["","","","","",""]
["","","","","",""]
["","","","","",""]
["","","","","",""]
["","","","","",""]
["","","","","",""]
["","","","","",""]
["","","","","",""]
["","","","","",""]
["","","","","",""]
["","","","","",""]
["","","","","",""]
["","","","","",""]
["","","","","",""]
["","","","","",""]
["","","","","",""]
["","","","","",""]
["","","","","",""]
["","","","","",""]
["","","","","",""]
["","","","","",""]
["","","","","",""]
["","","","","",""]
["","","","","",""]
["","","","","",""]
["","","","","",""]
["","","","","",""]
["","","","","",""]
["","","","","",""]
["","","","","",""]
["","","","","",""]
["","","","","",""]
[{"$f":"IF(AND(ISBLANK(J5001),ISBLANK(K5001),ISBLANK(L5001),ISBLANK(M5001),ISBLANK(N5001)),\"\",CONCATENATE(TRIM(J5001), \"_\",TRIM(K5001), \"_\",TRIM(L5001), \"_\",TRIM(M5001),\"_\",TRIM(N5001)))","v":""},{"$f":"IF(AND(ISBLANK($I5001),ISBLANK($J5001),ISBLANK($K5001),ISBLANK($L5001)),\"\",CONCATENATE(TRIM($I5001),\"_\",TRIM($J5001),\"_\",TRIM($K5001),\"_\",TRIM($L5001)))","v":""},null,{"$f":"IF(AND(ISBLANK(G5001),ISBLANK(H5001)),\"\",CONCATENATE(TRIM(G5001),\"_\",TRIM(H5001),\"_\",TRIM(B5001)))","v":""},{"$f":"IF(AND(ISBLANK(J5001),ISBLANK(K5001),ISBLANK(L5001)),\"\",CONCATENATE(TRIM(J5001),\" \",TRIM(K5001),\" \",TRIM(L5001)))","v":""},{"$f":"IF(O5001=\"Oui\",1,IF(ISBLANK(O5001),\"\",0))","v":""}]
["","",null,"","",""]
["","",null,"","",""]
["","",null,"","",""]
["","",null,"","",""]
["","",null,"","",""]